BEGIN:VCALENDAR
VERSION:2.0
PRODID:-//goRUN - ECPv5.8.1//NONSGML v1.0//EN
CALSCALE:GREGORIAN
METHOD:PUBLISH
X-WR-CALNAME:goRUN
X-ORIGINAL-URL:https://gorun.gr
X-WR-CALDESC:Events for goRUN
BEGIN:VTIMEZONE
TZID:Europe/Athens
BEGIN:DAYLIGHT
TZOFFSETFROM:+0200
TZOFFSETTO:+0300
TZNAME:EEST
DTSTART:20160327T010000
END:DAYLIGHT
BEGIN:STANDARD
TZOFFSETFROM:+0300
TZOFFSETTO:+0200
TZNAME:EET
DTSTART:20161030T010000
END:STANDARD
END:VTIMEZONE
BEGIN:VEVENT
DTSTART;VALUE=DATE:20160508
DTEND;VALUE=DATE:20160509
DTSTAMP:20260419T151824
CREATED:20160426T115514Z
LAST-MODIFIED:20160508T141449Z
UID:6185-1462665600-1462751999@gorun.gr
SUMMARY:Αγώνας δρόμου Σέιχ Σου 2016
DESCRIPTION:ΑΠΟΤΕΛΕΣΜΑΤΑ \n\nΓια αποτελέσματα του αγώνα πατήστε εδώ. \n 
URL:https://gorun.gr/race/%ce%b1%ce%b3%cf%8e%ce%bd%ce%b1%cf%82-%ce%b4%cf%81%cf%8c%ce%bc%ce%bf%cf%85-%cf%83%ce%ad%ce%b9%cf%87-%cf%83%ce%bf%cf%85-2016/
CATEGORIES:Αποτελέσματα,Δρόμος
ATTACH;FMTTYPE=image/jpeg:https://gorun.gr/wp-content/uploads/2016/04/7a886fd61405367b6373ab7bee4d5096_L.jpg
END:VEVENT
END:VCALENDAR