BEGIN:VCALENDAR
VERSION:2.0
PRODID:-//goRUN - ECPv5.8.1//NONSGML v1.0//EN
CALSCALE:GREGORIAN
METHOD:PUBLISH
X-WR-CALNAME:goRUN
X-ORIGINAL-URL:https://gorun.gr
X-WR-CALDESC:Events for goRUN
BEGIN:VTIMEZONE
TZID:Europe/Athens
BEGIN:DAYLIGHT
TZOFFSETFROM:+0200
TZOFFSETTO:+0300
TZNAME:EEST
DTSTART:20160327T010000
END:DAYLIGHT
BEGIN:STANDARD
TZOFFSETFROM:+0300
TZOFFSETTO:+0200
TZNAME:EET
DTSTART:20161030T010000
END:STANDARD
END:VTIMEZONE
BEGIN:VEVENT
DTSTART;VALUE=DATE:20160522
DTEND;VALUE=DATE:20160523
DTSTAMP:20260419T164303
CREATED:20160421T093929Z
LAST-MODIFIED:20160522T165744Z
UID:5728-1463875200-1463961599@gorun.gr
SUMMARY:Αγώνας 20 χλμ. Στα βήματα του Απ. Παύλου
DESCRIPTION:ΑΠΟΤΕΛΕΣΜΑΤΑ  10oυ  αγώνα  δρόμου  20  χιλ.  ‘’στα  βήματα  του  Απ.Παύλου’’ \nΓΕΝΙΚΗ  ΚΑΤΑΤΑΞΗ \n1η   γυναίκα    Κική  Αρσένη                                        1  35  05 \n1ος  άνδρας     Σαρίδης   Παύλος                                1  09  02 \nΓΥΝΑΙΚΩΝ \nW  35 \n\nΚατσιάπη   Ματίνα                                        1  42  11\nΝτενικάρου Αθηνά                                        1  54  11\nΤραχανοπούλου Ιωάννα                              1  55  01\nΚαραβελίδου Παρασκευή                           2  01  54\n\n  \nW  40 \n\nΦετά    Παρασκευή                                        1  42  19\nΜπολίμου Ειρήνη                                          1  52  11\nΧρυσοστομίδου ‘Ελσα                                 2  02  15\nΓιαννάκη Ευαγγελία                                     2  09  43\nΚοσμίδου Θεοδώρα                                     2  36  07\n\n  \nW  45 \n\nΑρσένη Κυριακή                                           1  35  05\nΝάσκου Θωμαή                                            1  49  13\nΧρωροπούλου Τίνα                                     2  04  00\nΠαναγοπούλου Σίσσυ                                 2  42  54\n\nW  50 \n\nΠαπαλεξάνδρου   Σοφία                             1  54  11\n\nΑΝΔΡΩΝ \nΜέχρι   34 \n\nΑμοιρίδης Γεώργιος                                    1  15  56\nΜυλωνάς Πολυχρόνης                               1  18  55\nΤζάκης Κων/νος                                           1  19  50\nΓεωργιάδης Πέτρος                                    1  22  38\nΦουρτούνας Δημήτριος                            1  24  30\nΡότσα Ιωσήφ                                               1  25  54\nΠαπαδόπουλος Αναστάσιος                      1  27  04\nΠεσκελίδης Σπύρος                                     1  29  38\nΛαφτσίδης Νίκος                                         1  33  42\nΤσιοτσιαλάς Νίκος                                       1  34  23\nΚαμπούρογλου Δημήτρης                          1  34  44\nΖάχαρης Μάριος                                         1  34  44\nΓλάρος Αναστάσιος                                    1  35  39\nΜπερμπερίδης Νίκος                                 1  36  01\nΓεναράκης Μακάριος                                 1  40  16\nΤσώκος   Ηλίας                                              1  47  36\nΣιδερίδης Χρήστος                                       1  50  36\nΚυριάκου Θανάσης                                     1  55  01\nΚασπέρης Φώτιος                                       2  11  09\n\nΜ  35 \n\nΣαρίδης Παύλος                                          1  09  02\nΒογιατζής Δημήτρης                                   1  10  06\nΣτερνιώτης Γεώργιος                                  1  17  20\nΧατζησάββας Ιωάννης                                1  23  59\nΣιδερίδης Νίκος                                           1  24  30\nΓεωργούλης Φίλιππος                                1  26  31\nΚαρασακαλίδης Παναγιώτης                     1  28  27\nΜαυρίδης Νίκος                                           1  28  27\nΚωφίδης Χαράλαμπος                                 1  32  16\nΘεοδώρου Νίκος                                          1  33  32\nΟικονόμου Αλέξανδρος                               1  33  34\nΓεωργούλας Αναστάσιος                             1  35  00\nΤσερκέζης Μάριος                                        1  35  53\nΚαραμπατζάκης Ανδρέας                            1  41  46\nΜπόχτσος Χρήστος                                       1  42  08\nΚωστελίδης Χρήστος                                    1  44  27\nΝοβάκης Δημήτρης                                        1  51  00\nΓαζέτης Νίκος                                                 2  02  17\n\n  \nΜ  40 \n\nΚατεβάογλου Απόστολος                             1  23  52\nΚρυωνάς Δημήτρης                                      1  23  59\nΝτουανόγλου Πρόδρομος                            1  29  40\nΙωάννου Κων/νος                                          1  29  58\nΠαπαδόπουλος Σωτήρης                             1  30  11\nΓκουγκούλης Γιώργος                                    1  30  15\nΚίχο ΄Ιαν                                                          1  32  25\nΠαπαδόπουλος Θεόδωρος                           1  32  37\nΔεϊρμεντζίδης Ηρακλής                                1  33  34\nΚωτσοκεχαγιάς Γεώργιος                              1  33  54\nΒυζικίδης Παναγιώτης                                  1  43  14\nΒαφειάδης Αθανάσιος                                  1  45  06\nΑγγελίδης Χρήστος                                         1  55  01\nΠαρασκευόπουλος Θεόδωρος                     2  29  20\n\n  \nΜ  45 \n\nΝικολαϊδης Δημήτριος                                  1  15  16\nΦούκας Δημήτρης                                          1  17  47\nΑνδρονικίδης Κων/νος                                   1  28  27\nΕμμανουηλίδης Παναγιώτης                       1  30  11\nΒλαχοδήμος Αθανάσιος                                1  30  37\nΧαραλαμπίδης Παύλος                                1  32  37\nΠαλληκαρίδης Χρήστος                                1  38  20\nΠαρσαλίδης Γεώργιος                                  1  42  11\nΜιχαηλίδης Γεώργιος                                    1  42  14\nΒαφειάδης Απόστολος                                 1  45  21\nΞανθόπουλος Λεωνίδας                               1  55  01\nΕυαγγέλου Νικόλαος                                     1  59  26\nΤσιρικτσής Χρήστος                                       2  02  49\nΛαζαρίδης Κων/νος                                        2  05  12\nΙατρουδάκης Ηλίας                                          2  11  09\n\n  \nΜ  50 \n\nΣταυριανίδης Χρήστος                                  1  18  12\nΓκουντζάκης Ναούμ                                       1  22  38\nΜπερμπερίδης Δημήτρης                             1  30  39\nΛαζαρίδης Χρυσόστομος                                1  32  55\nΤσαμουρόπουλος Νίκος                                 1  34  26\nΤουρνανέλης Κων/νος                                    1  34  32\nΓοργίας Νίκος                                                  1  36  46\nΣταμούλης Βασίλης                                         1  41  46\nΤοπάλης Γιώργος                                              1  42  15\nΣταυρίδης   Τάσος                                            1  43  56\nΠαμούκης Νίκος                                               1  45  23\nΤσιάκας Μίλτος                                                1  46  05\nΒακρατσάς Φώτιος                                          1  48  21\nΕυθυμίου Σπύρος                                             1  54  11\nΣάμιος Φίλιππος                                               1  54  11\nΚούτρας Κων/νος                                             2  03  12\n\n  \nΜ  55 \n\nΚαλαποθάκος Λεωνίδας                                 1  25  29\nΓίγας Σωτήριος                                                  1  26  31\nΚουβαλάκης Διαμαντής                                  1  30  39\nΜπάρος Γιάννης                                               1  40  09\nΚυριλλίδης Βασίλειος                                      1  42  19\nΜαδυτινός Δημήτρης                                     1  54  11\n\nΜ  60 \n\nΤενεκετζής Σίμος                                             1  28  12\nΛίλος Αντώνης                                                  1  29  10\nΒλάχος Ιωάννης                                                1  30  32\nΜπομπότας Βασίλης                                      1  38  44\nΘεοδώρου Αθανάσιος                                    1  48  06\nΓκουντέλιας Γεώργιος                                    2  16  41\n\n  \nΜ  70 \n\nΔεϊρμετζίδης    Αθανάσιος                              2  42  33
URL:https://gorun.gr/race/%ce%b1%ce%b3%cf%8e%ce%bd%ce%b1%cf%82-20-%cf%87%ce%bb%ce%bc-%cf%83%cf%84%ce%b1-%ce%b2%ce%ae%ce%bc%ce%b1%cf%84%ce%b1-%cf%84%ce%bf%cf%85-%ce%b1%cf%80-%cf%80%ce%b1%cf%8d%ce%bb%ce%bf%cf%85/
CATEGORIES:Αποτελέσματα,Δρόμος
END:VEVENT
END:VCALENDAR