BEGIN:VCALENDAR
VERSION:2.0
PRODID:-//goRUN - ECPv5.8.1//NONSGML v1.0//EN
CALSCALE:GREGORIAN
METHOD:PUBLISH
X-WR-CALNAME:goRUN
X-ORIGINAL-URL:https://gorun.gr
X-WR-CALDESC:Events for goRUN
BEGIN:VTIMEZONE
TZID:Europe/Athens
BEGIN:DAYLIGHT
TZOFFSETFROM:+0200
TZOFFSETTO:+0300
TZNAME:EEST
DTSTART:20160327T010000
END:DAYLIGHT
BEGIN:STANDARD
TZOFFSETFROM:+0300
TZOFFSETTO:+0200
TZNAME:EET
DTSTART:20161030T010000
END:STANDARD
END:VTIMEZONE
BEGIN:VEVENT
DTSTART;VALUE=DATE:20161002
DTEND;VALUE=DATE:20161003
DTSTAMP:20260420T195000
CREATED:20160906T201750Z
LAST-MODIFIED:20161004T150755Z
UID:10258-1475366400-1475452799@gorun.gr
SUMMARY:Αριστοτέλειο Μονοπάτι 2016
DESCRIPTION:Αποτελέσματα Ημιμαραθωνίου \nA/A Αριθμός δρομέα Όνομα Επώνυμο Σύλλογος Χρόνος\n1 70 ΣΤΑΜΑΤΟΠΟΥΛΟΣ ΓΙΑΝΝΗΣ LEPANTO – ΦΩΤΗΣ ΚΑΤΡΑΟΥΡΑΣ -ΣΕ 1:38:00\n2 16 ΛΕΣΚΟ ΑΝΤΑΜ 3Π 1:39:16\n3 69 ΚΟΥΤΑΤΣΙΟΥ ΕΥΑΓΓΕΛΟΣ ΣΔΥΑ 1:47:35\n4 65 ΑΔΑΜΟΠΟΥΛΟΣ ΙΩΑΝΝΗΣ ΣΔΥ Πάτρας 1:48:26\n5 42 ΓΙΩΤΗΣ ΑΛΕΞΑΝΔΡΟΣ 3Π 1:50:24\n6 26 ΝΙΚΟΛΑΟΥ ΔΗΜΗΤΡΗΣ ΑΝΕΞΑΡΤΗΤΟΣ 1:51:07\n7 59 ΧΡΗΣΤΟΣ ΧΑΛΑΤΣΗΣ LEPANTO 1:51:20\n8 51 ΚΑΠΕΝΤΖΩΝΗΣ ΝΙΚΟΛΑΟΣ LEPANTO 1:56:06\n9 67 ΜΠΑΡΔΑΚΙ ΑΛΕΞΑΝΔΡΑ ΣΔΥΠ 2:00:38\n10 68 ΚΑΡΛΟΣ ΚΥΡΙΑΚΟΣ Πελοπας 2:00:38\n11 15 ΣΟΥΦΛΗΣ ΑΡΗΣ ESCAPE BIKE 2:01:15\n12 60 ΚΟΥΤΣΟΥΜΠΕΛΙΤΗΣ ΑΡΗΣ ΕΡΜΗΣ ΑΙΓΙΑΛΕΙΑΣ 2:02:19\n13 44 ΓΙΑΛΕΡΝΙΟΣ ΝΙΚΟΛΑΟΣ ΕΥΔΡΟΜΟΣ 2:02:26\n14 46 ΜΙΚΕΛΟΠΟΥΛΟΣ ΑΝΔΡΕΑΣ KRI KRI RUNNING TEAM 2:03:40\n15 21 ΚΡΙΠΑΡΟΠΟΥΛΟΣ ΑΝΔΡΕΑΣ ΦΛΟΓΑ ΠΑΤΡΑΣ 2:03:40\n16 73 ΒΑΣΙΛΕΙΟΥ ΚΩΣΤΑΣ ΑΘΗΝΟΔΩΡΟΣ Ο ΑΙΓΙΕΥΣ 2:03:54\n17 43 ΑΝΑΣΤΑΣΙΑΔΗ ΘΕΟΔΩΡΑ 3Π – SKY WOMEN RUNNING TEAM 2:04:03\n18 23 ΝΙΚΟΛΟΠΟΥΛΟΣ ΑΓΓΕΛΟΣ ΔΡΑΣΗ ΒΡΑΧΝΕΙΚΩΝ 2:04:24\n19 34 ΑΝΤΩΝΙΟΣ ΧΑΨΑΣ 3Π – ΠΟΛΙΤΙΣΤΙΚΗ ΔΡΑΣΗ ΔΔ ΒΡΑΧ 2:04:49\n20 11 ΚΑΜΙΣΗΣ ΠΑΝΑΓΙΩΤΗΣ ΑΝΕΞΑΡΤΗΤΟΣ 2:05:52\n21 4 ΚΑΤΣΙΡΟΠΟΥΛΟΣ ΧΡΗΣΤΟΣ ΦΛΟΓΑ ΠΑΤΡΑΣ 2:06:08\n22 74 ΜΑΥΡΙΚΟΣ ΠΑΝΤΕΛΗΣ ΣΔΥ ΠΑΤΡΑΣ 2:07:51\n23 48 ΝΙΚΟΛΟΠΟΥΛΟΣ ΜΙΧΑΛΗΣ ΠΟΛΙΤΙΣΤΙΚΗ ΔΡΑΣΗ Δ.Ε.ΒΡΑΧΝΕΙΚ 2:09:16\n24 28 ΑΝΤΩΝΗΣ ΝΤΑΣΙΟΣ ΑΝΕΞΑΡΤΗΤΟΣ 2:10:55\n25 50 ΠΕΤΡΟΠΟΥΛΟΣ ΑΛΕΞΑΝΔΡΟΣ ΑΝΕΞΑΡΤΗΤΟΣ 2:11:43\n26 49 ΚΑΡΑΜΠΙΝΗ ΑΝΘΟΥΛΑ ΑΝΕΞΑΡΤΗΤΟΣ 2:11:43\n27 10 ΠΑΠΑΔΟΓΕΩΡΓΟΣ ΧΑΡΑΛΑΜΠΟΣ ΣΔΥ ΑΓΡΙΝΙΟΥ 2:11:58\n28 29 ΤΣΑΚΑΛΟΓΙΑΝΝΗΣ ΕΠΑΜΕΙΝΩΝΔΑΣ ΣΔΥ Πάτρας 2:12:15\n29 36 ΜΑΝΟΥΔΑΚΗΔΣ ΣΩΤΗΡΗΣ 3 Π 2:13:04\n30 47 ΚΑΡΑΦΛΟΣ ΧΡΗΣΤΟΣ ΣΥΛ. ΕΛΛΗΝΩΝ ΒΑΤΡΑΧΑΝΘΡΩΠΩΝ 2:17:05\n31 56 ΓΚΟΛΦΗΣ ΜΑΡΙΟΣ ΣΕΟ ΠΑΤΡΑΣ “ΩΛΕΝΟΣ” 2:17:17\n32 45 ΤΡΟΥΜΠΟΥΚΗ ΛΑΜΠΡΙΝΗ LEPANTO 2:17:22\n33 18 ΚΟΥΤΣΟΥΚΗΣ ΓΕΩΡΓΙΟΣ ΑΝΕΞΑΡΤΗΤΟΣ 2:17:33\n34 66 ΔΗΜΟΠΟΥΛΟΣ ΧΡΙΣΤΟΦΟΡΟΣ ΑΝΕΞΑΡΤΗΤΟΣ 2:17:55\n35 55 ΕΥΘΥΜΙΟΥ ΔΗΜΟΣ 3Π 2:17:55\n36 17 ΤΣΑΡΟΥΧΗΣ ΓΕΩΡΓΙΟΣ ΟΡΕΙΒΑΤΙΚΟΣ ΑΓΡΙΝΙΟΥ 2:19:08\n37 24 ΖΑΡΚΑΔΑΣ ΙΩΑΝΝΗΣ ΕΡΜΗΣ ΑΙΓΙΑΛΕΙΑΣ 2:19:26\n38 14 ΚΑΒΟΥΡΑ ΝΕΚΤΑΡΙΑ ΟΡΕΙΒΑΤΙΚΟΣ ΣΥΛΛΟΓΟΣ ΑΓΡΙΝΙΟΥ 2:19:33\n39 8 ΔΡΟΣΟΣ ΓΕΩΡΓΙΟΣ ΑΝΕΞΑΡΤΗΤΟΣ 2:20:25\n40 3 ΨΥΧΟΓΙΟΣ ΔΗΜΗΤΡΙΟΣ ΑΝΕΞΑΡΤΗΤΟΣ 2:20:25\n41 62 ΣΚΑΡΠΑΡΗΣ ΜΑΝΟΣ ΑΝΕΞΑΡΤΗΤΟΣ 2:21:25\n42 64 ΠΑΤΟΥΧΑΣ ΝΙΚΟΛΑΟΣ LEPANTO 2:23:17\n43 72 ΔΡΟΣΟΣ ΚΩΣΤΑΣ ΑΝΕΞΑΡΤΗΤΟΣ 2:24:17\n44 25 ΧΟΥΡΔΑΚΗΣ ΑΝΔΡΕΑΣ ΑΝΕΞΑΡΤΗΤΟΣ 2:27:26\n45 37 ΚΟΛΙΟΔΕΔΕ ΚΩΝΣΤΑΝΤΙΝΑ LEPANTO 2:27:27\n46 22 ΑΘΑΝΑΣΑΚΟΠΟΥΛΟΣ ΜΑΡΙΟΣ Kri Kri Running Team 2:28:03\n47 40 ΠΑΠΑΙΩΑΝΝΟΥ ΜΑΡΙΑ LEPANTO 2:28:30\n48 2 ΜΠΕΚΟΣ ΙΩΑΝΝΗΣ LEPANTO 2:30:31\n49 13 ΦΛΩΡΟΣ ΙΩΑΝΝΗΣ ΟΡΕΙΒΑΤΙΚΟΣ ΑΓΡΙΝΙΟΥ 2:34:13\n50 52 ΖΩΓΟΠΟΥΛΟΣ ΒΑΣΙΛΗΣ ΣΕΟ ΠΑΤΡΑΣ “ΩΛΕΝΟΣ” 2:34:37\n51 63 ΡΕΣΣΟΣ ΑΛΕΞΗΣ ΕΡΜΗΣ ΑΙΓΙΑΛΕΙΑΣ 2:37:41\n52 38 ΤΣΑΜΠΡΑΣ ΝΙΚΟΣ ΑΝΕΞΑΡΤΗΤΟΣ 2:41:40\n53 61 ΓΡΗΓΟΡΟΠΟΥΛΟΣ ΧΡΗΣΤΟΣ ΑΝΕΞΑΡΤΗΤΟΣ 2:54:17\n54 27 ΣΠΗΛΙΩΤΟΠΟΥΛΟΣ ΓΕΩΡΓΙΟΣ ΑΝΕΞΑΡΤΗΤΟΣ 2:55:20\n55 30 ΤΣΑΧΑΛΙΔΗΣ ΓΕΩΡΓΙΟΣ SEA WORLD MARATHON TEAM 2:56:05\n56 33 ΤΣΙΟΛΗ ΘΕΟΔΩΡΑ LEPANTO 3:07:44\n57 35 ΜΠΛΑΧΟΥΡΑ ΙΩΑΝΝΑ ΟΡΕΙΒΑΤΙΚΟΣ ΑΓΡΙΝΙΟΥ 3:32:45 \nΑποτελέσματα Ορεινού Αγώνα 10\,2Κμ \nA/A Αριθμός δρομέα Όνομα Επώνυμο Σύλλογος Χρόνος\n1 46 ΠΑΠΑΔΟΓΕΩΡΓΟΣ ΧΡΗΣΤΟΣ LEPANTO 0:44:17\n2 24 ΚΟΚΟΒΙΚΑΣ ΓΙΩΡΓΟΣ ΑΝΕΞΑΡΤΗΤΟΣ 0:51:54\n3 92 ΠΑΠΑΣ ΧΡΗΣΤΟΣ ΕΟΣ ΑΓΡΙΝΙΟΥ 0:52:15\n4 41 ΔΡΑΚΟΝΤΑΕΙΔΗΣ ΚΩΣΤΑΝΤΙΝΟΣ ΑΝΕΞΑΡΤΗΤΟΣ 0:56:54\n5 52 ΑΘΑΝΑΣΟΠΟΥΛΟΣ ΔΗΜΗΤΡΗΣ LEPANTO 0:57:08\n6 78 ΠΕΤΡΟΥ ΠΑΝΑΓΙΩΤΗΣ ΑΝΕΞΑΡΤΗΤΟΣ 0:57:55\n7 67 ΠΑΠΑΔΟΠΟΥΛΟΣ ΕΥΘΥΜΙΟΣ ΣΠΑΡΤΑΚΟΣ ΦΩΚΙΔΑΣ 1:02:45\n8 34 ΠΟΛΥΖΟΣ ΑΘΑΝΑΣΙΟΣ ΣΔΥ ΑΓΡΙΝΙΟΥ 1:03:45\n9 88 ΣΟΦΟΥΛΗΣ ΜΑΝΩΛΗΣ ΠΑΤΡΑ 1:04:04\n10 2 ΤΟΥΦΑΣ ΣΤΕΦΑΝΟΣ LEPANTO 1:04:07\n11 43 ΝΙΚΟΠΟΥΛΟΣ ΒΑΣΙΛΕΙΟΣ ΑΝΕΞΑΡΤΗΤΟΣ 1:04:07\n12 63 ΝΙΚΟΛΟΠΟΥΛΟΥ ΑΡΙΣΤΕΑ TECNICA – ΠΕΛΟΠΑΣ ΠΑΤΡΩΝ 1:04:48\n13 93 ΜΑΝΔΕΛΟΣ ΔΗΜΗΤΡΗΣ ΑΝΕΞ 1:04:56\n14 56 ΤΖΟΥΡΑΜΑΝΗΣ ΠΑΝΑΓΙΩΤΗΣ ΑΝΕΞΑΡΤΗΤΟΣ 1:05:39\n15 17 ΜΑΡΓΑΡΙΤΗ ΑΝΑΣΤΑΣΙΑ ΑΝΕΞΑΡΤΗΤΟΣ 1:05:55\n16 31 ΚΑΡΑΤΖΑΣ ΠΑΝΑΓΙΩΤΗΣ ΑΝΕΞΑΡΤΗΤΟΣ 1:06:10\n17 45 ΠΑΠΑΒΡΑΜΟΠΟΥΛΟΣ ΝΙΚΟΣ ΑΝΕΞΑΡΤΗΤΟΣ 1:06:18\n18 68 ΜΑΡΟΥΔΑΣ ΜΑΡΙΟΣ ΑΝΕΞΑΡΤΗΤΟΣ 1:07:01\n19 69 ΜΗΤΡΟΠΟΥΛΟΥ ΦΩΤΕΙΝΗ Α.Σ. ΠΟΛΥΝΙΚΗΣ 1:07:01\n20 51 ΞΕΝΟΣ ΚΩΝΣΤΑΝΤΙΝΟΣ 3Π 1:09:28\n21 60 ΠΟΔΑΡΑΣ ΠΑΝΑΓΙΩΤΗΣ ΑΝΕΞΑΡΤΗΤΟΣ 1:09:37\n22 95 ΚΟΓΓΟΣ ΧΑΡΑΛΑΜΠΟΣ 3Π 1:09:45\n23 54 ΛΕΚΕΑΣ ΜΑΡΙΝΟΣ ΑΝΕΞΑΡΤΗΤΟΣ 1:10:14\n24 7 ΓΙΑΝΝΑΚΟΠΟΥΛΟΣ ΣΤΑΥΡΟΣ ΦΕΙΔΙΠΠΙΔΗΣ 1:10:40\n25 90 ΜΑΝΕΤΑΣ ΒΑΣΙΛΕΙΟΣ ΑΝΕΞ 1:10:40\n26 28 ΠΟΜΠΟΛΑΣ ΠΑΝΑΓΙΩΤΗΣ ΠΑΝ-ΟΛ 1:10:46\n27 55 ΠΕΤΡΟΠΟΥΛΟΣ ΚΟΣΜΑΣ WAKEUPSTREET 1:11:15\n28 11 ΑΡΒΑΝΙΤΗΣ ΑΝΑΣΤΑΣΙΟΣ ΑΝΕΞΑΡΤΗΤΟΣ 1:12:45\n29 33 ΓΚΙΟΥΣΑΣ ΔΗΜΗΤΡΙΟΣ ΑΝΕΞΑΡΤΗΤΟΣ 1:12:55\n30 74 ΒΛΑΧΑΚΗΣ ΒΑΣΙΛΕΙΟΣ ΕΥΔΡΟΜΟΣ ΠΑΤΡΩΝ 1:14:10\n31 97 ΜΠΕΛΙΜΠΑΣΑΚΗΣ ΓΙΩΡΓΟΣ ΑΝΕΞ 1:14:18\n32 8 ΓΙΑΝΝΑΚΟΠΟΥΛΟΣ ΚΩΝΣΤΑΝΤΙΝΟΣ ΦΕΙΔΙΠΠΙΔΗΣ 1:15:16\n33 39 ΛΥΡΗ ΜΥΡΙΑΜ ΑΝΕΞΑΡΤΗΤΟΣ 1:15:39\n34 10 ΣΕΛΕΒΙΣΤΑ ΜΕΛΙΣΣΑ ΟΡΕΙΒΑΤΙΚΟΣ ΑΓΡΙΝΙΟΥ 1:15:39\n35 98 ΤΑΧΤΖΙΔΟΥ ΕΥΑ ΑΝΕΞΑΡΤΗΤΟΣ 1:16:38\n36 82 ΚΑΡΑΝΤΖΙΝΗΣ ΛΑΜΠΡΟΣ ΣΕΟ ΩΛΕΝΟΣ 1:16:38\n37 50 ΚΩΝΣΤΑΝΤΙΝΟΥ ΔΗΜΗΤΡΙΟΣ ΑΝΕΞΑΡΤΗΤΟΣ 1:16:55\n38 22 ΚΩΝΣΤΑΝΤΙΝΟΥ ΕΛΕΝΗ ΑΝΕΞΑΡΤΗΤΟΣ 1:16:55\n39 47 ΧΑΝΤΖΗΠΑΠΑ ΜΑΡΙΑ ΑΝΕΞΑΡΤΗΤΟΣ 1:19:14\n40 87 ΧΡΥΣΙΚΟΣ ΓΙΩΡΓΟΣ ΑΝΕΞΑΡΤΗΤΟΣ 1:19:26\n41 35 ΤΣΑΡΟΥΧΗΣ ΓΙΩΡΓΟΣ ΑΝΕΞΑΡΤΗΤΟΣ 1:19:44\n42 53 ΜΩΡΑΙΤΗΣ ΘΩΜΑΣ ΑΝΕΞΑΡΤΗΤΟΣ 1:20:13\n43 15 ΚΟΚΚΟΣΗΣ ΛΕΑΝΔΡΟΣ ΑΝΕΞΑΡΤΗΤΟΣ 1:20:49\n44 29 ΝΤΟΥΚΑΣ ΒΑΣΙΛΗΣ ΑΝΕΞΑΡΤΗΤΟΣ 1:20:59\n45 42 ΑΛΕΞΑΝΔΡΟΠΟΥΛΟΥ ΟΛΓΑ ΠΑΝ-ΟΛ 1:21:20\n46 94 ΜΠΑΝΙΑ ΕΥΑΓΓΕΛΙΑ ΑΝΕΞ 1:21:27\n47 70 ΝΤΙΝΟΣ ΑΝΔΡΕΑΣ ΑΝΕΞΑΡΤΗΤΟΣ 1:21:55\n48 71 ΧΡΙΣΤΟΔΟΥΛΟΠΟΥΛΟΣ ΓΕΩΡΓΙΟΣ ΑΝΕΞΑΡΤΗΤΟΣ 1:21:57\n49 14 ΛΙΒΑΘΙΝΟΣ ΙΩΑΝΝΗΣ ΑΝΕΞΑΡΤΗΤΟΣ 1:22:20\n50 12 ΝΙΚΟΛΟΠΟΥΛΟΣ ΓΕΩΡΓΙΟΣ ΑΝΕΞΑΡΤΗΤΟΣ 1:24:39\n51 76 ΑΝΑΓΝΩΣΤΟΠΟΥΛΟΣ ΑΘΑΝΑΣΙΟΣ ΤΡΙΤΕΚΝΟΙ ΜΑΡΑΘΩΝΟΔΡΟΜΟΙ 1:25:04\n52 81 ΡΑΥΤΟΠΟΥΛΟΣ ΚΩΝΣΤΑΝΤΙΝΟΣ ΣΔΥ Πάτρας 1:25:06\n53 83 ΘΑΝΟΠΟΥΛΟΣ ΣΩΤΗΡΗΣ ΕΥΔΡΟΜΟΣ ΠΑΤΡΩΝ 1:25:58\n54 80 ΡΑΥΤΟΠΟΥΛΟΥ ΒΑΣΙΛΙΚΗ ΣΔΥ Πάτρας 1:31:11\n55 79 ΠΑΝΑΓΟΠΟΥΛΟΥ ΔΕΣΠΟΙΝΑ ΣΔΥ Πάτρας 1:31:40\n56 84 ΠΑΝΑΓΙΩΤΗΣ ΓΚΕΚΑΣ ΕΥΔΡΟΜΟΣ ΠΑΤΡΩΝ 1:37:03\n57 44 ΦΑΝΗ ΜΠΛΑΧΟΥΡΑ ΟΡΕΙΒΑΤΙΚΟΣ ΑΓΡΙΝΙΟΥ 1:39:00\n58 89 ΜΕΝΤΖΕΛΟΠΟΥΛΟΣ ΠΑΝΑΓΙΩΤΗΣ ΟΛΕΝΟΣ 1:54:37\n59 72 ΚΟΝΤΟΓΙΑΝΝΗΣ ΕΜΜΑΝΟΥΗΛ ΑΝΕΞΑΡΤΗΤΟΣ 2:24:00\n60 9 ΚΟΛΟΚΟΥΤΣΑΣ ΝΙΚΟΛΑΟΣ ΑΝΕΞΑΡΤΗΤΟΣ 2:34:00\n61 64 ΛΙΟΥΡΔΗΣ ΔΗΜΗΤΡΗΣ ΑΝΕΞΑΡΤΗΤΟΣ 2:38:00\nΑποτελέσματα Αγώνα παιδιών \nA/A Αριθμός δρομέα Όνομα Επώνυμο Σύλλογος Χρόνος\n1 1 ΠΑΠΑΔΗΜΗΤΡΙΟΥ ΒΑΣΙΛΗΣ LEPANTO 11:57\n2 22 ΘΕΟΔΩΡΟΠΟΥΛΟΣ ΘΑΝΑΣΗΣ ΑΝΕΞΑΡΤΗΤΟΣ 13:16\n3 8 ΚΑΡΑΓΙΑΝΝΗΣ ΜΙΧΑΛΗΣ ΑΓΕΛΑΟΣ Γ.Α.Σ. ΝΑΥΠΑ 14:04\n4 23 ΝΤΟΜΠΡΟΜΙΡΟΒΑ ΜΑΡΙΑΕΛΕΝΗ ΣΠΑΡΤΑΚΟΣ ΦΩΚΙΔΑΣ 14:05\n5 10 ΜΟΥΣΑΚΙΑΝ ΒΑΣΙΛΙΚΗ ΑΓΕΛΑΟΣ Γ.Α.Σ. ΝΑΥΠΑ 14:20\n6 12 ΖΕΛΙΟΣ ΝΙΚΟΛΑΟΣ ΑΓΕΛΑΟΣ Γ.Α.Σ. ΝΑΥΠΑ 14:25\n7 17 ΒΑΛΑΧΑ ΜΥΡΤΩ ΑΝΕΞΑΡΤΗΤΟΣ 14:43\n8 16 ΒΑΛΑΧΑ ΗΛΙΑΝΑ ΑΝΕΞΑΡΤΗΤΟΣ 15:10\n9 2 ΠΑΠΑΔΗΜΗΤΡΙΟΥ ΚΩΣΤΑΝΤΙΝΟΣ LEPANTO 16:00\n10 19 ΠΟΛΥΔΩΡΟΠΟΥΛΟΥ ΦΩΤΕΙΝΗ ΑΝΕΞΑΡΤΗΤΟΣ 16:15\n11 13 ΖΕΛΙΟΥ ΟΛΓΑ ΑΓΕΛΑΟΣ Γ.Α.Σ. ΝΑΥΠΑ 17:46\n12 15 ΔΙΑΜΑΝΤΟΠΟΥΛΟΣ ΑΡΗΣ ΑΓΕΛΑΟΣ Γ.Α.Σ. ΝΑΥΠΑ 18:10\n13 20 ΔΡΑΚΟΝΤΑΕΙΔΗΣ ΘΑΝΟΣ ΑΝΕΞΑΡΤΗΤΟΣ 18:35\n14 4 ΦΛΩΡΟΥ ΑΡΤΕΜΙΣ ΟΡΕΙΒΑΤΙΚΟΣ ΑΓΡΙΝΙΟΥ 19:03\n15 9 ΚΑΡΑΓΙΑΝΝΗ ΑΓΓΕΛΙΚΗ ΑΓΕΛΑΟΣ Γ.Α.Σ. ΝΑΥΠΑ 19:32\n16 26 ΚΟΓΚΟΥ ΑΓΓΕΛΙΚΗ ΑΝΕΞΑΡΤΗΤΟΣ 20:30\n17 18 ΠΟΛΥΔΩΡΟΠΟΥΛΟΥ ΝΙΚΟΛΙΑ ΑΝΕΞΑΡΤΗΤΟΣ 20:30\n18 27 ΠΟΛΥΖΟΣ ΓΙΩΡΓΟΣ ΑΝΕΞΑΡΤΗΤΟΣ 20:35\n19 5 ΦΛΩΡΟΥ ΑΡΙΑΔΝΗ ΟΡΕΙΒΑΤΙΚΟΣ ΑΓΡΙΝΙΟΥ 20:45\n20 21 ΔΡΑΚΟΝΤΑΕΙΔΗ ΕΛΕΝΗ ΑΝΕΞΑΡΤΗΤΟΣ 23:40\n21 29 ΑΝΑΓΝΩΣΤΟΠΟΥΛΟΣ ΓΙΑΝΝΗΣ ΑΝΕΞΑΡΤΗΤΟΣ 25:00\n22 6 ΝΤΑΣΙΟΣ ΝΙΚΟΛΑΣ ΑΝΕΞΑΡΤΗΤΟΣ 25:04\n23 28 ΑΛΕΞΟΠΟΥΛΟΣ ΚΩΝΣΤΑΝΤΙΝΟΣ ΑΝΕΞΑΡΤΗΤΟΣ 28:03\n24 14 ΔΙΑΜΑΝΤΟΠΟΥΛΟΣ ΓΕΡΑΣΙΜΟΣ ΑΓΕΛΑΟΣ Γ.Α.Σ. ΝΑΥΠΑ 30:58 \n  \n 
URL:https://gorun.gr/race/%ce%b1%cf%81%ce%b9%cf%83%cf%84%ce%bf%cf%84%ce%ad%ce%bb%ce%b5%ce%b9%ce%bf-%ce%bc%ce%bf%ce%bd%ce%bf%cf%80%ce%ac%cf%84%ce%b9-2016/
CATEGORIES:Αποτελέσματα,Βουνό
END:VEVENT
END:VCALENDAR