BEGIN:VCALENDAR
VERSION:2.0
PRODID:-//goRUN - ECPv5.8.1//NONSGML v1.0//EN
CALSCALE:GREGORIAN
METHOD:PUBLISH
X-WR-CALNAME:goRUN
X-ORIGINAL-URL:https://gorun.gr
X-WR-CALDESC:Events for goRUN
BEGIN:VTIMEZONE
TZID:Europe/Athens
BEGIN:DAYLIGHT
TZOFFSETFROM:+0200
TZOFFSETTO:+0300
TZNAME:EEST
DTSTART:20160327T010000
END:DAYLIGHT
BEGIN:STANDARD
TZOFFSETFROM:+0300
TZOFFSETTO:+0200
TZNAME:EET
DTSTART:20161030T010000
END:STANDARD
END:VTIMEZONE
BEGIN:VEVENT
DTSTART;TZID=Europe/Athens:20160713T080000
DTEND;TZID=Europe/Athens:20160713T170000
DTSTAMP:20260421T050819
CREATED:20160713T091227Z
LAST-MODIFIED:20161016T173258Z
UID:8871-1468396800-1468429200@gorun.gr
SUMMARY:Δήλεια 2016
DESCRIPTION:Με μεγάλη επιτυχία έγιναν για 6η χρονιά οι αγώνες στίβου “Δήλεια”\, στο στάδιο Κόρφου στη Μύκονο.\n\nΣτη διοργάνωση συμμετείχαν περισσότεροι από 400 αθλητές και αθλήτριες από περίπου 20 από την Αττική\, την Θήβα\, τη Χαλκίδα και το Ηράκλειο της Κρήτης και τις Κυκλάδες.\n\nΣτο πρόγραμμα των αγώνων υπήρχε και φέτος ο αγώνας σφαιροβολίας με τον καθένα από τους αθλητές να εκτελεί βολές με πέντε διαφορετικά όργανα (5κ.\, 6κ.\, 6κ.\, 7.260 κ. και 8κ. σφαίρα).\n\nΝικητής αναδείχθηκε ο Μιχάλης Σταματόγιαννης\, που είχε συνολικά 77\,09 μ. στο σύνολο των προσπαθειών. Δεύτερος με 66\,98 μ. ήταν ο Παναγιώτης Ακτύπης και τρίτος ο Παναγιώτης Μπουζιάνης με 66\,98 μέτρα.\n\nΤα αποτελέσματα\n\n\n\n\n \n \n \n \n\n\n \n60μ ΕΜΠΟΔΙΑ ΠΚΒ’\n \n \n\n\n\nΑ/Α\nΟΝΟΜΑΤΕΠΩΝΥΜΟ\nΕΤΟΣ ΓΕΝΝΗΣΗΣ\nΣΥΛΛΟΓΟΣ\nΕΠΙΔΟΣΗ\n\n\n\n1\nΜΠΕΤΣΑ ΓΕΩΡΓΙΑ\n2003\nΕΥΒΟΪΚΟΣ\n10¨10\n\n\n\n2\nΔΕΛΠΡΑ ΠΑΟΛΑ\n2003\nΝΑΞΙΑΚΟΣ\n10¨66\n\n\n\n3\nΜΑΛΛΗ ΜΑΡΙΑ\n2003\nΠΑΝΑΞΙΑΚΟΣ\n11¨45\n\n\n\n4\nΕΛ ΝΤΕΡΙΝΙ ΣΑΝΤΡΕΛΛΑ\n2004\nΠΑΝΕΛΛΗΝΙΟΣ\n11¨55\n\n\n\n5\nΚΟΚΟΝΤΙΝΗ ΜΑΡΙΑ\n \nΠΙΝΔΑΡΟΣ\n11¨87\n\n\n\n \n60μ ΕΜΠΟΔΙΑ ΠΚΒ’\nΠΠΒ’\n \n \n\n\n\nΑ/Α\nΟΝΟΜΑΤΕΠΩΝΥΜΟ\nΕΤΟΣ ΓΕΝΝΗΣΗΣ\nΣΥΛΛΟΓΟΣ\nΕΠΙΔΟΣΗ\n\n\n\n1\nΣΧΟΙΝΑΡΑΚΗΣ ΑΝΔΡΕΑΣ\n2003\nΟΦΗ\n9¨40\n\n\n\n2\nΓΚΟΡΝΤΑΣΙ ΜΑΡΚΟΣ \n2004\nΠΑΝΑΞΙΑΚΟΣ\n10¨01\n\n\n\n3\nΠΑΦΙΛΗΣ ΣΠΥΡΟΣ\n2004\nΠΑΝΕΛΛΗΝΙΟΣ\n10¨53\n\n\n\n4\nΜΠΙΛΑΝ ΑΛΕΞΑΝΔΡΟΣ\n2003\nΠΑΝΕΛΛΗΝΙΟΣ\n10¨96\n\n\n\n5\nΠΑΛΑΜΑΡΗΣ ΜΑΝΘΟΣ\n2003\nΑΙΑΝΤΑΣ ΤΗΝΟΥ\n12¨68\n\n\n\n \nΣΦΑΙΡΑ ΠΠΒ’\n \n \n \n\n\n\nΑ/Α\nΟΝΟΜΑΤΕΠΩΝΥΜΟ\nΕΤΟΣ ΓΕΝΝΗΣΗΣ\nΣΥΛΛΟΓΟΣ\nΕΠΙΔΟΣΗ\n\n\n\n1\nΣΟΛΩΜΟΣ ΝΙΚΟΣ\n \nΠΙΝΔΑΡΟΣ\n11\,06\n\n\n\n2\nΣΑΡΑΛΙΩΤΗΣ ΣΩΚΡΑΤΗΣ\n2003\nΝΑΞΙΑΚΟΣ\n10\,69\n\n\n\n3\nΡΟΔΕ ΑΓΓΕΛΟΣ\n2004\nΠΑΝΑΞΙΑΚΟΣ\n9\,2\n\n\n\n4\nΧΙΚΑ ΦΑΜΠΙΑΝ\n2003\nΠΑΝΑΞΙΑΚΟΣ\n9\,71\n\n\n\n5\nΓΙΑΝΝΟΠΟΥΛΟΣ ΦΩΤΙΟΣ\n2004\nΑΟ ΦΙΛΟΘΕΗΣ\n8\,58\n\n\n\n6\nΒΙΔΑΛΗΣ ΟΡΦΕΑΣ\n2003\nΑΟ ΦΙΛΟΘΕΗΣ\n8\,41\n\n\n\n7\nΒΑΛΣΑΜΙΔΗΣ ΑΛΚΗΣ\n2004\nΓΑΣ ΧΟΛΑΡΓΟΥ\n7\,98\n\n\n\n8\nΜΟΥΡΙΚΗΣ ΙΩΣΗΦ\n2003\nΑΟ ΦΙΛΟΘΕΗΣ\n6\,47\n\n\n\n9\nΓΡΥΠΑΡΗΣ ΒΑΣΙΛΗΣ\n2003\nΑΟ ΜΥΚΟΝΟΥ\n5\,26\n\n\n\n10\nΠΑΠΑΙΩΑΝΝΟΥ ΓΙΑΝΝΗΣ\n2004\nΠΑΝΕΛΛΗΝΙΟΣ\n4\,71\n\n\n\n11\nΛΑΜΠΙΔΑΚΗΣ ΑΝΤΩΝΗΣ\n2004\nΓΑΣ ΧΟΛΑΡΓΟΥ\n4\,26\n\n\n\n   ΣΦΑΙΡΑ ΠΠΒ’\nΜΗΚΟΣ ΠΚ ΜΙΝΙ\n \n \n \n\n\n\nΑ/Α\nΟΝΟΜΑΤΕΠΩΝΥΜΟ\nΕΤΟΣ ΓΕΝΝΗΣΗΣ\nΣΥΛΛΟΓΟΣ\nΕΠΙΔΟΣΗ\n\n\n\n1\nΛΥΜΠΕΡΙΟΥ ΜΑΡΙΑ\n \nΓΣ ΠΙΝΔΑΡΟΣ\n4\,06\n\n\n\n2\nΣΕΡΓΗ ΝΙΚΟΛΕΤΑ\n2005\nΝΑΞΙΑΚΟΣ\n4\,00\n\n\n\n3\nΣΑΝΤΟΡΙΝΑΙΟΥ ΠΑΡΑΣΚΕΥΟΥ\n2005\nΑΟ ΜΥΚΟΝΟΥ\n3\,80\n\n\n\n4\nΝΙΚΑ ΝΙΚΟΛΕΤΤΑ\n \nΓΣ ΠΙΝΔΑΡΟΣ\n3\,62\n\n\n\n5\nΣΑΡΚΑ ΣΑΒΒΙΝΑ\n2005\nΝΑΞΙΑΚΟΣ\n3\,54\n\n\n\n6\nΒΛΑΚΑ ΕΜΜΑΝΟΥΕΛΑ\n\nΑΟ ΠΑΡΟΥ\n3\,40\n\n\n\n7\nΠΑΠΑΘΑΝΑΣΙΟΥ ΕΛΕΝΑ\n2005\nΑΟ ΠΕΥΚΗΣ\n3\,37\n\n\n\n8\nΔΕΜΕΝΑΓΑ ΑΘΗΝΑ\n2005\nΚΕΑ\n3\,37\n\n\n\n9\nΔΕΣΠΟΤΙΔΗ ΕΥΔΟΚΙΑ\n2005\nΠΑΝΑΞΙΑΚΟΣ\n3\,30\n\n\n\n10\nΓΙΑΝΝΑΚΟΠΟΥΛΟΥ ΜΑΡΙΑ\n2005\nΝΑΞΙΑΚΟΣ\n3\,15\n\n\n\n11\nΠΕΤΡΟΠΟΥΛΟΥ ΒΑΝΑ\n2008\nΑΟ ΠΑΡΟΥ\n3\,00\n\n\n\n12\nΑΠΟΣΤΟΛΟΠΟΥΛΟΥ ΕΙΡΗΝΗ\n \nΓΑΣ ΧΟΛΑΡΓΟΥ\n3\,00\n\n\n\n13\nΚΟΝΤΟΡΟΥΣΗ ΑΝΝΑ ΜΑΡΙΑ\n2006\nΑΝΔΡΙΑΚΟΣ\n2\,76\n\n\n\n14\nΜΙΧΟΠΟΥΛΟΥ ΕΛΙΣΑΒΕΤ\n \nΓΑΣ ΧΟΛΑΡΓΟΥ\n2\,63\n\n\n\n15\nΝΙΚΑ ΣΟΦΙΑ\n2006\nΑΟ ΜΥΚΟΝΟΥ\n2\,60\n\n\n\n16\nΓΙΑΝΝΑΚΟΠΟΥΛΟΥ ΒΙΚΥ\n2006\nΑΝΔΡΙΑΚΟΣ\n2\,44\n\n\n\n17\nΤΣΙΦΗ ΒΑΣΙΛΙΚΗ\n2007\nΑΟ ΜΥΚΟΝΟΥ\n2\,43\n\n\n\n \n60μ ΠΚΒ”\n \n \n \n\n\n\nΑ/Α\nΟΝΟΜΑΤΕΠΩΝΥΜΟ\nΕΤΟΣ ΓΕΝΝΗΣΗΣ\nΣΥΛΛΟΓΟΣ\nΕΠΙΔΟΣΗ\n\n\n\n1\nΜΠΟΥΛΟΥΚΟΥ ΣΩΤΗΡΙΑ\n2003\nΕΥΒΟΪΚΟΣ ΓΑΣ\n8’30\n\n\n\n2\nΤΣΟΥΚΟΥΜΑ ΓΚΛΟΡΙΑ\n2003\nΠΑΝΕΛΛΗΝΙΟΣ\n8’42\n\n\n\n3\nΒΟΚΟΤΟΠΟΥΛΟΥ ΑΝΑΣΤΑΣΙΑ\n2004\nΠΑΝΕΛΛΗΝΙΟΣ\n8’57\n\n\n\n4\nΔΕΣΠΟΙΝΙΔΗ ΔΕΣΠΟΙΝΑ \n2003\nΗΦΑΙΣΤΟΣ ΣΑΝΤΟΡΙΝΗΣ\n8’61\n\n\n\n5\nΠΛΥΤΑ ΣΤΕΛΛΑ\n2003\nΑΙΑΝΤΑΣ ΤΗΝΟΥ\n8’69\n\n\n\n6\nΤΖΟΥΜΗ ΕΛΕΝΗ\n2004\nΑΝΔΡΙΑΚΟΣ\n8’84\n\n\n\n7\nΒΕΡΝΙΚΟΥ ΜΑΡΓΑΡΙΤΑ\n2003\nΠΑΝΑΞΙΑΚΟΣ\n8’93\n\n\n\n8\nΜΠΟΓΔΑΝΗ ΝΑΥΣΙΚΑ\n2003\nΓΑΣ ΧΟΛΑΡΓΟΥ\n8’95\n\n\n\n9\nΣΥΡΓΚΑΝΗ ΕΥΑΓΓΕΛΙΑ\n2003\nΓΑΣ ΧΟΛΑΡΓΟΥ\n8’98\n\n\n\n10\nΧΟΥΖΟΥΡΗ ΧΡΙΣΤΙΝΑ \n \nΠΑΝΑΞΙΑΚΟΣ\n9’04\n\n\n\n11\nΠΛΕΥΡΗ ΜΑΙΡΗ\n2004\nΠΑΝΕΛΛΗΝΙΟΣ\n9’06\n\n\n\n12\nΛΕΟΝΤΟΠΟΥΛΟΥ ΕΡΣΗ\n2004\nΑΟ ΦΙΛΟΘΕΗΣ\n9’08\n\n\n\n13\nΜΑΖΑΥΛΗ ΚΥΡΙΑΚΗ\n2004\nΠΑΝΑΞΙΑΚΟΣ\n9’25\n\n\n\n14\nΝΤΙΝΟΥ ΜΑΡΓΑΡΙΤΑ\n2004\nΗΦΑΙΣΤΟΣ ΣΑΝΤΟΡΙΝΗΣ\n9’28\n\n\n\n15\nΝΟΝΗ ΑΝΝΑ\n2003\nΠΑΝΕΛΛΗΝΙΟΣ\n9’32\n\n\n\n16\nΧΡΙΣΤΟΦΙΔΗ ΜΑΡΙΕΤΤΑ\n2004\nΑΟ ΦΙΛΟΘΕΗΣ\n9’44\n\n\n\n17\nΛΑΛΙΩΤΗ ΕΛΕΝΑ\n \nΓΣ ΠΙΝΔΑΡΟΣ\n9’51\n\n\n\n18\nΝΑΝΑ ΕΥΔΟΚΙΑ\n \nΝΑΞΙΑΚΟΣ\n9’54\n\n\n\n19\nΦΩΣΚΟΛΟΥ ΓΕΩΡΓΙΑ\n2003\nΑΟ ΠΟΣΕΙΔΩΝΑΣ ΤΗΝΟΥ\n9’59\n\n\n\n20\nΚΡΙΤΗ ΦΡΑΤΖΕΣΚΑ\n2004\nΑΝΔΡΙΑΚΟΣ\n9’70\n\n\n\n21\nΧΑΒΑΚΗ ΠΑΝΑΓΙΩΤΑ \n2003\nΠΑΜΜΗΛΙΑΚΟΣ\n9’81\n\n\n\n22\nΔΡΑΓΑΤΗ ΧΡΙΣΤΙΝΑ\n2004\nΑΟ ΠΑΡΟΥ\n9’89\n\n\n\n23\nΜΑΡΚΟΥ ΜΙΛΕΝΑ\n2004\nΓΑΣ ΧΟΛΑΡΓΟΥ\n9’90\n\n\n\n24\nΤΖΩΡΤΖΗ ΧΡΥΣΑ\n2004\nΓΑΣ ΧΟΛΑΡΓΟΥ\n10’00\n\n\n\n25\nΚΑΡΑΟΥΣΟΓΛΟΥ ΑΛΚΜΗΝΗ\n2004\nΑΟ ΦΙΛΟΘΕΗΣ\n10’05\n\n\n\n26\nΚΑΤΣΙΜΙΧΑ ΜΑΙΡΗ \n2004\nΠΑΝΕΛΛΗΝΙΟΣ\n10’09\n\n\n\n27\nΚΟΡΡΕ ΣΟΦΙΑ\n2004\nΝΑΞΙΑΚΟΣ\n10’48\n\n\n\n28\nΛΑΣΚΑΡΗ ΕΛΕΥΘΕΡΙΑ\n2003\nΑΙΑΝΤΑΣ ΤΗΝΟΥ\n10’50\n\n\n\n29\nΧΑΡΩΝΗ ΑΝΘΗ\n2004\nΑΟ ΦΙΛΟΘΕΗΣ\n10’51\n\n\n\n30\nΜΠΟΤΣΗ ΚΛΑΟΥΝΤΙΑ\n \nΝΑΞΙΑΚΟΣ\n10’69\n\n\n\n31\nΛΑΡΕΤΖΑΚΗ ΧΡΥΣΑ\n \nΚΥΘΝΟΣ\n10’85\n\n\n\n32\nΦΛΩΡΟΥ ΑΙΜΙΛΙΑ\n2004\nΑΟ ΜΥΚΟΝΟΥ\n10’86\n\n\n\n33\nΧΑΡΣΟΥΛΑ ΝΕΦΕΛΗ\n \nΓΑΣ ΧΟΛΑΡΓΟΥ\n10’99\n\n\n\n \nΧΑΣΑΝΑΪ ΧΡΙΣΤΙΝΑ\n2004\nΑΟ ΠΟΣΕΙΔΩΝΑΣ ΤΗΝΟΥ\n10’99\n\n\n\n \nΓΚΟΥΜΑ ΕΛΠΙΔΑ\n \nΚΥΘΝΟΣ\n10’99\n\n\n\n34\nΣΚΑΡΒΕΛΗ ΜΑΡΙΝΑ\n2004\nΑΟ ΦΙΛΟΘΕΗΣ\n11’19\n\n\n\n   ΣΦΑΙΡΑ ΠΠΒ’\nΜΗΚΟΣ ΠΠ ΜΙΝΙ\n \n \n \n\n\n\nΑ/Α\nΟΝΟΜΑΤΕΠΩΝΥΜΟ\nΕΤΟΣ ΓΕΝΝΗΣΗΣ\nΣΥΛΛΟΓΟΣ\nΕΠΙΔΟΣΗ\n\n\n\n1\nΜΠΛΕΤΣΑΣ ΒΑΣΙΛΗΣ \n2006\nΑΟ ΜΥΚΟΝΟΥ\n4\,25\n\n\n\n2\nΤΑΚΟΣ ΜΙΧΑΛΗΣ\n2006\nΝΑΞΙΑΚΟΣ\n3\,82\n\n\n\n3\nΠΡΟΒΑΤΑΣ ΛΕΥΤΕΡΗΣ\n2006\nΑΟ ΦΙΛΟΘΕΗΣ\n3\,80\n\n\n\n4\nΤΣΟΥΒΑΛΑΣ ΟΡΦΕΑΣ\n2006\nΑΟ ΜΥΚΟΝΟΥ\n3\,68\n\n\n\n5\nΠΑΝΤΕΛΑΙΟΣ ΝΙΚΟΣ\n2006\nΝΑΞΙΑΚΟΣ\n3\,36\n\n\n\n6\nΚΑΨΗΣ ΑΛΕΞΑΝΔΡΟΣ\n2006\nΑΟ ΜΥΚΟΝΟΥ\n3\,10\n\n\n\n7\nΜΟΤΣΑΝΟΣ ΙΑΣΩΝΑΣ\n \nΑΟ ΜΥΚΟΝΟΥ\n3\,03\n\n\n\n8\nΧΡΗΣΤΟΣ ΔΕΛΠΡΑΣ\n2008\nΝΑΞΙΑΚΟΣ\n3\,03\n\n\n\n \nΥΨΟΣ ΠΚΒ’\n \n \n \n\n\n\nΑ/Α\nΟΝΟΜΑΤΕΠΩΝΥΜΟ\nΕΤΟΣ ΓΕΝΝΗΣΗΣ\nΣΥΛΛΟΓΟΣ\nΕΠΙΔΟΣΗ\n\n\n\n1\nΚΟΥΛΟΥΜΕΝΤΑ ΒΙΡΓΙΝΙΑ\n2004\nΑΟ ΦΙΛΟΘΕΗΣ\n1\,45\n\n\n\n2\nΔΟΥΔΑΛΗ ΜΕΛΙΝΑ\n2003\nΓΑΣ ΧΟΛΑΡΓΟΥ\n1\,40\n\n\n\n3\nΜΠΟΒΑΛΗ ΜΑΡΙΑ\n \nΓΣ ΠΙΝΔΑΡΟΣ\n1\,35\n\n\n\n4\nΜΠΑΖΡΑΚΤΑΡΕΒΙΚ ΕΛΕΝΗ\n2003\nΑΟ ΠΑΡΟΥ\n1\,30\n\n\n\n5\nΕΛ ΝΤΕΡΙΝΙ ΣΑΝΤΡΕΛΛΑ\n2004\nΠΑΝΕΛΛΗΝΙΟΣ\n1\,25\n\n\n\n6\nΧΩΝΑ ΗΛΙΑΝΝΑ\n2004\nΑΝΔΡΙΑΚΟΣ\n1\,20\n\n\n\n7\nΔΗΜΗΤΡΑΚΟΠΟΥΛΟΥ ΑΡΤΕΜΙΣ\n2003\nΑΟ ΦΙΛΟΘΕΗΣ\n1\,20\n\n\n\n8\nΠΑΝΤΕΛΑΙΟΥ ΑΝΤΩΝΙΑ\n2004\nΝΑΞΙΑΚΟΣ\n1\,10\n\n\n\n \n60μ ΠΠΒ”\n \n \n \n\n\n\nΑ/Α\nΟΝΟΜΑΤΕΠΩΝΥΜΟ\nΕΤΟΣ ΓΕΝΝΗΣΗΣ\nΣΥΛΛΟΓΟΣ\nΕΠΙΔΟΣΗ\n\n\n\n1\nΧΡΙΣΤΟΦΟΡΑΚΗΣ ΓΙΑΝΝΗΣ\n2003\nΟΦΗ\n7’66\n\n\n\n2\nΠΑΝΤΕΛΑΙΟΣ ΝΙΚΟΣ\n2003\nΝΑΞΙΑΚΟΣ\n7’89\n\n\n\n3\nΨΑΘΑΚΗΣ ΓΙΑΝΝΗΣ\n2003\nΓΑΣ ΧΟΛΑΡΓΟΥ\n7’89\n\n\n\n4\nΣΑΤΡΑΤΖΕΜΗΣ ΓΙΑΝΝΗΣ\n2003\nΠΑΝΑΞΙΑΚΟΣ\n8’19\n\n\n\n5\nΜΠΟΥΡΑΣ ΗΛΙΑΣ\n2003\nΠΑΝΕΛΛΗΝΙΟΣ\n8’26\n\n\n\n6\nΟΥΓΚΕΤΖΕ ΑΓΓΕΛΟΣ\n2003\nΠΑΝΕΛΛΗΝΙΟΣ\n8’27\n\n\n\n7\nΜΠΟΝ ΝΙΚΟΣ \n2003\nΑΙΑΝΤΑΣ ΤΗΝΟΥ\n8’28\n\n\n\n8\nΑΝΤΩΝΙΟΥ ΠΑΥΛΟΣ\n2004\nΑΟ ΦΙΛΟΘΕΗΣ\n8’54\n\n\n\n9\nΦΥΤΡΟΣ ΓΕΩΡΓΙΟΣ\n2003\nΗΦΑΙΣΤΟΣ ΣΑΝΤΟΡΙΝΗΣ\n8’65\n\n\n\n10\nΨΑΘΑΚΗΣ ΣΑΒΒΑΣ\n2003\nΓΑΣ ΧΟΛΑΡΓΟΥ\n8’72\n\n\n\n11\nΠΙΤΤΑΡΑΚΗΣ ΚΩΣΤΑΣ\n2003\nΠΑΝΑΞΙΑΚΟΣ\n9’07\n\n\n\n12\nΒΕΝΤΟΥΡΗΣ ΒΑΣΙΛΗΣ\n \nΓΑΣ ΧΟΛΑΡΓΟΥ\n9’25\n\n\n\n13\nΒΙΔΑΛΗΣ ΜΑΡΚΟΣ\n2004\nΑΟ ΠΟΣΕΙΔΩΝΑΣ ΤΗΝΟΥ\n9’49\n\n\n\n14\nΑΚΑΛΕΣΤΟΣ ΚΩΝ/ΝΟΣ\n2004\nΑΟ ΠΑΡΟΥ\n9’52\n\n\n\n15\nΜΑΥΡΑΓΑΝΗΣ ΓΙΩΡΓΟΣ\n2004\nΑΟ ΦΙΛΟΘΕΗΣ\n9’56\n\n\n\n16\nΚΟΚΑΛΑΡΑΣ ΓΙΩΡΓΟΣ\n2003\nΓΑΣ ΧΟΛΑΡΓΟΥ\n9’70\n\n\n\n17\nΓΚΟΥΒΑΚΗΣ ΒΕΡΓΟΣ\n \nΓΑΣ ΧΟΛΑΡΓΟΥ\n10’16\n\n\n\n18\nΖΑΓΟΥΡΑΣ ΠΑΝΑΓΙΩΤΗΣ\n \nΓΑΣ ΧΟΛΑΡΓΟΥ\n10’75\n\n\n\n \n300μ ΠΠΒ”\n \n \n \n\n\n\nΑ/Α\nΟΝΟΜΑΤΕΠΩΝΥΜΟ\nΕΤΟΣ ΓΕΝΝΗΣΗΣ\nΣΥΛΛΟΓΟΣ\nΕΠΙΔΟΣΗ\n\n\n\n1\nΜΥΤΙΛΗΝΗΣ ΒΑΪΟΣ\n \nΓΣ ΠΙΝΔΑΡΟΣ\n49’95\n\n\n\n2\nΠΥΛΑΡΙΝΟΣ ΚΩΝ/ΝΟΣ\n2004\nΓΑΣ ΧΟΛΑΡΓΟΥ\n53’36\n\n\n\n3\nΜΠΟΤΣΙ ΜΑΡΚΟ\n2004\nΠΑΝΑΞΙΑΚΟΣ\n61’25\n\n\n\n4\nΚΑΧΡΑΜΑΝΟΣ ΓΙΑΝΝΗΣ\n2004\nΓΑΣ ΧΟΛΑΡΓΟΥ\n65’45\n\n\n\n5\nΓΚΡΕΖΙΟΣ ΓΙΩΡΓΟΣ\n2004\nΓΑΣ ΧΟΛΑΡΓΟΥ\n68’24\n\n\n\n \n300μ ΠΚΒ”\n \n \n \n\n\n\nΑ/Α\nΟΝΟΜΑΤΕΠΩΝΥΜΟ\nΕΤΟΣ ΓΕΝΝΗΣΗΣ\nΣΥΛΛΟΓΟΣ\nΕΠΙΔΟΣΗ\n\n\n\n1\nΤΟΥΡΛΑΚΗ ΠΗΝΕΛΟΠΗ\n2004\nΠΑΝΑΞΙΑΚΟΣ\n47’06\n\n\n\n2\nΡΕΘΥΜΝΙΩΤΑΚΗ ΣΟΦΙΑ\n2003\nΟΦΗ\n48’82\n\n\n\n3\nΙΣΡΑΕΛΙΑΝ ΑΙΜΙΛΙΑΝΝΑ\n2003\nΓΑΣ ΧΟΛΑΡΓΟΥ\n51’61\n\n\n\n4\nΜΠΛΕΤΣΑ ΠΟΛΥΤΙΜΗ\n2004\nΑΟ ΜΥΚΟΝΟΥ\n52’50\n\n\n\n5\nΣΚΑΡΤΣΟΥ ΙΩΑΝΝΑ\n2004\nΑΟ ΜΥΚΟΝΟΥ\n54’77\n\n\n\n6\nΞΕΝΑΚΗ ΓΙΩΤΑ\n2004\nΑΟ ΦΙΛΟΘΕΗΣ\n56’20\n\n\n\n7\nΜΠΟΜΠΑΪ ΕΛΕΑΝΝΑ\n2004\nΑΟ ΜΥΚΟΝΟΥ\n56’98\n\n\n\n8\nΧΡΗΣΤΟΥ ΑΝΝΑ ΜΑΡΙΑ\n2004\nΑΟ ΠΕΥΚΗΣ\n60’15\n\n\n\n9\nΑΝΤΕΜΗ ΕΛΝΤΑ\n2004\nΝΑΞΙΑΚΟΣ\n61’36\n\n\n\n \nΣΦΑΙΡΑ ΠΠΑ’\n \n \n \n\n\n\nΑ/Α\nΟΝΟΜΑΤΕΠΩΝΥΜΟ\nΕΤΟΣ ΓΕΝΝΗΣΗΣ\nΣΥΛΛΟΓΟΣ\nΕΠΙΔΟΣΗ\n\n\n\n1\nΑΝΤΩΝΟΥΔΗΣ ΑΓΓΕΛΟΣ\n2001\nΓΑΣ ΠΑΙΑΝΙΑΣ\n14\,77\n\n\n\n2\nΣΤΕΙΑΚΑΚΗΣ ΕΜΜΝΟΥΗΛ\n \nΓΕ ΗΡΑΚΛΕΙΟΥ\n12\,38\n\n\n\n3\nΦΑΡΚΩΝΑΣ ΓΙΑΝΝΗΣ\n2002\nΝΑΞΙΑΚΟΣ\n11\,45\n\n\n\n4\nΝΑΟΥΜΕΝΓΚΟ ΒΛΑΝΤΙΜΙΡ\n2002\nΑΟ ΜΥΚΟΝΟΥ\n10\,98\n\n\n\n5\nΚΑΡΟΥΑΝΟΣ ΣΠΥΡΟΣ\n2002\nΗΦΑΙΣΤΟΣ ΣΑΝΤΟΡΙΝΗΣ\n10\,12\n\n\n\n6\nΧΑΝΙΩΤΗΣ ΔΗΜΗΤΡΗΣ\n2001\nΠΑΝΑΞΙΑΚΟΣ\n9\,5\n\n\n\n7\nΠΑΝΟΥΣΟΠΟΥΛΟΣ ΓΙΩΡΓΟΣ\n2001\nΑΟ ΠΕΥΚΗΣ\n9\,19\n\n\n\n8\nΤΣΙΟΓΚΑΣ ΣΤΕΦΑΝΟΣ\n2001\nΠΑΝΕΛΛΗΝΙΟΣ\n7\,33\n\n\n\n   ΣΦΑΙΡΑ ΠΠΒ’\nΜΗΚΟΣ ΠΠΒ’\n \n \n \n\n\n\nΑ/Α\nΟΝΟΜΑΤΕΠΩΝΥΜΟ\nΕΤΟΣ ΓΕΝΝΗΣΗΣ\nΣΥΛΛΟΓΟΣ\nΕΠΙΔΟΣΗ\n\n\n\n1\nΑΝΤΩΝΙΟΥ ΠΑΥΛΟΣ\n2004\nΑΟ ΦΙΛΟΘΕΗΣ\n4\,81\n\n\n\n2\nΚΟΙΛΙΑΣ ΝΙΚΟΛΑΟΣ\n \nΠΑΝΕΛΛΗΝΙΟΣ\n4\,54\n\n\n\n3\nΠΡΟΒΑΤΑΣ ΓΙΩΡΓΟΣ\n2004\nΑΟ ΦΙΛΟΘΕΗΣ\n4\,37\n\n\n\n4\nΒΟΥΛΓΑΡΗΣ ΝΙΚΟΛΑΣ\n2004\nΓΑΣ ΧΟΛΑΡΓΟΥ\n2\,84\n\n\n\n \n300μ ΠΚΑ’\n \n \n \n\n\n\nΑ/Α\nΟΝΟΜΑΤΕΠΩΝΥΜΟ\nΕΤΟΣ ΓΕΝΝΗΣΗΣ\nΣΥΛΛΟΓΟΣ\nΕΠΙΔΟΣΗ\n\n\n\n1\nΠΑΠΑΔΑΚΗ ΑΝΝΑ\n2001\nΠΑΝΕΛΛΗΝΙΟΣ\n49’00\n\n\n\n2\nΚΑΚΑΒΑ ΑΔΑΜΑΝΑΤΙΑ\n2001\nΠΑΝΕΛΛΗΝΙΟΣ\n49’27\n\n\n\n3\nΙΣΡΑΕΛΙΑΝ ΕΛΙΣΑΒΕΤ\n2002\nΓΑΣ ΧΟΛΑΡΓΟΥ\n50’05\n\n\n\n4\nΓΚΑΡΗ ΒΑΝΑ\n2001\nΑΙΓΙΝΑΣ\n50’98\n\n\n\n5\nΛΙΒΑΝΙΟΥ ΑΦΡΟΔΙΤΗ\n2002\nΠΑΝΑΞΙΑΚΟΣ\n51’38\n\n\n\n6\nΣΚΟΥΡΤΗ ΑΘΗΝΑ\n2001\nΓΑΣ ΧΟΛΑΡΓΟΥ\n51’54\n\n\n\n7\nΧΑΝΙΩΤΗ ΕΥΓΕΝΙΑ\n2002\nΑΟ ΜΥΚΟΝΟΥ\n52’17\n\n\n\n8\nΕΒΜΠΟΥΟΜΑΝ ΒΑΝΕΣΑ\n2002\nΠΑΝΕΛΛΗΝΙΟΣ\n53’20\n\n\n\n9\nΤΟΥΤΟΥΖΑ ΑΙΚΑΤΕΡΙΝΗ\n2001\nΓΣ ΠΙΝΔΑΡΟΣ\n54’06\n\n\n\n10\nΦΕΝΤΖΙΑΝ ΦΟΙΒΗ \n2001\nΓΑΣ ΧΟΛΑΡΓΟΥ\n54’07\n\n\n\n11\nΧΡΥΣΙΚΟΥ ΕΛΕΝΑ \n2002\nΓΑΣ ΧΟΛΑΡΓΟΥ\n55’17\n\n\n\n12\nΛΑΒΟΥΤΑ ΖΕΦΗ \n2001\nΑΙΓΙΝΑΣ\n57’31\n\n\n\n \nΥΨΟΣ ΠΠΒ’\n \n \n \n\n\n\nΑ/Α\nΟΝΟΜΑΤΕΠΩΝΥΜΟ\nΕΤΟΣ ΓΕΝΝΗΣΗΣ\nΣΥΛΛΟΓΟΣ\nΕΠΙΔΟΣΗ\n\n\n\n1\nΝΑΣΚΙΝΤΑΣΒΙΛΙ ΘΕΜΗΣ\n2003\nΑΟ ΠΑΡΟΥ\n1\,50\n\n\n\n2\nΚΩΝΣΤΑΝΤΙΝΟΥ ΧΡΗΣΤΟΣ\n \nΓΣ ΠΙΝΔΑΡΟΣ\n1\,45\n\n\n\n3\nΜΠΟΒΑΛΗΣ ΑΔΑΜΑΝΤΙΟΣ\n \nΓΣ ΠΙΝΔΑΡΟΣ\n1\,30\n\n\n\n4\nΜΠΟΥΡΑΣ ΗΛΙΑΣ\n2003\nΠΑΝΕΛΛΗΝΙΟΣ\n1\,25\n\n\n\n5\nΜΙΛΟ ΛΑΜΠΡΟΣ\n \nΠΑΝΕΛΛΗΝΙΟΣ\n1\,25\n\n\n\n \n600μ ΠΚ ΜΙΝΙ\n \n \n \n\n\n\nΑ/Α\nΟΝΟΜΑΤΕΠΩΝΥΜΟ\nΕΤΟΣ ΓΕΝΝΗΣΗΣ\nΣΥΛΛΟΓΟΣ\nΕΠΙΔΟΣΗ\n\n\n\n1\nΛΙΒΑΝΙΟΥ ΚΑΛΛΙΟΠΗ\n2005\nΠΑΝΑΞΙΑΚΟΣ\n2:01.57\n\n\n\n2\nΑΣΗΜΟΜΥΤΗ ΣΟΦΙΑ\n2005\nΑΟ ΜΥΚΟΝΟΥ\n2:10.98\n\n\n\n3\nΤΣΟΡΤΑΝΙΔΟΥ  ΜΑΡΙΑ\n2006\nΑΝΔΡΙΑΚΟΣ\n2:13.12\n\n\n\n4\nΞΑΓΟΡΑΡΗ ΑΓΓΕΛΙΚΗ\n2005\nΗΦΑΙΣΤΟΣ ΣΑΝΤΟΡΙΝΗΣ\n2:18.72\n\n\n\n5\nΚΑΝΙΟΥ ΜΥΡΤΩ\n2005\nΓΑΣ ΧΟΛΑΡΓΟΥ\n2:20.12\n\n\n\n6\nΤΣΟΥΛΟΓΙΑΝΝΗ ΜΥΡΤΩ\n2006\nΓΑΣ ΧΟΛΑΡΓΟΥ\n2:23.38\n\n\n\n7\nΛΕΓΑΚΗ ΕΛΛΗ\n2007\nΝΑΞΙΑΚΟΣ\n2:24.81\n\n\n\n8\nΞΑΓΟΡΑΡΗ ΕΙΡΗΑΝΝΑ\n2005\nΗΦΑΙΣΤΟΣ ΣΑΝΤΟΡΙΝΗΣ\n2:26.18\n\n\n\n9\nΣΑΡΡΑ ΑΓΓΕΛΙΚΗ\n2006\nΑΟ ΠΕΥΚΗΣ\n2:32.62\n\n\n\n10\nΓΙΑΝΝΟΠΟΥΛΟΥ ΕΛΠΙΝΙΚΗ\n2007\nΓΑΣ ΧΟΛΑΡΓΟΥ\n2:34.41\n\n\n\n11\nΞΑΓΟΡΑΡΗ ΜΑΡΙΑ\n2006\nΗΦΑΙΣΤΟΣ ΣΑΝΤΟΡΙΝΗΣ\n2:46.91\n\n\n\n12\nΒΙΔΑΛΗ ΑΓΓΕΛΙΚΗ\n2007\nΑΙΑΝΤΑΣ ΤΗΝΟΥ\n2:48.42\n\n\n\n \n50μ ΠΠ ΜΙΝΙ\n \n \n \n\n\n\nΑ/Α\nΟΝΟΜΑΤΕΠΩΝΥΜΟ\nΕΤΟΣ ΓΕΝΝΗΣΗΣ\nΣΥΛΛΟΓΟΣ\nΕΠΙΔΟΣΗ\n\n\n\n1\nΣΚΟΥΡΤΗΣ ΑΙΜΙΛΙΟΣ\n2006\nΓΑΣ ΧΟΛΑΡΓΟΥ\n7’74\n\n\n\n2\nΠΑΓΑΝΕΛΗΣ ΝΙΚΟΣ\n2005\nΑΙΑΝΤΑΣ ΤΗΝΟΥ\n7’78\n\n\n\n3\nΠΡΟΥΝΤΖΟΣ ΑΛΕΞΗΣ\n2007\nΓΑΣ ΧΟΛΑΡΓΟΥ\n7’83\n\n\n\n4\nΠΑΠΑΪΩΑΝΝΟΥ ΚΑΡΤΕΛΙΑΣ ΑΛ\n2006\nΠΑΝΕΛΛΗΝΙΟΣ\n7’85\n\n\n\n5\nΚΑΤΣΙΜΠΑΡΔΗΣ ΔΗΜΗΤΡΗΣ\n2006\nΓΑΣ ΧΟΛΑΡΓΟΥ\n7’89\n\n\n\n6\nΑΝΤΩΝΟΠΟΥΛΟΣ ΑΓΓΕΛΟΣ\n2006\nΠΑΝΕΛΛΗΝΙΟΣ\n7’91\n\n\n\n7\nΓΙΑΝΝΟΠΟΥΛΟΣ ΚΩΝ/ΝΟΣ\n2006\nΑΟ ΠΟΣΕΙΔΩΝΑΣ ΤΗΝΟΥ\n8’01\n\n\n\n8\nΑΣΗΜΟΜΥΤΗΣ ΙΑΚΩΒΟΣ\n2007\nΑΟ ΜΥΚΟΝΟΥ\n8’11\n\n\n\n9\nΔΗΜΗΤΡΟΚΑΛΗΣ ΜΑΝΩΛΗΣ\n2005\nΠΑΝΑΞΙΑΚΟΣ\n8’28\n\n\n\n10\nΣΙΩΤΟΣ ΝΙΚΟΣ\n2005\nΑΙΑΝΤΑΣ ΤΗΝΟΥ\n8’29\n\n\n\n11\nΠΑΛΑΜΑΡΗΣ ΕΙΡΗΝΑΙΟΣ\n2006\nΑΟ ΠΟΣΕΙΔΩΝΑΣ ΤΗΝΟΥ\n8’37\n\n\n\n12\nΜΑΡΚΟΥ ΑΝΤΩΝΗΣ\n2005\nΓΑΣ ΧΟΛΑΡΓΟΥ\n8’40\n\n\n\n13\nΚΙΤΣΕΛΗΣ ΜΑΡΚΟΣ\n2005\nΓΑΣ ΧΟΛΑΡΓΟΥ\n8’42\n\n\n\n14\nΠΡΩΤΟΝΟΤΑΡΙΟΣ ΜΑΝΩΛΗΣ\n2005\nΠΑΝΑΞΙΑΚΟΣ\n8’47\n\n\n\n15\nΤΣΟΡΤΑΝΙΔΗΣ ΡΑΦΑΗΛ\n2007\nΑΝΔΡΙΑΚΟΣ\n8’61\n\n\n\n16\nΜΑΝΙΑΤΗΣ ΑΛΕΞΑΝΔΡΟΣ\n2006\nΠΑΝΕΛΛΗΝΙΟΣ\n8’79\n\n\n\n17\nΓΚΛΑΒΑΣ ΑΝΤΩΝΗΣ\n2005\nΑΙΓΙΝΑΣ\n8’88\n\n\n\n18\nΑΚΡΙΔΑΣ ΑΛΚΗΣ\n2007\nΑΙΓΙΝΑΣ\n8’93\n\n\n\n19\nΠΑΛΑΜΑΡΗΣ ΑΝΤΩΝΗΣ\n2007\nΑΙΑΝΤΑΣ ΤΗΝΟΥ\n9’18\n\n\n\n20\nΣΕΜΠΑΣΤΙΑΝ ΑΜΑΤΑΪ\n2009\nΑΟ ΜΥΚΟΝΟΥ\n9’20\n\n\n\n21\nΕΛ ΝΤΕΡΙΝΙ ΟΜΑΡ\n2005\nΠΑΝΕΛΛΗΝΙΟΣ\n9’26\n\n\n\n22\nΤΣΑΟΥΣΑΚΗΣ ΜΗΝΑΣ\n2007\nΑΟ ΜΥΚΟΝΟΥ\n9’43\n\n\n\n23\nΜΑΡΚΟΥ ΑΛΚΗΣ\n2009\nΓΑΣ ΧΟΛΑΡΓΟΥ\n10’33\n\n\n\n \n300μ ΠΠΑ’\n \n \n \n\n\n\nΑ/Α\nΟΝΟΜΑΤΕΠΩΝΥΜΟ\nΕΤΟΣ ΓΕΝΝΗΣΗΣ\nΣΥΛΛΟΓΟΣ\nΕΠΙΔΟΣΗ\n\n\n\n1\nΦΛΟΥΡΕΤΖΟΥ ΜΙΧΑΛΗΣ\n2001\nΓΑΣ ΧΟΛΑΡΓΟΥ\n41’57\n\n\n\n2\nΤΟΜΑΡΑΣ ΣΩΤΗΡΗΣ\n2002\nΠΑΝΕΛΛΗΝΙΟΣ\n41’80\n\n\n\n3\nΛΥΚΟΥΡΗΣ ΝΙΚΟΣ\n2001\nΑΟ ΜΥΚΟΝΟΥ\n42’08\n\n\n\n4\nΣΤΑΥΡΟΠΟΥΛΟΣ ΚΩΝ/ΝΟΣ\n2002\nΑΙΓΙΝΑΣ\n42’32\n\n\n\n5\nΠΙΤΤΑΡΑΣ ΒΑΑΣΙΛΗΣ\n2002\nΠΑΝΕΛΛΗΝΙΟΣ\n42’84\n\n\n\n6\nΜΠΟΤΣΗΣ ΚΩΝ/ΝΟΣ\n \nΓΣ ΠΙΝΔΑΡΟΣ\n43’91\n\n\n\n7\nΑΣΗΜΟΜΥΤΗΣ ΝΙΚΗΤΑΣ\n2002\nΓΑΣ ΧΟΛΑΡΓΟΥ\n45’01\n\n\n\n8\nΑΝΑΓΝΩΣΤΟΠΟΥΛΟΣ ΚΥΡΙΑΚΟΣ\n2001\nΓΑΣ ΧΟΛΑΡΓΟΥ\n45’23\n\n\n\n9\nΜΑΡΚΟΥΣΗΣ ΝΙΚΟΣ\n2001\nΠΑΝΕΛΛΗΝΙΟΣ\n45’47\n\n\n\n10\nΧΑΛΥΜΟΥΡΔΑΣ ΚΩΝ/ΝΟΣ\n \nΓΣ ΠΙΝΔΑΡΟΣ\n45’95\n\n\n\n11\nΣΟΥΛΑΪ ΜΑΡΙΟΣ\n \nΓΑΣ ΧΟΛΑΡΓΟΥ\n52’96\n\n\n\n12\nΖΕΝΟΥΝΙ ΓΙΟΝΟΥΖ\n2001\nΠΟΣΕΙΔΩΝΑΣ ΤΗΝΟΥ\n59’91\n\n\n\n \n600μ ΠΠ ΜΙΝΙ\n \n \n \n\n\n\nΑ/Α\nΟΝΟΜΑΤΕΠΩΝΥΜΟ\nΕΤΟΣ ΓΕΝΝΗΣΗΣ\nΣΥΛΛΟΓΟΣ\nΕΠΙΔΟΣΗ\n\n\n\n1\nΓΚΟΡΝΑΤΙ ΠΑΥΛΟΣ\n2007\nΠΑΝΑΞΙΑΚΟΣ\n2:06.65\n\n\n\n2\nΓΙΑΝΝΑΚΟΠΟΥΛΟΣ\n2006\nΝΑΞΙΑΚΟΣ\n2:08.59\n\n\n\n3\nΑΚΡΙΔΑΣ ΟΔΥΣΣΕΑΣ\n2005\nΑΙΓΙΝΑΣ\n2:13.11\n\n\n\n4\nΠΑΣΠΑΤΗΣ ΠΑΝΑΓΙΩΤΗΣ\n2007\nΚΕΑ\n2:13.19\n\n\n\n5\nΜΑΡΓΑΡΙΤΗΣ ΚΩΝ/ΝΟΣ\n2008\nΑΙΓΙΝΑΣ\n2:18.83\n\n\n\n6\nΤΣΑΝΤΟΥΛΗΣ ΣΤΕΛΙΟΣ\n2005\nΑΟ ΠΑΡΟΥ\n2:22.86\n\n\n\n7\nΣΚΙΑΔΑΣ ΛΥΠΡΑΝΔΟΣ\n2005\nΑΟ ΠΑΡΟΥ\n2:22.89\n\n\n\n8\nΠΕΤΡΟΠΟΥΛΟΣ ΛΥΚΟΥΡΓΟΣ\n2005\nΑΟ ΠΑΡΟΥ\n2:23.67\n\n\n\n9\nΚΟΚΟΡΗΣ ΦΕΛΙΠΕ\n2008\nΑΙΓΙΝΑΣ\n2:24.68\n\n\n\n10\nΠΑΠΑΝΙΚΟΛΑΟΥ ΘΗΣΕΑΣ\n2007\nΠΑΝΑΞΙΑΚΟΣ\n2:25.37\n\n\n\n11\nΖΑΜΠΕΛΗΣ ΑΝΤΩΝΗΣ\n2008\nΑΙΓΙΝΑΣ\n2:25.38\n\n\n\n12\nΑΣΗΜΟΜΥΤΗΣ ΠΕΡΙΚΛΗΣ\n \nΓΑΣ ΧΟΛΑΡΓΟΥ\n2:25.86\n\n\n\n13\nΠΥΛΑΡΙΝΟΣ ΓΕΡΑΣΙΜΟΣ\n \nΓΑΣ ΧΟΛΑΡΓΟΥ\n2:28.71\n\n\n\n14\nΚΩΤΙΤΣΑΣ ΓΙΩΡΓΟΣ\n \nΓΑΣ ΧΟΛΑΡΓΟΥ\n2:32.31\n\n\n\n15\nΑΛΙΦΕΡΗΣ ΓΙΩΡΓΟΣ\n \nΓΑΣ ΧΟΛΑΡΓΟΥ\n2;33.21\n\n\n\n16\nΟΙΚΟΝΟΜΟΥ ΘΟΔΩΡΗΣ\n \nΓΑΣ ΧΟΛΑΡΓΟΥ\n2:35.67\n\n\n\n17\nΣΕΡΓΗΣ ΜΙΧΑΛΗΣ\n2007\nΝΑΞΙΑΚΟΣ\n2:54.81\n\n\n\n \n1000μ ΠΠΑ’\n \n \n \n\n\n\nΑ/Α\nΟΝΟΜΑΤΕΠΩΝΥΜΟ\nΕΤΟΣ ΓΕΝΝΗΣΗΣ\nΣΥΛΛΟΓΟΣ\nΕΠΙΔΟΣΗ\n\n\n\n1\nΚΑΡΑΓΙΑΝΝΗΣ ΜΙΧΑΛΗΣ\n2002\nΑΟ ΜΥΚΟΝΟΥ\n3:05.02\n\n\n\n2\nΚΩΝΣΤΑΝΤΑΡΑΣ ΜΑΝΩΛΗΣ\n2001\nΑΟ ΜΥΚΟΝΟΥ\n3:06.56\n\n\n\n3\nΑΘΑΝΑΣΟΠΟΥΛΟΣ ΝΙΚΟΣ\n2001\nΠΑΝΕΛΛΗΝΙΟΣ\n3:08.54\n\n\n\n4\nΒΡΕΤΤΟΣ ΝΙΚΟΣ\n2001\nΠΑΝΑΞΙΑΚΟΣ\n3:19.57\n\n\n\n5\nΛΟΜΒΑΡΔΑΣ ΓΙΑΝΝΗΣ\n2001\nΓΑΣ ΧΟΛΑΡΓΟΥ\n3:19.67\n\n\n\n6\nΓΕΩΡΓΟΠΟΥΛΟΣ ΘΑΝΑΣΗΣ\n2001\nΑΟ ΠΟΣΕΙΔΩΝΑΣ ΤΗΝΟΥ\n3:23.81\n\n\n\n7\nΚΑΛΑΙΤΖΑΚΗΣ ΓΙΩΡΓΟΣ\n \nΓΣ ΠΙΝΔΑΡΟΣ\n3:24.02\n\n\n\n8\nΚΩΝΣΤΑΝΤΕΛΟΣ ΛΑΜΠΡΟΣ\n \nΓΑΣ ΧΟΛΑΡΓΟΥ\n3:24.08\n\n\n\n9\nΜΠΕΛΕΖΙΝΗΣ ΔΙΟΝΥΣΗΣ\n2002\nΑΟ ΠΕΥΚΗΣ\n3:26.07\n\n\n\n10\nΚΑΦΟΥΡΟΣ ΜΑΝΩΛΗΣ\n2002\nΗΦΑΙΣΤΟΣ ΣΑΝΤΟΡΙΝΗΣ\n3:33.67\n\n\n\n11\nΠΡΟΒΑΤΑΣ ΚΩΝ/ΝΟΣ\n2002\nΑΟ ΦΙΛΟΘΕΗΣ\n3:39.70\n\n\n\n12\nΜΑΝΙΑΤΗΣ ΝΙΚΟΛΑΟΣ\n2002\nΓΑΣ ΧΟΛΑΡΓΟΥ\n4:03.61\n\n\n\n \nΥΨΟΣ ΠKA’\n \n \n \n\n\n\nΑ/Α\nΟΝΟΜΑΤΕΠΩΝΥΜΟ\nΕΤΟΣ ΓΕΝΝΗΣΗΣ\nΣΥΛΛΟΓΟΣ\nΕΠΙΔΟΣΗ\n\n\n\n1\nΚΑΡΡΑ ΚΩΝ/ΝΑ\n2001\nΑΟ ΠΕΥΚΗΣ\n1\,35\n\n\n\n2\nΜΑΥΡΟΥ ΧΡΙΣΤΙΑΝΑ\n2001\nΠΑΝΕΛΛΗΝΙΟΣ\n1\,35\n\n\n\n3\nΦΟΥΡΝΑΡΑΚΟΥ ΓΕΩΡΓΙΑ\n2001\nΑΙΓΙΝΑΣ\n1\,30\n\n\n\n4\nΠΟΥΛΑΚΗ ΑΡΤΕΜΙΣ \n2001\nΠΑΝΕΛΛΗΝΙΟΣ\n1\,20\n\n\n\n   ΣΦΑΙΡΑ ΠΠΒ’\nΜΗΚΟΣ ΠΠΑ’\n \n \n \n\n\n\nΑ/Α\nΟΝΟΜΑΤΕΠΩΝΥΜΟ\nΕΤΟΣ ΓΕΝΝΗΣΗΣ\nΣΥΛΛΟΓΟΣ\nΕΠΙΔΟΣΗ\n\n\n\n1\nΜΑΝΤΖΑΡΗΣ ΛΕΥΤΕΡΗΣ\n2002\nΑΟ ΜΥΚΟΝΟΥ\n5\,58\n\n\n\n2\nΠΑΪΣΙΟΣ ΕΥΘΥΜΗΣ\n2002\nΑΟ ΦΙΛΟΘΕΗΣ\n5\,50\n\n\n\n3\nΑΝΤΩΝΑΚΑΚΗΣ ΚΩΝ/ΝΟΣ\n2001\nΠΑΝΕΛΛΗΝΙΟΣ\n5\,44\n\n\n\n4\nΒΑΣΙΛΑΚΟΣ ΜΑΝΟΣ\n2001\nΠΑΝΕΛΛΗΝΙΟΣ\n5\,07\n\n\n\n5\nΒΙΤΖΙΛΑΙΟΣ ΠΕΤΡΟΣ\n2001\nΝΑΞΙΑΚΟΣ\n5\,06\n\n\n\n6\nΝΤΟΥΛΑΣ ΧΡΗΣΤΟΣ\n2002\nΑΟ ΜΥΚΟΝΟΥ\n5\,03\n\n\n\n7\nΜΠΑΤΣΙΟΥΛΗΣ ΣΠΥΡΟΣ\n2002\nΠΙΝΔΑΡΟΣ\n4\,73\n\n\n\n8\nΣΚΑΝΔΑΛΗΣ ΓΙΩΡΓΟΣ\n2001\nΑΟ ΠΑΡΟΥ\n4\,36\n\n\n\n9\nΕΞΙΛΖΕΣ ΝΙΚΟΣ\n2002\nΑΟ ΠΟΣΕΙΔΩΝΑΣ ΤΗΝΟΥ\n3\,88\n\n\n\n \n600μ ΠΚΒ’\n \n \n \n\n\n\nΑ/Α\nΟΝΟΜΑΤΕΠΩΝΥΜΟ\nΕΤΟΣ ΓΕΝΝΗΣΗΣ\nΣΥΛΛΟΓΟΣ\nΕΠΙΔΟΣΗ\n\n\n\n1\nΣΟΡΩΚΟΥ ΔΕΣΠΟΙΝΑ \n2004\nΝΑΞΙΑΚΟΣ\n2:03.80\n\n\n\n2\nΚΟΥΣΑΘΑΝΑΣ ΝΙΚΟΛΕΤΤΑ\n2003\nΑΟ ΜΥΚΟΝΟΥ\n2:04.11\n\n\n\n3\nΛΙΑΡΜΑΚΟΠΟΥΛΟΥ ΜΑΡΙΝΑ\n2004\nΠΑΝΑΞΙΑΚΟΣ\n2:04.45\n\n\n\n4\nΣΟΥΛΙΩΤΗ ΕΛΕΥΘΕΡΙΑ\n2003\nΠΑΝΕΛΛΗΝΙΟΣ\n2:05.28\n\n\n\n5\nΚΟΥΚΑ ΝΙΚΟΛ\n2004\nΑΟ ΜΥΚΟΝΟΥ\n2:06.93\n\n\n\n6\nΣΙΑΧΟΥ ΕΙΡΗΝΗ\n \n \n2:14.35\n\n\n\n7\nΣΙΤΑΡΑ ΧΡΥΣΑΝΘΗ\n2003\nΑΙΑΝΤΑΣ ΤΗΝΟΥ\n2:14.48\n\n\n\n8\nΔΗΜΑΡΗ ΕΙΡΗΝΗ\n2003\nΝΑΞΙΑΚΟΣ\n2:20.15\n\n\n\n9\nΚΑΛΟΓΗΡΟΥ ΚΑΤΕΡΙΝΑ\n2003\nΑΙΑΝΤΑΣ ΤΗΝΟΥ\n2:25.32\n\n\n\n10\nΦΙΝΙΣ ΑΝΝΑ\n2004\nΑΟ ΜΥΚΟΝΟΥ\n2:25.81\n\n\n\n \nΜΠΑΛΑΚΙ ΠΚ ΜΙΝΙ\n \n \n\n\n\nΑ/Α\nΟΝΟΜΑΤΕΠΩΝΥΜΟ\nΕΤΟΣ ΓΕΝΝΗΣΗΣ\nΣΥΛΛΟΓΟΣ\nΕΠΙΔΟΣΗ\n\n\n\n1\nΓΚΟΥΦΑ ΑΓΓΕΛΙΚΗ\n2005\nΝΑΞΙΑΚΟΣ\n22\,77\n\n\n\n2\nΚΑΡΔΑΣΗ ΔΗΜΗΤΡΑ\n2005\nΑΟ ΜΥΚΟΝΟΥ\n19\,08\n\n\n\n3\nΜΠΙΣΚΑ ΡΑΝΙΑ\n2005\nΑΟ ΜΥΚΟΝΟΥ\n16\,00\n\n\n\n4\nΠΥΛΑΡΙΝΟΥ ΜΑΡΓΑΡΙΤΑ \n2006\nΓΑΣ ΧΟΛΑΡΓΟΥ\n15\,64\n\n\n\n5\nΛΑΣΚΑΡΗ ΒΑΣΙΛΙΚΗ\n2006\nΑΙΑΝΤΑΣ ΤΗΝΟΥ\n15\,30\n\n\n\n6\nΚΟΥΚΑ ΑΛΕΞΑΝΔΡΑ\n2006\nΑΟ ΜΥΚΟΝΟΥ\n14\,00\n\n\n\n7\nΣΙΩΤΗ ΜΑΡΓΑΡΙΤΑ\n2005\nΑΙΑΝΤΑΣ ΤΗΝΟΥ\n12\,20\n\n\n\n8\nΒΑΒΑΣΗ ΕΥΑ\n2007\nΑΟ ΜΥΚΟΝΟΥ\n10\,00\n\n\n\n   ΣΦΑΙΡΑ ΠΠΒ’\nΜΗΚΟΣ ΠΚΑ’\n \n \n \n\n\n\nΑ/Α\nΟΝΟΜΑΤΕΠΩΝΥΜΟ\nΕΤΟΣ ΓΕΝΝΗΣΗΣ\nΣΥΛΛΟΓΟΣ\nΕΠΙΔΟΣΗ\n\n\n\n1\nΚΑΒΑΛΙΕΡΟΥ ΜΑΡΙΑ\n2002\nΠΑΝΑΞΙΑΚΟΣ\n5\,14\n\n\n\n2\nΚΟΥΛΟΥΜΕΝΤΑ ΑΛΙΝΑ\n2001\nΑΟ ΦΙΛΟΘΕΗΣ\n4\,71\n\n\n\n3\nΑΓΡΑΦΙΩΤΗ ΑΝΘΗ\n2002\nΠΑΝΕΛΛΗΝΙΟΣ\n4\,36\n\n\n\n4\nΠΕΤΡΟΠΟΥΛΟΥ ΜΑΡΙΑ\n2002\nΠΑΝΕΛΛΗΝΙΟΣ\n4\,19\n\n\n\n5\nΒΛΑΣΟΠΟΥΛΟΥ ΚΑΤΕΡΙΝΑ\n2001\nΑΟ ΜΥΚΟΝΟΥ\n4\,19\n\n\n\n6\nΤΣΑΝΤΟΥΛΗ ΖΑΧΑΡΟΥΛΑ\n2002\nΑΟ ΠΑΡΟΥ\n4\,17\n\n\n\n7\nΤΖΙΝΗ ΣΕΡΕΝΑ\n2002\nΑΟ ΠΑΡΟΥ\n3\,97\n\n\n\n \n1000μ ΠΚΑ’\n \n \n \n\n\n\nΑ/Α\nΟΝΟΜΑΤΕΠΩΝΥΜΟ\nΕΤΟΣ ΓΕΝΝΗΣΗΣ\nΣΥΛΛΟΓΟΣ\nΕΠΙΔΟΣΗ\n\n\n\n1\nΕΥΘΥΜΙΟΥ ΕΛΕΝΗ\n2001\nΠΑΝΕΛΛΗΝΙΟΣ\n3:35.29\n\n\n\n2\nΚΟΥΚΟΥΒΙΤΑΚΗ ΕΛΛΗ \n2001\nΠΑΝΕΛΛΗΝΙΟΣ\n3:35.95\n\n\n\n3\nΧΑΝΙΩΤΗ ΚΑΤΕΡΙΝΑ\n2002\nΑΟ ΜΥΚΟΝΟΥ\n3:36.09\n\n\n\n4\nΒΙΔΑΛΗ ΔΗΜΗΤΡΑ\n2001\nΑΟ ΠΑΡΟΥ\n3:38.62\n\n\n\n5\nΧΑΜΠΙΔΗ ΕΡΑΤΩ\n2002\nΠΑΝΕΛΛΗΝΙΟΣ\n3:39.86\n\n\n\n6\nΚΑΠΕΤΗ ΦΙΛΙΩ\n2002\nΠΑΝΕΛΛΗΝΙΟΣ\n4:03.46\n\n\n\n7\nΛΟΥΚΗ ΜΑΡΙΑ\n2001\nΑΟ ΠΑΡΟΥ\n4:22.78\n\n\n\n8\nΤΣΑΛΕΖΑ ΓΕΩΡΓΙΑ\n2001\nΓΣ ΠΙΝΔΑΡΟΣ\nDNF\n\n\n\n \nΣΦΑΙΡΟΒΟΛΙΑ ΠΚΑ’\n \n \n\n\n\nΑ/Α\nΟΝΟΜΑΤΕΠΩΝΥΜΟ\nΕΤΟΣ ΓΕΝΝΗΣΗΣ\nΣΥΛΛΟΓΟΣ\nΕΠΙΔΟΣΗ\n\n\n\n1\nΜΑΘΙΟΥΔΑΚΗ ΑΙΚΑΤΕΡΙΝΗ\n \nΓΕ ΗΡΑΚΛΕΙΟΥ\n9\,60\n\n\n\n2\nΜΑΛΛΗ ΙΩΑΝΝΑ\n2001\nΑΟ ΜΥΚΟΝΟΥ\n9\,40\n\n\n\n3\nΖΟΥΓΑΝΕΛΗ ΜΑΡΙΝΑ\n2002\nΑΟ ΜΥΚΟΝΟΥ\n8\,66\n\n\n\n4\nΣΓΟΥΓΟΜΠΟΥΛΟΥ ΙΩΑΝΝΑ\n2001\nΠΑΝΕΛΛΗΝΙΟΣ\n8\,22\n\n\n\n5\nΝΙΚΟΛΑΟΥ ΑΝΝΑ ΜΑΡΙΑ\n2002\nΑΟ ΦΙΛΟΘΕΗΣ\n7\,39\n\n\n\n6\nΣΜΥΡΙΛΙΟΥ ΚΩΝ/ΝΑ\n2002\nΑΟ ΦΙΛΟΘΕΗΣ\n7\,25\n\n\n\n7\nΣΟΥΡΑΝΗ ΕΥΑΓΓΕΛΙΑ\n2001\nΑΙΑΝΤΑΣ ΤΗΝΟΥ\n6\,78\n\n\n\n8\nΜΥΤΙΛΗΝΑΙΟΥ ΣΟΦΙΑ\n2002\nΠΑΝΑΞΙΑΚΟΣ\n6\,34\n\n\n\n9\nΓΚΟΥΜΑ ΒΑΛΕΝΤΙΝΑ\n2002\nΚΥΘΝΟΣ\n6\,24\n\n\n\n10\nΧΡΥΣΙΚΟΥ ΠΑΓΩΝΑ\n2001\nΠΑΝΕΛΛΗΝΙΟΣ\n6\,07\n\n\n\n11\nΡΟΥΓΓΕΡΗ ΜΑΡΙΑ\n2001\nΠΟΣΕΙΔΩΝΑΣ ΤΗΝΟΥ\n5\,79\n\n\n\n12\nΣΙΩΤΟΥ ΚΛΑΙΡΗ\n2001\nΑΙΑΝΤΑΣ ΤΗΝΟΥ\n5\,19\n\n\n\n13\nΤΟΜΑΡΑ ΑΝΑΣΤΑΣΙΑ\n2002\nΠΑΝΕΛΛΗΝΙΟΣ\n5\,17\n\n\n\n14\nΜΙΛΟ ΕΛΕΟΝΩΡΑ\n2002\nΠΑΝΕΛΛΗΝΙΟΣ\n5\,05\n\n\n\n \n80μ ΠΚΑ’\n \n \n \n\n\n\nΑ/Α\nΟΝΟΜΑΤΕΠΩΝΥΜΟ\nΕΤΟΣ ΓΕΝΝΗΣΗΣ\nΣΥΛΛΟΓΟΣ\nΕΠΙΔΟΣΗ\n\n\n\n1\nΝΑΖΟΥ ΜΑΡΙΑ\n2001\nΑΟ ΜΥΚΟΝΟΥ\n10’15\n\n\n\n2\nΓΚΟΡΝΑΤΗ ΣΙΜΟΝΑ\n2002\nΠΑΝΑΞΙΑΚΟΣ\n10’19\n\n\n\n3\nΘΑΝΑΣΗ ΕΛΕΝΗ\n2002\nΠΑΝΕΛΛΗΝΙΟΣ\n10’24\n\n\n\n4\nΜΑΝΔΥΛΑΚΗ ΜΙΧΑΕΛΑ\n2002\nΟΦΗ\n10’51\n\n\n\n5\nΠΕΛΤΕΝΖΗ ΣΟΦΙΛΕΝΑ\n2001\nΑΟ ΜΥΚΟΝΟΥ\n10’55\n\n\n\n6\nΚΑΡΟΥΑΝΟΥ ΓΕΩΡΓΙΑ\n2002\nΗΦΑΙΣΤΟΣ ΣΑΝΤΟΡΙΝΗΣ\n10’90\n\n\n\n7\nΣΚΟΛΑΡΙΚΟΥ ΑΓΓΕΛΙΚΗ\n2001\nΓΑΣ ΧΟΛΑΡΓΟΥ\n10’98\n\n\n\n8\nΠΑΠΑΓΕΩΡΓΙΟΥ ΕΛΠΙΔΑ\n2001\nΓΣ ΠΙΝΔΑΡΟΣ\n11’00\n\n\n\n9\nΣΑΚΕΙ ΕΙΡΗΝΗ\n2001\nΠΑΝΕΛΛΗΝΙΟΣ\n11’08\n\n\n\n10\nΖΟΥΛΙΑ ΕΛΕΝΗ\n2001\nΠΑΜΜΗΛΙΑΚΟΣ\n11’10\n\n\n\n11\nΔΑΜΙΡΗ ΚΑΤΕΡΙΝΑ\n2001\nΓΑΣ ΧΟΛΑΡΓΟΥ\n11’24\n\n\n\n12\nΧΡΙΣΤΟΦΙΔΗ ΑΝΝΑ\n2002\nΑΟ ΦΙΛΟΘΕΗΣ\n11’40\n\n\n\n13\nΚΟΥΤΕΛΙΕΡΗ ΠΟΠΗ\n2002\nΠΑΝΑΞΙΑΚΟΣ\n11’41\n\n\n\n14\nΚΑΜΑΡΓΙΑΝΝΗ ΑΝΝΑ\n2001\nΓΑΣ ΠΑΙΑΝΙΑΣ\n11’55\n\n\n\n15\nΤΣΕΚΟΥΡΙΔΗ ΧΡΙΣΤΙΝΑ\n \nΓΣ ΠΙΝΔΑΡΟΣ\n12’09\n\n\n\n16\nΧΡΙΣΤΟΦΟΡΟΥ ΕΦΗ\n \nΓΑΣ ΧΟΛΑΡΓΟΥ\n12’11\n\n\n\n17\nΦΡΑΤΖΕΣΚΑΚΗ ΙΩΑΝΝΑ\n2002\nΑΟ ΦΙΛΟΘΕΗΣ\n12’20\n\n\n\n18\nΕΜΠΙΠ ΚΛΑΟΥΝΤΙΑ\n2001\nΑΙΑΝΤΑΣ ΤΗΝΟΥ\n12’25\n\n\n\n19\nΚΟΥΣΑΘΑΝΑ ΜΑΡΙΤΙΝΑ\n2002\nΑΟ ΜΥΚΟΝΟΥ\n12’51\n\n\n\n20\nΛΑΣΚΑΡΗ ΕΛΙΣΑΒΕΤ\n2001\nΑΙΑΝΤΑΣ ΤΗΝΟΥ\n13’04\n\n\n\n21\nΛΕΙΒΑΔΑΡΗ ΜΑΡΙΑ\n2001\nΑΟ ΠΟΣΕΙΔΩΝΑΣ ΤΗΝΟΥ\n13’40\n\n\n\n \nΣΚΥΤΑΛΟΔΡΟΜΙΑ 4Χ50μ ΠΚ ΜΙΝΙ\n \n \n\n\n\nΑ/Α\nΟΝΟΜΑΤΕΠΩΝΥΜΟ\nΕΤΟΣ ΓΕΝΝΗΣΗΣ\nΣΥΛΛΟΓΟΣ\nΕΠΙΔΟΣΗ\n\n\n\n1\nΑΣΗΜΟΜΥΤΗ-ΕΛΑΜΠΑΝ-ΓΚΟΓΚΟΥ-ΚΥΡΙΑΖΙΔΟΥ\n \nΑΟ ΜΥΚΟΝΟΥ\n30’96\n\n\n\n2\nΜΙΛΕΟΥ-ΧΑΝΤΑΪ-ΤΣΟΡΤΑΝΙΔΟΥ-ΠΑΠΑΔΟΠΟΥΛΟΥ\n \nΑΝΔΡΙΑΚΟΣ\n31’30\n\n\n\n3\nΜΠΟΥΝΤΟΥΛΗ-ΚΛΕΦΤΟΓΙΑΝΝΗ-ΝΙΚΑ-ΛΥΜΠΕΡΙΟΥ\n \nΠΙΝΔΑΡΟΣ\n31’97\n\n\n\n4\nΒΑΣΙΛΟΠΟΥΛΟΥ-ΚΑΝΙΟΥ-ΓΙΑΝΝΟΠΟΥΛΟΥ-ΚΑΡΚΑΝΕΒΑΤΟΥ\n \nΓΑΣ ΧΟΛΑΡΓΟΥ\n34’18\n\n\n\n5\nΝΙΚΟΛΑΪΔΗ-ΔΕΣΠΟΤΙΔΗ-ΒΑΣΙΛΑΚΗ-ΛΙΒΑΝΙΟΥ\n \nΠΑΝΑΞΙΑΚΟΣ\n34’71\n\n\n\n6\nΤΑΣΟΥΛΑ-ΚΟΝΤΟΡΟΥΣΗ-ΓΙΑΝΝΑΚΟΠΟΥΛΟΥ-ΜΠΡΑΧΙΜΗ\n \nΑΝΔΡΙΑΚΟΣ\n35’39\n\n\n\n7\nΣΕΡΓΗ-ΓΚΟΥΦΑ-ΓΙΑΝΝΑΚΟΠΟΥΛΟΥ-ΛΕΓΑΚΗ\n \nΝΑΞΙΑΚΟΣ\n35’88\n\n\n\n8\nΨΑΘΑΚΗ-ΤΣΟΥΛΟΓΙΑΝΝΗ-ΑΠΟΣΤΟΛΟΠΟΥΛΟΥ-ΠΥΛΑΡΙΝΟΥ\n \nΓΑΣ ΧΟΛΑΡΓΟΥ\n39’81\n\n\n\n9\n \n \nΗΦΑΙΣΤΟΣ ΣΑΝΤΟΡΙΝΗΣ\n44’40\n\n\n\n \n80μ ΠΠΑ’\n \n \n \n\n\n\nΑ/Α\nΟΝΟΜΑΤΕΠΩΝΥΜΟ\nΕΤΟΣ ΓΕΝΝΗΣΗΣ\nΣΥΛΛΟΓΟΣ\nΕΠΙΔΟΣΗ\n\n\n\n1\nΚΟΙΛΙΑΣ ΑΓΓΕΛΟΣ\n2002\nΠΑΝΕΛΛΗΝΙΟΣ\n9’23\n\n\n\n2\nΠΑΪΣΙΟΣ ΕΥΘΥΜΗΣ\n2002\nΑΟ ΦΙΛΟΘΕΗΣ\n9’60\n\n\n\n \nΒΛΑΧΟΣ ΝΙΚΟΣ\n2001\nΓΣ ΠΙΝΔΑΡΟΣ\n9’60\n\n\n\n4\nΚΑΡΑΜΟΛΕΓΚΟΣ ΣΤΑΥΡΟΣ\n2002\nΗΦΑΙΣΤΟΣ ΣΑΝΤΟΡΙΝΗΣ\n9’74\n\n\n\n5\nΝΤΙΝΟΥ ΗΛΙΑΣ\n2001\nΗΦΑΙΣΤΟΣ ΣΑΝΤΟΡΙΝΗΣ\n9’78\n\n\n\n6\nΒΑΣΙΛΑΚΟΣ ΜΑΝΟΣ\n2001\nΠΑΝΕΛΛΗΝΙΟΣ\n9’89\n\n\n\n7\nΚΑΤΣΑ ΑΛΕΣΙΟ\n2001\nΑΙΑΝΤΑΣ ΤΗΝΟΥ\n10’00\n\n\n\n \nΞΑΓΟΡΑΡΗΣ ΜΑΝΩΛΗΣ\n2002\nΗΦΑΙΣΤΟΣ ΣΑΝΤΟΡΙΝΗΣ\n10’00\n\n\n\n9\nΜΕΜΜΑΣ ΑΡΗΣ\n2002\nΝΑΞΙΑΚΟΣ\n10’08\n\n\n\n10\nΑΝΑΣΤΑΣΟΠΟΥΛΟΣ ΝΙΚΟΣ\n2002\nΑΟ ΦΙΛΟΘΕΗΣ\n10’12\n\n\n\n11\nΝΙΚΟΛΟΠΟΥΛΟΣ ΓΙΩΡΓΟΣ\n2002\nΑΟ ΠΑΡΟΥ\n10’42\n\n\n\n12\nΣΥΚΑΜΙΝΙΔΗΣ ΒΑΛΕΡΙΟΣ\n2002\nΠΑΝΕΛΛΗΝΙΟΣ\n10’86\n\n\n\n13\nΛΑΤΟ ΚΡΙΣΤΙ\n2001\nΑΙΑΝΤΑΣ ΤΗΝΟΥ\n11’80\n\n\n\n14\nΜΠΟΤΣΗΣ ΚΩΝ/ΝΟΣ\n2001\nΠΙΝΔΑΡΟΣ\nDNF\n\n\n\n \nΣΚΥΤΑΛΟΔΡΟΜΙΑ 4Χ60μ ΠΚ Β’\n \n \n\n\n\nΑ/Α\nΟΝΟΜΑΤΕΠΩΝΥΜΟ\nΕΤΟΣ ΓΕΝΝΗΣΗΣ\nΣΥΛΛΟΓΟΣ\nΕΠΙΔΟΣΗ\n\n\n\n1\nΠΛΑΤΑΡΑ-ΤΣΙΠΟΥΡΝΤΙ-ΦΩΤΟΚΟΠΟΥΛΟΥ-ΤΣΟΥΤΟΥΜΑ\n \nΠΑΝΕΛΛΗΝΙΟΣ\n34’51\n\n\n\n2\nΚΟΥΣΑΘΑΝΑ-ΜΠΛΕΤΣΑ-ΚΟΥΚΑ-ΣΚΑΡΤΣΟΥ\n \nΑΟ ΜΥΚΟΝΟΥ\n35’44\n\n\n\n3\nΔΟΥΔΑΛΗ-ΙΣΡΑΕΛΙΑΝ-ΜΠΟΓΔΑΝΗ-ΣΥΡΓΚΑΝΗ\n \nΓΑΣ ΧΟΛΑΡΓΟΥ\n36’10\n\n\n\n4\nΧΟΥΖΟΥΡΗ-ΒΕΡΝΙΚΟΥ-ΜΑΛΛΗ-ΤΟΥΡΛΑΚΗ\n \nΠΑΝΑΞΙΑΚΟΣ\n36’44\n\n\n\n5\nΣΟΡΩΚΟΥ-ΔΕΛΠΡΑ-ΜΑΘΙΑΣΟΥ-ΝΑΥΠΛΙΩΤΗ\n \nΝΑΞΙΑΚΟΣ\n36’86\n\n\n\n6\nΛΟΝΑ-ΚΟΖΑΝΙΤΗ-ΚΡΗΤΗ-ΖΟΥΜΗ\n \nΑΝΔΡΙΑΚΟΣ\n37’71\n\n\n\n7\nΣΙΤΑΡΑ-ΛΑΣΚΑΡΗ-ΚΑΛΟΓΗΡΟΥ-ΠΛΥΤΤΑ\n \nΑΙΑΝΤΑΣ ΤΗΝΟΥ\n39’39\n\n\n\n8\nΣΙΩΚΟΥ-ΜΠΟΜΠΑΪ-ΘΥΜΗΣ-ΤΑΦΑΪ\n \nΑΟ ΜΥΚΟΝΟΥ\n40’84\n\n\n\n9\nΧΑΛΑΡΗ-ΞΑΓΟΡΑΡΗ-ΝΤΙΝΟΥ-ΔΕΣΠΟΙΝΙΔΗ\n \nΗΦΑΙΣΤΟΣ ΣΑΝΤΟΡΙΝΗΣ\n44’66\n\n\n\n10\nΣΕΛΙΜΑΪ-ΒΛΑΚΑ-ΖΕΛΑ-ΝΙΚΑ\n \nΑΟ ΠΑΡΟΥ\n44’85\n\n\n\n11\nΛΑΡΕΤΖΑΚΗ-ΓΚΟΥΜΑ-ΦΙΛΙΠΠΑ-ΠΑΠΑΪΩΑΝΝΟΥ\n \nΚΥΘΝΟΣ\n47’80\n\n\n\n12\nΤΖΑΝΟΥΛΙΝΟΥ-ΧΑΣΑΝΑΪ-ΠΑΛΑΜΑΡΗ-ΦΩΣΚΟΛΟΥ\n \nΠΟΣΕΙΔΩΝΑΣ ΤΗΝΟΥ\n48’88\n\n\n\n \nΣΚΥΤΑΛΟΔΡΟΜΙΑ 4Χ60μ ΠΠ Β’\n \n \n\n\n\nΑ/Α\nΟΝΟΜΑΤΕΠΩΝΥΜΟ\nΕΤΟΣ ΓΕΝΝΗΣΗΣ\nΣΥΛΛΟΓΟΣ\nΕΠΙΔΟΣΗ\n\n\n\n1\nΜΠΙΛΑΝ-ΜΠΑΦΙΛΗΣ-ΜΙΛΟ-ΟΥΚΕΤΖΕ\n \nΠΑΝΕΛΛΗΝΙΟΣ\n34’01\n\n\n\n2\nΣΑΤΡΑΤΖΕΜΗΣ-ΠΙΤΤΑΡΑΚΗΣ-ΜΠΟΤΣΗ-ΓΚΟΡΝΑΤΗ\n \nΠΑΝΑΞΙΑΚΟΣ\n34’99\n\n\n\n3\nΒΕΝΤΟΥΡΗΣ-ΚΟΚΚΑΛΑΡΗΣ-ΨΑΘΑΚΗΣ-ΨΑΘΑΚΗΣ\n \nΓΑΣ ΧΟΛΑΡΓΟΥ\n35’58\n\n\n\n4\nΚΟΥΣΟΥΝΑΔΗΣ-ΜΑΡΙΚΟΥΙΖΟΣ-ΠΑΛΑΜΑΡΗΣ-ΜΠΟΝΤ\n \nΑΙΑΝΤΑΣ ΤΗΝΟΥ\n36’69\n\n\n\n5\nΚΑΧΡΑΜΑΝΟΣ-ΠΥΡΑΝΙΝΟΣ-ΖΑΓΟΥΡΑΣ-ΒΑΛΣΑΜΙΔΗΣ\n \nΓΑΣ ΧΟΛΑΡΓΟΥ\n40’14\n\n\n\n \nΣΚΥΤΑΛΟΔΡΟΜΙΑ 4Χ50μ ΠΠ ΜΙΝΙ\n \n \n\n\n\nΑ/Α\nΟΝΟΜΑΤΕΠΩΝΥΜΟ\nΕΤΟΣ ΓΕΝΝΗΣΗΣ\nΣΥΛΛΟΓΟΣ\nΕΠΙΔΟΣΗ\n\n\n\n1\nΤΖΟΥΒΑΛΑΣ-ΦΙΝΝΙΣ-ΑΣΗΜΟΜΥΤΗΣ-ΜΠΛΕΤΣΑΣ\n \nΑΟ ΜΥΚΟΝΟΥ\n32’06\n\n\n\n2\nΜΑΝΙΑΤΗΣ-ΠΑΠΑΪΩΑΝΝΟΥ-ΕΛΝΤΕΡΙΝΗ-ΑΝΤΩΝΟΠΟΥΛΟΣ\n \nΠΑΝΕΛΛΗΝΙΟΣ\n32’73\n\n\n\n3\nΣΑΡΡΗΣ-ΠΕΤΡΟΠΟΥΛΟΣ-ΣΚΙΑΔΑΣ-ΤΣΑΝΤΟΥΛΗΣ\n \nΑΟ ΠΑΡΟΥ\n32’98\n\n\n\n4\nΠΑΠΑΝΙΚΟΛΑΟΥ-ΠΡΩΤΟΝΟΤΑΡΙΟΣ-ΔΗΜΗΤΡΟΚΑΛΗΣ-ΓΚΟΡΝΑΤΙ\n \nΠΑΝΑΞΙΑΚΟΣ\n33’45\n\n\n\n5\nΓΙΑΝΝΟΠΟΥΛΟΣ-ΠΑΛΑΜΑΡΗΣ-ΠΑΛΑΜΑΡΗΣ-ΒΙΔΑΛΗΣ\n \nΠΟΣΕΙΔΩΝΑΣ ΤΗΝΟΥ\n34’77\n\n\n\n6\nΑΚΡΙΔΑΣ-ΜΑΡΓΑΡΙΤΗΣ-ΚΟΚΟΡΗΣ-ΖΑΜΠΕΛΗΣ\n \nΑΙΓΙΝΑΣ\n35’81\n\n\n\n7\nΧΑΛΑΡΗΣ-ΠΑΛΑΜΑΡΗΣ-ΣΙΩΤΟΣ-ΠΑΓΑΝΕΛΗΣ\n \nΑΙΑΝΤΑΣ ΤΗΝΟΥ\n36’91\n\n\n\n8\nΚΙΤΣΕΛΗΣ-ΜΑΡΚΟΥ-ΠΡΟΥΝΤΖΟΣ-ΑΛΙΦΕΡΗΣ\n \nΓΑΣ ΧΟΛΑΡΓΟΥ\n37’20\n\n\n\n9\nΟΙΚΟΝΟΜΟΥ-ΑΣΗΜΟΜΥΤΗΣ-ΚΟΤΙΤΣΑΣ-ΠΥΛΑΡΙΝΟΣ\n \nΓΑΣ ΧΟΛΑΡΓΟΥ\n41’15\n\n\n\n \n600μ ΠΠΒ’\n \n \n \n\n\n\nΑ/Α\nΟΝΟΜΑΤΕΠΩΝΥΜΟ\nΕΤΟΣ ΓΕΝΝΗΣΗΣ\nΣΥΛΛΟΓΟΣ\nΕΠΙΔΟΣΗ\n\n\n\n1\nΠΑΝΑΓΟΠΟΥΛΟΣ ΔΗΜΗΤΡΗΣ\n2003\nΠΑΝΕΛΛΗΝΙΟΣ\n1:50.02\n\n\n\n2\nΜΥΤΙΛΗΝΗΣ ΑΛΕΞΙΟΣ\n \nΠΙΝΔΑΡΟΣ\n1:54.32\n\n\n\n3\nΜΑΡΚΟΥΖΟΣ ΓΙΩΡΓΟΣ\n2003\nΑΙΑΝΤΑΣ ΤΗΝΟΥ\n1:56.59\n\n\n\n4\nΤΣΩΡΤΑΝΙΔΗΣ ΣΤΑΥΡΟΣ\n2004\nΑΝΔΡΙΑΚΟΣ\n1:57.58\n\n\n\n5\nΣΑΛΜΠΙΓΚΤΗΣ ΣΑΒΒΑΣ\n2003\nΗΦΑΙΣΤΟΣ ΣΑΝΤΟΡΙΝΗΣ\n2:07.86\n\n\n\n6\nΚΑΦΟΥΡΟΣ ΣΤΕΦΑΝΟΣ\n2004\nΗΦΑΙΣΤΟΣ ΣΑΝΤΟΡΙΝΗΣ\n2:20.95\n\n\n\n \n50μ ΠΚ ΜΙΝΙ\n \n \n \n\n\n\nΑ/Α\nΟΝΟΜΑΤΕΠΩΝΥΜΟ\nΕΤΟΣ ΓΕΝΝΗΣΗΣ\nΣΥΛΛΟΓΟΣ\nΕΠΙΔΟΣΗ\n\n\n\n1\nΚΛΕΦΤΟΓΙΑΝΝΗ ΑΙΚΑΤΕΡΙΝΗ\n \nΠΙΝΔΑΡΟΣ\n7’85\n\n\n\n2\nΚΑΡΚΑΝΕΒΑΤΟΥ ΑΝΤΩΝΙΑ\n2006\nΓΑΣ ΧΟΛΑΡΓΟΥ\n7’87\n\n\n\n3\nΕΛΑΜΠΑΝ ΠΟΠΗ\n2005\nΑΟ ΜΥΚΟΝΟΥ\n7’91\n\n\n\n4\nΜΠΟΥΝΤΟΥΛΗ ΜΑΡΙΕΤΤΑ\n2005\nΠΙΝΔΑΡΟΣ\n8’09\n\n\n\n5\nΚΑΡΟΥΑΝΟΥ ΝΕΦΕΛΗ\n2006\nΗΦΑΙΣΤΟΣ ΣΑΝΤΟΡΙΝΗΣ\n8’28\n\n\n\n6\nΠΑΠΑΔΟΠΟΥΛΟΥ ΕΥΘΑΛΙΑ\n2005\nΑΝΔΡΙΑΚΟΣ\n8’31\n\n\n\n \nΜΗΛΑΙΟΥ ΜΑΡΙΑΝΝΑ\n2006\nΑΝΔΡΙΑΚΟΣ\n8’31\n\n\n\n8\nΛΕΟΝΤΟΠΟΥΛΟΥ ΝΑΝΤΙΑ\n2005\nΑΟ ΦΙΛΟΘΕΗΣ\n8’35\n\n\n\n9\nΝΟΜΙΚΟΥ ΤΖΩΡΤΖΙΝΑ\n2007\nΗΦΑΙΣΤΟΣ ΣΑΝΤΟΡΙΝΗΣ\n8’46\n\n\n\n10\nΒΑΣΙΛΑΚΗ ΧΡΙΣΤΙΝΑ\n2005\nΠΑΝΑΞΙΑΚΟΣ\n8’48\n\n\n\n11\nΨΑΘΑΚΗ ΕΙΡΗΝΗ\n2006\nΓΑΣ ΧΟΛΑΡΓΟΥ\n8’49\n\n\n\n12\nΓΚΟΓΚΟΥ ΚΑΤΕΡΙΝΑ\n2007\nΑΟ ΜΥΚΟΝΟΥ\n8’50\n\n\n\n13\nΣΑΪΠΗ ΑΪΣΑ\n2005\nΑΟ ΠΑΡΟΥ\n8’58\n\n\n\n14\nΤΑΣΟΥΛΑ ΜΑΡΙΑ\n2006\nΑΝΔΡΙΑΚΟΣ\n8’67\n\n\n\n \nΚΟΥΣΙΟΥΡΗ ΕΛΠΙΝΙΚΗ\n \nΓΑΣ ΧΟΛΑΡΓΟΥ\n8’67\n\n\n\n16\nΝΙΚΟΛΑΪΔΗ ΚΑΤΕΡΙΝΑ\n2006\nΠΑΝΑΞΙΑΚΟΣ\n8’68\n\n\n\n17\nΤΖΑΝΟΥΛΙΝΟΥ ΕΛΙΣΑΒΕΤ\n2006\nΑΟ ΠΟΣΕΙΔΩΝΑΣ ΤΗΝΟΥ\n8’71\n\n\n\n18\nΜΠΑΡΙΑΜΠΑ ΑΝΑΣΤΑΣΙΑ\n2005\nΑΟ ΜΥΚΟΝΟΥ\n8’77\n\n\n\n19\nΧΑΝΤΑΪ ΑΛΕΞΑΝΔΡΑ\n2006\nΑΝΔΡΙΑΚΟΣ\n8’79\n\n\n\n20\nΜΑΘΙΑΣΟΥ ΜΥΡΤΩ\n2007\nΝΑΞΙΑΚΟΣ\n8’92\n\n\n\n21\nΒΑΡΛΑΜΗ ΜΑΡΙΑ\n2005\nΑΟ ΜΥΚΟΝΟΥ\n8’93\n\n\n\n22\nΜΠΡΑΚΧΙΜΙ ΖΑΜΠΕΛΑ\n2006\nΑΝΔΡΙΑΚΟΣ\n9’02\n\n\n\n23\nΚΙΤΣΕΛΗ ΚΑΤΕΡΙΝΑ\n \nΓΑΣ ΧΟΛΑΡΓΟΥ\n9’14\n\n\n\n24\nΜΠΟΝ ΜΑΝΤΩ\n2006\nΑΙΑΝΤΑΣ ΤΗΝΟΥ\n9’51\n\n\n\n25\nΒΑΣΙΛΑ ΑΛΙΚΗ\n2007\nΑΙΑΝΤΑΣ ΤΗΝΟΥ\n9’72\n\n\n\n26\nΝΤΑΦΟΥΛΗ ΝΕΦΕΛΗ\n2007\nΑΟ ΜΥΚΟΝΟΥ\n9’74\n\n\n\n27\nΜΑΤΣΑΦΛΑΡΑ ΕΒΕΛΙΝΑ\n2006\nΑΟ ΜΥΚΟΝΟΥ\n10’10\n\n\n\n28\nΞΑΓΟΡΑΡΗ ΛΟΥΚΙΑ\n2007\nΗΦΑΙΣΤΟΣ ΣΑΝΤΟΡΙΝΗΣ\n10’49\n\n\n\n29\nΧΡΙΣΤΑΡΑ ΕΛΕΝΗ\n2007\nΑΟ ΜΥΚΟΝΟΥ\n10’59\n\n\n\n30\nΒΙΔΗ ΚΕΡΚΤΙΑΝΑ\n2007\nΑΟ ΜΥΚΟΝΟΥ\n10’60\n\n\n\n31\nΤΑΚΟΥ ΑΝΤΙΓΟΝΗ\n2007\nΝΑΞΙΑΚΟΣ\n10’75\n\n\n\n32\nΜΠΟΥΖΑΠΑΛΙΔΗ ΔΗΜΗΤΡΑ\n \nΓΑΣ ΧΟΛΑΡΓΟΥ\n11’17\n\n\n\n33\nΜΠΟΥΖΑΠΑΛΙΔΗ ΧΑΡΑ\n \nΓΑΣ ΧΟΛΑΡΓΟΥ\n11’60\n\n\n\n34\nΒΑΣΙΛΟΠΟΥΛΟΥ ΝΙΚΟΛΕΤΑ\n2006\nΓΑΣ ΧΟΛΑΡΓΟΥ\n14’51\n\n\n\n \nΜΠΑΛΑΚΙ ΠΠ ΜΙΝΙ\n \n \n\n\n\nΑ/Α\nΟΝΟΜΑΤΕΠΩΝΥΜΟ\nΕΤΟΣ ΓΕΝΝΗΣΗΣ\nΣΥΛΛΟΓΟΣ\nΕΠΙΔΟΣΗ\n\n\n\n1\nΧΑΛΑΡΗΣ ΛΕΩΝΙΔΑΣ\n2005\nΑΙΑΝΤΑΣ ΤΗΝΟΥ\n38\,97\n\n\n\n2\nΠΑΠΑΝΙΚΟΛΑΟΥ ΠΡΟΜΗΘΕΑΣ\n2005\nΠΑΝΑΞΙΑΚΟΣ\n38\,02\n\n\n\n3\nΒΕΡΝΙΚΟΣ ΗΛΙΑΣ\n2005\nΠΑΝΑΞΙΑΚΟΣ\n30\,37\n\n\n\n4\nΣΑΡΡΗΣ ΓΙΑΝΝΗΣ\n2006\nΑΟ ΠΑΡΟΥ\n30\,05\n\n\n\n5\nΣΑΛΜΑΤΑΝΗΣ ΣΤΕΛΙΟΣ\n \nΑΟ ΠΑΡΟΥ\n29\,35\n\n\n\n6\nΠΙΤΤΑΡΑΣ ΑΝΔΡΕΑΣ\n2006\nΠΑΝΕΛΛΗΝΙΟΣ\n28\,60\n\n\n\n7\nΠΑΛΑΜΑΡΗΣ ΑΛΕΞΑΝΔΡΟΣ\n2005\nΠΟΣΕΙΔΩΝΑΣ ΤΗΝΟΥ\n27\,30\n\n\n\n8\nΦΙΝΝΙΣ ΜΑΪΚ\n2007\nΑΟ ΜΥΚΟΝΟΥ\n26\,52\n\n\n\n9\nΜΠΕΚΡΗΣ ΝΙΚΟΛΑΣ\n \nΠΙΝΔΑΡΟΣ\n25\,02\n\n\n\n10\nΑΝΤΩΝΟΠΟΥΛΟΣ ΑΓΓΕΛΟΣ\n2006\nΠΑΝΕΛΛΗΝΙΟΣ\n24\,02\n\n\n\n11\nΚΩΣΤΑΚΗΣ ΓΙΩΡΓΟΣ\n \nΑΟ ΠΑΡΟΥ\n18\,42\n\n\n\n12\nΣΑΝΤΟΡΙΝΑΙΟΣ ΑΝΑΣΤΑΣΗΣ\n2007\nΑΟ ΜΥΚΟΝΟΥ\n12\,72\n\n\n\n13\nΧΡΙΣΤΑΡΑΣ ΧΡΗΣΤΟΣ\n2007\nΑΟ ΜΥΚΟΝΟΥ\n12\,71\n\n\n\n14\nΖΑΜΠΕΛΗΣ ΓΙΩΡΓΟΣ\n2011\nΑΙΓΙΝΑΣ\n12\,10\n\n\n\n15\nΚΩΣΤΑΚΗΣ ΧΡΗΣΤΟΣ\n \nΑΟ ΠΑΡΟΥ\n11\,74\n\n\n\n16\nΚΟΝΔΥΛΗΣ ΝΑΠΟΛΕΩΝ\n2007\nΑΟ ΜΥΚΟΝΟΥ\n11\,62\n\n\n\n   ΣΦΑΙΡΑ ΠΠΒ’\nΜΗΚΟΣ ΠΚΒ’\n \n \n \n\n\n\nΑ/Α\nΟΝΟΜΑΤΕΠΩΝΥΜΟ\nΕΤΟΣ ΓΕΝΝΗΣΗΣ\nΣΥΛΛΟΓΟΣ\nΕΠΙΔΟΣΗ\n\n\n\n1\nΠΛΑΤΑΡΑ- ΚΑΡΑΜΠΑΤΑΚΗ ΙΩΑΝΝΑ\n2003\nΠΑΝΕΛΛΗΝΙΟΣ\n4\,67\n\n\n\n2\nΚΟΛΥΜΠΙΡΗ ΘΕΟΔΩΡΑ\n \nΠΙΝΔΑΡΟΣ\n4\,53\n\n\n\n3\nΤΣΙΜΠΟΡΝΤΕΪ ΣΟΦΙΑ\n2003\nΠΑΝΕΛΛΗΝΙΟΣ\n4\,17\n\n\n\n4\nΝΑΥΠΛΙΩΤΗ ΚΑΛΛΙΟΠΗ\n2004\nΝΑΞΙΑΚΟΣ\n4\,02\n\n\n\n5\nΔΗΜΗΤΡΟΠΟΥΛΟΥ ΔΑΦΝΗ\n2003\nΠΑΝΕΛΛΗΝΙΟΣ\n3\,87\n\n\n\n6\nΣΕΛΙΜΑΪ ΗΡΑ\n2004\nΑΟ ΠΑΡΟΥ\n3\,85\n\n\n\n7\nΤΑΦΑΪ ΡΑΦΑΕΛΑ\n2004\nΑΟ ΜΥΚΟΝΟΥ\n3\,79\n\n\n\n8\nΚΟΥΦΟΠΟΥΛΟΥ ΑΡΙΑΔΝΗ\n2003\nΠΑΝΑΞΙΑΚΟΣ\n3\,61\n\n\n\n9\nΜΠΙΒΟΛ ΚΩΝ/ΝΑ\n2004\nΠΑΝΕΛΛΗΝΙΟΣ\n3\,59\n\n\n\n10\nΤΖΕΛΑ ΧΡΙΣΤΙΝΑ\n2004\nΠΟΣΕΙΔΩΝΑΣ ΤΗΝΟΥ\n3\,58\n\n\n\n \nΜΟΣΤΡΑΤΟΥ ΣΤΕΛΛΑ\n2004\nΑΟ ΠΑΡΟΥ\n3\,58\n\n\n\n12\nΜΑΘΙΟΥΔΑΚΗ ΚΑΤΕΡΙΝΑ\n2003\nΠΑΜΜΗΛΙΑΚΟΣ\n3\,51\n\n\n\n \nΜΑΘΙΑΣΟΥ ΧΡΙΣΤΙΝΑ\n2004\nΝΑΞΙΑΚΟΣ\n3\,51\n\n\n\n14\nΚΥΡΙΑΚΟΠΟΥΛΟΥ ΕΙΡΗΝΗ\n2004\nΑΟ ΦΙΛΟΘΕΗΣ\n3\,49\n\n\n\n15\nΒΙΓΛΙΑΡΗ ΑΡΕΤΗ\n2004\nΑΟ ΜΥΚΟΝΟΥ\n3\,48\n\n\n\n16\nΚΑΛΗΜΕΡΗ ΧΡΥΣΑ\n2004\nΠΑΝΑΞΙΑΚΟΣ\n3\,34\n\n\n\n \nΣΦΑΙΡΟΒΟΛΙΑ ΠΚΒ’\n \n \n\n\n\nΑ/Α\nΟΝΟΜΑΤΕΠΩΝΥΜΟ\nΕΤΟΣ ΓΕΝΝΗΣΗΣ\nΣΥΛΛΟΓΟΣ\nΕΠΙΔΟΣΗ\n\n\n\n1\nΒΙΔΗ ΓΑΒΡΙΕΛΑ\n2003\nΑΟ ΜΥΚΟΝΟΥ\n7\,98\n\n\n\n2\nΧΑΛΑΡΗ ΑΝΑΣΤΑΣΙΑ\n2003\nΗΦΑΙΣΤΟΣ ΣΑΝΤΟΡΙΝΗΣ\n7\,89\n\n\n\n3\nΖΕΛΑ ΜΙΛΕΝΑ\n2003\nΑΟ ΠΑΡΟΥ\n7\,75\n\n\n\n4\nΚΟΖΑΝΙΤΗ ΚΩΝ/ΝΑ\n2004\nΑΝΔΡΙΑΚΟΣ\n7\,32\n\n\n\n5\nΠΑΛΑΜΑΡΗ ΜΑΡΙΑ\n2004\nΑΟ ΠΟΣΕΙΔΩΝΑΣ ΤΗΝΟΥ\n6\,86\n\n\n\n6\nΒΛΑΚΑ ΟΥΡΑΝΙΑ\n2003\nΑΟ ΠΑΡΟΥ\n6\,83\n\n\n\n7\nΜΑΡΑΚΗ ΜΑΡΓΑΡΙΤΑ\n2003\nΝΑΞΙΑΚΟΣ\n6\,66\n\n\n\n8\nΠΑΠΑΪΩΑΝΝΟΥ ΜΑΡΙΑ\n \nΚΥΘΝΟΣ\n6\,26\n\n\n\n9\nΜΕΡΜΥΓΚΑ ΑΙΚΑΤΕΡΙΝΗ\n2004\nΑΟ ΠΕΥΚΗΣ\n6\,23\n\n\n\n10\nΙΩΑΝΝΟΥ ΜΑΡΙΑ \n2004\nΠΙΝΔΑΡΟΣ\n5\,96\n\n\n\n11\nΚΑΡΑΜΠΕΤΙΑΝ ΕΥΑΓΓΕΛΙΑ\n \nΠΙΝΔΑΡΟΣ\n5\,90\n\n\n\n12\nΠΑΝΑΝΑΚΗ ΔΕΣΠΟΙΝΑ\n2004\nΠΙΝΔΑΡΟΣ\n5\,75\n\n\n\n13\nΣΟΥΛΑ ΑΓΓΕΛΙΚΗ\n2003\nΑΟ ΜΥΚΟΝΟΥ\n5\,74\n\n\n\n14\nΦΙΛΙΠΠΑ ΑΝΝΑ\n \nΚΥΘΝΟΣ\n5\,26\n\n\n\n15\nΡΟΥΓΓΕΡΗ ΑΓΝΗ\n2003\nΑΟ ΠΟΣΕΙΔΩΝΑΣ ΤΗΝΟΥ\n4\,86\n\n\n\n16\nΒΛΑΣΟΠΟΥΛΟΥ ΦΛΩΡΑ\n2004\nΑΟ ΜΥΚΟΝΟΥ\n4\,53\n\n\n\n17\nΛΟΥΚΗ ΜΑΡΙΑ\n \nΑΟ ΠΑΡΟΥ\n4\,21\n\n\n\n \nΣΦΑΙΡΟΒΟΛΙΑ ΑΝΔΡΩΝ\n \n \n\n\n\nΑ/Α\nΟΝΟΜΑΤΕΠΩΝΥΜΟ\nΕΤΟΣ ΓΕΝΝΗΣΗΣ\nΣΥΛΛΟΓΟΣ\nΕΠΙΔΟΣΗ\n\n\n\n1\nΣΤΑΜΑΤΟΓΙΑΝΝΗΣ ΜΙΧΑΛΗΣ\n \nΠΙΝΔΑΡΟΣ\n77\,09\n\n\n\n2\nΑΚΤΥΠΗΣ ΠΑΝΑΓΙΩΤΗΣ\n \nΠΑΝΑΞΙΑΚΟΣ\n66\,98\n\n\n\n3\nΜΠΟΥΖΙΑΝΗΣ ΠΑΝΑΓΙΩΤΗΣ\n \nΛΥΚΑΙΑ ΑΡΚΑΔΙΑΣ\n65\,26\n\n\n\n4\nΠΟΤΟΥΡΙΔΗΣ ΝΙΚΟΣ\n \nΠΑΝΕΛΛΗΝΙΟΣ\n63\,37\n\n\n\n5\nΑΝΤΩΝΙΟΥ ΓΕΩΡΓΙΟΣ\n \nΠΑΝΕΛΛΗΝΙΟΣ\n53\,72
URL:https://gorun.gr/race/%ce%b4%ce%ae%ce%bb%ce%b5%ce%b9%ce%b1-2016/
CATEGORIES:Αποτελέσματα,Δρόμος
END:VEVENT
END:VCALENDAR