BEGIN:VCALENDAR
VERSION:2.0
PRODID:-//goRUN - ECPv5.8.1//NONSGML v1.0//EN
CALSCALE:GREGORIAN
METHOD:PUBLISH
X-WR-CALNAME:goRUN
X-ORIGINAL-URL:https://gorun.gr
X-WR-CALDESC:Events for goRUN
BEGIN:VTIMEZONE
TZID:Europe/Athens
BEGIN:DAYLIGHT
TZOFFSETFROM:+0200
TZOFFSETTO:+0300
TZNAME:EEST
DTSTART:20160327T010000
END:DAYLIGHT
BEGIN:STANDARD
TZOFFSETFROM:+0300
TZOFFSETTO:+0200
TZNAME:EET
DTSTART:20161030T010000
END:STANDARD
END:VTIMEZONE
BEGIN:VEVENT
DTSTART;TZID=Europe/Athens:20160908T080000
DTEND;TZID=Europe/Athens:20160908T170000
DTSTAMP:20260425T213157
CREATED:20160908T095519Z
LAST-MODIFIED:20160910T111133Z
UID:10307-1473321600-1473354000@gorun.gr
SUMMARY:Εθνικοί Αγώνες Εργασιακού Αθλητισμού 2016
DESCRIPTION:ΕΘΝΙΚΟΙ ΑΓΩΝΕΣ ΕΡΓΑΣΙΑΚΟΥ ΑΘΛΗΤΙΣΜΟΥ 2016» \nΗ ΜΕΓΑΛΥΤΕΡΗ ΕΤΗΣΙΑ ΣΥΝΑΝΤΗΣΗ ΕΡΓΑΣΙΑΚΟΥ ΑΘΛΗΤΙΣΜΟΥ ΣΤΗΝ ΕΛΛΑΔΑ \nΣΤΑΔΙΟ ΕΙΡΗΝΗΣ & ΦΙΛΙΑΣ\, 7-9 ΟΚTΩΒΡΙΟΥ 2016 \nΟι Εθνικοί Αγώνες Εργασιακού Αθλητισμού είναι η μεγαλύτερη ετήσια αθλητική συνάντηση για εργαζόμενους από εταιρείες και οργανισμούς στη χώρα μας. Πρόκειται για μια πραγματική γιορτή του αθλητισμού που έχει γίνει θεσμός καθώς μετρά ήδη 4 επιτυχημένες διοργανώσεις με περισσότερους από 2.500 αθλητές από την Ελλάδα αλλά και το εξωτερικό. \nΤο 2016 οι αγώνες θα διεξαχθούν από 7 έως και 9 Οκτωβρίου και θα περιλαμβάνουν τέσσερα ομαδικά αθλήματα και επτά ατομικά\, σε 5 διαφορετικές εγκαταστάσεις με έδρα το «Στάδιο Ειρήνης και Φιλίας». Για 5η συνεχόμενη χρονιά εργαζόμενοι από ιδιωτικές εταιρείες\, δημόσιους οργανισμούς και φορείς αλλά και ελεύθεροι επαγγελματίες θα συμμετάσχουν στην μεγαλύτερη γιορτή εργασιακού αθλητισμού. \nΔιοργανωτής των Εθνικών Αγώνων Εργασιακού Αθλητισμού είναι ο Ελληνικός Οργανισμός Εργασιακής Άθλησης και Υγείας (Hellenic Organization for Company Sport & Health – HOCSH)\, ένας μη κερδοσκοπικός φορέας με σκοπό τη βελτίωση της υγείας των εργαζομένων\, μέσα από αθλητικές\, ψυχαγωγικές και επιμορφωτικές ενέργειες στο πλαίσιο του εργασιακού περιβάλλοντος. Είναι αναγνωρισμένο  μέλος της Ευρωπαϊκής Ομοσπονδίας Εργασιακού Αθλητισμού (EFCS) καθώς και της Παγκόσμιας Ομοσπονδίας Εργασιακού Αθλητισμού (WFCS) και δραστηριοποιείται υπό την αιγίδα τους κατ’ αποκλειστικότητα στην Ελλάδα. Ο Οργανισμός πραγματοποιεί δράσεις που προάγουν ενεργά την αθλητική δραστηριοποίηση και την φυσική άσκηση με τη συμμετοχή εργαζομένων από επιχειρήσεις στην Ελλάδα και το εξωτερικό. \nΣυνδιοργανωτής των Εθνικών Αγώνων Εργασιακού Αθλητισμού 2016 είναι ο Οργανισμός Πολιτισμού\, Αθλητισμού\, Νεολαίας του Δήμου Αθηναίων (ΟΠΑΝΔΑ) που για 2η συνεχόμενη χρονιά υποστηρίζει ενεργά τη διοργάνωση\, καθώς κοινή πεποίθηση των δύο οργανισμών είναι πως γεγονότα εργασιακού αθλητισμού μπορούν να συμβάλουν στην ενδυνάμωση του ηθικού των εργαζομένων σε σχέση με το εργασιακό τους περιβάλλον και στην γενικότερη ανέλιξη της ψυχικής και σωματικής τους υγείας\, ιδιαίτερα στους απαιτητικούς ρυθμούς της πρωτεύουσας. \nΟι Εθνικοί Αγώνες Εργασιακού Αθλητισμού 2016 τελούν υπό την αιγίδα της Περιφέρειας Αττικής\, της Εταιρείας Ανάπτυξης και Τουριστικής Προβολής του Δήμου Αθηναίων καθώς και του ΕΒΕΑ. Φορέας Υλοποίησης των αγώνων είναι το Sportcamp\, το προπονητικό κέντρο με την πολυετή εμπειρία στην διοργάνωση απαιτητικών αθλητικών διοργανώσεων. Χορηγός επικοινωνίας των αγώνων είναι το τηλεοπτικό κανάλι STAR και ο ραδιοφωνικός σταθμός ΔΙΕΣΗ. \nΕνδεικτικές συμμετοχές από εταιρείες και οργανισμούς στους αγώνες: \nΑΒ Βασιλόπουλος\, Όμιλος Φουρλή\,  ΕΛΠΕ\, BSH Οικιακές Συσκευές\, Παπαστράτος\, Mednet \nΟι εγγραφές συνεχίζονται έως 20/09. \nΓια περισσότερες πληροφορίες: \nτηλ. 210 7232909\nhttp://www.hocsh.org   http://www.facebook.com/HOCSH
URL:https://gorun.gr/race/%ce%b5%ce%b8%ce%bd%ce%b9%ce%ba%ce%bf%ce%af-%ce%b1%ce%b3%cf%8e%ce%bd%ce%b5%cf%82-%ce%b5%cf%81%ce%b3%ce%b1%cf%83%ce%b9%ce%b1%ce%ba%ce%bf%cf%8d-%ce%b1%ce%b8%ce%bb%ce%b7%cf%84%ce%b9%cf%83%ce%bc%ce%bf/
CATEGORIES:Δρόμος
END:VEVENT
END:VCALENDAR