BEGIN:VCALENDAR
VERSION:2.0
PRODID:-//goRUN - ECPv5.8.1//NONSGML v1.0//EN
CALSCALE:GREGORIAN
METHOD:PUBLISH
X-WR-CALNAME:goRUN
X-ORIGINAL-URL:https://gorun.gr
X-WR-CALDESC:Events for goRUN
BEGIN:VTIMEZONE
TZID:Europe/Athens
BEGIN:DAYLIGHT
TZOFFSETFROM:+0200
TZOFFSETTO:+0300
TZNAME:EEST
DTSTART:20160327T010000
END:DAYLIGHT
BEGIN:STANDARD
TZOFFSETFROM:+0300
TZOFFSETTO:+0200
TZNAME:EET
DTSTART:20161030T010000
END:STANDARD
END:VTIMEZONE
BEGIN:VEVENT
DTSTART;VALUE=DATE:20160710
DTEND;VALUE=DATE:20160711
DTSTAMP:20260421T083428
CREATED:20160610T100843Z
LAST-MODIFIED:20160710T063918Z
UID:8039-1468108800-1468195199@gorun.gr
SUMMARY:ΠΕΜΠΤΟΣ ΑΓΩΝΑΣ ΔΡΟΜΟΥ  ΦΩΚΑΤΩΝ
DESCRIPTION:Ο Α.Ο. Φωκάτων με την  Π.Ε Κεφαλληνίας  τον  Σύλλογο Δρομέων Κεφαλληνιας και  την  ΚΕ.ΔΗ.ΚΕ. συνδιοργανώνει τον πέμπτο αγώνα δρόμου στα Φωκάτα την ΚΥΡΙΑΚΉ   10 ΙΟΥΛΙΟΥ  2016 και ώρα 19.30.\nΜε στόχο εφικτό και ψυχαγωγικό\, με προσφορά στην υγεία μας\, σωματική και ψυχική\, ας τρέξουμε ή ας περπατήσουμε για να συμμετέχουμε και να τερματίσουμε στον Αγώνα Δρόμου Φωκάτα 2016 \n\nΑΓΩΝΑΣ ΧΕΙΡΟΠΑΛΗΣ\n.\nΕπίσης για πρώτη φορα θα πραγματοποιηθει και  αγώνας χειροπάλης όπου θα υπαρξουν ανακοινώσεις για τον αγώνα αυτόν.\n  \nΗ ΔΙΑΔΡΟΜΗΗ διαδρομή είναι στην πλειοψηφία της ευθεία με μερικές ανηφόρες και με ωραία εναλλαγή τοπίου.\nΑφετηρία και τερματισμός είναι η εκκλησία του Αγ. Ιωάννη στα Φωκάτα. Πιο συγκεκριμένα\, απο το προαύλιο του Αγ. Ιωάννη Φωκάτων δεξιά ακολουθούμε κατηφορικό δρόμο 150μ. Στρίβουμε δεξιά όπου διανύοντας μια απόσταση 250μ άσφαλτο και 800μ χωματόδρομο (ομαλή διαδρομή) φθάνουμε στο τέλος του χωματόδρομου. Στρίβοντας δεξιά στην άσφαλτο (ενετική οδός) και μετά από 200μ. περίπου στρίβουμε πάλι δεξιά ανηφορίζοντας για τον κεντρικό δρόμο Λακύθρας\, τον οποίο διασχίζουμε έως την πλατεία\, όπου στρίβοντας δεξιά\, κατηφορίζουμε φθάνοντας στα Φωκάτα όπου τα τελευταία 150μ. είναι ανηφορικά για τον τερματισμό στον προαύλιο χώρο του Αγ. Ιωάννη. \nΣε όλη τη διαδρομή θα προσφέρονται νερά και μετά το πέρας του αγώνα θα μπορείτε να ανακτήσετε την χαμένη ενέργεια με γλυκά – χυμούς σε ειδικό μπουφέ. \nΟΙ ΚΑΤΗΓΟΡΙΕΣ \nΔιαδρομή 50μ.\nγια τους λιλιπούτιους αθλητές\nΑΓΟΡΙΑ ΕΩΣ 6 ΕΤΩΝ \n\n\nΚΟΡΙΤΣΙΑ ΕΩΣ 6 ΕΤΩΝ \nΔιαδρομή 550μ.\nΕδώ τα παιδιά θα έχουν την ευκαιρία να διαγωνιστούν σε μια διαδρομή 550 μέτρων για την χαρά της συμμετοχής.\n– ΑΓΟΡΙΑ 7- 10 ΕΤΩΝ\, – ΚΟΡΙΤΣΙΑ 7 – 10 ΕΤΩΝ\n– ΑΓΟΡΙΑ 11-12 ΕΤΩΝ\, – ΚΟΡΙΤΣΙΑ 11-12 ΕΤΩΝ \nΔιαδρομή 5 km περίπου (5.250 km ακριβώς) \n\n– 13-18 ΕΤΩΝ ΚΟΡΙΤΣΙΑ\, – 13-18 ΕΤΩΝ ΑΓΟΡΙΑ\n– 19- 30 ΕΤΩΝ ΑΝΤΡΕΣ\, – 19-30 ΕΤΩΝ ΓΥΝΑΙΚΕΣ\n– 31-40 ΕΤΩΝ ΓΥΝΑΙΚΕΣ\, – 31-40 ΕΤΩΝ ΑΝΔΡΕΣ\n– 41-50 ΕΤΩΝ ΓΥΝΑΙΚΕΣ\, – 41-50 ΕΤΩΝ ΑΝΔΡΕΣ\n– 51 + ΓΥΝΑΙΚΕΣ\, – 51+ ΑΝΔΡΕΣΔιαδικασία συμμετοχής\nΌλοι όσοι επιθυμούν να συμμετέχουν μικροί-μεγάλοι παρακαλούνται να βρίσκονται στον στην εκκλησία Αγ. Ιωάννη στις 18.00 το απόγευμα την Κυριακή  10 Ιουλίου 2016 για την εγγραφή τους.\nΑπαραιτήτα να φέρουν μαζί αστυνομική ταυτότητα\, ενώ οι ανήλικοι να συνοδεύονται από κάποιον κηδεμόνα.\nΥπογράφουμε άπαντες στην γραμματεία δήλωση ότι η ευθύνη για ενδεχόμενα θέματα υγείας που τυχόν προκύψουν βαρύνει τους συμμετέχοντες και όχι τους διοργανωτές.\nΓια τα παιδιά έως 18 ετών υπογράφει ο κηδεμόνας.Δηλώνουμε ηλικία και λαμβάνουμε αριθμό. \nΓια τα αυτοκίνητα υπάρχει αρκετός χώρος για parking. \nΒραβεύσεις \nΚύπελλα θα πάρουν οι   πρώτοι νικητές για κάθε κατηγορία\, και μετάλλια οι δευτεροι και τρίτοι\, ενώ όλοι οι συμμετέχοντες θα λάβουν αναμνηστικό δίπλωμα. \nMην ξεχνάτε  ΚΥΡΙΑΚΗ 10 ΙΟΥΛΙΟΥ 2016 \, 6 ΩΡΑ    το απόγευμα για εγγραφή   όλοι στην εκκλησία του Αγ.Ιωάννη στα Φωκάτα για να ξεκινήσει ο αγώνας μετά από μία ώρα. \n\n 
URL:https://gorun.gr/race/%cf%80%ce%b5%ce%bc%cf%80%cf%84%ce%bf%cf%83-%ce%b1%ce%b3%cf%89%ce%bd%ce%b1%cf%83-%ce%b4%cf%81%ce%bf%ce%bc%ce%bf%cf%85-%cf%86%cf%89%ce%ba%ce%b1%cf%84%cf%89%ce%bd-%ce%ba%cf%85%cf%81%ce%b9%ce%b1%ce%ba/
CATEGORIES:Δρόμος
END:VEVENT
END:VCALENDAR