BEGIN:VCALENDAR
VERSION:2.0
PRODID:-//goRUN - ECPv5.8.1//NONSGML v1.0//EN
CALSCALE:GREGORIAN
METHOD:PUBLISH
X-WR-CALNAME:goRUN
X-ORIGINAL-URL:https://gorun.gr
X-WR-CALDESC:Events for goRUN
BEGIN:VTIMEZONE
TZID:Europe/Athens
BEGIN:DAYLIGHT
TZOFFSETFROM:+0200
TZOFFSETTO:+0300
TZNAME:EEST
DTSTART:20160327T010000
END:DAYLIGHT
BEGIN:STANDARD
TZOFFSETFROM:+0300
TZOFFSETTO:+0200
TZNAME:EET
DTSTART:20161030T010000
END:STANDARD
END:VTIMEZONE
BEGIN:VEVENT
DTSTART;VALUE=DATE:20161009
DTEND;VALUE=DATE:20161010
DTSTAMP:20260421T110500
CREATED:20160511T112601Z
LAST-MODIFIED:20161009T172934Z
UID:6927-1475971200-1476057599@gorun.gr
SUMMARY:Τρέχω για την ΦΛΟΓΑ 2016\, Βόλος
DESCRIPTION:Τη Κυριακή 9 Οκτωβρίου και ώρα 11:00 έχει προγραμματισθεί να πραγματοποιηθεί\, για 4η συνεχόμενη χρονιά\, μια ξεχωριστή δρομική βόλτα στην παραλία του Βόλου\, με σύνθημα «τρέχουμε για τη ΦΛΟΓΑ». \nΕίναι ένα ξεχωριστό τρέξιμο που αφορά όλους «γιατί…. Η αγάπη μας είναι δύναμη για τον αγώνα παιδιών με καρκίνο». \nΗ Διεύθυνση Αθλητισμού του ΔΟΕΠΑΠ – ΔΗΠΕΘΕ Δήμου Βόλου\,ο Σύλλογος Γονέων Παιδιών με Καρκίνο «ΦΛΟΓΑ» και ο Σύλλογος Δρομέων Υγείας Βόλου\, καλούν όλους σε αυτή τη ξεχωριστή δρομική εμπειρία. \nΣτην εκδήλωση θα συμμετέχουν μέλη της Λέσχης Ειδικών Δυνάμεων\, προσφέροντας εθελοντικά τη βοήθεια τους . \nΟ αγώνας θα έχει συμβολικό αντίτιμο όπως έχει ορισθεί από τον σύλλογο Γονέων Παιδιών με Καρκίνο «ΦΛΟΓΑ». \nΌπως αναφέρεται σε ανακοίνωση του ΔΟΕΠΑΠ-ΔΗΠΕΘΕ «καλούμαστε σε μία μικρή διαδρομή περίπου των 2 χιλ. να τρέξουμε όλοι\, ανεξαιρέτως με το ρυθμό μας\, ακόμη και να περπατήσουμε\, παιδιά\, γονείς \, αθλητές\, άνθρωποι τρίτης ηλικίας\, όλοι μαζί μια παρέα\, για να διαδηλώσουμε τη χαρά μας για ζωή και για υποστήριξη του ενός στον άλλο». \nΔηλώσεις συμμετοχής και μπλουζάκια στα γραφεία της “ΦΛΟΓΑΣ” στο Βόλο\, Χαρισιάδου 3 (πρώην ΠΙΚΠΑ)\, τηλ. 24210-24628 και στο ΔΙΑΥΛΟ (Τοπάλη-Δημητριάδος) \nΔηλώσεις συμμετοχής και αριθμούς στην ADIDAS\, Δημητριάδος 152\, τηλ. 24210-33733.
URL:https://gorun.gr/race/%cf%84%cf%81%ce%ad%cf%87%cf%89-%ce%b3%ce%b9%ce%b1-%cf%84%ce%b7%ce%bd-%cf%86%ce%bb%ce%bf%ce%b3%ce%b1-2016-%ce%b2%cf%8c%ce%bb%ce%bf%cf%82/
CATEGORIES:Δρόμος
END:VEVENT
END:VCALENDAR