BEGIN:VCALENDAR
VERSION:2.0
PRODID:-//goRUN - ECPv5.8.1//NONSGML v1.0//EN
CALSCALE:GREGORIAN
METHOD:PUBLISH
X-WR-CALNAME:goRUN
X-ORIGINAL-URL:https://gorun.gr
X-WR-CALDESC:Events for goRUN
BEGIN:VTIMEZONE
TZID:Europe/Athens
BEGIN:DAYLIGHT
TZOFFSETFROM:+0200
TZOFFSETTO:+0300
TZNAME:EEST
DTSTART:20160327T010000
END:DAYLIGHT
BEGIN:STANDARD
TZOFFSETFROM:+0300
TZOFFSETTO:+0200
TZNAME:EET
DTSTART:20161030T010000
END:STANDARD
END:VTIMEZONE
BEGIN:VEVENT
DTSTART;VALUE=DATE:20160827
DTEND;VALUE=DATE:20160828
DTSTAMP:20260424T183025
CREATED:20160603T095702Z
LAST-MODIFIED:20160831T090350Z
UID:7788-1472256000-1472342399@gorun.gr
SUMMARY:Τρέχω στον Κορινό 2016
DESCRIPTION:ΑΠΟΤΕΛΕΣΜΑΤΑ ΑΝΔΡΩΝ\nA/A ΕΠΩΝΥΜΟ ΟΝΟΜΑ ΣΥΛΛΟΓΟΣ ΧΡΟΝΟΣ\n1 ΚΑΡΑΖΗΣΗΣ ΧΡΗΣΤΟΣ ΣΥΛ. ΜΑΡΑΘ.”ΛΑΡΙΣΑΣ” 37′:5”\n2 ΓΡΑΜΜΕΝΟΣ ΚΩΝ/ΝΟΣ ΑΝΕΞΑΡΤΗΤΟΣ 38′:5”\n3 ΜΠΛΕΤΣΙΟΣ ΓΕΩΡΓΙΟΣ ΣΥΛ. ΜΑΡΑΘ.”ΛΑΡΙΣΑΣ” 39′:00”\n4 ΤΟΝΓΙΑΛΙΔΗΣ ΗΛΙΑΣ ΖΕΥΣ 39′:05”\n5 ΤΖΗΚΑΣ ΑΝΑΣΤΑΣΙΟΣ ΑΝΕΞΑΡΤΗΤΟΣ 41′:3”\n6 ΣΚΟΡΔΑΣ ΑΘΑΝΑΣΙΟΣ ΣΔΥ ΚΟΖΑΝΗΣ 42′:00”\n7 ΣΗΜΑΝΤΗΡΑΣ ΙΩΑΝΝΗΣ ΑΝΕΞΑΡΤΗΤΟΣ 42′:3”\n8 ΜΑΓΑΛΙΟΣ ΚΩΝ/ΝΟΣ ΣΔΥ ΒΟΛΟΥ 43′:4”\n9 ΝΑΠΑΣ ΙΩΑΝΝΗΣ ΣΔΥ ΒΟΛΟΥ 43′:4”\n10 ΓΚΙΝΟΣ ΓΕΩΡΓΙΟΣ ΖΕΥΣ 43′:5”\n11 ΓΡΑΜΜΕΝΟΣ ΔΗΜΗΤΡΙΟΣ ΑΝΕΞΑΡΤΗΤΟΣ 44′:2”\n12 ΚΑΤΣΙΜΕΡΟΣ ΤΙΜΟΛΕΩΝ ΚΙΛΚΙΣ 44′:2”\n13 ΤΣΙΑΤΣΙΟΣ ΧΡΗΣΤΟΣ ΣΕΒΑΣ 44′:3”\n14 ΠΟΙΜΕΝΙΔΗΣ ΔΗΜΗΤΡΙΟΣ ΖΕΥΣ 44′:4”\n15 ΤΟΝΓΙΑΛΙΔΗΣ ΧΡΗΣΤΟΣ ΖΕΥΣ 44′:5”\n16 ΠΑΠΑΔΟΠΟΥΛΟΣ ΔΗΜΟΣΘΕΝΗΣ ΑΝΕΞΑΡΤΗΤΟΣ 45′:2”\n17 ΚΥΡΙΑΚΟΣ ΑΣΤΕΡΙΟΣ ΖΕΥΣ 45′:4”\n18 ΚΟΥΝΤΟΥΡΗΣ ΔΗΜΗΤΡΙΟΣ ΑΝΕΞΑΡΤΗΤΟΣ 45′:5”\n19 ΓΡΗΓΟΡΙΑΔΗΣ ΔΗΜΗΤΡΙΟΣ ΖΕΥΣ 46′:2”\n20 ΖΑΠΟΥΝΙΔΗΣ ΛΑΖΑΡΟΣ ΑΝΕΞΑΡΤΗΤΟΣ 47′:1”\n21 ΔΕΛΙΟΣ ΑΘΑΝΑΣΙΟΣ ΣΔΥ ΘΕΣ/ΝΙΚΗΣ 47′:3”\n22 ΠΑΠΑΔΟΠΟΥΛΟΣ ΚΩΝ/ΝΟΣ ΤΡΑΠΕΖΟΥΝΤΑ 48′:1”\n23 ΤΣΑΚΙΛΤΖΙΔΗΣ ΚΥΡΙΑΚΟΣ ΣΔΥ ΚΟΖΑΝΗΣ 48′:3”\n24 ΠΑΠΠΑΣ ΧΡΗΣΤΟΣ ΣΕΒΑΣ 48′:5”\n25 ΝΑΤΣΙΟΣ ΝΙΚΟΛΑΟΣ ΖΕΥΣ 48′:5”\n26 Χ”ΒΑΣΙΛΕΙΟΥ ΠΑΝΑΓΙΩΤΗΣ ΚΑΤΕΡΙΝΗ 48′:6”\n27 ΕΜΜΑΝΟΥΗΛΙΔΗΣ ΑΝΤΩΝΙΟΣ ΑΝΕΞΑΡΤΗΤΟΣ 49′:6”\n28 ΤΣΟΚΟΣ ΙΩΑΝΝΗΣ ΑΝΕΞΑΡΤΗΤΟΣ 50′:2”\n29 ΜΠΟΡΑΝΤΑΣ ΓΕΩΡΓΙΟΣ ΣΥΛ. ΜΑΡΑΘ.”ΛΑΡΙΣΑΣ” 50′:3”\n30 ΤΖΗΚΑΣ ΙΩΑΝΝΗΣ ΠΕΙΡΑΙΑΣ 50′:4”\n31 ΣΑΒΒΑΪΔΗΣ ΧΑΡΑΛΑΜΠΟΣ ΑΝΕΞΑΡΤΗΤΟΣ 50′:5”\n32 ΓΕΩΡΓΑΝΤΣΑΣ ΑΛΕΞΑΝΔΡΟΣ ΖΕΥΣ 50′:6”\n33 ΣΥΜΕΩΝΙΔΗΣ ΝΙΚΟΛΑΟΣ ΖΕΥΣ 50′:6”\n34 ΠΑΛΑΜΑΣ ΑΝΑΣΤΑΣΙΟΣ ΑΝΕΞΑΡΤΗΤΟΣ 51′:00”\n35 ΔΕΡΜΙΣΗΣ ΒΑΣΙΛΕΙΟΣ ΖΕΥΣ 51′:00”\n36 ΚΟΥΤΡΟΥΠΗΣ ΝΙΚΟΛΑΟΣ ΑΝΕΞΑΡΤΗΤΟΣ 51′:1”\n37 ΖΙΑΚΑΣ ΦΩΤΙΟΣ ΣΔΥ ΛΑΓΚΑΔΑ 51′:2”\n38 ΜΠΕΚΟΣ ΒΑΣΙΛΕΙΟΣ ΣΔΥ ΤΡΙΚΑΛΩΝ 51′:2”\n39 ΚΟΥΝΤΟΥΡΗΣ ΔΗΜΗΤΡΙΟΣ ΑΝΕΞΑΡΤΗΤΟΣ 51′:2”\n40 ΓΡΑΜΜΕΝΟΣ ΑΝΤΩΝΙΟΣ ΣΔΥ ΛΑΓΚΑΔΑ 51′:3”\n41 ΤΡΙΑΝΤΑΦΥΛΛΟΥ ΑΝΤΩΝΙΟΣ ΑΝΕΞΑΡΤΗΤΟΣ 51′:4”\n42 ΣΙΑΜΑΓΚΑΣ ΓΕΩΡΓΙΟΣ ΑΝΕΞΑΡΤΗΤΟΣ 51′:4”\n43 ΤΣΙΡΙΠΙΔΗΣ ΠΑΝΤΕΛΗΣ ΖΕΥΣ 52′:3”\n44 ΜΑΛΛΑΣ ΑΝΤΩΝΙΟΣ ΛΕΠΤΟΚΑΡΥΑ 52′:3”\n45 ΜΠΑΝΤΗΣ ΝΙΚΟΛΑΟΣ ΛΕΠΤΟΚΑΡΥΑ 52′:4”\n46 ΚΑΝΛΗΣ ΚΩΝ/ΝΟΣ ΣΔΥ ΘΕΣ/ΝΙΚΗΣ 52′:5”\n47 ΑΝΑΓΝΩΣΤΟΠΟΥΛΟΣ ΑΠΟΣΤΟΛΟΣ ΑΝΕΞΑΡΤΗΤΟΣ 52′:6”\n48 ΠΑΠΑΠΕΤΡΟΥ ΧΡΗΣΤΟΣ ΑΝΕΞΑΡΤΗΤΟΣ 53′:00”\n49 ΚΑΛΟΓΙΑΝΝΗΣ ΔΗΜΗΤΡΙΟΣ ΚΙΛΚΙΣ 53′:1”\n50 ΣΕΜΗΧΑΝΙΔΗΣ ΑΘΑΝΑΣΙΟΣ ΑΝΕΞΑΡΤΗΤΟΣ 53′:4”\n51 ΓΙΑΝΝΟΓΛΟΥ ΧΡΗΣΤΟΣ ΑΝΕΞΑΡΤΗΤΟΣ 53′:5”\n52 ΔΑΜΑΛΗΣ ΣΤΕΡΓΙΟΣ ΖΕΥΣ 53′:6”\n53 ΠΟΛΑΤΣΙΔΗΣ ΠΑΥΛΟΣ ΑΝΕΞΑΡΤΗΤΟΣ 54′:4”\n54 ΑΛΕΞΑΝΔΡΟΥ ΗΡΑΚΛΗΣ ΣΔΥ ΘΕΣ/ΝΙΚΗΣ 54′:5”\n55 ΑΜΑΡΑΝΤΙΔΗΣ ΑΝΑΣΤΑΣΙΟΣ ΑΝΕΞΑΡΤΗΤΟΣ 55′:00”\n56 ΣΙΑΚΚΑΣ ΑΝΕΣΤΗΣ ΑΝΕΞΑΡΤΗΤΟΣ 55′:2”\n57 ΠΕΡΘΕΝΟΠΟΥΛΟΣ ΜΙΧΑΗΛ ΣΔΥ ΘΕΣ/ΝΙΚΗΣ 55′:5”\n58 ΧΡΙΣΤΟΦΟΡΙΔΗΣ ΑΧΙΛΛΕΑΣ ΣΔΥ ΘΕΣ/ΝΙΚΗΣ 56′:4”\n59 ΜΥΤΙΛΗΝΑΙΟΣ ΝΙΚΟΛΑΟΣ ΣΔΥ ΘΕΣ/ΝΙΚΗΣ 56′:6”\n60 ΚΥΡΙΑΖΙΔΗΣ ΠΑΥΛΟΣ ΑΝΕΞΑΡΤΗΤΟΣ 58′:1”\n61 ΑΝΤΩΝΙΟΥ ΧΡΗΣΤΟΣ ΑΝΕΞΑΡΤΗΤΟΣ 58′:1”\n62 ΓΚΙΑΤΑΣ ΑΡΙΣΤΕΙΔΗΣ ΖΕΥΣ 58′:4”\n63 ΤΑΣΧΟΥΝΙΔΗΣ ΠΛΑΤΩΝ ΖΕΥΣ 58′:4”\n64 ΤΑΝΑΤΖΗΣ ΓΕΩΡΓΙΟΣ ΖΕΥΣ 58′:4”\n65 ΠΕΤΑΛΩΤΗΣ ΚΩΝ/ΝΟΣ ΣΔΥ ΘΕΣ/ΝΙΚΗΣ 59′:2”\n66 ΣΤΑΘΗΣ ΙΩΑΝΝΗΣ ΖΕΥΣ 1:00′:2”\n67 ΚΑΡΑΓΙΑΝΝΗΣ ΑΓΓΕΛΟΣ ΣΥΛ. ΜΑΡΑΘ.”ΛΑΡΙΣΑΣ” 1:01′:00”\n68 ΧΡΙΣΤΟΔΟΥΛΗΣ ΝΙΚΟΛΑΟΣ ΑΜΕΑ 1:01′:2”\n69 ΤΟΠΑΛΙΔΗΣ ΠΑΝΑΓΙΩΤΗΣ ΓΙΑΝΝΙΤΣΑ 1:01′:2”\n70 ΣΕΪΤΑΡΙΔΗΣ ΣΑΒΒΑΣ ΑΜΥΝΤΑΙΟ 1:03′:3”\n71 ΠΑΠΑΔΟΠΟΥΛΟΣ ΓΕΩΡΓΙΟΣ ΖΕΥΣ 1:04′:3”\n72 ΤΟΝΓΙΑΛΙΔΗΣ ΑΝΑΣΤΑΣΙΟΣ ΖΕΥΣ 1:04′:3”\n73 ΛΑΪΟΣ ΑΘΑΝΑΣΙΟΣ ΖΕΥΣ 1:04′:4”\n74 ΔΑΜΙΑΝΙΔΗΣ ΧΑΡΑΛΑΜΠΟΣ ΣΔΥ ΘΕΣ/ΝΙΚΗΣ 1:06′:00”\n75 ΝΙΚΟΛΑΪΔΗΣ ΑΝΑΣΤΑΣΙΟΣ ΣΔΥ ΘΕΣ/ΝΙΚΗΣ 1:06′:3”\n76 ΖΟΥΜΠΟΣ ΚΩΝ/ΝΟΣ ΣΔΥ ΘΕΣ/ΝΙΚΗΣ 1:08′:05”\n77 ΓΙΩΤΙΚΑΣ ΔΗΜΗΤΡΙΟΣ ΠΟΛΥΚΑΣΤΡΟ 1:10′:00”\n78 ΤΣΑΝΑΚΤΣΙΔΗΣ ΝΙΚΗΦΟΡΟΣ ΣΔΥ ΘΕΣ/ΝΙΚΗΣ 1:10′:3”\n79 ΣΑΒΒΙΔΗΣ ΠΑΝΑΓΙΩΤΗΣ ΑΝΕΞΑΡΤΗΤΟΣ 1:11′:00”\n80 ΓΚΟΥΝΤΟΠΟΥΛΟΣ ΓΕΩΡΓΙΟΣ ΚΙΛΚΙΣ 1:12′:03”\n81 ΣΤΙΝΤΣΙΟΥΔΗΣ ΜΗΝΑΣ ΣΔΥ ΘΕΣ/ΝΙΚΗΣ 1:14′:00”\n82 ΤΣΕΠΗΣ ΝΙΚΟΛΑΟΣ ΑΝΕΞΑΡΤΗΤΟΣ 1:16′:00”\n83 ΝΙΚΟΛΑΟΥ ΔΗΜΗΤΡΙΟΣ ΑΝΕΞΑΡΤΗΤΟΣ 1:16′:1”\n84 ΑΝΔΡΙΟΠΟΥΛΟΣ ΠΟΛΥΚΑΡΠΟΣ ΑΝΕΞΑΡΤΗΤΟΣ 1:28′:5”\n85 ΤΣΑΛΑΓΑΔΡΑΣ ΓΕΩΡΓΙΟΣ ΑΜΕΑ 1:47′:00” \nΑΠΟΤΕΛΕΣΜΑΤΑ ΓΥΝΑΙΚΩΝ\nA/A ΕΠΩΝΥΜΟ ΟΝΟΜΑ ΣΥΛΛΟΓΟΣ ΧΡΟΝΟΣ\n1 ΚΑΡΤΣΑΜΠΑ ΚΑΛΛΙΟΠΗ ΖΕΥΣ 51′:4”\n2 ΧΟΚΙΑ ΛΙΝΤΙΤΑ ΑΝΕΞΑΡΤΗΤΗ 53′:1”\n3 ΚΕΧΑΓΙΑ ΘΕΟΔΩΡΑ ΚΙΛΚΙΣ 53′:3”\n4 ΚΑΡΑΔΟΝΤΗ ΚΑΤΕΡΙΝΑ ΖΕΥΣ 1:03′:4”\n5 ΜΠΡΑΤΑΝΗ ΚΩΝ/ΝΑ ΑΝΕΞΑΡΤΗΤΗ 1:05′:1”\n6 ΣΙΔΗΡΟΠΟΥΛΟΥ ΚΩΝ/ΝΑ ΑΝΕΞΑΡΤΗΤΗ 1:28′:5”
URL:https://gorun.gr/race/%cf%84%cf%81%ce%ad%cf%87%cf%89-%cf%83%cf%84%ce%bf%ce%bd-%ce%ba%ce%bf%cf%81%ce%b9%ce%bd%cf%8c-2016/
CATEGORIES:Αποτελέσματα,Δρόμος
END:VEVENT
END:VCALENDAR