BEGIN:VCALENDAR
VERSION:2.0
PRODID:-//goRUN - ECPv5.8.1//NONSGML v1.0//EN
CALSCALE:GREGORIAN
METHOD:PUBLISH
X-WR-CALNAME:goRUN
X-ORIGINAL-URL:https://gorun.gr
X-WR-CALDESC:Events for goRUN
BEGIN:VTIMEZONE
TZID:Europe/Athens
BEGIN:DAYLIGHT
TZOFFSETFROM:+0200
TZOFFSETTO:+0300
TZNAME:EEST
DTSTART:20160327T010000
END:DAYLIGHT
BEGIN:STANDARD
TZOFFSETFROM:+0300
TZOFFSETTO:+0200
TZNAME:EET
DTSTART:20161030T010000
END:STANDARD
END:VTIMEZONE
BEGIN:VEVENT
DTSTART;VALUE=DATE:20160710
DTEND;VALUE=DATE:20160711
DTSTAMP:20260421T102703
CREATED:20160604T194652Z
LAST-MODIFIED:20160711T083449Z
UID:7820-1468108800-1468195199@gorun.gr
SUMMARY:Τρίαθλο Ευρώτα 2016
DESCRIPTION:Place Name Bib Number TEAM Age SWIM Time T1 Time BIKE Time T2 Time RUN Time Gun Time\n1 ΓΙΩΡΓΟΣ ΑΛΥΦΑΝΤΗΣ 2 37 11:38.5 0:24.7 28:44.1 0:22.5 17:08.0 58:18.1\n2 ΓΙΩΡΓΟΣ ΛΑΒΔΑΣ 28 ΓΑΣ ΙΛΙΣΟΣ 16 12:40.5 0:51.9 30:12.0 0:36.1 16:17.8 1:00:38.5\n3 ΜΑΝΟΥΣΟΣ ΒΙΖΥΡΑΚΗΣ 26 43 13:17.5 n/a 29:53.4 n/a 18:27.8 1:01:37.3\n4 ΑΛΚΗΣ ΚΑΦΩΡΟΣ 49 NUVENTI TRIATHLON 23 12:52.9 0:25.7 30:25.5 0:32.9 18:23.1 1:02:40.3\n5 ΔΗΜΗΤΡΙΟΣ ΣΩΗΣ 8 37 13:51.9 0:29.9 32:17.7 0:22.4 20:37.8 1:07:39.9\n6 ΣΩΤΗΡΗΣ ΔΑΜΑΛΑΣ 81 35 15:29.5 0:54.0 31:55.3 0:29.8 19:20.0 1:08:08.8\n7 ΚΥΡΙΑΚΟΣ ΚΟΡΑΛΛΗΣ 9 HER – ART 45 16:06.1 0:42.6 31:57.4 0:30.8 21:42.1 1:10:59.3\n8 ΗΛΙΑΣ ΖΑΡΟΚΩΣΤΑΣ 32 23 17:25.5 1:27.7 31:07.1 0:39.8 20:33.0 1:11:13.2\n9 ΓΙΩΡΓΟΣ ΣΟΥΛΗΣ 30 WIN4YOUTH 39 18:21.3 0:54.8 31:03.9 0:48.4 20:32.2 1:11:40.9\n10 ΚΩΝΣΤΑΝΤΙΝΟΣ ΚΩΣΤΙΜΠΑΣ 15 43 14:17.0 0:57.1 35:10.2 0:38.6 20:59.8 1:12:02.8\n11 ΝΙΚΗΦΟΡΟΣ ΑΝΔΡΙΟΠΟΥΛΟΣ 48 RED STAR TRIATHLON 35 16:15.1 1:07.3 32:58.1 0:40.5 22:59.6 1:14:00.8\n12 ΝΙΚΟΛΑΟΣ ΚΑΡΑΤΖΟΓΙΑΝΝΗΣ 4 RED STAR 26 15:39.1 1:07.3 35:06.5 0:24.0 22:33.0 1:14:50.0\n13 ΛΕΩΝΙΔΑΣ ΚΑΛΟΓΕΡΟΠΟΥΛΟΣ 80 50 16:54.9 0:42.7 34:48.7 0:31.6 22:07.1 1:15:05.2\n14 ΚΑΤΕΡΙΝΑ ΣΑΠΑΡΗ 18 RED STAR TRIATHLON CLUB 25 13:35.6 1:04.1 37:47.9 0:33.6 22:54.0 1:15:55.5\n15 ΘΟΔΩΡΗΣ ΜΑΛΤΕΖΟΣ 13 ΣΠΑΡΤΙΑΤΕΣ ΔΡΟΜΕΙΣ 23 19:31.3 1:51.8 35:28.6 0:42.4 20:17.0 1:17:51.3\n16 ΓΙΑΝΝΗΣ ΚΑΛΟΓΕΡΟΠΟΥΛΟΣ 20 MY ATHLETE 45 18:30.5 1:23.1 34:43.2 0:40.4 23:05.1 1:18:22.4\n17 ΓΙΑΝΝΗΣ ΑΡΣΕΝΗΣ 7 27 16:08.2 1:06.4 37:22.1 0:21.6 23:56.5 1:18:55.0\n18 ΔΑΝΑΗ-ΠΑΓΩΝΑ ΣΑΚΕΛΛΑΡΗ 83 39 21:08.1 1:30.1 36:24.9 0:42.3 19:54.6 1:19:40.3\n19 ΝΤΑΙΝΝΑ ΒΑΤΗ 21 RED STAR TRIATHLON CLUB 50 18:32.7 0:41.0 35:55.9 0:31.1 24:01.4 1:19:42.3\n20 ΗΛΙΑΣ ΤΖΑΒΙΔΟΠΟΥΛΟΣ 12 SNAILS RUNNING TEAM 42 20:16.5 1:21.2 37:27.5 0:45.0 20:37.9 1:20:28.3\n21 ΜΑΤΘΑΙΟΣ ΚΑΠΕΤΑΝΕΑΣ 79 32 18:02.8 1:07.0 36:11.4 0:59.1 24:19.0 1:20:39.5\n22 ΠΑΝΑΓΙΩΤΗΣ ΒΛΑΧΑΚΗΣ 43 Fbgym 33 20:56.6 1:36.1 35:03.9 1:05.9 22:39.1 1:21:21.7\n23 ΙΩΑΝΝΗΣ ΧΑΡΟΠΟΥΛΟΣ 84 NUVENTI TRIATHLON 23 22:23.8 0:57.8 34:28.9 1:00.7 23:07.6 1:21:59.0\n24 ΑΘΑΝΑΣΙΟΣ ΜΠΑΓΙΩΚΟΣ 16 ΣΠΑΡΤΙΑΤΕΣ ΔΡΟΜΕΙΣ 46 19:57.6 n/a 36:33.4 n/a 25:46.0 1:22:16.0\n25 ΠΕΤΡΟΣ ΧΑΡΠΑΛΗΣ 29 YMITTOD RUNNERS 54 18:39.8 1:23.0 35:51.6 0:52.0 26:08.1 1:22:54.6\n26 ΔΗΜΗΤΡΗΣ ΙΝΤΖΕΣ 37 51 17:30.8 2:39.8 38:15.3 1:38.2 24:15.6 1:24:19.9\n27 ΠΑΝΑΓΙΩΤΗΣ ΚΟΛΥΜΠΙΡΗΣ 25 43 28:12.9 1:13.5 33:08.9 1:01.2 23:02.1 1:26:38.7\n28 ΜΑΡΙΑ ΣΑΜΠΑΝΙΔΟΥ 23 RED STAR TRIATHLON CLUB 45 16:38.4 1:16.5 39:46.6 0:38.0 28:46.2 1:27:05.8\n29 ΔΗΜΗΤΡΗΣ ΓΚΕΛΗΣ 34 RED STAR TRIATHLON CLUB 12 13:59.9 1:24.1 40:21.3 0:33.8 30:47.1 1:27:06.4\n30 ΑΛΕΞΑΝΔΡΟΣ ΓΙΑΝΝΟΥΛΗΣ 42 ΚΑΝΕΝΑΣ 34 21:15.9 1:43.9 34:24.0 0:59.2 28:48.4 1:27:11.5\n31 ΠΕΤΡΟΣ ΛΥΚΑΚΟΣ 24 29 23:26.9 2:03.6 37:07.3 0:45.5 23:58.4 1:27:21.9\n32 ΠΑΝΑΓΙΩΤΗΣ ΚΑΠΑΣΟΥΡΗΣ 11 17 25:33.5 1:23.3 34:02.0 1:11.1 25:11.9 1:27:21.9\n33 ΝΙΚΟΛΑΟΣ ΛΥΜΠΕΡΙΑΟΣ 39 26 17:22.4 1:03.4 31:37.2 0:38.0 37:32.9 1:28:14.0\n34 ΛΕΩΝΙΔΑΣ ΠΕΡΔΙΚΑΡΗΣ 3 40 18:38.6 1:39.4 41:01.7 0:38.7 27:13.0 1:29:11.6\n35 ΚΑΤΕΡΙΝΑ ΜΕΤΑΞΑ 35 RED STAR TRIATHLON CLUB 39 20:15.2 2:13.0 40:53.6 1:12.7 25:13.4 1:29:48.0\n36 FALK SCHONFELDER 10 59 22:29.7 1:12.1 40:00.5 0:57.1 25:59.9 1:30:39.6\n37 ΧΡΗΣΤΟΣ ΝΙΚΟΛΟΠΟΥΛΟΣ 27 42 24:03.2 1:25.3 39:42.4 0:35.7 27:36.1 1:33:22.9\n38 ΠΑΝΑΓΙΩΤΗΣ ΣΥΛΛΑΙΟΣ 14 50 29:16.1 2:19.4 39:00.3 1:46.5 23:09.0 1:35:31.5\n39 ΧΡΗΣΤΟΣ ΚΑΡΑΓΙΑΝΝΗΣ 45 20 21:10.8 2:30.1 39:57.0 0:29.1 33:31.6 1:37:38.7\nDNF ΓΕΩΡΓΙΟΣ ΔΑΝΙΗΛ 1 31 10:49.1 0:25.2 29:07.3 0:19.3\nDNS ΔΗΜΗΤΡΗΣ ΒΟΡΔΟΣ 101 ΔΡΟΜΕΙΣ ΜΕΓΑΡΩΝ ΟΡΣΙΠΠΟΣ 42\nDNS ΦΙΛΙΠΠΟΣ ΜΑΛΙΟΥΚΗΣ 102 Α.Κ. ΜΠΑΚΟΥΛΑ 28\nDNS ΧΡΗΣΤΟΣ ΜΑΣΟΥΡΑΣ 103 SPARTAN RUNNERS 40\nDNS ΜΑΝΟΣ ΜΟΙΡΑΣ 104 CHALKIDA TRIATHLON TEAM 31\nDNS ΠΕΤΡΟΣ ΜΠΟΣΚΟΣ 105 NUVENTI TRIATHLON 37\nDNS ΓΕΩΡΓΙΟΣ ΣΙΛΙΓΑΡΔΟΣ 106 41\nDNS ΠΑΝΑΓΙΩΤΗΣ ΣΤΑΜΠΟΛΑΣ 107 ΔΡΟΜΜΕΙΣ ΜΕΓΑΡΩΝ ΟΡΣΙΠΠΟΣ 53 \nAQUATHLON \nPlace Name Bib Number TEAM Age SWIM Time T1 Time BIKE Time T2 Time RUN Time Gun Time\n1 ΓΡΗΓΟΡΗΣ ΣΚΟΥΛΑΡΙΚΗΣ 99 WWW.TRINEWS.GR 35 15:18.7 n/a 16:52.4 32:11.1\n2 ΚΩΣΤΑΣ ΠΑΦΥΛΙΑΣ 6 ΜΑΡΑΘΩΝΙΟΙ ΔΡΟΜΕΙΣ ΑΡΓΟΛΙΔΑΣ 33 22:24.7 n/a 26:07.4 47:17.6\n3 ΛΕΩΝΙΔΑΣ ΛΥΡΑΣ 50 ΣΔΥΜ 35 24:21.0 n/a 26:46.8 49:01.5\n4 ΓΕΩΡΓΙΟΣ ΜΑΝΟΥΣΟΠΟΥΛΟΣ 82 ΑΝΕΞΑΡΤΗΤΟΣ 34 28:06.3 n/a 24:32.4 50:25.3\n5 ΚΑΤΕΡΙΝΑ ΕΞΩΜΑΝΙΔΗ 17 ΣΠΑΡΤΙΑΤΕΣ ΔΡΟΜΕΙΣ 42 21:29.8 1:11.2 28:55.3 51:36.3\n6 ΕΡΗ ΜΑΝΤΖΟΥΡΑΝΗ 22 RED STAR TRIATHLON CLUB 54 19:34.7 2:58.6 31:55.2 54:28.6\n7 ΑΡΤΕΜΙΣ ΑΠΟΣΤΟΛΟΥ 47 RED STAR TRIATHLON CLUB 32 25:59.2 1:58.6 31:24.6 59:22.5\nDNS ΦΙΛΙΩ ΜΑΝΟΛΙΟΥΔΑΚΙ 108 31\nDNS ANGIE GARGARETA 109 OKEANOS 34 \nTRIATHLON RELAY \nPlace Name Bib Number TEAM Age SWIM Time T1 Time BIKE Time T2 Time RUN Time Gun Time\n1 ΣΠΥΡΟΣ ΧΡΥΣΙΚΟΠΟΥΛΟΣ 41 0 10:39.2 0:19.5 28:13.5 0:17.0 17:30.0 56:59.4\n2 ΑΛΕΞΑΝΔΡΟΣ ΚΑΡΚΑΣΙΝΑΣ 5 0 14:32.4 0:26.5 32:23.9 0:29.2 19:30.8 1:07:23.0\n3 ΚΩΝΣΤΑΝΤΙΝΟΣ ΧΑΤΖΕΛΗΣ 36 SPARTAN RUNNERS 0 18:21.3 0:21.6 26:18.4 0:30.1 22:15.5 1:07:47.2\n4 ΑΛΕΞΗΣ ΓΚΕΛΗΣ 33 RED STAR TRIATHLON CLUB 0 15:43.6 0:29.9 31:33.1 0:35.5 21:36.6 1:09:58.7\n5 ΣΤΑΥΡΟΣ ΣΤΑΥΡΟΠΟΥΛΟΣ 38 ΣΠΑΡΤΙΑΤΕΣ ΔΡΟΜΕΙΣ 0 18:04.0 0:26.3 33:46.7 0:23.9 18:15.5 1:10:56.6\n6 ΔΗΜΗΤΡΗΣ ΜΙΜΙΚΟΠΟΥΛΟΣ 40 0 15:26.3 0:34.4 33:38.8 0:20.7 24:23.9 1:14:24.2\n7 ΙΑΚΩΒΟΣ ΜΕΤΑΞΩΤΟΣ 31 0 18:16.9 0:30.3 34:52.5 0:24.2 23:19.5 1:17:23.6\n8 ΓΕΩΡΓΙΟΣ ΑΛΕΙΦΕΡΗΣ 19 Α.Π.Σ ΚΑΛΛΙΣΘΕΝΗΣ 0 20:10.6 0:35.0 39:12.9 1:06.2 23:14.5 1:24:19.4\n9 ΘΟΔΩΡΗΣ ΔΟΥΛΤΣΙΝΟΣ 44 vlachakis team 0 19:43.1 0:28.7 36:41.7 0:52.2 27:02.5 1:24:48.3\n10 ΚΑΤΕΡΙΝΑ ΣΑΝΙΔΑ 46 Α.ΠΣ ΚΑΛΛΙΣΘΕΝΗΣ 0 25:40.0 n/a 40:12.7 n/a 21:32.6 1:27:20.3\nDNS ΙΩΑΝΝΗΣ ΚΑΡΟΠΟΥΛΟΣ 110 NUVENTI TRIATHLON ATHENS / SOLDIERS 0\nDNS ΒΑΣΙΛΙΚΗ ΤΣΑΚΑΚΟΥ 111 ΣΔΥΜ 0\nDNS ΜΑΤΘΑΙΟΣ ΚΑΠΕΤΑΝΕΣ 112 ΣΔΥΜ MANIACS 0\nDNS ΤΟΛΗΣ ΚΩΣΤΟΠΟΥΛΟΣ 113 ns coaching 0 \nGender Results \nTRIATHLON \nFemale Finishers\nPlace Name Bib Number TEAM Age SWIM Time T1 Time BIKE Time T2 Time RUN Time Gun Time\n1 ΚΑΤΕΡΙΝΑ ΣΑΠΑΡΗ 18 RED STAR TRIATHLON CLUB 25 13:35.6 1:04.1 37:47.9 0:33.6 22:54.0 1:15:55.5\n2 ΔΑΝΑΗ-ΠΑΓΩΝΑ ΣΑΚΕΛΛΑΡΗ 83 39 21:08.1 1:30.1 36:24.9 0:42.3 19:54.6 1:19:40.3\n3 ΝΤΑΙΝΝΑ ΒΑΤΗ 21 RED STAR TRIATHLON CLUB 50 18:32.7 0:41.0 35:55.9 0:31.1 24:01.4 1:19:42.3\n4 ΜΑΡΙΑ ΣΑΜΠΑΝΙΔΟΥ 23 RED STAR TRIATHLON CLUB 45 16:38.4 1:16.5 39:46.6 0:38.0 28:46.2 1:27:05.8\n5 ΚΑΤΕΡΙΝΑ ΜΕΤΑΞΑ 35 RED STAR TRIATHLON CLUB 39 20:15.2 2:13.0 40:53.6 1:12.7 25:13.4 1:29:48.0 \nMale Finishers\nPlace Name Bib Number TEAM Age SWIM Time T1 Time BIKE Time T2 Time RUN Time Gun Time\n1 ΓΙΩΡΓΟΣ ΑΛΥΦΑΝΤΗΣ 2 37 11:38.5 0:24.7 28:44.1 0:22.5 17:08.0 58:18.1\n2 ΓΙΩΡΓΟΣ ΛΑΒΔΑΣ 28 ΓΑΣ ΙΛΙΣΣΟΣ 16 12:40.5 0:51.9 30:12.0 0:36.1 16:17.8 1:00:38.5\n3 ΜΑΝΟΥΣΟΣ ΒΙΖΥΡΑΚΗΣ 26 43 13:17.5 n/a 29:53.4 n/a 18:27.8 1:01:37.3\n4 ΑΛΚΗΣ ΚΑΦΩΡΟΣ 49 NUVENTI TRIATHLON 23 12:52.9 0:25.7 30:25.5 0:32.9 18:23.1 1:02:40.3\n5 ΔΗΜΗΤΡΙΟΣ ΣΩΗΣ 8 37 13:51.9 0:29.9 32:17.7 0:22.4 20:37.8 1:07:39.9\n6 ΣΩΤΗΡΗΣ ΔΑΜΑΛΑΣ 81 35 15:29.5 0:54.0 31:55.3 0:29.8 19:20.0 1:08:08.8\n7 ΚΥΡΙΑΚΟΣ ΚΟΡΑΛΛΗΣ 9 HER – ART 45 16:06.1 0:42.6 31:57.4 0:30.8 21:42.1 1:10:59.3\n8 ΗΛΙΑΣ ΖΑΡΟΚΩΣΤΑΣ 32 23 17:25.5 1:27.7 31:07.1 0:39.8 20:33.0 1:11:13.2\n9 ΓΙΩΡΓΟΣ ΣΟΥΛΗΣ 30 WIN4YOUTH 39 18:21.3 0:54.8 31:03.9 0:48.4 20:32.2 1:11:40.9\n10 ΚΩΝΣΤΑΝΤΙΝΟΣ ΚΩΣΤΙΜΠΑΣ 15 43 14:17.0 0:57.1 35:10.2 0:38.6 20:59.8 1:12:02.8\n11 ΝΙΚΗΦΟΡΟΣ ΑΝΔΡΙΟΠΟΥΛΟΣ 48 RED STAR TRIATHLON 35 16:15.1 1:07.3 32:58.1 0:40.5 22:59.6 1:14:00.8\n12 ΝΙΚΟΛΑΟΣ ΚΑΡΑΤΖΟΓΙΑΝΝΗΣ 4 RED STAR 26 15:39.1 1:07.3 35:06.5 0:24.0 22:33.0 1:14:50.0\n13 ΛΕΩΝΙΔΑΣ ΚΑΛΟΓΕΡΟΠΟΥΛΟΣ 80 50 16:54.9 0:42.7 34:48.7 0:31.6 22:07.1 1:15:05.2\n14 ΘΟΔΩΡΗΣ ΜΑΛΤΕΖΟΣ 13 ΣΠΑΡΤΙΑΤΕΣ ΔΡΟΜΕΙΣ 23 19:31.3 1:51.8 35:28.6 0:42.4 20:17.0 1:17:51.3\n15 ΓΙΑΝΝΗΣ ΚΑΛΟΓΕΡΟΠΟΥΛΟΣ 20 MY ATHLETE 45 18:30.5 1:23.1 34:43.2 0:40.4 23:05.1 1:18:22.4\n16 ΓΙΑΝΝΗΣ ΑΡΣΕΝΗΣ 7 27 16:08.2 1:06.4 37:22.1 0:21.6 23:56.5 1:18:55.0\n17 ΗΛΙΑΣ ΤΖΑΒΙΔΟΠΟΥΛΟΣ 12 SNAILS RUNNING TEAM 42 20:16.5 1:21.2 37:27.5 0:45.0 20:37.9 1:20:28.3\n18 ΜΑΤΘΑΙΟΣ ΚΑΠΕΤΑΝΕΑΣ 79 32 18:02.8 1:07.0 36:11.4 0:59.1 24:19.0 1:20:39.5\n19 ΠΑΝΑΓΙΩΤΗΣ ΒΛΑΧΑΚΗΣ 43 Fbgym 33 20:56.6 1:36.1 35:03.9 1:05.9 22:39.1 1:21:21.7\n20 ΙΩΑΝΝΗΣ ΧΑΡΟΠΟΥΛΟΣ 84 NUVENTI TRIATHLON 23 22:23.8 0:57.8 34:28.9 1:00.7 23:07.6 1:21:59.0\n21 ΑΘΑΝΑΣΙΟΣ ΜΠΑΓΙΩΚΟΣ 16 ΣΠΑΡΤΙΑΤΕΣ ΔΡΟΜΕΙΣ 46 19:57.6 n/a 36:33.4 n/a 25:46.0 1:22:16.0\n22 ΠΕΤΡΟΣ ΧΑΡΠΑΛΗΣ 29 YMITTOD RUNNERS 54 18:39.8 1:23.0 35:51.6 0:52.0 26:08.1 1:22:54.6\n23 ΔΗΜΗΤΡΗΣ ΙΝΤΖΕΣ 37 51 17:30.8 2:39.8 38:15.3 1:38.2 24:15.6 1:24:19.9\n24 ΠΑΝΑΓΙΩΤΗΣ ΚΟΛΥΜΠΙΡΗΣ 25 43 28:12.9 1:13.5 33:08.9 1:01.2 23:02.1 1:26:38.7\n25 ΔΗΜΗΤΡΗΣ ΓΚΕΛΗΣ 34 RED STAR TRIATHLON CLUB 12 13:59.9 1:24.1 40:21.3 0:33.8 30:47.1 1:27:06.4\n26 ΑΛΕΞΑΝΔΡΟΣ ΓΙΑΝΝΟΥΛΗΣ 42 ΚΑΝΕΝΑΣ 34 21:15.9 1:43.9 34:24.0 0:59.2 28:48.4 1:27:11.5\n27 ΠΕΤΡΟΣ ΛΥΚΑΚΟΣ 24 29 23:26.9 2:03.6 37:07.3 0:45.5 23:58.4 1:27:21.9\n28 ΠΑΝΑΓΙΩΤΗΣ ΚΑΠΑΣΟΥΡΗΣ 11 17 25:33.5 1:23.3 34:02.0 1:11.1 25:11.9 1:27:21.9\n29 ΝΙΚΟΛΑΟΣ ΛΥΜΠΕΡΙΑΟΣ 39 26 17:22.4 1:03.4 31:37.2 0:38.0 37:32.9 1:28:14.0\n30 ΛΕΩΝΙΔΑΣ ΠΕΡΔΙΚΑΡΗΣ 3 40 18:38.6 1:39.4 41:01.7 0:38.7 27:13.0 1:29:11.6\n31 FALK SCHONFELDER 10 59 22:29.7 1:12.1 40:00.5 0:57.1 25:59.9 1:30:39.6\n32 ΧΡΗΣΤΟΣ ΝΙΚΟΛΟΠΟΥΛΟΣ 27 42 24:03.2 1:25.3 39:42.4 0:35.7 27:36.1 1:33:22.9\n33 ΠΑΝΑΓΙΩΤΗΣ ΣΥΛΛΑΙΟΣ 14 50 29:16.1 2:19.4 39:00.3 1:46.5 23:09.0 1:35:31.5\n34 ΧΡΗΣΤΟΣ ΚΑΡΑΓΙΑΝΝΗΣ 45 20 21:10.8 2:30.1 39:57.0 0:29.1 33:31.6 1:37:38.7\nDNF ΓΕΩΡΓΙΟΣ ΔΑΝΙΗΛ 1 31 10:49.1 0:25.2 29:07.3 0:19.3\nDNS ΔΗΜΗΤΡΗΣ ΒΟΡΔΟΣ 101 ΔΡΟΜΕΙΣ ΜΕΓΑΡΩΝ ΟΡΣΙΠΠΟΣ 42\nDNS ΦΙΛΙΠΠΟΣ ΜΑΛΙΟΥΚΗΣ 102 Α.Κ. ΜΠΑΚΟΥΛΑ 28\nDNS ΧΡΗΣΤΟΣ ΜΑΣΟΥΡΑΣ 103 SPARTAN RUNNERS 40\nDNS ΜΑΝΟΣ ΜΟΙΡΑΣ 104 CHALKIDA TRIATHLON TEAM 31\nDNS ΠΕΤΡΟΣ ΜΠΟΣΚΟΣ 105 NUVENTI TRIATHLON 37\nDNS ΓΕΩΡΓΙΟΣ ΣΙΛΙΓΑΡΔΟΣ 106 41\nDNS ΠΑΝΑΓΙΩΤΗΣ ΣΤΑΜΠΟΛΑΣ 107 ΔΡΟΜΜΕΙΣ ΜΕΓΑΡΩΝ ΟΡΣΙΠΠΟΣ 53 \nAQUATHLON \nFemale Finishers\nPlace Name Bib Number TEAM Age SWIM Time T1 Time BIKE Time T2 Time RUN Time Gun Time\n1 ΚΑΤΕΡΙΝΑ ΕΞΩΜΑΝΙΔΗ 17 ΣΠΑΡΤΙΑΤΕΣ ΔΡΟΜΕΙΣ 42 21:29.8 1:11.2 28:55.3 51:36.3\n2 ΕΡΗ ΜΑΝΤΖΟΥΡΑΝΗ 22 RED STAR TRIATHLON CLUB 54 19:34.7 2:58.6 31:55.2 54:28.6\n3 ΑΡΤΕΜΙΣ ΑΠΟΣΤΟΛΟΥ 47 RED STAR TRIATHLON CLUB 32 25:59.2 1:58.6 31:24.6 59:22.5\nDNS ΦΙΛΙΩ ΜΑΝΟΛΙΟΥΔΑΚΙ 108 31\nDNS ANGIE GARGARETA 109 OKEANOS 34 \nMale Finishers \nPlace Name Bib Number TEAM Age SWIM Time T1 Time BIKE Time T2 Time RUN Time Gun Time\n1 ΓΡΗΓΟΡΗΣ ΣΚΟΥΛΑΡΙΚΗΣ 99 WWW.TRINEWS.GR 35 15:18.7 n/a 16:52.4 32:11.1\n2 ΚΩΣΤΑΣ ΠΑΦΥΛΙΑΣ 6 ΜΑΡΑΘΩΝΙΟΙ ΔΡΟΜΕΙΣ ΑΡΓΟΛΙΔΑΣ 33 22:24.7 n/a 26:07.4 47:17.6\n3 ΛΕΩΝΙΔΑΣ ΛΥΡΑΣ 50 ΣΔΥΜ 35 24:21.0 n/a 26:46.8 49:01.5\n4 ΓΕΩΡΓΙΟΣ ΜΑΝΟΥΣΟΠΟΥΛΟΣ 82 ΑΝΕΞΑΡΤΗΤΟΣ 34 28:06.3 n/a 24:32.4 50:25.3 \nTRIATHLON AGE GROUPS \nFemale 20 to 29\nPlace Overall Plc Name bib TEAM Age SWIM Time T1 Time BIKE Time T2 Time RUN Time Chip Time\n1 14 ΚΑΤΕΡΙΝΑ ΣΑΠΑΡΗ 18 RED STAR TRIATHLON CLUB 25 13:35.6 1:04.1 37:47.9 0:33.6 22:54.0 1:15:55.5 \nFemale 30 to 39\nPlace Overall Plc Name Age SWIM Time T1 Time BIKE Time T2 Time RUN Time Chip Time\n1 18 ΔΑΝΑΗ-ΠΑΓΩΝΑ ΣΑΚΕΛΛΑΡΗ 83 39 21:08.1 1:30.1 36:24.9 0:42.3 19:54.6 1:19:40.3\n2 35 ΚΑΤΕΡΙΝΑ ΜΕΤΑΞΑ 35 RED STAR TRIATHLON CLUB 39 20:15.2 2:13.0 40:53.6 1:12.7 25:13.4 1:29:48.0 \nFemale 40 to 49\nPlace Overall Plc Name Age SWIM Time T1 Time BIKE Time T2 Time RUN Time Chip Time\n1 28 ΜΑΡΙΑ ΣΑΜΠΑΝΙΔΟΥ 23 RED STAR TRIATHLON CLUB 45 16:38.4 1:16.5 39:46.6 0:38.0 28:46.2 1:27:05.8 \nFemale 50 to 59\nPlace Overall Plc Name Age SWIM Time T1 Time BIKE Time T2 Time RUN Time Chip Time\n1 19 ΝΤΑΙΝΝΑ ΒΑΤΗ 21 RED STAR TRIATHLON CLUB 50 18:32.7 0:41.0 35:55.9 0:31.1 24:01.4 1:19:42.3 \nMale 19 and Under\nPlace Overall Plc Name Age SWIM Time T1 Time BIKE Time T2 Time RUN Time Chip Time\n1 2 ΓΙΩΡΓΟΣ ΛΑΒΔΑΣ 28 ΓΑΣ ΗΛΙΣΣΟΣ 16 12:40.5 0:51.9 30:12.0 0:36.1 16:17.8 1:00:38.5\n2 29 ΔΗΜΗΤΡΗΣ ΓΚΕΛΗΣ 34 RED STAR TRIATHLON CLUB 12 13:59.9 1:24.1 40:21.3 0:33.8 30:47.1 1:27:06.4\n3 32 ΠΑΝΑΓΙΩΤΗΣ ΚΑΠΑΣΟΥΡΗΣ 11 17 25:33.5 1:23.3 34:02.0 1:11.1 25:11.9 1:27:21.9 \nMale 20 to 29\nPlace Overall Plc Name Age SWIM Time T1 Time BIKE Time T2 Time RUN Time Chip Time\n1 4 ΑΛΚΗΣ ΚΑΦΩΡΟΣ 49 NUVENTI TRIATHLON 23 12:52.9 0:25.7 30:25.5 0:32.9 18:23.1 1:02:40.3\n2 8 ΗΛΙΑΣ ΖΑΡΟΚΩΣΤΑΣ 32 23 17:25.5 1:27.7 31:07.1 0:39.8 20:33.0 1:11:13.2\n3 12 ΝΙΚΟΛΑΟΣ ΚΑΡΑΤΖΟΓΙΑΝΝΗΣ 4 RED STAR 26 15:39.1 1:07.3 35:06.5 0:24.0 22:33.0 1:14:50.0\n4 15 ΘΟΔΩΡΗΣ ΜΑΛΤΕΖΟΣ 13 ΣΠΑΡΤΙΑΤΕΣ ΔΡΟΜΕΙΣ 23 19:31.3 1:51.8 35:28.6 0:42.4 20:17.0 1:17:51.3\n5 17 ΓΙΑΝΝΗΣ ΑΡΣΕΝΗΣ 7 27 16:08.2 1:06.4 37:22.1 0:21.6 23:56.5 1:18:55.0\n6 23 ΙΩΑΝΝΗΣ ΧΑΡΟΠΟΥΛΟΣ 84 NUVENTI TRIATHLON 23 22:23.8 0:57.8 34:28.9 1:00.7 23:07.6 1:21:59.0\n7 31 ΠΕΤΡΟΣ ΛΥΚΑΚΟΣ 24 29 23:26.9 2:03.6 37:07.3 0:45.5 23:58.4 1:27:21.9\n8 33 ΝΙΚΟΛΑΟΣ ΛΥΜΠΕΡΙΑΟΣ 39 26 17:22.4 1:03.4 31:37.2 0:38.0 37:32.9 1:28:14.0\n9 39 ΧΡΗΣΤΟΣ ΚΑΡΑΓΙΑΝΝΗΣ 45 20 21:10.8 2:30.1 39:57.0 0:29.1 33:31.6 1:37:38.7\nDNS DNS ΦΙΛΙΠΠΟΣ ΜΑΛΙΟΥΚΗΣ 102 Α.Κ. ΜΠΑΚΟΥΛΑ 28 \nMale 30 to 39\nPlace Overall Plc Name Age SWIM Time T1 Time BIKE Time T2 Time RUN Time Chip Time\n1 1 ΓΙΩΡΓΟΣ ΑΛΥΦΑΝΤΗΣ 2 37 11:38.5 0:24.7 28:44.1 0:22.5 17:08.0 58:18.1\n2 5 ΔΗΜΗΤΡΙΟΣ ΣΩΗΣ 8 37 13:51.9 0:29.9 32:17.7 0:22.4 20:37.8 1:07:39.9\n3 6 ΣΩΤΗΡΗΣ ΔΑΜΑΛΑΣ 81 35 15:29.5 0:54.0 31:55.3 0:29.8 19:20.0 1:08:08.8\n4 9 ΓΙΩΡΓΟΣ ΣΟΥΛΗΣ 30 WIN4YOUTH 39 18:21.3 0:54.8 31:03.9 0:48.4 20:32.2 1:11:40.9\n5 11 ΝΙΚΗΦΟΡΟΣ ΑΝΔΡΙΟΠΟΥΛΟΣ 48 RED STAR TRIATHLON 35 16:15.1 1:07.3 32:58.1 0:40.5 22:59.6 1:14:00.8\n6 21 ΜΑΤΘΑΙΟΣ ΚΑΠΕΤΑΝΕΑΣ 79 32 18:02.8 1:07.0 36:11.4 0:59.1 24:19.0 1:20:39.5\n7 22 ΠΑΝΑΓΙΩΤΗΣ ΒΛΑΧΑΚΗΣ 43 Fbgym 33 20:56.6 1:36.1 35:03.9 1:05.9 22:39.1 1:21:21.7\n8 30 ΑΛΕΞΑΝΔΡΟΣ ΓΙΑΝΝΟΥΛΗΣ 42 ΚΑΝΕΝΑΣ 34 21:15.9 1:43.9 34:24.0 0:59.2 28:48.4 1:27:11.5\nDNF DNF ΓΕΩΡΓΙΟΣ ΔΑΝΙΗΛ 1 31 10:49.1 0:25.2 29:07.3 0:19.3\nDNS DNS ΜΑΝΟΣ ΜΟΙΡΑΣ 104 CHALKIDA TRIATHLON TEAM 31\nDNS DNS ΠΕΤΡΟΣ ΜΠΟΣΚΟΣ 105 NUVENTI TRIATHLON 37 \nMale 40 to 49\nPlace Overall Plc Name Age SWIM Time T1 Time BIKE Time T2 Time RUN Time Chip Time\n1 3 ΜΑΝΟΥΣΟΣ ΒΙΖΥΡΑΚΗΣ 26 43 13:17.5 n/a 29:53.4 n/a 18:27.8 1:01:37.3\n2 7 ΚΥΡΙΑΚΟΣ ΚΟΡΑΛΛΗΣ 9 HER – ART 45 16:06.1 0:42.6 31:57.4 0:30.8 21:42.1 1:10:59.3\n3 10 ΚΩΝΣΤΑΝΤΙΝΟΣ ΚΩΣΤΙΜΠΑΣ 15 43 14:17.0 0:57.1 35:10.2 0:38.6 20:59.8 1:12:02.8\n4 16 ΓΙΑΝΝΗΣ ΚΑΛΟΓΕΡΟΠΟΥΛΟΣ 20 MY ATHLETE 45 18:30.5 1:23.1 34:43.2 0:40.4 23:05.1 1:18:22.4\n5 20 ΗΛΙΑΣ ΤΖΑΒΙΔΟΠΟΥΛΟΣ 12 SNAILS RUNNING TEAM 42 20:16.5 1:21.2 37:27.5 0:45.0 20:37.9 1:20:28.3\n6 24 ΑΘΑΝΑΣΙΟΣ ΜΠΑΓΙΩΚΟΣ 16 ΣΠΑΡΤΙΑΤΕΣ ΔΡΟΜΕΙΣ 46 19:57.6 n/a 36:33.4 n/a 25:46.0 1:22:16.0\n7 27 ΠΑΝΑΓΙΩΤΗΣ ΚΟΛΥΜΠΙΡΗΣ 25 43 28:12.9 1:13.5 33:08.9 1:01.2 23:02.1 1:26:38.7\n8 34 ΛΕΩΝΙΔΑΣ ΠΕΡΔΙΚΑΡΗΣ 3 40 18:38.6 1:39.4 41:01.7 0:38.7 27:13.0 1:29:11.6\n9 37 ΧΡΗΣΤΟΣ ΝΙΚΟΛΟΠΟΥΛΟΣ 27 42 24:03.2 1:25.3 39:42.4 0:35.7 27:36.1 1:33:22.9\nDNS DNS ΔΗΜΗΤΡΗΣ ΒΟΡΔΟΣ 101 ΔΡΟΜΕΙΣ ΜΕΓΑΡΩΝ ΟΡΣΙΠΠΟΣ 42\nDNS DNS ΧΡΗΣΤΟΣ ΜΑΣΟΥΡΑΣ 103 SPARTAN RUNNERS 40\nDNS DNS ΓΕΩΡΓΙΟΣ ΣΙΛΙΓΑΡΔΟΣ 106 41 \nMale 50 to 59\nPlace Overall Plc Name Age SWIM Time T1 Time BIKE Time T2 Time RUN Time Chip Time\n1 13 ΛΕΩΝΙΔΑΣ ΚΑΛΟΓΕΡΟΠΟΥΛΟΣ 80 50 16:54.9 0:42.7 34:48.7 0:31.6 22:07.1 1:15:05.2\n2 25 ΠΕΤΡΟΣ ΧΑΡΠΑΛΗΣ 29 YMITTOD RUNNERS 54 18:39.8 1:23.0 35:51.6 0:52.0 26:08.1 1:22:54.6\n3 26 ΔΗΜΗΤΡΗΣ ΙΝΤΖΕΣ 37 51 17:30.8 2:39.8 38:15.3 1:38.2 24:15.6 1:24:19.9\n4 36 FALK SCHONFELDER 10 59 22:29.7 1:12.1 40:00.5 0:57.1 25:59.9 1:30:39.6\n5 38 ΠΑΝΑΓΙΩΤΗΣ ΣΥΛΛΑΙΟΣ 14 50 29:16.1 2:19.4 39:00.3 1:46.5 23:09.0 1:35:31.5\nDNS DNS ΠΑΝΑΓΙΩΤΗΣ ΣΤΑΜΠΟΛΑΣ 107 ΔΡΟΜΕΙΣ ΜΕΓΑΡΩΝ ΟΡΣΙΠΠΟΣ 53
URL:https://gorun.gr/race/%cf%84%cf%81%ce%af%ce%b1%ce%b8%ce%bb%ce%bf-%ce%b5%cf%85%cf%81%cf%8e%cf%84%ce%b1-2016/
CATEGORIES:Αποτελέσματα,Τρίαθλο
END:VEVENT
END:VCALENDAR