BEGIN:VCALENDAR
VERSION:2.0
PRODID:-//goRUN - ECPv5.8.1//NONSGML v1.0//EN
CALSCALE:GREGORIAN
METHOD:PUBLISH
X-WR-CALNAME:goRUN
X-ORIGINAL-URL:https://gorun.gr
X-WR-CALDESC:Events for goRUN
BEGIN:VTIMEZONE
TZID:Europe/Athens
BEGIN:DAYLIGHT
TZOFFSETFROM:+0200
TZOFFSETTO:+0300
TZNAME:EEST
DTSTART:20160327T010000
END:DAYLIGHT
BEGIN:STANDARD
TZOFFSETFROM:+0300
TZOFFSETTO:+0200
TZNAME:EET
DTSTART:20161030T010000
END:STANDARD
END:VTIMEZONE
BEGIN:VEVENT
DTSTART;VALUE=DATE:20160521
DTEND;VALUE=DATE:20160522
DTSTAMP:20260421T204710
CREATED:20160426T132911Z
LAST-MODIFIED:20160522T161114Z
UID:6210-1463788800-1463875199@gorun.gr
SUMMARY:1ος αγώνας δρόμου προς τιμή του ήρωα Νικόλα Στέλλα
DESCRIPTION:ΑΠΟΤΕΛΕΣΜΑΤΑ \n4 Χιλιόμετρα \n\n\nΣειρά Γενικής Νο Επώνυμο Ονομα Κατηγορία Σειρά Κατάταξης Χρόνος \n1 1203 ΠΑΠΑΓΙΑΝΝΗΣ ΧΡΗΣΤΟΣ 4 ΧΛΜ Ανδρες (άνω των 18) 1 0:16:30\n2 1134 ΒΙΔΑΛΗ ΔΗΜΗΤΡΑ 4 ΧΛΜ Νεάνιδες (-18 ετών) 1 0:20:59\n3 1128 ΚΑΛΑΡΓΥΡΟΣ ΜΙΧΑΛΗΣ 4 ΧΛΜ Εφηβοι (-18 ετών) 1 0:21:53\n4 1126 ΦΑΡΟΥΠΟΣ ΑΝΔΡΕΑΣ 4 ΧΛΜ Εφηβοι (-18 ετών) 2 0:22:05\n5 1130 ΤΣΑΝΤΟΥΛΗ ΖΑΧΑΡΟΥΛΑ 4 ΧΛΜ Νεάνιδες (-18 ετών) 2 0:22:27\n6 1140 ΤΣΑΝΤΟΥΛΗΣ ΣΤΕΛΙΟΣ 4 ΧΛΜ Εφηβοι (-18 ετών) 3 0:23:23\n7 1141 ΣΚΙΑΔΑΣ ΛΥΠΡΑΝΔΟΣ 4 ΧΛΜ Εφηβοι (-18 ετών) 4 0:23:48\n8 1127 ΦΑΡΟΥΠΟΣ ΧΡΥΣΤΟΣΤΟΜΟΣ 4 ΧΛΜ Εφηβοι (-18 ετών) 5 0:24:12\n9 1135 ΚΑΛΑΚΩΝΑ ΒΑΣΙΛΙΚΑ 4 ΧΛΜ Νεάνιδες (-18 ετών) 3 0:24:15\n10 1214 ΜΥΛΩΝΑ ΞΑΝΘΙΠΠΗ 4 ΧΛΜ Γυναίκες (άνω των 18) 1 0:24:32\n11 1132 ΛΟΥΚΗ ΜΑΡΙΑ 4 ΧΛΜ Νεάνιδες (-18 ετών) 4 0:25:07\n12 1133 ΜΠΑΡΜΠΑΡΗ ΣΤΥΛΙΑΝΗ 4 ΧΛΜ Νεάνιδες (-18 ετών) 5 0:25:09\n13 1136 ΤΖΙΝΙ ΣΕΡΙΝΑ 4 ΧΛΜ Νεάνιδες (-18 ετών) 6 0:25:10\n14 1139 ΤΖΙΩΤΗ ΚΩΝΣΤΑΝΤΙΝΑ 4 ΧΛΜ Νεάνιδες (-18 ετών) 7 0:25:59\n15 1200 ΣΦΑΚΙΑΝΟΣ ΗΛΙΑΣ 4 ΧΛΜ Ανδρες (άνω των 18) 2 0:26:03\n16 1204 ΣΚΑΡΑΜΑΓΚΑΣ ΕΥΣΤΡΑΤΙΟΣ 4 ΧΛΜ Ανδρες (άνω των 18) 3 0:26:03\n17 1207 ΣΚΙΑΔΑ ΑΓΓΕΛΙΚΗ 4 ΧΛΜ Γυναίκες (άνω των 18) 2 0:27:47\n18 1131 ΛΕΦΑΚΗ ΦΑΙΔΡΑ 4 ΧΛΜ Νεάνιδες (-18 ετών) 8 0:27:54\n19 1206 ΤΣΙΓΩΝΙΑ ΣΤΥΛΙΑΝΗ 4 ΧΛΜ Γυναίκες (άνω των 18) 3 0:28:01\n20 1210 ΣΟΦΟΥ-ΒΩΒΟΥ ΜΑΡΙΑ 4 ΧΛΜ Γυναίκες (άνω των 18) 4 0:28:13\n21 1201 ΠΑΝΑΡΙΤΗΣ ΒΑΣΙΛΗΣ 4 ΧΛΜ Εφηβοι (-18 ετών) 6 0:29:15\n22 1205 ΣΠΑΝΟΠΟΥΛΟΥ ΓΕΩΡΓΙΑ 4 ΧΛΜ Γυναίκες (άνω των 18) 5 0:30:19\n23 1202 ΑΘΑΝΑΤΟΥ ΖΩΗ 4 ΧΛΜ Γυναίκες (άνω των 18) 6 0:30:24\n24 1211 ΚΑΨΑΛΗ ΕΛΕΥΘΕΡΙΑ 4 ΧΛΜ Γυναίκες (άνω των 18) 7 0:34:46\n25 1213 ΣΙΦΝΑΙΟΥ ΜΑΡΙΑ 4 ΧΛΜ Γυναίκες (άνω των 18) 8 0:34:47\n26 1212 ΚΩΣΤΟΠΟΥΛΟΥ ΜΑΡΙΑ 4 ΧΛΜ Γυναίκες (άνω των 18) 9 0:34:55\n27 1208 ΤΣΙΓΩΝΙΑ ΑΝΝΑ 4 ΧΛΜ Γυναίκες (άνω των 18) 10 0:34:56\n28 1209 ΑΝΟΥΣΑΚΗ ΑΡΤΕΜΙΑ 4 ΧΛΜ Γυναίκες (άνω των 18) 11 0:34:56 \n  \n10 Χιλιόμετρα \nΣειρά Γενικής Νο Επώνυμο Ονομα Κατηγορία Σειρά Κατάταξης Χρόνος \n1 1309 ΑΓΓΕΛΑΚΟΣ ΕΥΑΓΓΕΛΟΣ 10 ΧΛΜ Ανδρες (19-30 ετών) 1 0:40:14\n2 1319 ZAK SIMO 10 ΧΛΜ Ανδρες (31-50 ετών) 1 0:40:23\n3 1307 ΦΡΑΤΖΗΣ ΧΡΗΣΤΟΣ 10 ΧΛΜ Ανδρες (31-50 ετών) 2 0:40:32\n4 1137 ΠΑΤΡΙΚΗΣ ΘΑΝΟΣ 10 ΧΛΜ Εφηβοι (-18 ετών) 1 0:41:15\n5 1302 ΜΑΝΙΟΣ ΜΙΧΑΛΗΣ 10 ΧΛΜ Ανδρες (31-50 ετών) 3 0:41:37\n6 1306 ΚΕΧΑΟΓΛΟΥ ΝΙΚΟΣ 10 ΧΛΜ Ανδρες (31-50 ετών) 4 0:43:52\n7 1303 ΝΤΟΥΣΗΣ ΣΤΕΦΑΝΟΣ 10 ΧΛΜ Ανδρες (31-50 ετών) 5 0:45:27\n8 1311 ΤΣΙΓΩΝΙΑΣ ΝΙΚΟΣ 10 ΧΛΜ Ανδρες (31-50 ετών) 6 0:46:05\n9 1324 ΝΙΚΟΛΑΟΥ ΕΥΑΓΓΕΛΟΣ 10 ΧΛΜ Ανδρες (31-50 ετών) 7 0:46:25\n10 1176 ΤΖΑΝΙΔΗΣ ΓΕΩΡΓΙΟΣ 10 ΧΛΜ Ανδρες (31-50 ετών) 8 0:46:29\n11 1178 ΣΚΙΑΔΑΣ ΑΝΤΩΝΗΣ 10 ΧΛΜ Ανδρες (31-50 ετών) 9 0:47:06\n12 1325 ΑΠΟΣΤΟΛΟΠΟΥΛΟΣ ΤΑΚΗΣ 10 ΧΛΜ Ανδρες (50+) 1 0:47:12\n13 1321 ΤΣΟΛΑΚΗΣ ΑΛΕΞΑΝΔΡΟΣ 10 ΧΛΜ Ανδρες (31-50 ετών) 10 0:47:23\n14 1167 ΚΑΖΑΚΙΔΗΣ ΘΟΔΩΡΗΣ 10 ΧΛΜ Ανδρες (31-50 ετών) 11 0:47:25\n15 1162 ΒΙΛΑΝΤΩΝΗΣ ΧΡΗΣΤΟΣ 10 ΧΛΜ Ανδρες (31-50 ετών) 12 0:48:17\n16 1313 HICKMAN JAY 10 ΧΛΜ Ανδρες (31-50 ετών) 13 0:48:34\n17 1155 ΣΚΙΑΔΑΣ ΦΩΤΗΣ 10 ΧΛΜ Ανδρες (50+) 2 0:48:43\n18 1310 WALKER MARK 10 ΧΛΜ Ανδρες (50+) 3 0:49:20\n19 1165 VUCICH BLONDIE 10 ΧΛΜ Γυναίκες (όλες οι ηλικίες) 1 0:49:26\n20 1320 Brown COLIN 10 ΧΛΜ Ανδρες (50+) 4 0:51:04\n21 1304 ΧΑΣΑΠΗ ΝΙΚΗ 10 ΧΛΜ Γυναίκες (όλες οι ηλικίες) 2 0:51:57\n22 1129 ΡΟΓΚΑΣΚΑ ΒΕΣΕΛΑ 10 ΧΛΜ Γυναίκες (όλες οι ηλικίες) 3 0:52:35\n23 1163 ΤΣΑΝΤΟΥΛΗΣ ΝΙΚΟΛΑΟΣ 10 ΧΛΜ Ανδρες (19-30 ετών) 2 0:53:24\n24 1305 ΡΑΓΚΟΥΣΗΣ ΑΝΔΡΕΑΣ 10 ΧΛΜ Ανδρες (50+) 5 0:54:06\n25 1308 ΞΕΝΟΔΟΧΟΥ ΜΑΡΙΑ 10 ΧΛΜ Γυναίκες (όλες οι ηλικίες) 4 0:55:34\n26 1315 ΔΑΝΙΗΛΙΔΗΣ ΓΙΩΡΓΟΣ 10 ΧΛΜ Ανδρες (50+) 6 0:55:47\n27 1314 ΕΥΣΤΑΘΙΑΝΟΣ ΠΑΝΑΓΙΩΤΗΣ 10 ΧΛΜ Ανδρες (50+) 7 0:56:28\n28 1300 ΣΤΑΜΑΤΟΠΟΥΛΟΣ ΔΗΜΗΤΡΗΣ 10 ΧΛΜ Ανδρες (31-50 ετών) 14 0:58:38\n29 1164 ΠΑΓΩΝΗΣ ΣΤΑΜΑΤΗΣ 10 ΧΛΜ Ανδρες (31-50 ετών) 15 0:58:49\n30 1323 ΔΕΝΔΡΙΝΟΥ ΜΑΡΓΑΡΙΤΑ 10 ΧΛΜ Γυναίκες (όλες οι ηλικίες) 5 0:59:10\n31 1159 SHEKELEVA K 10 ΧΛΜ Γυναίκες (όλες οι ηλικίες) 6 1:01:09\n32 1322 ΙΣΙΓΩΝΗΣ ΠΑΝΑΓΙΩΤΗΣ 10 ΧΛΜ Ανδρες (31-50 ετών) 16 1:02:28\n33 1177 ΡΟΥΤΖΑΚΗΣ ΣΤΕΛΙΟΣ 10 ΧΛΜ Ανδρες (19-30 ετών) 3 1:02:33\n34 1154 ΓΙΑΤΡΑΣ ΒΑΣΙΛΗΣ 10 ΧΛΜ Ανδρες (31-50 ετών) 17 1:02:51\n35 1318 WEISS MARIA 10 ΧΛΜ Γυναίκες (όλες οι ηλικίες) 7 1:04:18\n36 1161 ΚΕΧΑΓΙΟΓΛΟΥ ΔΗΜΗΤΡΙΟΣ 10 ΧΛΜ Ανδρες (31-50 ετών) 18 1:05:50\n37 1166 EASTON HELEN 10 ΧΛΜ Γυναίκες (όλες οι ηλικίες) 8 1:05:50\n38 1316 BUERKI BARBARA 10 ΧΛΜ Γυναίκες (όλες οι ηλικίες) 9 1:09:05\n39 1317 JONES KRYSTAL 10 ΧΛΜ Γυναίκες (όλες οι ηλικίες) 10 1:18:39\n40 1301 COOPER JUDE 10 ΧΛΜ Γυναίκες (όλες οι ηλικίες) 11 1:21:56
URL:https://gorun.gr/race/1%ce%bf%cf%82-%ce%b1%ce%b3%cf%8e%ce%bd%ce%b1%cf%82-%ce%b4%cf%81%cf%8c%ce%bc%ce%bf%cf%85-%cf%80%cf%81%ce%bf%cf%82-%cf%84%ce%b9%ce%bc%ce%ae-%cf%84%ce%bf%cf%85-%ce%ae%cf%81%cf%89%ce%b1-%ce%bd%ce%b9%ce%ba/
CATEGORIES:Αποτελέσματα,Δρόμος
ATTACH;FMTTYPE=image/jpeg:https://gorun.gr/wp-content/uploads/2016/04/28b420c71d5f39a6ed6f27f307d38ea2_L.jpg
END:VEVENT
END:VCALENDAR