BEGIN:VCALENDAR
VERSION:2.0
PRODID:-//goRUN - ECPv5.8.1//NONSGML v1.0//EN
CALSCALE:GREGORIAN
METHOD:PUBLISH
X-WR-CALNAME:goRUN
X-ORIGINAL-URL:https://gorun.gr
X-WR-CALDESC:Events for goRUN
BEGIN:VTIMEZONE
TZID:Europe/Athens
BEGIN:DAYLIGHT
TZOFFSETFROM:+0200
TZOFFSETTO:+0300
TZNAME:EEST
DTSTART:20160327T010000
END:DAYLIGHT
BEGIN:STANDARD
TZOFFSETFROM:+0300
TZOFFSETTO:+0200
TZNAME:EET
DTSTART:20161030T010000
END:STANDARD
END:VTIMEZONE
BEGIN:VEVENT
DTSTART;VALUE=DATE:20160821
DTEND;VALUE=DATE:20160822
DTSTAMP:20260424T122659
CREATED:20160726T153627Z
LAST-MODIFIED:20160824T155229Z
UID:9271-1471737600-1471823999@gorun.gr
SUMMARY:1ος Αγώνας Ηρώων των Αιθέρων
DESCRIPTION:1ος Αγώνας Ηρώων των Αιθέρων \nΑγώνας δρόμου Ρεντίνα Καρδίτσας 21/8/16 \n12 χιλιόμετρα \nπληροφορίες\nΚΑΡΑΝΤΑΝΑΣ ΙΩΑΝΝΗΣ 6970020520\nΖΗΣΟΠΟΥΛΟΣ ΒΗΣΣΑΡΗΣ 6984993437 . \nΔΗΛΩΣΕΙΣ ΣΥΜΜΕΤΟΧΗΣ sdkarditsas@yahoo.gr κ.ΒΗΣΣΑΡΗ 6984993437. \nΗ ΑΝΑΛΥΤΙΚΗ ΠΡΟΚΗΡΥΞΗ ΠΡΟΣΕΧΩΣ !
URL:https://gorun.gr/race/1%ce%bf%cf%82-%ce%b1%ce%b3%cf%8e%ce%bd%ce%b1%cf%82-%ce%b7%cf%81%cf%8e%cf%89%ce%bd-%cf%84%cf%89%ce%bd-%ce%b1%ce%b9%ce%b8%ce%ad%cf%81%cf%89%ce%bd/
CATEGORIES:Δρόμος
END:VEVENT
END:VCALENDAR