BEGIN:VCALENDAR
VERSION:2.0
PRODID:-//goRUN - ECPv5.8.1//NONSGML v1.0//EN
CALSCALE:GREGORIAN
METHOD:PUBLISH
X-WR-CALNAME:goRUN
X-ORIGINAL-URL:https://gorun.gr
X-WR-CALDESC:Events for goRUN
BEGIN:VTIMEZONE
TZID:Europe/Athens
BEGIN:DAYLIGHT
TZOFFSETFROM:+0200
TZOFFSETTO:+0300
TZNAME:EEST
DTSTART:20160327T010000
END:DAYLIGHT
BEGIN:STANDARD
TZOFFSETFROM:+0300
TZOFFSETTO:+0200
TZNAME:EET
DTSTART:20161030T010000
END:STANDARD
END:VTIMEZONE
BEGIN:VEVENT
DTSTART;VALUE=DATE:20161008
DTEND;VALUE=DATE:20161009
DTSTAMP:20260421T052644
CREATED:20160730T120511Z
LAST-MODIFIED:20161012T125047Z
UID:9357-1475884800-1475971199@gorun.gr
SUMMARY:1ος Αμφικτυονικός Αγώνας Δρόμου
DESCRIPTION:1ος Αμφικτυονικός Αγώνας Δρόμου \n10.000 μέτρα\nΕκκίνηση Μνημείο Θερμοπυλών\n Τερματισμός πλατεία Ανθήλης \nΠροσωρινά αποτελέσματα 1ου Αμφικτυονικού Αγώνα Δρόμου\, 2016 “Ευθύμιος Χριστόπουλος”\nΔΡΟΜΕΙΣ\nΓενική Κατάταξη Αμφ/κος Αριθμός Χρονική Επιδοση Επίθετο/Surname Όνομα/Name Σύλλογος/Club\n1/1ος άνδρας 208 0:38:02 ΣΚΟΥΤΑΡΗΣ ΝΙΚΟΛΑΟΣ ΣΑΠΠΑΖ\n2/2ος άνδρας 198 0:40:23 ΠΕΧΛΙΒΑΝΗΣ Χρήστος ΑΝΕΞΑΡΤΗΤΟΣ\n3/3ος άνδρας 180 0:41:09 ΚΩΣΤΟΠΟΥΛΟΣ ΚΩΝΣΤΑΝΤΙΝΟΣ ΕΟΣ ΜΑΚΡΑΚΩΜΗΣ\n4 175 0:41:50 ΑΡΓΥΡΗΣ ΓΙΩΡΓΟΣ ΤΡΑΧΙΝΑ\n5/1η Γυναίκα 153 0:46:12 ΛΙΡΑ ΚΑΛΛΙΡΟΗ ΑΝΕΞΑΡΤΗΤΗ\n6 156 0:46:24 ΚΕΝΤΡΟΣ ΚΩΝΣΤΑΝΤΙΝΟΣ Σ.Δ.ΣΜΟΚΟΒΟΥ\n7 107 0:46:36 ΚΑΡΑΚΩΣΤΑΣ ΔΗΜΗΤΡΗΣ ΑΝΕΞΑΡΤΗΤΟΣ\n8 187 0:47:19 ΚΟΝΤΟΒΑΣ ΗΛΙΑΣ ΤΡΑΧΙΝΑ\n9/2η Γυναίκα 216 0:47:44 ΛΟΥΛΟΥ ΣΟΦΙΑ ΑΝΕΞΑΡΤΗΤΗ\n10 159 0:48:04 ΖΕΥΓΑΡΑΣ ΠΑΝΑΓΙΩΤΗΣ ΑΝΕΞΑΡΤΗΤΟΣ\n11 135 0:48:05 ΜΠΑΛΟΚΑΣ ΔΗΜΗΤΡΙΟΣ ΑΛΜΥΡΟΣ\n12 136 0:48:11 ΓΚΕΚΑΣ ΓΙΩΡΓΟΣ ΣΕΒΑΣ ΦΘΙΩΤΙΔΑΣ\n13 103 0:48:23 ΚΑΡΒΟΥΝΗΣ ΓΙΩΡΓΟΣ ΑΝΕΞΑΡΤΗΤΟΣ\n14 120 0:48:42 ΜΠΑΝΤΕΛΑΣ ΕΥΑΓΓΕΛΟΣ ΣΔΥ ΚΑΡΔΙΤΣΑΣ\n15 111 0:49:19 ΚΟΚΚΙΝΟΣ ΣΤΕΦΑΝΟΣ ΣΥΛ ΔΡΩΜ ΚΑΡΔΙΤΣΑΣ\n16 211 0:50:00 ΓΟΥΡΓΟΥΛΗΣ ΘΕΟΔΩΡΟΣ ΑΤΑΛΑΝΤΗΣ\n17 197 0:50:16 ΠΑΝΑΓΟΣ ΓΕΩΡΓΙΟΣ ΑΝΕΞΑΡΤΗΤΟΣ\n18 154 0:50:34 ΚΙΟΣΣΕΣ ΣΤΈΡΓΙΟΣ ΑΝΕΞΑΡΤΗΤΟΣ\n19 147 0:51:08 ΦΙΤΣΙΟΣ ΝΙΚΟΛΑΟΣ ΑΝΕΞΑΡΤΗΤΟΣ\n20 204 0:51:28 ΜΟΥΣΤΗΣ ΧΡΗΣΤΟΣ A.E ORCHOMENOU RUNNERS\n21 119 0:51:56 ΜΠΟΥΓΑΣ ΘΕΟΔΩΡΟΣ AΝΕΞΑΡΤΗΤΟΣ ΑΤΑΛΑΝΤΗΣ\n22 105 0:52:10 ΓΑΡΤΣΩΝΗΣ ΙΩΑΝΝΗΣ ΤΡΑΧΙΝΑ\n23 185 0:52:22 ΔΗΜΑΚΗΣ ΓΕΩΡΓΙΟΣ ΝΗΡΕΑΣ\n24 207 0:52:23 ΜΠΟΥΤΣΗΣ ΧΡΗΣΤΟΣ ΦΥΣΙΟΛΑΤΡΙΚΟΣ ΑΝΘΗΛΗΣ\n25 157 0:52:30 ΧΑΝΤΣΟΥΛΗΣ ΝΙΚΟΛΑΟΣ Σ.Δ.ΣΜΟΚΟΒΟΥ\n26 148 0:52:39 ΛΙΑΣΚΑΚΗΣ ΔΗΜΗΤΡΙΟΣ ΑΝΕΞΑΡΤΗΤΟΣ\n27 139 0:52:39 ΚΟΥΤΟΥΒΑΛΗΣ ΛΕΩΝΙΔΑΣ FREE RUNNERS\n28/3η Γυναίκα 131 0:53:08 ΜΠΟΤΣΗ ΣΤΕΛΛΑ ΑΝΘΗΛΗΣ\n29 108 0:53:16 ΓΕΩΡΓΑΚΟΠΟΥΛΟΣ ΓΕΩΡΓΙΟΣ ΤΡΑΧΙΝΑ\n30 161 0:53:35 ΚΑΤΣΙΜΗΤΡΟΣ ΗΛΙΑΣ ΑΝΕΞΑΡΤΗΤΟΣ\n31 191 0:53:42 ΛΟΥΚΑΣ ΣΤΑΥΡΟΣ ΑΝΕΞΑΡΤΗΤΟΣ\n32 117 0:53:47 ΡΟΥΣΣΗΣ ΑΘΑΝΑΣΙΟΣ Α.Ε ORCHOMENOU RUNNERS\n33 166 0:53:54 ΑΠΟΣΤΟΛΟΠΟΥΛΟΣ ΚΩΝΣΤΑΝΤΙΝΟΣ ΤΡΑΧΙΝΑ\n34 186 0:54:07 ΚΟΝΤΟΒΑΣ ΓΕΩΡΓΙΟΣ ΤΡΑΧΙΝΑ\n35 169 0:54:09 ΣΙΑΜΠΟΥΛΗΣ ΘΑΝΑΣΗΣ Α.Π.Σ ΑΜΦΙΚΤΥΟΝΕΣ\n36 188 0:54:18 ΡΟΥΜΕΛΙΩΤΗΣ ΧΡΗΣΤΟΣ ΑΝΕΞΑΡΤΗΤΟΣ\n37 141 0:54:41 ΚΑΛΤΣΗΣ ΒΑΣΙΛΕΙΟΣ Α.Π.Σ ΑΜΦΙΚΤΥΟΝΕΣ\n38 132 0:55:40 ΕΛΛΗΝΑΣ ΔΗΜΗΤΡΙΟΣ ΑΝΕΞΑΡΤΗΤΟΣ\n39 205 0:55:40 ΝΑΣΟΥΦΙΣ ΛΕΥΤΕΡΗΣ ΑΝΕΞΑΡΤΗΤΟΣ\n40 151 0:56:20 ΜΑΝΑΝΑΣ ΔΗΜΗΤΡΙΟΣ ΑΝΕΞΑΡΤΗΤΟΣ\n41 109 0:56:27 ΚΑΛΙΑΜΟΥΤΟΥ ΕΛΕΝΑ ΑΝΕΞΑΡΤΗΤΗ\n42 150 0:56:34 ΙΩΑΝΝΟΥ ΑΝΔΡΕΑΣ ΕΟΣ ΛΑΜΙΑΣ\n43 213 0:56:51 ΣΙΟΛΟΣ ΔΗΜΗΤΡΙΟΣ ΤΡΑΧΙΝΑ\n44 114 0:57:20 ΛΑΜΠΡΟΥ ΙΩΑΝΝΗΣ ΕΠΟΣ ΜΑΚΡΑΚΩΜΗΣ\n45 113 0:57:21 ΖΑΧΟΥ ΙΟΥΛΙΑ ΕΠΟΣ ΜΑΚΡΑΚΩΜΗΣ\n46 134 0:57:22 ΜΑΣΤΡΟΓΙΑΝΝΗΣ ΚΩΝΣΤΑΝΤΙΝΟΣ ΑΝΕΞΑΡΤΗΤΟΣ\n47 201 0:57:23 ΖΕΓΚΙΝΟΓΛΟΥ ΦΙΛΙΠΠΟΣ ΑΝΕΞΑΡΤΗΤΟΣ\n48 163 0:57:50 ΨΑΡΡΑ ΕΥΘΑΛΙΑ ΑΝΕΞΑΡΤΗΤΗ\n49 112 0:57:53 ΔΡΕΛΛΑΣ ΛΟΥΚΑΣ ΑΝΕΞΑΡΤΗΤΟΣ\n50 176 0:57:53 ΡΟΧΑΪΜΑ ΛΕΥΤΕΡΗΣ ΣΥΛ.ΔΡΟΜ.ΥΓΕΙΑΣ ΠΕΙΡΑΙΑ\n51 104 0:57:56 ΣΤΡΙΦΤΟΣ ΚΩΝΣΤΑΝΤΙΝΟΣ ΣΕΒΑΣ ΦΘΙΩΤΙΔΑΣ\n52 137 0:58:09 ΑΡΒΑΝΙΤΗΣ ΓΙΩΡΓΟΣ ΑΠΣ ΑΜΦΙΚΤΥΟΝΕΣ\n53 215 0:58:50 ΑΝΔΡΙΤΣΟΣ ΝΙΚΟΛΑΟΣ ΑΠΣ ΑΜΦΙΚΤΥΟΝΕΣ\n54 149 0:58:57 ΣΠΑΘΟΥΛΑΣ ΜΑΝΟΣ SALUTE GYM\n55 181 0:58:46 ΣΤΑΥΡΟΠΟΥΛΟΣ ΙΩΑΝΝΗΣ YIOULIS RUNNING TEAM\n56 170 0:59:00 ΚΟΝΤΑΚΤΣΗΣ ΛΑΖΑΡΟΣ Α.Π.Σ. ΑΜΦΙΚΤΥΟΝΕΣ\n57 110 0:59:12 ΡΑΠΤΗΣ ΓΚΙΚΑΣ AGIOS KON/NOS\n58 209 0:59:12 ΡΑΧΙΩΤΗΣ ΚΩΝΣΤΑΝΤΙΝΟΣ ΑΡΙΑΔΝΗ\n59 202 1:00:08 ΤΣΟΚΑΣ ΝΙΚΟΛΑΟΣ ΑΝΕΞΑΡΤΗΤΟΣ\n60 165 1:00:35 ΓΑΝΤΖΟΥΔΗΣ ΒΑΣΙΛΗΣ ΑΝΕΞΑΡΤΗΤΟΣ\n61 130 1:00:35 ΝΙΚΑΣ ΚΩΝΣΤΑΝΤΙΝΟΣ ΠΔΣ ΟΔΥΣΣΕΑΣ\n62 203 1:01:07 ΚΟΝΤΟΣ ΚΩΝΣΤΑΝΤΙΝΟΣ ΣΕΒΑΣ ΦΘΙΩΤΙΔΑΣ\n63 179 1:01:14 ΚΟΥΤΣΟΥΜΠΑΣ ΙΩΑΝΝΗΣ ΤΣΟΥΚΑΛΑΔΩΝ\n64 182 1:01:16 ΛΟΥΚΑΣ ΛΟΥΚΑΣ ΑΝΕΞΑΡΤΗΤΟΣ\n65 133 1:01:27 ΓΙΑΝΝΟΠΟΥΛΟΣ ΠΑΝΑΓΙΩΤΗΣ ΑΝΕΞΑΡΤΗΤΟΣ\n66 183 1:01:42 ΜΠΟΥΡΑΣ ΑΓΓΕΛΟΣ ΑΝΕΞΑΡΤΗΤΟΣ\n67 116 1:02:26 ΧΡΙΣΤΟΔΟΥΛΟΥ ΛΑΜΠΡΟΣ Α.Ε ORCHOMENOU RUNNERS\n68 118 1:02:33 ΤΣΑΓΑΛΑΣ ΛΟΥΚΑΣ orchomenos\n69 101 1:02:34 ΧΑΤΖΗΧΑΡΑΛΑΜΠΟΥΣ ΔΕΣΠΟΙΝΑ ΑΠΟΛΛΩΝ – ΟΡΣΙΠΠΟΣ\n70 194 1:04:17 AΘΑΝΑΣΙΟΥ ΓΙΩΡΓΟΣ ΤΡΑΧΙΝΑ\n71 214 1:04:25 ΡΑΠΤΗ ΦΙΛΙΩ ΑΝΕΞΑΡΤΗΤΗ\n72 196 1:06:20 ΤΣΙΓΚΑΣ ΔΗΜΗΤΡΙΟΣ ΤΡΑΧΙΝΑ\n73 167 1:06:20 ΛΕΒΑΚΟΣ ΣΩΤΗΡΗΣ ΑΝΕΞΑΡΤΗΤΟΣ ΔΡΟΜΕΑΣ\n74 124 1:06:20 ΒΟΥΛΓΑΡΗΣ ΔΗΜΗΤΡΗΣ ΑΝΕΞΑΡΤΗΤΟΣ ΔΡΟΜΕΑΣ\n75 193 1:06:39 ΖΗΣΟΠΟΥΛΟΣ ΑΝΑΣΤΑΣΙΟΣ ΑΠΣ ΑΜΦΙΚΤΥΟΝΕΣ\n76 138 1:06:39 ΣΟΥΓΚΡΟΣ ΑΘΑΝΑΣΙΟΣ ΑΠΣ ΑΜΦΙΚΤΥΟΝΕΣ\n77 162 1:07:09 ΜΠΑΚΟΓΙΑΝΝΗ ΑΘΑΝΑΣΙΑ ΑΝΕΞΑΡΤΗΤΗ\n78 177 1:07:41 ΤΣΑΛΙΚΗΣ ΣΤΕΛΙΟΣ ΑΝΕΞΑΡΤΗΤΟΣ\n79 212 1:08:18 ΜΑΡΑΓΚΟΣ ΔΗΜΗΤΡΙΟΣ ΑΝΕΞΑΡΤΗΤΟΣ\n80 178 1:08:19 ΧΑΡΑΤΣΗΣ ΠΑΝΑΓΙΩΤΗΣ ΑΝΕΞΑΡΤΗΤΟΣ\n81 155 1:08:35 ΓΕΩΡΓΟΠΟΥΛΟΣ ΠΑΝΑΓΙΩΤΗΣ ΑΝΕΞΑΡΤΗΤΟΣ\n82 115 1:09:06 ΑΚΡΙΒΟΥ ΒΑΣΙΛΙΚΗ ΑΝΕΞΑΡΤΗΤΗ\n83 106 1:09:45 ΚΟΣΜΑΣ ΘΩΜΑΣ ΤΡΑΧΙΝΑ\n84 122 1:12:40 ΤΣΟΓΚΑΣ ΑΠΟΣΤΟΛΗΣ Σ.Φ. A.E.K. ΛΑΜΙΑΣ\n85 184 1:12:40 ΘΕΟΦΑΝΟΠΟΥΛΟΣ ΣΤΕΛΙΟΣ ΛΕΣΧΗ ΚΑΤΑΔΡΟΜΕΩΝ\n86 206 1:12:15 ΓΙΑΣΑΡΗΣ ΔΙΑΜΑΝΤΗΣ ΑΝΕΞΑΡΤΗΤΟΣ\n86 192 1:14:00 ΦΥΤΙΛΗ ΓΙΟΥΛΗ YIOULIS RUNNING TEAM\n87 199 1:14:11 ΚΑΤΣΙΦΑΣ ΝΙΚΗΦΟΡΟΣ Α.Π.Σ ΑΜΦΙΚΤΥΟΝΕΣ\n88 172 1:14:12 ΚΟΚΚΙΝΟΣ ΘΕΟΦΑΝΗΣ Α.Π.Σ ΑΜΦΙΚΤΥΟΝΕΣ\n89 173 1:14:13 ΠΑΠΑΒΑΣΙΛΕΙΟΥ ΑΠΟΣΤΟΛΗΣ Α.Π.Σ ΑΜΦΙΚΤΥΟΝΕΣ\n90 125 1:14:30 ΑΝΤΩΝΙΟΥ ΙΩΑΝΝΗΣ ΚΑΛΛΙΟ ΑΡΓΑ\n91 210 1:16:40 ΑΝΤΩΝΟΠΟΥΛΟΣ ΣΩΤΗΡΙΟΣ ΑΝΕΞΑΡΤΗΤΟΣ\n92 129 1:19:55 ΝΙΩΡΑ ΕΛΕΝΗ ΠΔΣ ΟΔΥΣΣΕΑΣ\n93 200 1:22:05 ΖΙΩΓΑ ΗΛΙΑΝΑ ΑΝΕΞΑΡΤΗΤΗ\n94 300 1:22:05 ΑΘΑΝΑΣΙΑΣ ΑΘΑΝΑΣΙΟΣ ΑΝΕΞΑΡΤΗΤΟΣ \nΠΕΡΙΠΑΤΗΤΕΣ \n1 7 1:25:28 ΔΗΜΟΠΟΥΛΟΥ ΦΩΤΕΙΝΗ ΑΝΕΞΑΡΤΗΤΗ\n2 8 1:25:29 ΔΗΜΟΠΟΥΛΟΣ ΓΙΩΡΓΟΣ ΑΝΕΞΑΡΤΗΤΟΣ\n3 24 1:28:46 ΔΑΣΚΑΛΟΥ ΕΥΓΕΝΙΑ ΑΝΕΞΑΡΤΗΤΗ\n4 10 1:30:40 ΖΟΥΓΡΟΥ ΕΛΕΝΗ ΑΝΕΞΑΡΤΗΤΗ\n5 62 1:31:21 ΣΤΑΘΟΥΔΑΚΗ ΕΥΓΕΝΙΑ ΑΝΕΞΑΡΤΗΤΗ\n6 61 1:31:22 ΕΛΕΥΘΕΡΙΟΥ ΔΗΜΗΤΡΙΟΣ ΑΝΕΞΑΡΤΗΤΟΣ\n7 11 1:32:14 ΤΣΕΛΟΣ ΔΗΜΗΤΡΙΟΣ ΑΝΕΞΑΡΤΗΤΟΣ\n8 12 1:33:55 ΚΑΡΑΠΑΤΗ ΓΕΩΡΓΙΑ ΕΠΟΣ ΜΑΚΡΑΚΩΜΗΣ\n9 51 1:34:12 ΡΑΠΤΗΣ ΘΕΟΦΑΝΗΣ ΤΡΑΧΙΝΑ\n10 90 1:34:18 ΚΑΡΜΙΡΗ ΧΡΙΣΤΙΝΑ\n11 22 1:35:17 ΑΘΑΝΑΣΙΟΥ ΜΑΓΔΑ ΑΝΕΞΑΡΤΗΤΗ\n12 55 1:35:36 ΡΟΥΛΙΑ ΑΝΑΣΤΑΣΙΑ LADIES’GYM LAMIAS\n13 56 1:35:36 ΚΡΙΚΟΣ ΙΩΑΝΝΗΣ ΤΡΑΧΙΝΑ\n14 57 1:35:36 ΚΡΙΚΟΣ ΑΛΕΞΑΝΔΡΟΣ ΑΝΕΞΑΡΤΗΤΟΣ\n15 58 1:35:36 ΚΡΙΚΟΥ ΝΕΦΕΛΗ ΑΝΕΞΑΡΤΗΤΗ\n16 53 1:35:55 ΡΑΠΤΗΣ ΔΗΜΗΤΡΙΟΣ ΑΝΕΞΑΡΤΗΤΟΣ\n17 48 1:36:09 ΚΑΚΟΓΙΑΝΝΗ ΠΟΛΥ ΕΟΣ\n18 20 1:36:20 ΕΥΑΓΓΕΛΙΟΥ ΒΑΣΙΛΙΚΗ ΓΥΜΝΑΣΤΗΡΙΟ ΑΝΘΗΛΗΣ\n19 15 1:37:39 ΣΦΑΚΙΑΝΟΣ ΔΗΜΗΤΡΙΟΣ ΑΠΣ ΑΜΦΙΚΤΥΟΝΕΣ\n20 46 1:37:47 ΚΑΡΑΧΑΛΙΟΥ ΚΩΝΣΤΑΝΤΙΝΑ ΓΥΜΝΑΣΤΗΡΙΟ ΑΝΘΗΛΗΣ\n21 67 1:38:13 ΒΟΥΛΓΑΡΗ ΘΩΜΑΗ ΑΝΕΞΑΡΤΗΤΗ ΔΡΟΜΕΑΣ\n22 60 1:38:56 ΜΠΑΜΠΟΥΚΛΗΣ ΜΙΛΤΙΑΔΗΣ ΠΟΛΙΤΙΣΤΙΚΟΣ ΣΥΛΛΟΓΟΣ ΔΙΒΡΙΩΤΩΝ\n23 59 1:38:56 ΗΛΙΟΠΟΥΛΟΣ ΔΗΜΗΤΡΙΟΣ ΠΟΛΙΤΙΣΤΙΚΟΣ ΣΥΛΛΟΓΟΣ ΔΙΒΡΙΩΤΩΝ\n24 14 1:40:50 ΜΠΟΛΩΤΑ ΤΡΙΑΝΤΑΦΥΛΛΙΑ ΑΝΕΞΑΡΤΗΤΗ\n25 13 1:40:50 ΝΤΟΥΜΑ ΕΛΕΝΗ ΑΝΕΞΑΡΤΗΤΗ\n26 31 1:42:10 ΝΤΙΤΣΑ ΒΑΣΙΛΙΚΗ ΓΥΜΝΑΣΤΗΡΙΟ ΑΝΘΗΛΗΣ\n27 19 1:42:11 ΣΕΒΑΣΤΙΔΗ ΛΕΛΟΥΔΑ ΑΝΕΞΑΡΤΗΤΗ\n28 40 1:42:12 ΝΤΑΦΟΣ ΔΗΜΗΤΡΙΟΣ ΓΥΜΝΑΣΤΗΡΙΟ ΑΝΘΗΛΗΣ\n29 38 1:42:13 ΡΟΥΤΣΙΑ ΒΑΣΙΛΙΚΗ ΓΥΜΝΑΣΤΗΡΙΟ ΑΝΘΗΛΗΣ\n30 32 1:42:14 ΚΟΥΚΟΒΙΝΟΥ ΣΤΕΛΛΑ ΓΥΜΝΑΣΤΗΡΙΟ ΑΝΘΗΛΗΣ\n31 39 1:42:16 ΜΗΝΑ ΑΣΠΑΣΙΑ ΓΥΜΝΑΣΤΗΡΙΟ ΑΝΘΗΛΗΣ\n32 36 1:43:40 ΔΟΚΤΟΥΡΗ ΕΛΕΝΗ ΓΥΜΝΑΣΤΗΡΙΟ ΑΝΘΗΛΗΣ\n33 42 1:43:41 ΚΟΥΤΡΑ ΓΕΩΡΓΙΑ ΓΥΜΝΑΣΤΗΡΙΟ ΑΝΘΗΛΗΣ\n34 84 1:45:20 ΚΑΡΑΚΑΤΑ ΑΛΕΞΑΝΔΡΑ ΓΥΜΝΑΣΤΗΡΙΟ ΑΝΘΗΛΗΣ\n35 41 1:46:00 ΖΗΣΟΠΟΥΛΟΣ ΧΡΗΣΤΟΣ ΓΥΜΝΑΣΤΗΡΙΟ ΑΝΘΗΛΗΣ\n36 34 1:46:01 ΕΜΑΝΟΥΗΛ ΙΩΑΝΝΑ ΓΥΜΝΑΣΤΗΡΙΟ ΑΝΘΗΛΗΣ\n37 49 1:46:22 ΚΑΡΑΝΑΣΙΟΥ ΑΛΕΚΑ ΓΥΜΝΑΣΤΗΡΙΟ ΑΝΘΗΛΗΣ\n38 69 1:47:45 ΓΕΩΡΓΙΕΒΑ ΝΤΙΑΝΝΑ AΠΣ ΑΜΦΙΚΤΥΟΝΕΣ\n39 71 1:47:45 ΚΑΚΟΥ ΜΑΡΙΑ ΑΠΣ ΑΜΦΙΚΤΥΟΝΕΣ\n40 29 1:50:18 ΔΑΙΤΣΙΩΤΗ ΠΑΡΑΣΚΕΥΗ ΓΥΜΝΑΣΤΗΡΙΟ ΑΝΘΗΛΗΣ\n41 30 1:50:19 ΣΤΟΚΑ ΔΗΜΗΤΡΑ ΓΥΜΝΑΣΤΗΡΙΟ ΑΝΘΗΛΗΣ\n42 26 1:53:45 ΑΓΓΕΛΟΥΣΗ ΓΕΩΡΓΙΑ ΓΥΜΝΑΣΤΗΡΙΟ ΑΝΘΗΛΗΣ\n43 23 1:53:46 ΑΚΡΙΒΟΥ ΑΣΗΜΕΝΙΑ ΓΥΜΝΑΣΤΗΡΙΟ ΑΝΘΗΛΗΣ\n44 37 1:53:47 ΚΟΥΝΤΟΥΡΗ ΕΛΕΝΗ ΓΥΜΝΑΣΤΗΡΙΟ ΑΝΘΗΛΗΣ\n45 27 1:53:48 ΚΑΚΚΑΒΑ ΔΗΜΗΤΡΙΑΝΑ ΓΥΜΝΑΣΤΗΡΙΟ ΑΝΘΗΛΗΣ\n46 45 1:53:49 ΛΑΤΟΥ ΝΑΤΑΣΑ ΓΥΜΝΑΣΤΗΡΙΟ ΑΝΘΗΛΗΣ\n47 25 1:53:49 ΜΠΟΛΤΕΤΣΟΣ ΓΕΩΡΓΙΟΣ ΑΠΣ ΑΜΦΙΚΤΥΟΝΕΣ\n48 44 ΠΑΠΑΒΑΣΙΛΕΙΟΥ ΚΩΝΣΤΑΝΤΙΝΑ ΑΠΣ ΑΜΦΙΚΤΥΟΝΕΣ
URL:https://gorun.gr/race/1%ce%bf%cf%82-%ce%b1%ce%bc%cf%86%ce%b9%ce%ba%cf%84%cf%85%ce%bf%ce%bd%ce%b9%ce%ba%cf%8c%cf%82-%ce%b1%ce%b3%cf%8e%ce%bd%ce%b1%cf%82-%ce%b4%cf%81%cf%8c%ce%bc%ce%bf%cf%85/
CATEGORIES:Αποτελέσματα,Δρόμος
END:VEVENT
END:VCALENDAR