BEGIN:VCALENDAR
VERSION:2.0
PRODID:-//goRUN - ECPv5.8.1//NONSGML v1.0//EN
CALSCALE:GREGORIAN
METHOD:PUBLISH
X-WR-CALNAME:goRUN
X-ORIGINAL-URL:https://gorun.gr
X-WR-CALDESC:Events for goRUN
BEGIN:VTIMEZONE
TZID:Europe/Athens
BEGIN:DAYLIGHT
TZOFFSETFROM:+0200
TZOFFSETTO:+0300
TZNAME:EEST
DTSTART:20160327T010000
END:DAYLIGHT
BEGIN:STANDARD
TZOFFSETFROM:+0300
TZOFFSETTO:+0200
TZNAME:EET
DTSTART:20161030T010000
END:STANDARD
END:VTIMEZONE
BEGIN:VEVENT
DTSTART;VALUE=DATE:20160807
DTEND;VALUE=DATE:20160808
DTSTAMP:20260423T005525
CREATED:20160430T114157Z
LAST-MODIFIED:20160817T192227Z
UID:6438-1470528000-1470614399@gorun.gr
SUMMARY:1ος "ΖΕΥΣ" Πεζοπορικός Αγώνας Ανάβασης και Κατάβασης στον Όλυμπο
DESCRIPTION:Κατάταξη	Αριθμός	Επώνυμο	Όνομα	Φύλο	Κατηγορία	Χρόνος\n1	49	Κόντος	Αριστοτέλης	Α	47 Χμ	5:56\n2	47	Ζιαμπάρας	Δημήτρης	Α	47 Χμ	6:33\n3	56	Νάνος	Αθανάσιος	Α	47 Χμ	6:34\n4	61	Βουλγαρίδης	Χρήστος	Α	47 Χμ	6:43\n5	36	Κόντης	Νίκος	Α	47 Χμ	6:48\n6	23	Σοφιανίδης	Νίκος	Α	47 Χμ	6:56\n7	15	Κανωτίδης	Θεόδωρος	Α	47 Χμ	7:21\n8	39	Χατζηιωάννου	Γιάννης	Α	47 Χμ	7:36\n9	58	Τζητηρίδης	Ευστάθιος	Α	47 Χμ	7:40\n10	52	Τρέμμας	Γεώργιος	Α	47 Χμ	7:42\n11	15	Καπούλας	Γιάννης	Α	47 Χμ	8:11\n12	60	Παπαμιχαήλ	Ιωάννης	Α	47 Χμ	8:27\n13	21	Ιωαννίδης	Σπύρος	Α	47 Χμ	8:28\n14	24	Τσαπούρας	Απόστολος	Α	47 Χμ	8:37\n15	35	Νάτσιος	Γεώργιος	Α	47 Χμ	8:41\n16	37	Sfiriklas	Nikolaos	Α	47 Χμ	9:00\n17	45	Τζιοβάρας	Αρης	Α	47 Χμ	9:03\n18	44	Ντάλλας	Βασίλειος	Α	47 Χμ	9:03\n19	68	Νάτσιος	Αντρέας	Α	47 Χμ	9:28\n20	29	Κυριλλίδης	Βασίλης	Α	47 Χμ	9:45\n21	69	Καρέτσος	Γεώργιος	Α	47 Χμ	9:51\n22	31	Σταυρίδης	Γιώργος	Α	47 Χμ	10:04\n23	54	Γκέκας	Νύφων	Α	47 Χμ	10:05\n24	53	Τσάτσας	Ηλίας	Α	47 Χμ	10:05\n25	48	Γεωργιάδης	Νικόλαος	Α	47 Χμ	10:07\n26	11	Αλέξογλου	Σταύρος	Α	47 Χμ	10:11\n27	33	Μπέλτσιος	Βασίλειος	Α	47 Χμ	10:34\n28	51	Φίλιππας	Στάθης	Α	47 Χμ	10:49\n29	43	Πουλακίδας	Γεώργιος	Α	47 Χμ	10:58\n30	38	Πανάγος	Κωνσταντίνος	Α	47 Χμ	11:12\n31	65	Γκουντούρας	Νίκος	Α	47 Χμ	11:23\n32	40	Βλοντάκης	Γιάννης	Α	47 Χμ	11:28\n33	57	Γκαραφλής	Δημήτρης	Α	47 Χμ	11:37\n34	62	Γκαραφλής	Κωνσταντίνος	Α	47 Χμ	11:37\n35	64	Παπαναστασίου	Ευθύμιος	Α	47 Χμ	11:42\n36	27	Κόκκινος	Φώτης	Α	47 Χμ	11:47\n37	28	Λινάρδου	Κατερίνα	Γ	47 Χμ	11:47\n1	76	Ζιανός	Κωνσταντίνος	Α	28 χμ	7:37\n1	82	Καρυπίδης	Ηλίας	Α	28 χμ	7:37\n2	74	Χατζηκωνσταντίνου	Κωνσταντίνος	Α	28 χμ	8:24\n3	71	Νάνος	Αθανάσιος	Α	28 χμ	8:52\n4	89	Μπρούτσος	Βασίλειος	Α	28 χμ	9:58\n5	77	Καραμήτσος	Γρηγόρης	Α	28 χμ	11:16\n6	85	Τσανά	Ανδρομάχη	Γ	28 χμ	11:17\n6	83	Καλογερόπουλος	Αχιλλέας	Α	28 χμ	11:17\n7	72	Νατσιούλη	Κωνσταντίνα	Γ	28 χμ	11:20\n7	92	Τζιουμακλής	Κωνσταντίνος	Α	28 χμ	11:20\n8	41	Τουρλομούσης	Παναγιώτης	Α	28 χμ	12:29\n9	88	Κορβάνης	Χρόνης	Α	28 χμ	12:31\n9	91	Τζιουμακλή	Δέσποινα	Γ	28 χμ	12:31
URL:https://gorun.gr/race/1%ce%bf%cf%82-%ce%b6%ce%b5%cf%85%cf%83-%cf%80%ce%b5%ce%b6%ce%bf%cf%80%ce%bf%cf%81%ce%b9%ce%ba%cf%8c%cf%82-%ce%b1%ce%b3%cf%8e%ce%bd%ce%b1%cf%82-%ce%b1%ce%bd%ce%ac%ce%b2%ce%b1%cf%83%ce%b7%cf%82-%ce%ba/
CATEGORIES:Αποτελέσματα,Βουνό
END:VEVENT
END:VCALENDAR