BEGIN:VCALENDAR
VERSION:2.0
PRODID:-//goRUN - ECPv5.8.1//NONSGML v1.0//EN
CALSCALE:GREGORIAN
METHOD:PUBLISH
X-WR-CALNAME:goRUN
X-ORIGINAL-URL:https://gorun.gr
X-WR-CALDESC:Events for goRUN
BEGIN:VTIMEZONE
TZID:Europe/Athens
BEGIN:DAYLIGHT
TZOFFSETFROM:+0200
TZOFFSETTO:+0300
TZNAME:EEST
DTSTART:20160327T010000
END:DAYLIGHT
BEGIN:STANDARD
TZOFFSETFROM:+0300
TZOFFSETTO:+0200
TZNAME:EET
DTSTART:20161030T010000
END:STANDARD
END:VTIMEZONE
BEGIN:VEVENT
DTSTART;VALUE=DATE:20160724
DTEND;VALUE=DATE:20160725
DTSTAMP:20260421T150507
CREATED:20160711T201857Z
LAST-MODIFIED:20160724T153827Z
UID:8835-1469318400-1469404799@gorun.gr
SUMMARY:1ος ΜΙΝΩΙΚΟΣ ΔΡΟΜΟΣ
DESCRIPTION:Δήμος Αρχανών Αστερουσίων\nΌμιλος Υπεραποστάσεων Κρήτης\nΥΠΟΣΤΗΡΙΞΗ: ΕΘΕΛΟΝΤΕΣ «ΠΡΟΤΕΚΤΑ» ΑΡΧΑΝΩΝ-ΑΣΤΕΡΟΥΣΙΩΝ \n1ος ΜΙΝΩΙΚΟΣ ΔΡΟΜΟΣ\nΑγώνας Δρόμου και Πεζοπορία\nΚΥΡΙΑΚΗ 24 ΙΟΥΛΙΟΥ 2016\n17:30 ΑΠΟΓΕΥΜΑ\nΑΠΟΣΤΑΣΗ 13ΧΛΜ \nΑΦΕΤΗΡΙΑ – ΤΕΡΜΑΤΙΣΜΟΣ:\nΕΠΑΝΩ ΑΡΧΑΝΕΣ – ΚΕΝΤΡΙΚΗ ΠΛΑΤΕΙΑ \nΔιαδρομή: Κεντρική πλατεία Αρχανών\, Ανεμοσπηλιά\, Γιούχτας\, Αφέντης Χριστός\, κατάβαση από μονοπάτι Ε4\, τερματισμός κεντρική πλατεία. \nΈπαθλα\nΚύπελλο\, Μετάλλιο\, Δίπλωμα\n-στους τρεις πρώτους νικητές-τριες\,\n-στους τρεις πρώτους βετεράνους 50 ετών +\n-στο γηρεότερο και νεότερο αθλητή.\nΑναμνηστικό Μετάλλιο και Δίπλωμα σε όλους. \nΣυμμετοχή: 5 ευρώ
URL:https://gorun.gr/race/1%ce%bf%cf%82-%ce%bc%ce%b9%ce%bd%cf%89%ce%b9%ce%ba%ce%bf%cf%83-%ce%b4%cf%81%ce%bf%ce%bc%ce%bf%cf%83/
CATEGORIES:Δρόμος
END:VEVENT
END:VCALENDAR