BEGIN:VCALENDAR
VERSION:2.0
PRODID:-//goRUN - ECPv5.8.1//NONSGML v1.0//EN
CALSCALE:GREGORIAN
METHOD:PUBLISH
X-WR-CALNAME:goRUN
X-ORIGINAL-URL:https://gorun.gr
X-WR-CALDESC:Events for goRUN
BEGIN:VTIMEZONE
TZID:Europe/Athens
BEGIN:DAYLIGHT
TZOFFSETFROM:+0200
TZOFFSETTO:+0300
TZNAME:EEST
DTSTART:20160327T010000
END:DAYLIGHT
BEGIN:STANDARD
TZOFFSETFROM:+0300
TZOFFSETTO:+0200
TZNAME:EET
DTSTART:20161030T010000
END:STANDARD
END:VTIMEZONE
BEGIN:VEVENT
DTSTART;VALUE=DATE:20160813
DTEND;VALUE=DATE:20160814
DTSTAMP:20260423T174923
CREATED:20160628T135836Z
LAST-MODIFIED:20160816T082204Z
UID:8518-1471046400-1471132799@gorun.gr
SUMMARY:10ος Αγώνας Δρόμου Διάσχιση του Καλλίδρομου Μενδενίτσα
DESCRIPTION:ΑΠΟΤΕΛΕΣΜΑΤΑ ΑΓΩΝΑ 13700 ΜΕΝΔΕΝΙΤΣΑ \n1 ΣΠΑΘΟΥΛΑΣ ΠΑΝ 53.55\n2 ΚΑΡΑΒΑΣΙΛΗΣ. ΒΛΑΣΣΗΣ 54.25\n3 ΓΕΩΡΓΟΥΛΙΑΣ ΑΛ 56.15\n4 ΜΗΝΑΣ ΜΗΝΑΣ 56.20\n5 ΚΑΤΣΙΚΑΣ ΦΑΝΗΣ 58.37\n6 ΤΕΡΖΗΣ ΓΕΩΡΓΙΟΣ 59.56\n7 ΧΑΔΟΣ ΑΘΑΝΑΣΙΟΣ 1\,01\,15\n8 ΘΑΝΑΣΙΑΣ ΚΩΝ/ΝΟΣ 1\,01\,36\n9 ΜΑΚΑΝΤΑΝΗΣ ΒΑΣΙΛΕΙΟΣ 1\,01\,47\n10 ΠΑΤΗΘΡΑΣ ΓΕΩΡΓΙΟΣ 1\,01\,48\n11 ΤΣΟΚΑΝΟΣ ΣΤΑΥΡΟΣ 1\,02\,19\n12 ΒΕΝΕΤΗΣ ΑΘΑΝΑΣΙΟΣ 1\,02\,39\n13 ΤΖΑΒΑΛΗΣ ΑΘΑΝΑΣΙΟΣ 1\,03\,09\n14 ΚΑΡΑΓΙΑΝΝΗΣ ΝΙΚΟΣ 1\,03\,53\n15 ΚΛΟΥΒΑΤΟΣ ΜΑΚΗΣ 1\,05\,25\n16 ΛΥΜΠΕΡΙΟΥ ΚΩΝ/ΝΟΣ 1\,05\,50\n17 ΠΑΠΑΘΑΝΑΣΙΟΥ ΓΕΩΡΓΙΟΣ 1\,06\,23\n18 ΣΑΜΑΡΑΣ ΘΩΜΑΣ 1\,06\,32\n19 ΒΑΓΙΑΚΑΚΟΣ ΔΙΚΑΙΟΣ 1\,06\,32\n20 ΔΗΜΤΣΑΣ ΝΙΚ 1\,06\,52\n21 ΑΓΓΕΛΗΣ ΓΙΑΝΝΗΣ 1.07.29\n22 ΜΟΣΧΟΣ ΓΙΑΝΝΗΣ 1\,07\,48\n23 ΠΑΝΑΓΙΩΤΟΥ ΜΙΧΑΛΗΣ 1\,08\,20\n24 ΒΑΓΙΑΚΑΚΟΣ ΘΑΝΑΣΗΣ 1\,08\,39\n25 ΝΤΑΚΟΣ ΘΩΜΑΣ 1.08.59\n26 ΠΑΠΠΑΣ ΠΑΝΑΓΙΩΤΗΣ 1\,09\,08\n27 ΓΕΡΑΝΤΩΝΗΣ ΣΠΥΡΟΣ 1\,09\,10\n28 ΤΣΑΠΑΛΗΣ ΓΙΑΝΝΗΣ 1\,09\,38\n29 ΝΕΛΛΑΣ ΣΕΡΑΦΕΙΜ 1\,09\,41\n30 ΞΕΝΟΚΩΣΤΑΣ ΚΩΝ/ΝΟΣ 1\,09.41\n31 ΓΑΛΑΝΟΠΟΥΛΟΣ ΓΙΑΝΝΗΣ 1\,09\,57\n32 ΖΗΡΟΓΙΑΝΝΗΣ ΔΗΜΗΤΡΗΣ 1\,10\,01\n33 ΒΕΡΛΕΜΗΣ ΘΩΜΑΣ 1\,10\,07\n34 ΚΥΡΙΑΚΟΣ ΔΗΜ 1\,10\,10\n35 ΤΖΑΛΑ 1\,10\,11\n36 ΟΙΚΟΝΟΜΟΥ ΘΕΟΔΩΡΟΣ 1\,10\,34\n37 ΙΓΚΛΕΖΟΥ ΑΣΗΜΙΝΑ 1\,10\,58\n38 ΚΩΝΣΤΑΝΤΟΠΟΥΛΟΣ ΓΕΩΡ 1\,11\,00\n39 ΞΗΡΟΓΙΑΝΝΗΣ ΚΩΝ. 1\,11\,43\n40 ΚΑΤΣΑΒΡΙΑΣ ΒΑΣΙΛΕΙΟΣ 1\,11\,50\n41 ΓΙΑΝΝΑΚΕΛΗΣ ΟΔΥΣΣΕΑΣ 1\,11\,59\n42 ΤΕΡΖΗ ΜΑΡΙΝΑ 1\,12\,13\n43 ΒΕΛΑΩΡΑ ΑΡΓΥΡΩ 1\,12\,17\n44 ΒΑΣΙΛΕΙΟΥ ΚΩΝ/ΝΟΣ 1\,12\,38\n45 ΠΑΠΑΔΟΠΟΥΛΟΣ ΠΑΝΑΓ 1\,13\,39\n46 ΓΚΟΤΖΑΡΩΦ ΑΛ 1\,13\,46\n47 ΒΛΑΧΟΓΙΑΝΝΗ ΜΑΡΙΑΝΝΑ 1\,14\,34\n48 ΚΑΠΕΛΟΥ ΣΩΤ 1\,14\,34\n49 ΑΝΤΩΝΑΚΗΣ ΠΑΝ 1\,14\,49\n50 ΚΑΚΑΕΣ ΙΩΑΝ 1\,15\,13\n51 ΡΕΝΤΙΦΗΣ ΠΑΝΑΓ 1\,15\,46\n52 ΑΝΑΣΤΑΣΙΟΥ ΚΩΝ/ΝΟΣ 1\,17\,08\n53 ΤΣΙΡΟΠΟΥΛΟΣ ΚΩΝ/ΝΟΣ 1\,17\,58\n54 ΠΑΓΚΑΛΑΚΗΣ ΝΙΚΟΣ 1\,18\,24\n55 ΚΑΤΣΑΝΤΩΝΗΣ ΓΕΩΡΓΙΟΣ 1\,19\,23\n56 ΨΥΧΟΥΛΙΑΣ ΝΙΚΟΛΑΟΣ 1\,19\,24\n57 ΞΥΡΑΦΗΣ ΧΑΡΑΛΑΜΠΟΣ 1\,19\,25\n58 ΤΣΕΛΛΟΣ ΔΗΜ 1\,19\,28\n59 ΚΟΥΤΣΙΚΟΣ ΠΑΝ 1\,19\,35\n60 ΡΑΝΤΖΟΥ ΕΛΙΣΑΒ 1\,19\,51\n61 ΔΕΛΙΑΚΗ ΒΑΣΙΛ 1\,20\,15\n62 ΚΑΤΣΑΝΟΣ ΑΘΑΝΑΣΙΟΣ 1\,20\,29\n63 ΛΑΖΑΡΟΥ ΙΩΑΝ 1\,20\,43\n64 ΔΕΒΕΡΤΖΗΣ ΚΩΝ 1\,20\,43\n65 ΔΙΑΚΟΥΜΟΠΟΥΛΟΣ ΙΩΑΝ 1\,20\,56\n66 ΓΑΛΑΤΖΗΣ 1\,21\,00\n67 ΓΑΣΤΕΡΑΤΟΣ ΣΤΕΛΙΟΣ 1\,21\,02\n68 ΚΩΝΣΤΑΝΤΟΠΟΥΛΟΣ ΚΩΝ 1\,21\,06\n69 ΛΑΖΙΝΟΣ ΧΡΗΣΤΟΣ 1\,21\,38\n70 ΧΑΝΙΩΤΗΣ ΔΗΜ 1\,22\,02\n71 ΚΑΣΙΩΛΑΣ ΤΑΚ 1\,22\,04\n72 ΒΙΚΛΑΣ ΛΙΝΟΣ 1\,22\,35\n73 ΤΣΑΜΗΣ ΕΥΑΓ 1\,23\,20\n74 ΤΖΑΒΑΛΟΣ ΜΑΡ 1\,23\,43\n75 ΚΑΝΔΗΛΑΡΗΣ ΑΝΑΣ 1\,23\,55\n76 ΣΙΟΜΠΟΛΑΣ ΕΥΑΓ 1\,25\,09\n77 ΚΩΝΣΤΑΝΤΟΥΛΑΚΗΣ ΣΤΑΥΡ 1\,25\,09\n78 ΠΑΠΑΚΩΣΤΑΣ ΙΩΑΝ 1\,25\,09\n79 ΓΚΟΤΖΑΡΕΒΑ ΟΛΓΑ 1\,25\,36\n80 ΡΟΥΜΠΗΣ ΚΩΝ 1\,25\,40\n81 ΡΑΠΤΗΣ ΓΚΙΚΑΣ 1\,26\,20\n82 ΠΟΛΑΤΣΙΔΗΣ ΧΡΗΣΤΟΣ 1\,26\,22\n83 ΚΙΑΜΟΣ ΓΕΩΡ 1\,26\,26\n84 ΜΑΧΑΙΡΑΣ ΠΕΤΡ 1\,26\,35\n85 ΧΡΥΣΙΚΟΣ ΓΕΩΡ 1\,26\,54\n86 ΤΣΕΛΙΟΣ ΒΑΣΙΛΕΙΟΣ 1\,27\,41\n87 ΤΣΕΡΚΕΖΟΠΟΥΛΟΣ ΣΤΑΜΑΤ 1\,27\,48\n88 ΕΞΑΡΧΟΥ ΕΛΕΝΗ 1\,28\,38\n89 ΜΠΑΡΛΟΣ ΝΙΚΟΛΑΟΣ 1\,28\,40\n90 ΚΟΝΤΟΣ ΚΩΣΤΑΣ 1\,28\,45\n91 ΣΠΟΡΓΙΤΑΣ ΜΑΝΩΛΗΣ 1\,29\,20\n92 ΜΗΤΣΟΤΑΚΗΣ ΔΗΜ 1\,31.45\n93 ΣΤΑΥΡΟΠΟΥΛΟΣ ΓΙΑΝΝΗΣ 1\,32\,38\n94 ΣΤΑΘΗΣ ΚΩΝ 1\,33\,14\n95 ΣΙΟΥΤΗΣ ΣΤΕΡΓΙΟΣ 1\,33\,38\n96 ΣΙΟΥΤΗΣ ΣΠΥΡΟΣ 1\,33\,38\n97 ΒΟΡΕΙΝΑΚΗΣ ΦΑΝΗΣ 1\,34\,05\n98 ΦΥΤΙΛΗ ΓΙΟΥΛΗ 1\,34\,15\n99 ΑΦΕΝΤΟΥΛΗ ΠΑΝΑΓΙΩΤΑ 1\,34\,15\n100 ΠΟΥΛΗΣ ΑΝΔΡΟΝΙΚΟΣ 1\,35\,55\n101 ΔΡΕΠΠΑΣ ΛΟΥΚΑΣ 1\,36\,10\n102 ΣΩΤΗΡΙΟΥ ΓΕΩΡ 1\,36\,34\n103 ΚΩΤΣΟΠΟΥΛΟΣ ΘΕΟΔ 1\,36\,34\n104 ΣΟΥΛΙΩΤΗΣ ΝΙΚΟΛΑΟΣ 1\,36.53\n105 ΣΑΜΑΡΑΣ ΙΩΑΝΝΗΣ 1\,36\,53\n106 ΧΑΛΚΙΑ ΑΛΕΞΑΝΔΡΑ 1\,37\,00\n107 ΠΑΝΑΓΟΣ ΚΩΝ 1\,37.07\n108 ΞΕΝΙΚΟΣ ΚΩΝ/ΝΟΣ 1\,44.40\n109 ΜΑΡΓΑΡΙΤΗΣ ΙΩΑΝ 1\,45\,35\n110 ΑΚΑΚΤΣΕ ΘΕΟΔ 1\,50\,08\n111 ΣΚΑΡΛΑΤΟΥ ΜΑΡΙΑ 1\,50\,10\n112 ΑΡΣΕΝΟΠΟΥΛΟΥ ΣΟΦΙΑ 1\,52\,40\n113 ΧΑΛΚΙΑΔΗΣ ΙΓΝΑΤΙΟΣ 1\,53\,45\n114 ΚΟΛΛΙΝΙΑΤΗΣ ΑΡΗΣ 1\,53\,45\n115 ΜΟΝΟΓΥΙΟΥ ΒΑΣ 2\,13\,20\n116 ΠΡΟΚΟΠΙΟΥ ΦΑΝΗ 2\,13\,20\n117 ΓΙΑΝΝΑΚΗ ΕΥΑΓ 2\,20\,10 \nΑΠΟΤΕΛΕΣΜΑΤΑ ΠΑΙΔΙΩΝ 1700Μ ΤΕΡΜΑΤΙΣΜΟΣ ΜΕ ΤΗΝ ΕΞΗΣ ΣΕΙΡΑ \n1 ΚΑΡΑΓΙΑΝΝΗΣ Α\n2 ΤΣΑΜΠΑΛΗ Μ\n3 ΚΩΝΣΤΑΝΤΟΠΟΥΛΟΣ Θ\n4 ΔΙΑΜΑΝΤΟΠΟΥΛΟΣ Π\n5 ΤΟΥΡΕΞΗΣ Γ\n6 ΑΝΑΓΝΩΣΤΟΥ Η\n7 ΚΩΝΣΤΑΝΤΟΠΟΥΛΟΣ Θ\n8 ΦΑΦΟΥΤΗΣ Ε\n9 ΤΣΑΠΑΛΗ Α\n10 ΤΣΑΠΑΛΗ Α\n11 ΓΕΡΟΜΗΤΡΟΣ Γ\n12 ΡΑΠΤΗΣ Ε\n13 ΡΑΠΤΗΣ Ν\n14 ΚΑΛΟΓΙΑΝΝΗΣ Δ\n15 ΚΟΝΤΟΣ Κ\n16 ΠΙΣΠΑΣ Ν\n17 ΦΙΛΟΠΟΥΛΟΥ Λ\n18 ΓΚΟΤΖΑΡΩΦ Γ\n19 ΛΑΖΙΝΟΣ Ε\n20 ΓΕΩΡΓΑΤΣΩΝΑΣ Κ\n21 ΑΛΕΞΙΟΥ ΑΘ\n22 ΚΟΥΚΛΑΡΑΣ Π\n23 ΛΑΖΙΝΟΣ Ν\n24 ΛΑΖΙΝΟΣ Β\n25 ΓΙΑΤΣΕ Μ\n26 ΓΚΟΤΖΑΡΩΦ Α\n27 ΤΣΙΑΝΤΕΣ Γ\n28 ΤΣΑΟΥΣΗΣ Ε\n29 ΜΕΡΛΕΜΗ Α\n30 ΘΕΟΔΩΡΑΚΗΣ Δ\n31 ΚΑΚΑΕ Μ\n32 ΗΥΡΙΑΚΟΥ Ι\n33 ΜΕΡΛΕΜΗΣ Δ\n34 ΓΡΗΓΟΡΙΚΟΥ Σ\n35 ΜΑΛΙΣΣΟΒΑ Κ\n36 ΜΠΑΙΡΑΚΤΑΡΗ Α\n37 ΡΟΥΝΤΕΓΑ Γ\n38 ΡΕΝΤΙΦΗΣ Π\n39 ΝΤΟΤΣΙΑ Σ\n40 ΡΕΝΤΙΦΗ Β\n41 ΚΑΛΟΓΙΑΝΝΗΣ Γ\n42 ΣΑΓΙΑ Δ\n43 ΘΕΟΔΩΡΑΚΗΣ Γ\n44 ΓΕΩΡΓΙΟΥ Β\n45 ΠΑΝΤΑ Θ\n46 ΚΟΥΛΟΓΛΟΥ Δ\n47 ΚΥΡΙΑΚΟΥ Δ\n48 ΑΝΤΕΡΙΩΤΗ Ζ\n49 ΓΕΩΡΓΑΤΣΩΝΑ Κ\n50 ΓΕΡΟΜΗΤΡΟΥ Ζ\n51 ΤΡΑΠΑΤΣΑ Ε\n52 ΚΟΝΤΟΣ Α\n53 ΑΛΕΞΙΟΥ Ν\n54 ΛΥΤΡΑΣ Χ
URL:https://gorun.gr/race/10%ce%bf%cf%82-%ce%b1%ce%b3%cf%8e%ce%bd%ce%b1%cf%82-%ce%b4%cf%81%cf%8c%ce%bc%ce%bf%cf%85-%ce%b4%ce%b9%ce%ac%cf%83%cf%87%ce%b9%cf%83%ce%b7-%cf%84%ce%bf%cf%85-%ce%ba%ce%b1%ce%bb%ce%bb%ce%af%ce%b4%cf%81/
CATEGORIES:Αποτελέσματα,Δρόμος
END:VEVENT
END:VCALENDAR