BEGIN:VCALENDAR
VERSION:2.0
PRODID:-//goRUN - ECPv5.8.1//NONSGML v1.0//EN
CALSCALE:GREGORIAN
METHOD:PUBLISH
X-WR-CALNAME:goRUN
X-ORIGINAL-URL:https://gorun.gr
X-WR-CALDESC:Events for goRUN
BEGIN:VTIMEZONE
TZID:Europe/Athens
BEGIN:DAYLIGHT
TZOFFSETFROM:+0200
TZOFFSETTO:+0300
TZNAME:EEST
DTSTART:20160327T010000
END:DAYLIGHT
BEGIN:STANDARD
TZOFFSETFROM:+0300
TZOFFSETTO:+0200
TZNAME:EET
DTSTART:20161030T010000
END:STANDARD
END:VTIMEZONE
BEGIN:VEVENT
DTSTART;VALUE=DATE:20160814
DTEND;VALUE=DATE:20160815
DTSTAMP:20260424T013839
CREATED:20160707T073236Z
LAST-MODIFIED:20160824T155135Z
UID:8719-1471132800-1471219199@gorun.gr
SUMMARY:2ος Αγώνας Δρόμου Βαράσοβας Αιτωλ/νιας
DESCRIPTION:Ο Σύλλογος δρομέων Αιτωλικού με την\nυποστήριξη της τοπικής Κοινότητας\nΓαλατά καθώς και του συλλόγου\nΤελμησσός Ν.Μάκρης – Μαραθώνος\nδιοργανώνει τον 2ο Αγώνα Δρόμου\nΒαράσοβας 12χλμ και 1000μ παιδιών. \nΗμερομηνία : Κυριακή 14 Αυγούστου 2016 ώρα\n19:30μμ\nΤόπος: Παραλία Κρυονερίου Αιτωλ/νιας. \nΕκκίνηση και Τερματισμός : Λιμάνι\nΚρυονερίου. \nΑπόσταση Αγώνα 12χλμ σε ασφάλτινη\nδιαδρομή επίπεδη παραθαλάσσια.\nΘα υπάρχει σήμανση του αγώνα και\nσταθμοί ανεφοδιασμού με νερά στην\nδιαδρομή. \nΑγώνας 1000μ για παιδιά. Εκκίνηση –\nΤερματισμός Λιμάνι Κρυονεριου. Ώρα\n7:00μμ. \nΕγγραφές-Συμμετοχή:\nΟι εγγραφές για τον αγώνα των 12χλμ θα\nγίνονται επί τόπου την ίδια ημέρα του\nαγώνα στο χώρο εκκίνησης και\nτερματισμού(Γραμματειακή υποστήριξη)\nστην παραλία Κρυονερίου στο λιμάνι\, από\nτις 17:00μμ. Το κόστος εγγραφής είναι 5\nευρώ. Οι εγγραφές για τα παιδιά είναι\nδωρεάν και γίνονται με την συγκατάθεση\nγονέα. \nΈπαθλα αναμνηστικά μετάλλια:\nΘα δοθούν αναμνηστικά μετάλλια σε\nόλους τους συμμετέχοντες αθλητές καθώς\nκαι διπλώματα στον τερματισμό.\nΕπίσης θα δοθούν  κύπελλα στους τρεις\nπρώτους νικητές/νικήτριες της γενικής\nκατάταξης. Θα δοθούν κύπελλα στους\nπρώτους/πρώτες νικητές κάθε ηλικιακής\nκατηγορίας. \nΚατηγορίες Αθλητών:\nΘα υπάρχουν ηλικιακές κατηγορίες\nνικητών.18 ετών- 30 ετών\, 30- 40\, 40- 50\, 50- 60\, 60- 70\,\n70 και άνω. \nΤερματισμός Μπουφές – κέρασμα.\nΣτον τερματισμό στην παραλία\nΚρυονερίου λιμάνι θα υπάρχει κέρασμα\nμε μπουφέ προς όλους τους\nσυμμετέχοντες αθλητές. \nΑπονομές επάθλων:\nΟι απονομές των επάθλων των νικητών θα\nγίνουν στο λιμάνι του Κρυονερίου μετά\nτο πέρας των αγώνων. \nΓια περισσότερες πληροφορίες και\nεγγραφές: \nΜάκης Σαρανταρας Πρόεδρος συλλόγου\nδρομέων Αιτωλικού.( Τηλ επικοι:6977532960)\nΚώστας Μαργαρίτης (6931036502)
URL:https://gorun.gr/race/2%ce%bf%cf%82-%ce%b1%ce%b3%cf%8e%ce%bd%ce%b1%cf%82-%ce%b4%cf%81%cf%8c%ce%bc%ce%bf%cf%85-%ce%b2%ce%b1%cf%81%ce%ac%cf%83%ce%bf%ce%b2%ce%b1%cf%82-%ce%b1%ce%b9%cf%84%cf%89%ce%bb%ce%bd%ce%b9%ce%b1%cf%82/
CATEGORIES:Δρόμος
END:VEVENT
END:VCALENDAR