BEGIN:VCALENDAR
VERSION:2.0
PRODID:-//goRUN - ECPv5.8.1//NONSGML v1.0//EN
CALSCALE:GREGORIAN
METHOD:PUBLISH
X-WR-CALNAME:goRUN
X-ORIGINAL-URL:https://gorun.gr
X-WR-CALDESC:Events for goRUN
BEGIN:VTIMEZONE
TZID:Europe/Athens
BEGIN:DAYLIGHT
TZOFFSETFROM:+0200
TZOFFSETTO:+0300
TZNAME:EEST
DTSTART:20160327T010000
END:DAYLIGHT
BEGIN:STANDARD
TZOFFSETFROM:+0300
TZOFFSETTO:+0200
TZNAME:EET
DTSTART:20161030T010000
END:STANDARD
END:VTIMEZONE
BEGIN:VEVENT
DTSTART;VALUE=DATE:20160820
DTEND;VALUE=DATE:20160821
DTSTAMP:20260424T053923
CREATED:20160713T090908Z
LAST-MODIFIED:20160824T165413Z
UID:8869-1471651200-1471737599@gorun.gr
SUMMARY:2ος Αγώνας Δρόμου Κοσμάς ο Αιτωλός
DESCRIPTION:ΑΠΟΤΕΛΕΣΜΑΤΑ 2ος ΑΓΩΝΑΣ ΚΟΣΜΑΣ Ο ΑΙΤΩΛΟΣ\n\n\nΑ/Α\nGender\nBIB\nName\nYOB\nClub\n10km finish\n\n\n1\nMale\n1380\nΚΩΝΣΤΑΝΤΙΝΟΣ ΣΤΑΜΟΥΛΗΣ\n1997\nΑΓΡΙΝΙΟ\n0:36:53\n\n\n2\nMale\n1401\nΓΚΑΜΠΡΙΕΛ ΠΙΣΣΑΣ\n1999\nΑΓΡΙΝΙΟ\n0:38:09\n\n\n3\nMale\n1371\nΓΕΩΡΓΙΟΣ ΜΠΙΣΤΑΣ\n1996\nΘΕΡΜΟ\n0:39:55\n\n\n4\nMale\n631\nΔΗΜΗΤΡΗΣ ΚΑΦΩΡΟΣ\n1993\nΓΑΣ  ΙΛΙΣΣΟΣ\n0:40:00\n\n\n5\nMale\n1382\nΝΙΚΟΣ ΣΤΑΜΟΥΛΗΣ\n2002\nΑΓΡΙΝΙΟ\n0:40:17\n\n\n6\nMale\n606\nΙΩΑΝΝΗΣ ΚΑΡΕΤΣΟΣ\n1982\nΣΥΛΛΟΓΟΣ ΔΡΟΜΕΩΝ Ι.Π.ΜΕΣΟΛΟΓΓΙΟΥ\n0:40:21\n\n\n7\nMale\n1110\nΛΑΖΑΡΟΣ ΣΑΝΤΟΡΙΝΑΙΟΣ\n1971\nΑΠΣΑΠΟΛΛΩΝ\n0:40:30\n\n\n8\nMale\n1170\nΓΙΩΡΓΟΣ ΤΣΙΓΕΡΙΔΗΣ\n1982\nΑΠΣΑΠΟΛΛΩΝ\n0:41:05\n\n\n9\nMale\n1153\nΝΙΚΟΣ ΤΑΛΙΑΜΠΕΣ\n1973\nLEPANTO ΝΑΥΠΑΚΤΟΥ\n0:41:15\n\n\n10\nMale\n1365\nΑΘΑΝΑΣΙΟΣ ΚΑΛΙΟΠΟΥΛΟΣ\n1989\nΠΑΤΡΑ\n0:41:26\n\n\n11\nMale\n1165\nΙΩΑΝΝΗΣ ΤΣΙΑΜΠΟΥΛΑΣ\n1992\n\n0:43:06\n\n\n12\nMale\n635\nΧΡΗΣΤΟΣ ΚΕΧΑΓΙΑΣ\n1975\nRUN FREE\n0:43:19\n\n\n13\nMale\n630\nΠΑΝΑΓΙΩΤΗΣ ΚΑΤΣΟΥΡΑΣ\n1978\nΣΥΛΛΟΓΟΣ ΔΡΟΜΕΩΝ Ι.Π. ΜΕΣΟΛΟΓΓΙΟΥ\n0:43:43\n\n\n14\nMale\n1336\nΔΗΜΗΤΡΗΣ ΜΠΟΣΚΑΣ\n1999\nΘΕΡΜΟ\n0:44:00\n\n\n15\nMale\n1310\nΓΕΩΡΓΙΟΣ ΦΩΚΑΣ\n1981\nΔΡΟΜΕΩΝ ΜΕΣΟΛΟΓΓΙΟΥ\n0:44:03\n\n\n16\nMale\n129\nΘΕΟΔΩΡΟΣ ΑΡΛΕΤΟΣ\n1969\n\n0:44:06\n\n\n17\nMale\n1337\nΚΩΝΣΤΑΝΤΙΝΟΣ ΛΑΜΠΟΣ\n1999\nΘΕΡΜΟ\n0:44:12\n\n\n18\nMale\n733\nΓΙΑΝΝΗΣ ΛΑΓΟΣ\n1969\nΣΑΦΑΝΣ\n0:44:17\n\n\n19\nFemale\n1375\nΕΛΕΝΗ ΝΙΚΟΛΟΠΟΥΛΟΥ\n1983\nΑΓΡΙΝΙΟ\n0:44:46\n\n\n20\nMale\n775\nΒΑΣΙΛΗΣ ΜΑΚΑΝΤΑΝΗΣ\n1961\nΣΑΦΑΝΣ OUTRUN\n0:44:56\n\n\n21\nMale\n970\nΑΛΕΞΑΝΔΡΟΣ ΠΟΛΥΖΟΣ\n1985\nΜΑΚΡΥΝΕΙΑΚΟΣ\n0:45:06\n\n\n22\nMale\n938\nΕΥΘΥΜΙΟΣ ΠΑΠΑΔΟΠΟΥΛΟΣ\n1983\n\n0:45:27\n\n\n23\nMale\n942\nΔΗΜΗΤΡΗΣ ΠΑΠΑΠΑΠΕΤΡΟΥ\n1969\nΑΘΗΝΟΔΩΡΟΣ Ο ΑΙΓΙΕΥΣ\n0:45:30\n\n\n24\nMale\n569\nΓΕΩΡΓΙΟΣ ΘΕΟΛΟΓΟΥ\n1977\nΣΑΦΑΝΣ\n0:45:47\n\n\n25\nMale\n1129\nΜΙΧΑΛΗΣ ΣΚΟΥΠΑΣ\n1962\n\n0:46:01\n\n\n26\nMale\n471\nΚΩΝΣΤΑΝΤΙΝΟΣ ΓΙΑΝΝΑΚΟΠΟΥΛΟΣ\n1977\nKROMMIDAS COACHING\n0:46:15\n\n\n27\nMale\n638\nΓΕΡΑΣΙΜΟΣ ΚΛΟΥΒΑΤΟΣ\n1954\n\n0:46:32\n\n\n28\nMale\n668\nΝΙΚΟΣ ΚΟΣΜΑΣ\n1980\n\n0:46:47\n\n\n29\nMale\n1120\nΒΑΣΙΛΗΣ ΣΙΑΧΟΣ\n2004\n\n0:47:00\n\n\n30\nMale\n1397\nΜΙΧΑΛΗΣ ΔΗΜΗΤΡΟΠΟΥΛΟΣ\n1977\nΝΑΥΠΑΚΤΟΣ\n0:47:35\n\n\n31\nMale\n1413\nΛΕΩΝΙΔΑΣ ΚΑΤΣΑΝΤΑΣ\n1969\nΑΜΦΙΛΟΧΙΑ\n0:47:41\n\n\n32\nMale\n875\nΓΕΩΡΓΙΟΣ ΜΑΚΡΗΣ\n1973\nΣΥΛΛΟΓΟΣ ΔΡΟΜΕΩΝ Ι.Π. ΜΕΣΟΛΟΓΓΙΟΥ\n0:47:41\n\n\n33\nMale\n876\nΠΑΝΑΓΙΩΤΗΣ ΜΑΛΤΕΖΟΣ\n1968\nΣΔΥ ΑΓΡΙΝΙΟΥ/ΚΑΤΟΥΝΑ\n0:47:46\n\n\n34\nMale\n959\nΓΕΩΡΓΙΟΣ ΠΟΛΙΤΗΣ\n1989\nBOOTCAMP ΑΙΤΩΛΙΚΟ\n0:48:20\n\n\n35\nMale\n1353\nΙΩΑΝΝΗΣ ΚΑΦΟΠΟΥΛΟΣ\n1993\n\n0:48:41\n\n\n36\nMale\n1415\nΜΑΡΙΟΣ ΣΙΜΟΣ\n1998\nΘΕΡΜΟ\n0:48:41\n\n\n37\nFemale\n878\nΧΡΙΣΤΙΝΑ ΜΑΡΑΓΙΑΝΝΗ\n1972\nΣΔΥ ΑΓΡΙΝΙΟΥ MPRUNNINGTEAM\n0:48:55\n\n\n38\nMale\n1395\nΑΛΕΞΑΝΔΡΟΣ ΚΑΛΑΝΤΖΗΣ\n1982\nΘΕΡΜΟ\n0:48:58\n\n\n39\nMale\n27\nΔΗΜΗΤΡΗΣ ΑΘΑΝΑΣΟΠΟΥΛΟΣ\n1963\nLEPANTO\n0:49:08\n\n\n40\nMale\n896\nΔΗΜΗΤΡΗΣ ΜΠΕΚΟΥΛΗΣ\n2002\nΣΔΥ ΑΓΡΙΝΙΟΥ\n0:49:14\n\n\n41\nMale\n1417\nΝΩΝΤΑΣ ΛΑΜΠΡΡΑΚΟΠΟΥΛΟΣ\n1983\nΑΓΡΙΝΙΟ\n0:49:19\n\n\n42\nMale\n1418\nΓΕΩΡΓΙΟΣ ΠΑΝΑΓΟΣ\n1967\nΑΓΡΙΝΙΟ\n0:49:19\n\n\n43\nMale\n919\nΚΩΣΤΑΣ ΞΙΟΥΡΑΣ\n1973\nΑΠΣΑΠΟΛΛΩΝ\n0:49:34\n\n\n44\nMale\n937\nΧΑΡΑΛΑΜΠΟΣ ΠΑΠΑΔΟΓΕΩΡΓΟΣ\n1963\nΣ.Δ.Υ. ΑΓΡΙΝΙΟΥ\n0:49:50\n\n\n45\nMale\n881\nΑΝΘΙΜΟΣ ΜΕΡΙΤΣΗΣ\n1971\nΣ.Δ.Υ. ΑΓΡΙΝΙΟΥ\n0:50:10\n\n\n46\nMale\n884\nΚΩΣΤΑΣ ΜΗΤΡΟΠΟΥΛΟΣ\n1981\n\n0:50:26\n\n\n47\nFemale\n441\nΜΑΡΙΑ ΒΑΡΒΙΤΣΙΩΤΗ\n1992\nΑ.Ο ΠΕΛΩΨ ΠΑΤΡΩΝ\n0:50:26\n\n\n48\nMale\n883\nΓΕΩΡΓΙΟΣ ΜΗΤΡΟΠΟΥΛΟΣ\n1979\nΑΝΕΞΑΡΤΗΤΟΣ\n0:50:27\n\n\n49\nMale\n981\nΑΝΤΩΝΙΟΣ ΠΥΛΑΡΙΝΟΣ\n1978\n\n0:50:28\n\n\n50\nMale\n958\nΧΡΗΣΤΟΣ ΠΙΤΣΙΟΣ\n1964\nΑΠΟΛΛΩΝ ΘΕΡΜΟΥ\n0:50:30\n\n\n51\nMale\n1144\nΙΩΑΝΝΗΣ ΣΤΑΜΠΕΛΟΣ\n1980\nLEPANTO\n0:50:35\n\n\n52\nMale\n555\nΠΑΝΑΓΙΩΤΗΣ ΕΠΙΤΡΟΠΟΥ\n1950\nΑΠΣ ΑΠΟΛΛΩΝ\n0:50:39\n\n\n53\nMale\n962\nΑΘΑΝΑΣΙΟΣ ΠΟΛΥΖΟΣ\n1983\nΣΔΥ ΑΓΡΙΝΙΟΥ\n0:50:48\n\n\n54\nMale\n1427\nΑΛΕΚΟΣ ΚΑΤΕΦΙΔΗΣ\n1965\nΑΓΡΙΝΙΟ\n0:50:49\n\n\n55\nMale\n770\nΛΙΤΣΑΣ\n–\n\n0:50:51\n\n\n56\nMale\n1411\nΝΙΚΟΛΑΟΣ ΝΙΚΟΥ\n1962\n\n0:50:54\n\n\n57\nMale\n908\nΝΙΚΟΛΑΟΣ ΝΤΑΝΟΣ\n1990\nADIDAS RUNNERS ATHENS\n0:50:54\n\n\n58\nMale\n1134\nΧΡΗΣΤΟΣ ΣΚΟΥΡΑΣ\n1971\nΑΝΕΞΑΡΤΗΤΟΣ\n0:50:56\n\n\n59\nMale\n1383\nΝΙΚΟΛΑΟΣ ΚΑΡΕΛΟΣ\n1956\nΚΑΤΟΧΗ\n0:51:05\n\n\n60\nMale\n696\nΠΑΝΑΓΙΩΤΗΣ ΚΟΥΤΣΙΑΥΤΗΣ\n1973\nΑΝΕΞΑΡΤΗΤΟΣ\n0:51:21\n\n\n61\nMale\n1128\nΠΑΝΑΓΙΩΤΗΣ ΣΙΟΥΛΑΣ\n1974\nΑΠΣ ΑΠΟΛΛΩΝ ΔΥΤ. ΑΤΤΙΚΗΣ\n0:51:35\n\n\n62\nMale\n1421\nΒΑΣΙΛΕΙΟΣ ΜΕΤΣΗΣ\n1962\nΝΑΥΠΑΚΤΟΣ\n0:51:38\n\n\n63\nMale\n564\nΜΙΧΑΛΗΣ ΗΛΙΑΔΗΣ\n1970\nΑΠΣ ΑΠΟΛΛΩΝ\n0:51:57\n\n\n64\nMale\n573\nΣΩΤΗΡΗΣ ΚΑΒΑΘΑΤΖΟΠΟΥΛΟΣ\n1959\nΣΔΥ ΑΓΡΙΝΙΟΥ\n0:52:09\n\n\n65\nMale\n1342\nΔΗΜΗΤΡΗΣ ΤΟΛΗΣ\n1985\nΑΡΤΑ\n0:52:13\n\n\n66\nMale\n1330\nΑΘΑΝΑΣΙΟΣ ΜΑΝΩΛΑΤΟΣ\n1983\nΜΕΣΟΛΟΓΓΙ\n0:52:40\n\n\n67\nMale\n906\nΒΑΣΙΛΗΣ ΝΙΚΟΛΟΠΟΥΛΟΣ\n1984\nNADINE’S TEAM\n0:52:41\n\n\n68\nMale\n1422\nΓΕΡΑΣΙΜΟΣ ΚΩΝΣΤΑΝΤΑΤΟΣ\n1966\nΑΓΡΙΝΙΟ\n0:52:52\n\n\n69\nMale\n1112\nΔΗΜΗΤΡΗΣ ΣΑΠΙΟΣ\n1975\nΑ.Ο.Κ.Π\n0:52:59\n\n\n70\nMale\n940\nΠΑΥΛΟΣ ΠΑΠΑΘΑΝΑΣΗΣ\n1974\n\n0:53:11\n\n\n71\nMale\n451\nΒΑΓΓΕΛΗΣ ΒΑΣΙΛΕΙΟΥ\n1968\nΑΓΣ ΑΝΑΤΟΛΗ ΝΕΑΣ ΙΩΝΙΑΣ\n0:53:13\n\n\n72\nMale\n1404\nΠΑΝΑΓΙΩΤΗΣ ΑΓΓΕΛΟΠΟΥΛΟΣ\n2001\nΘΕΡΜΟ\n0:53:28\n\n\n73\nMale\n774\nΚΩΝΣΤΑΝΤΙΝΟΣ ΛΥΣΣΑΡΗΣ\n1988\nΑΝΕΞΑΡΤΗΤΟΣ\n0:54:00\n\n\n74\nMale\n1341\nΑΛΕΞΑΝΔΡΟΣ ΓΙΩΤΗΣ\n1974\nΑΡΤΑ\n0:54:05\n\n\n75\nMale\n454\nΚΩΣΤΑΣ ΓΑΛΑΝΟΣ\n1974\nBOOTCAMP ΑΙΤΩΛΙΚΟΥ\n0:54:11\n\n\n76\nMale\n960\nΕΥΘΥΜΙΟΣ ΠΟΛΥΔΩΡΟΣ\n1966\nΣΔΥΑ\n0:54:19\n\n\n77\nMale\n494\nΑΝΤΩΝΗΣ ΓΚΡΙΜΟΤΣΗΣ\n1976\n\n0:54:27\n\n\n78\nMale\n1389\nΙΩΑΝΝΗΣ ΚΑΡΕΛΟΣ\n1958\nΚΑΤΟΧΗ\n0:54:35\n\n\n79\nMale\n941\nΘΟΔΩΡΗΣ ΠΑΠΑΝΙΚΟΛΑΟΥ\n1971\nΑΝΕΞΑΡΤΗΤΟΣ\n0:55:01\n\n\n80\nMale\n1118\nΙΩΑΝΝΗΣ ΣΙΑΛΜΑΣ\n1983\nΑΝΕΞΑΡΤΗΤΟΣ\n0:55:17\n\n\n81\nMale\n1386\nΙΩΑΝΝΗΣ ΜΠΑΚΟΓΙΑΝΝΗΣ\n1963\nΚΑΤΟΧΗ\n0:55:21\n\n\n82\nMale\n654\nΓΕΩΡΓΙΟΣ ΚΟΛΟΝΕΛΟΣ\n1963\nΣΥΛΛΟΓΟΣ ΔΡΟΜΕΩΝ ΥΓΕΙΑΣ ΑΓΡΙΝΙΟΥ\n0:55:29\n\n\n83\nMale\n996\nΣΩΚΡΑΤΗΣ ΡΕΤΖΗΣ\n1999\n\n0:55:48\n\n\n84\nMale\n1345\nΜΑΡΙΑΝΝΑ ΒΛΑΧΟΓΙΑΝΝΗ\n1994\n\n0:55:58\n\n\n85\nMale\n939\nΓΕΩΡΓΙΟΣ ΠΑΠΑΘΑΝΑΣΗΣ\n1972\nΑΝΕΞΑΡΤΗΤΟΣ\n0:56:08\n\n\n86\nMale\n515\nΚΩΣΤΑΣ ΓΩΓΟΥΣΗΣ\n1983\n\n0:56:25\n\n\n87\nMale\n993\nΓΙΑΝΝΗΣ ΡΕΤΖΗΣ\n1999\n\n0:56:30\n\n\n88\nMale\n479\nΓΙΩΡΓΟΣ ΓΚΟΛΦΗΣ\n1979\n\n0:56:37\n\n\n89\nMale\n456\nΣΤΕΛΙΟΣ ΓΑΣΤΕΡΑΤΟΣ\n1962\nΑΠΣ ΑΠΟΛΛΩΝ\n0:56:51\n\n\n90\nMale\n1164\nΓΙΩΡΓΟΣ ΤΣΑΜΟΠΟΥΛΟΣ\n1969\nΑΠΣΑΠΟΛΛΩΝ\n0:57:09\n\n\n91\nMale\n553\nΚΩΝΣΤΑΝΤΙΝΟΣ ΔΩΔΗΣ\n1963\nΤΕΛΜΗΣΣΟΣ ΜΑΡΑΘΩΝΑ\n0:57:18\n\n\n92\nMale\n1183\nΑΝΤΩΝΗΣ ΦΑΡΑΝΤΟΣ\n1949\nΑΠΣΑΠΟΛΛΩΝ\n0:57:46\n\n\n93\nMale\n882\nΔΗΜΗΤΡΙΟΣ ΜΕΤΑΞΙΩΤΗΣ\n1958\nΣΥΛΛΟΓΟΣ ΔΡΟΜΕΩΝ ΜΕΣΟΛΟΓΓΙΟΥ\n0:58:12\n\n\n94\nMale\n507\nΝΙΚΟΛΑΟΣ ΓΡΙΒΑΣ\n1983\nΑΝΕΞΑΡΤΗΤΟΣ\n0:58:13\n\n\n95\nMale\n1355\nΕΥΘΥΜΙΟΣ ΠΑΡΔΑΛΗΣ\n1982\nΣΔΥΑ\n0:58:33\n\n\n96\nMale\n992\nΑΡΙΜΝΗΣΤΟΣ ΡΑΧΟΥΤΗΣ\n1979\n\n0:58:33\n\n\n97\nMale\n1157\nΔΗΜΗΤΡΗΣ ΤΕΚΝΟΣ\n1980\nΣΔΥΠ\n0:58:48\n\n\n98\nMale\n1033\nΠΑΝΑΓΙΩΤΗΣ ΡΟΥΣΑΚΗΣ\n2000\n\n0:58:49\n\n\n99\nMale\n1067\nΕΠΑΜΕΙΝΩΝΔΑΣ ΣΑΚΕΛΛΙΟΥ\n1980\nΑΝΕΞΑΡΤΗΤΟΣ\n0:58:50\n\n\n100\nMale\n1332\nΛΟΥΚΑΣ ΜΑΡΑΓΙΑΝΝΗΣ\n1995\nΘΕΡΜΟ\n0:59:11\n\n\n101\nFemale\n1405\nΕΙΡΗΝΗ ΤΣΙΡΟΓΙΑΝΝΗ\n1976\nΑΜΦΙΛΟΧΙΑ\n0:59:18\n\n\n102\nMale\n1125\nΓΩΡΓΟΣ ΣΙΑΧΟΣ\n1981\nΑΝΕΞΑΡΤΗΤΟΣ\n0:59:33\n\n\n103\nMale\n624\nΑΘΑΝΑΣΙΟΣ ΚΑΤΣΑΡΟΣ\n1989\nΑΝΕΞΑΡΤΗΤΟΣ\n0:59:38\n\n\n104\nMale\n1317\nΓΙΩΡΓΟΣ ΧΑΝΤΖΗΓΙΑΝΝΑΚΗΣ\n1976\n\n0:59:40\n\n\n105\nMale\n510\nΑΝΔΡΕΑΣ ΓΡΙΝΤΕΛΑΣ\n1958\nΣΜΑΧ ΦΕΙΔΙΠΠΙΔΗΣ\n0:59:46\n\n\n106\nMale\n550\nΦΩΤΗΣ ΔΟΥΒΡΗΣ\n1977\n\n0:59:46\n\n\n107\nMale\n1322\nΚΩΣΤΑΣ ΧΕΙΛΑΚΗΣ\n1983\nΑΝΕΞΑΡΤΗΤΟΣ\n0:59:56\n\n\n108\nMale\n933\nΔΗΜΗΤΡΗΣ ΠΑΠΑΔΗΜΗΤΡΙΟΥ\n1955\nΑΝΕΞΑΡΤΗΤΟΣ\n0:59:56\n\n\n109\nMale\n644\nΒΑΣΙΛΕΙΟΣ ΚΟΛΟΒΟΣ\n1985\nΑΝΕΞΑΡΤΗΤΟΣ\n1:00:11\n\n\n110\nMale\n910\nΔΗΜΗΤΡΗΣ ΝΤΟΒΑΣ\n1962\n\n1:00:44\n\n\n111\nFemale\n895\nΑΘΑΝΑΣΙΑ ΜΠΕΚΟΥΛΗ\n2004\nΑ.Μ.Σ. ΠΥΓΜΗ ΠΑΝΑΙΤΩΛΙΟΥ\n1:00:47\n\n\n112\nMale\n1151\nΒΑΣΙΛΗΣ ΣΤΥΛΙΑΡΑΣ\n1976\nΑ.Π.Σ. ΑΠΟΛΛΩΝ ΔΥΤ. ΑΤΤΙΚΗΣ\n1:00:52\n\n\n113\nMale\n706\nΦΩΤΗΣ ΚΥΡΙΛΗΣ\n1984\n\n1:00:55\n\n\n114\nMale\n934\nΔΗΜΗΤΡΙΟΣ ΠΑΠΑΔΗΜΗΤΡΙΟΥ\n1976\n\n1:01:04\n\n\n115\nMale\n755\nΘΑΝΑΣΗΣ ΛΑΣΚΑΡΗΣ\n1979\nΑΝΕΞΑΡΤΗΤΟΣ\n1:01:08\n\n\n116\nMale\n899\nΧΡΗΣΤΟΣ ΜΠΕΚΟΥΛΗΣ\n1972\nΑ.Μ.Σ. ΠΥΓΜΗ ΠΑΝΑΙΤΩΛΙΟΥ ΤΑΕΚΒΟΝΤΟ\n1:01:33\n\n\n117\nFemale\n623\nΕΙΡΗΝΗ ΚΑΤΣΑΡΕΟΥ\n1987\nOINIADES RUNNING TEAM\n1:01:46\n\n\n118\nMale\n481\nΝΙΚΟΣ ΓΚΟΛΦΗΣ\n1973\nΣΥΛΛΟΓΟΣ ΔΡΟΜΕΩΝ ΥΓΕΙΑΣ ΑΓΡΙΝΙΟΥ\n1:02:03\n\n\n119\nMale\n1163\nΧΑΡΑΛΑΜΠΟΣ ΤΣΑΓΑΛΑΣ\n1977\nΟΡΧΟΜΕΝΟΣ\n1:02:11\n\n\n120\nMale\n134\nΓΙΩΡΓΟΣ ΑΡΝΟΚΟΥΡΟΣ\n1976\n\n1:02:17\n\n\n121\nMale\n1388\nΓΕΡΑΣΙΜΟΣ ΚΑΡΕΛΟΣ\n1947\nΚΑΤΟΧΗ\n1:02:38\n\n\n122\nFemale\n1416\nΠΗΓΗ ΚΡΙΝΟΧΩΡΙΤΗ\n1983\nΑΓΡΙΝΙΟ\n1:02:43\n\n\n123\nMale\n702\nΘΕΟΔΩΡΟΣ ΚΟΥΤΣΟΓΙΑΝΝΗΣ\n1957\nΣΔΥΑ\n1:02:44\n\n\n124\nMale\n1348\nΑΛΕΞΑΝΔΡΟΣ ΠΡΟΥΣΙΝΟΥΔΗΣ\n1948\nΑΠΟΛΛΩΝ ΔΥΤΙΚΗΣ ΑΤΤΙΚΗΣ\n1:02:47\n\n\n125\nMale\n909\nΣΩΤΗΡΙΟΣ ΝΤΖΟΥΦΡΑΣ\n1962\nΑΝΕΞΑΡΤΗΤΟΣ\n1:03:12\n\n\n126\nMale\n903\nΓΙΑΝΝΗΣ ΜΠΙΛΛΙΑΣ\n1968\n\n1:03:41\n\n\n127\nMale\n658\nΑΧΙΛΛΕΑΣ ΚΟΡΑΒΟΣ\n1967\nΔΡΟΜΕΙΣ ΥΓΕΙΑΣ ΓΡΕΒΕΝΩΝ\n1:03:47\n\n\n128\nMale\n1162\nΔΗΜΗΤΡΙΟΣ ΤΡΙΜΗΣ\n1964\n\n1:04:28\n\n\n129\nFemale\n1374\nΚΑΣΙΑΝΗ ΠΙΤΣΙΟΥ\n1999\nΑΓΡΙΝΙΟ\n1:04:29\n\n\n130\nMale\n535\nΣΤΡΑΤΟΣ ΔΗΜΟΥ\n1961\nLEPANTO RUNNERS\n1:04:41\n\n\n131\nMale\n497\nΗΛΙΑΣ ΓΟΡΑΝΙΤΗΣ\n1962\nΟΡΣΙΠΠΟΣ\n1:04:44\n\n\n132\nMale\n986\nΓΚΙΚΑΣ ΡΑΠΤΗΣ\n1970\nΑΓΙΟΣ ΚΩΝΣΤΑΝΤΙΝΟΣ\n1:05:02\n\n\n133\nMale\n1143\nΜΑΝΩΛΗΣ ΣΠΟΡΓΙΤΑΣ\n1954\nΑΠΣ ΑΠΟΛΛΩΝ\n1:05:20\n\n\n134\nMale\n1367\nΓΕΩΡΓΙΟΣ ΧΑΡΗΣ\n1996\n\n1:05:46\n\n\n135\nMale\n948\nΠΑΝΑΓΙΩΤΗΣ ΠΑΠΑΣΤΑΘΟΠΟΥΛΟΣ\n1975\n\n1:05:55\n\n\n136\nMale\n556\nΝΙΚΟΣ ΖΑΧΑΡΙΟΥ\n1966\nΣΑΦΑΝΣ\n1:06:30\n\n\n137\nMale\n1180\nΘΕΟΦΑΝΗΣ ΤΣΟΥΜΟΣ\n1977\nΑΝΕΞΑΡΤΗΤΟΣ\n1:06:48\n\n\n138\nMale\n957\nΚΟΣΜΑΣ ΠΙΤΣΙΟΣ\n1966\nOASH FC / CHALKIDA\n1:06:49\n\n\n139\nFemale\n528\nΧΡΙΣΤΙΝΑ ΔΗΜΗΤΡΟΠΟΥΛΟΥ\n1978\nΑΝΕΞΑΡΤΗΤΗ\n1:06:58\n\n\n140\nMale\n765\nΒΑΣΙΛΗΣ ΛΙΑΝΤΖΙΡΗΣ\n2001\n\n1:07:06\n\n\n141\nMale\n935\nΠΕΤΡΟΥ ΠΑΠΑΔΗΜΗΤΡΙΟΥ\n1965\n\n1:07:27\n\n\n142\nMale\n629\nΒΑΣΙΛΕΙΟΣ ΚΑΤΣΙΓΙΑΝΝΗΣ\n1955\n\n1:07:32\n\n\n143\nMale\n603\nΙΩΑΝΝΗΣ ΚΑΡΒΟΥΝΗΣ\n1986\n\n1:08:02\n\n\n144\nFemale\n72\nΕΛΕΝΗ ΑΝΥΦΑΝΤΗ\n1985\n\n1:08:03\n\n\n145\nMale\n691\nΔΗΜΗΤΡΙΟΣ ΚΟΥΚΟΥΛΑΡΗΣ\n1978\nΝΟΥΝΟΣ\n1:08:21\n\n\n146\nFemale\n931\nΞΑΝΘΗ ΠΑΝΤΑΖΗ\n1972\nΕΘΝΙΚΟΣ ΑΘΗΝΩΝ\n1:09:32\n\n\n147\nMale\n704\nΚΩΣΤΑΣ ΚΡΑΣΟΠΟΥΛΑΚΟΣ\n1972\n\n1:09:43\n\n\n148\nMale\n974\nΠΡΟΔΡΟΜΟΣ ΠΟΛΥΚΑΡΠΙΔΗΣ\n1973\nΑΝΕΞΑΡΤΗΤΟΣ\n1:11:00\n\n\n149\nFemale\n1316\nΑΛΕΞΑΝΔΡΑ ΧΑΛΚΙΑ\n1988\n\n1:11:08\n\n\n150\nMale\n1108\nΙΩΑΝΝΗΣ ΣΑΜΑΡΑΣ\n1987\n\n1:11:08\n\n\n151\nMale\n448\nΧΑΡΙΛΑΟΣ ΒΑΣΙΛΑΚΟΠΟΥΛΟΣ\n1942\nLEPANTO RUNNERS\n1:11:10\n\n\n152\nMale\n953\nΑΝΤΩΝΗΣ ΠΕΤΡΟΥ\n1958\n\n1:11:18\n\n\n153\nMale\n1173\nΤΑΣΟΣ ΤΣΙΚΡΙΤΕΑΣ\n1969\n–\n1:11:30\n\n\n154\nFemale\n928\nΒΑΣΙΛΙΚΗ ΠΑΛΩΓΟΥ\n1994\nΚΑΝΕΝΑΣ\n1:12:02\n\n\n155\nMale\n475\nΑΛΕΞΑΝΔΡΟΣ ΓΙΑΝΝΟΥΛΗΣ\n1982\nΚΑΝΕΝΑΣ\n1:12:02\n\n\n156\nFemale\n571\nΡΕΝΑ ΙΟΡΔΑΝΟΥ\n1963\nΤΕΛΜΗΣΣΟΣ ΜΑΡΑΘΩΝΑ\n1:12:06\n\n\n157\nMale\n503\nΑΘΗΝΑ ΓΡΗΓΟΡΙΑΔΟΥ\n1960\n\n1:12:08\n\n\n158\nMale\n577\nΓΕΩΡΓΙΟΣ ΚΑΛΗΜΕΡΗΣ\n1987\nΑΝΕΞΑΡΤΗΤΟΣ\n1:12:57\n\n\n159\nMale\n888\nΜΑΝΩΛΗΣ ΜΟΥΖΟΥΡΑΚΗΣ\n1962\nΑΠΣ ΑΠΟΛΛΩΝ\n1:13:21\n\n\n160\nMale\n921\nΑΝΑΣΤΑΣΙΟΣ ΟΙΚΟΝΟΜΟΥ\n1971\n\n1:16:12\n\n\n161\nMale\n1432\nΓΕΩΡΓΙΟΣ ΑΝΑΓΝΩΣΤΟΠΟΥΛΟΣ\n1973\nΘΕΡΜΟ\n1:16:12\n\n\n162\nMale\n1349\nΔΗΜΗΤΡΗΣ ΜΑΡΑΓΚΟΣ\n1944\n\n1:17:05\n\n\n163\nFemale\n722\nΕΥΑΝΘΙΑ ΚΩΤΣΗ\n1991\nNUVENTI ΤΡΙΑΘΛΟΝ\n1:20:15\n\n\n164\nMale\n1155\nΠΑΝΑΓΙΩΤΗΣ ΤΑΣΟΠΟΥΛΟΣ\n1958\nΑΠΣΑΠΟΛΛΩΝ\n1:20:55\n\n\n165\nFemale\n1174\nΔΕΣΠΟΙΝΑ ΤΣΙΛΙΠΑΝΗ\n1982\n\n1:21:14\n\n\n166\nFemale\n1184\nΜΑΡΙΑ ΦΑΡΑΝΤΟΥ\n1954\nΑΠΣΑΠΟΛΛΩΝ\n1:22:56\n\n\n167\nMale\n1178\nΣΤΑΥΡΟΣ ΤΣΙΜΑΚΙΔΗΣ\n1962\nΑΠΣΑΠΟΛΛΩΝ\n1:22:57\n\n\n168\nMale\n956\nΓΕΩΡΓΙΟΣ ΠΙΚΗΣ\n1962\nΜΑΡΑΘΩΝΟΔΡΟΜΟΙ ΑΡΓΟΛΙΔΟΣ\n1:22:57\n\n\n169\nMale\n604\nΒΑΓΓΕΛΗΣ ΚΑΡΔΑΡΑΣ\n2000\nΑΝΕΞΑΡΤΗΤΟΣ\n1:27:09\n\n\n170\nMale\n578\nΣΩΚΡΑΤΗΣ ΚΑΛΛΙΑΚΜΑΝΗΣ\n1999\n\n1:27:45\n\n\n171\nMale\n1354\nΙΩΣΗΦ ΛΙΑΣΚΟΣ\n1976\n\n1:28:24\n\n\n172\nFemale\n951\nΒΑΣΙΛΙΚΗ ΠΕΤΡΟΛΕΚΑ\n1979\n\n1:28:24\n\n\n173\nMale\n987\nΔΗΜΗΤΡΗΣ ΡΑΠΤΗΣ\n1959\nΑΝΕΞΑΡΤΗΤΟΣ\n1:31:04\n\n\n174\nMale\n716\nΒΑΣΙΛΗΣ ΚΩΝΣΤΑΝΤΟΠΟΥΛΟΣ\n1975\nΑΝΕΞΑΡΤΗΤΟΣ\n1:31:04\n\n\n175\nFemale\n1116\nΑΦΡΟΔΙΤΗ ΣΕΒΑΣΤΟΠΟΥΛΟΥ\n1958\nΑΠΣ ΑΠΟΛΛΩΝ\n1:35:40\n\n\n176\nFemale\n1430\nΜΑΡΙΑ ΚΟΤΣΑΛΟΥ\n1962\nΑΓΙΑ ΣΟΦΙΑ\n1:35:41\n\n\n177\nFemale\n1362\nΙΩΑΝΝΑ ΑΝΤΩΝΟΠΟΥΛΟΥ\n1985\nΣΔΥΑ\n1:36:30\n\n\n178\nFemale\n1364\nΒΑΣΙΛΕΙΑ ΚΟΥΤΣΟΘΑΝΑΣΗ\n1983\nΣΔΥΑ\n1:36:57
URL:https://gorun.gr/race/2%ce%bf%cf%82-%ce%b1%ce%b3%cf%8e%ce%bd%ce%b1%cf%82-%ce%b4%cf%81%cf%8c%ce%bc%ce%bf%cf%85-%ce%ba%ce%bf%cf%83%ce%bc%ce%ac%cf%82-%ce%bf-%ce%b1%ce%b9%cf%84%cf%89%ce%bb%cf%8c%cf%82/
CATEGORIES:Αποτελέσματα,Δρόμος
ATTACH;FMTTYPE=image/jpeg:https://gorun.gr/wp-content/uploads/2016/07/2016_08_20_aitolos.jpg
END:VEVENT
END:VCALENDAR