BEGIN:VCALENDAR
VERSION:2.0
PRODID:-//goRUN - ECPv5.8.1//NONSGML v1.0//EN
CALSCALE:GREGORIAN
METHOD:PUBLISH
X-WR-CALNAME:goRUN
X-ORIGINAL-URL:https://gorun.gr
X-WR-CALDESC:Events for goRUN
BEGIN:VTIMEZONE
TZID:Europe/Athens
BEGIN:DAYLIGHT
TZOFFSETFROM:+0200
TZOFFSETTO:+0300
TZNAME:EEST
DTSTART:20160327T010000
END:DAYLIGHT
BEGIN:STANDARD
TZOFFSETFROM:+0300
TZOFFSETTO:+0200
TZNAME:EET
DTSTART:20161030T010000
END:STANDARD
END:VTIMEZONE
BEGIN:VEVENT
DTSTART;VALUE=DATE:20160807
DTEND;VALUE=DATE:20160808
DTSTAMP:20260423T113429
CREATED:20160819T204546Z
LAST-MODIFIED:20160819T204546Z
UID:9769-1470528000-1470614399@gorun.gr
SUMMARY:2ος Γύρος Κοντοβουνιών
DESCRIPTION:2ος ΓΥΡΟΣ ΚΟΝΤΟΒΟΥΝΙΩΝ ΚΟΡΟΜΗΛΙΑ ΜΕΣΣΗΝΙΑΣ 7/8/2016 \nΑ/Α ΑΡΙΘΜΟΣ ΕΠΩΝΥΜΟ ΟΝΟΜΑ ΕΤΟΣ ΧΡΟΝΟΣ ΣΥΛΛΟΓΟΣ\n1 24 KANO EMILIANO 1987 0:31:54 ΣΔΥ ΜΕΣΣΗΝΙΑΣ\n2 667 ΜΠΑΚΑΣ ΗΛΙΑΣ 1979 0:33:42 ΚΟΥΡΟΣ ΑΙΓΙΝΑΣ ΣΔΥ ΜΕΣΣΗΝΙΑΣ\n3 218 ΚΛΑΔΗΣ ΑΘΑΝΑΣΙΟΣ 1960 0:33:48 ΣΔΥ ΜΕΣΣΗΝΙΑΣ\n4 1826 ΦΩΤΑΚΗΣ ΣΠΥΡΟΣ 1975 0:34:24 ΣΔΥ ΜΕΣΣΗΝΙΑΣ\n5 660 ΠΑΠΑΔΟΠΟΥΛΟΣ ΣΤΑΥΡΟΣ 1983 0:35:42 ΣΔΥ ΜΕΣΣΗΝΙΑΣ\n6 1821 ΦΛΩΡΟΣ ΓΙΑΝΝΗΣ 1973 0:37:08 ΣΔΥ ΜΕΣΣΗΝΙΑΣ\n7 205 ΚΑΚΚΑΒΑΣ ΣΩΤΗΡΗΣ 1967 0:37:17 ΚΥΠΑΡΙΣΣΙΑ\n8 670 ΧΟΥΛΙΑΡΗΣ ΜΙΧΑΛΗΣ 1963 0:37:34 ΑΝΕΞΑΡΤΗΤΟΣ\n9 1769 ΟΙΚΟΝΟΜΟΠΟΥΛΟΣ ΜΙΧΑΛΗΣ 1966 0:37:45 ΣΔΥ ΜΕΣΣΗΝΙΑΣ\n10 659 ΤΖΑΜΟΥΡΑΝΗΣ ΝΙΚΟΛΑΟΣ 1979 0:38:18 ΣΔΥ ΜΕΣΣΗΝΙΑΣ\n11 1787 ΠΟΥΛΟΠΟΥΛΟΣ ΔΗΜΗΤΡΗΣ 1984 0:38:36 ΕΟΣ ΚΑΛΑΜΑΤΑΣ\n12 661 ΒΑΣΙΛΕΙΟΥ ΧΡΗΣΤΟΣ 1978 0:38:54 ΣΔΥΜ-EXTREME\n13 1000 ΠΑΡΑΣΚΕΥΟΠΟΥΛΟΣ ΚΩΝ/ΝΟΣ 1962 0:39:08 ΣΔΥ ΜΕΣΣΗΝΙΑΣ\n14 1779 ΠΑΠΑΜΙΚΡΟΥΛΗΣ ΠΕΤΡΟΣ 1965 0:39:18 ΣΔΥ ΜΕΣΣΗΝΙΑΣ\n15 85 ΒΕΒΕΣ ΓΙΩΡΓΟΣ 1972 0:40:20 ΣΔΥ ΜΕΣΣΗΝΙΑΣ\n16 662 ΗΛΙΑΔΗΣ ΠΑΡΙΣ 1979 0:42:14 EXTREME\n17 217 ΚΕΡΑΜΕΚΗΣ ΓΙΑΝΝΗΣ 1948 0:42:23 ΣΔΥ ΜΕΣΣΗΝΙΑΣ\n18 200 ΘΑΝΟΣ ΘΟΔΩΡΑΣ 1967 0:42:26 ΣΔΥ ΜΕΣΣΗΝΙΑΣ\n19 199 ΖΟΥΖΟΥΛΑΣ ΣΤΑΥΡΟΣ 1965 0:42:26 ΣΔΥ ΜΕΣΣΗΝΙΑΣ\n20 189 ΓΙΑΝΝΑΚΟΠΟΥΛΟΣ ΗΛΙΑΣ 1968 0:42:34 ΣΔΥ ΜΕΣΣΗΝΙΑΣ\n21 198 ΖΕΡΒΕΑΣ ΣΩΤΗΡΗΣ 1977 0:42:49 ΣΔΥ ΜΕΣΣΗΝΙΑΣ\n22 216 ΚΑΡΜΙΡΗΣ ΠΑΝΑΓΙΩΤΗΣ 1973 0:42:54 ΣΔΥ ΜΕΣΣΗΝΙΑΣ\n23 223 ΚΟΛΑΜΠΑ ΔΗΜΗΤΡΑ 1966 0:43:02 ΣΔΥ ΜΕΣΣΗΝΙΑΣ\n24 674 ΨΑΡΡΕΑΣ ΑΘΑΝΑΣΙΟΣ 1971 0:43:12 ΣΔΥ ΜΕΣΣΗΝΙΑΣ\n25 1873 ΔΡΥΜΩΝΗΣ ΗΛΙΑΣ 1970 0:43:39 ΣΔΥ ΜΕΣΣΗΝΙΑΣ\n26 1739 ΜΙΧΑΛΑΚΗΣ ΝΙΚΟΛΑΟΣ 1988 0:44:09 ΣΔΥ ΜΕΣΣΗΝΙΑΣ\n27 190 ΔΑΣΚΑΛΑΚΗΣ ΒΑΓΓΕΛΗΣ 1952 0:44:15 ΣΔΥ ΜΕΣΣΗΝΙΑΣ\n28 1819 ΦΙΛΙΠΠΟΠΟΥΛΟΣ ΑΝΑΣΤΑΣΙΟΣ 1965 0:44:15 ΣΔΥ ΜΕΣΣΗΝΙΑΣ\n29 214 ΚΑΝΕΛΛΟΠΟΥΛΟΥ ΕΛΕΝΑ 1981 0:44:25 ΣΔΥ ΜΕΣΣΗΝΙΑΣ\n30 1813 ΤΣΙΓΚΟΣ ΗΛΙΑΣ 1960 0:44:52 ΣΔΥ ΜΕΣΣΗΝΙΑΣ\n31 44 ΑΝΔΡΟΒΙΤΣΑΝΕΑΣ ΠΑΝΑΓΙΩΤΗΣ 1992 0:45:35 ΣΔΥ ΜΕΣΣΗΝΙΑΣ\n32 213 ΚΑΝΕΛΛΟΠΟΥΛΟΣ ΑΝΑΣΤΑΣΙΟΣ 1950 0:46:01 ΣΔΥ ΜΕΣΣΗΝΙΑΣ\n33 1790 ΠΟΥΠΟΥΖΑΣ ΠΑΝΑΓΙΩΤΗΣ 1966 0:46:02 ΣΔΥ ΜΕΣΣΗΝΙΑΣ\n34 210 ΚΑΛΟΓΕΡΟΠΟΥΛΟΣ ΑΝΤΩΝΗΣ 1962 0:46:18 ΣΔΥ ΜΕΣΣΗΝΙΑΣ\n35 1811 ΤΣΕΡΕΦΟΣ ΔΗΜΗΤΡΗΣ 1986 0:46:34 ΣΔΥ ΜΕΣΣΗΝΙΑΣ\n36 212 ΚΑΜΠΑΣ ΠΑΝΑΓΙΩΤΗΣ 1964 0:46:47 ΣΔΥ ΜΕΣΣΗΝΙΑΣ\n37 792 ΛΟΝΤΟΣ ΣΤΑΥΡΟΣ 1983 0:46:54 ΣΔΥ ΜΕΣΣΗΝΙΑΣ\n38 1771 ΟΙΚΟΝΟΜΟΥ ΠΑΝΑΓΙΩΤΗΣ 1969 0:47:16 ΑΝΕΞΑΡΤΗΤΟΣ\n39 1745 ΜΙΧΑΛΟΠΟΥΛΟΥ ΕΛΕΝΑ 1983 0:47:23 ΣΔΥ ΜΕΣΣΗΝΙΑΣ\n40 1832 ΧΟΝΤΟΥ ΑΡΙΑΝΝΑ 1968 0:47:23 ΣΔΥ ΜΕΣΣΗΝΙΑΣ\n41 154 ΓΑΛΑΚΟΥΤΗΣ ΓΙΩΡΓΟΣ 1988 0:48:07 ΑΝΕΞΑΡΤΗΤΟΣ\n42 57 ΑΠΟΣΤΟΛΟΠΟΥΛΟΣ ΓΙΑΝΝΗΣ 1967 0:48:18 ΣΔΥ ΜΕΣΣΗΝΙΑΣ\n43 193 ΔΟΥΣΗΣ ΠΑΝΑΓΙΩΤΗΣ 1933 0:48:32 ΣΔΥ ΜΕΣΣΗΝΙΑΣ\n44 989 ΚΩΝΣΤΑΝΤΑΚΟΠΟΥΛΟΣ ΠΕΤΡΟΣ 2000 0:48:35 ΚΟΡΟΜΗΛΙΩΤΩΝ\n45 1737 ΜΕΝΤΖΑ ΕΛΕΝΗ 2000 0:48:36 ΑΝΕΞΑΡΤΗΤΗ\n46 699 ΤΣΕΡΠΕΣ ΠΑΝΑΓΙΩΤΗΣ 2000 0:48:37 ΚΟΡΟΜΗΛΙΩΤΩΝ\n47 991 ΚΡΟΜΠΑΣ ΔΗΜΗΤΡΗΣ 2003 0:48:41 ΚΟΡΟΜΗΛΙΩΤΩΝ\n48 28 ΑΛΕΞΟΠΟΥΛΟΣ ΕΥΘΥΜΙΟΣ 1953 0:48:46 ΣΔΥ ΜΕΣΣΗΝΙΑΣ\n49 1940 ΚΟΥΤΙΒΑΣ ΧΡΗΣΤΟΣ 1977 0:49:23 ΑΝΕΞΑΡΤΗΤΟΣ\n50 1777 ΠΑΠΑΔΟΠΟΥΛΟΣ ΛΕΩΝΙΔΑΣ 1955 0:50:07 ΣΔΥ ΜΕΣΣΗΝΙΑΣ\n51 1935 ΚΑΛΛΑΣ ΔΗΜΗΤΡΙΟΣ 1991 0:50:10 ΑΝΕΞΑΡΤΗΤΟΣ\n52 1751 ΜΠΡΟΥΜΑΣ ΓΙΩΡΓΟΣ 1987 0:50:37 ΣΔΥ ΜΕΣΣΗΝΙΑΣ\n53 215 ΚΑΠΠΑΣ ΚΩΝ/ΝΟΣ 1962 0:50:39 ΑΝΕΞΑΡΤΗΤΟΣ\n54 204 ΘΕΟΔΟΣΑΤΟΣ ΓΙΩΡΓΟΣ 1965 0:51:03 ΣΔΥ ΜΕΣΣΗΝΙΑΣ\n55 1792 ΡΕΪΤΖΟΠΟΥΛΟΥ ΟΛΓΑ 1979 0:51:07 ΣΔΥ ΜΕΣΣΗΝΙΑΣ\n56 666 ΤΣΟΥΠΑΣ ΓΙΑΝΝΗΣ 1975 0:51:12 ΑΝΕΞΑΡΤΗΤΟΣ\n57 668 ΧΡΙΣΤΟΔΟΥΛΑΚΗ ΠΑΝΑΓΙΩΤΑ 1972 0:51:17 ΣΔΥ ΜΕΣΣΗΝΙΑΣ\n58 1803 ΣΤΑΜΑΤΕΛΙΑ ΑΣΗΜΙΝΑ 1968 0:51:40 ΣΔΥ ΜΕΣΣΗΝΙΑΣ\n59 664 ΚΡΟΜΠΑΣ ΓΕΩΡΓΙΟΣ 1967 0:51:43 ΚΟΡΟΜΗΛΙΩΤΩΝ\n60 663 ΠΑΥΛΟΠΟΥΛΟΣ ΔΙΟΝΥΣΗΣ 2000 0:51:54 ΣΔΥ ΜΕΣΣΗΝΙΑΣ\n61 1780 ΠΑΥΛΟΠΟΥΛΟΣ ΑΝΑΣΤΑΣΙΟΣ 1967 0:51:55 ΣΔΥ ΜΕΣΣΗΝΙΑΣ\n62 1747 ΜΠΕΛΕΧΡΗΣ ΗΛΙΑΣ 1960 0:51:56 ΣΔΥ ΜΕΣΣΗΝΙΑΣ\n63 211 ΚΑΛΥΒΙΩΤΗΣ ΝΙΚΟΛΑΟΣ 1946 0:52:20 ΣΔΥ ΜΕΣΣΗΝΙΑΣ\n64 795 ΜΑΚΡΥΠΟΔΗΣ ΓΙΑΝΝΗΣ 1975 0:52:33 ΣΔΥ ΜΕΣΣΗΝΙΑΣ\n65 104 ΒΟΥΔΟΥΡΗΣ ΓΙΩΡΓΟΣ 1964 0:52:37 ΣΔΥ ΜΕΣΣΗΝΙΑΣ\n66 76 ΒΑΛΣΑΜΑΚΗ ΒΑΡΒΑΡΑ 1956 0:52:45 ΣΔΥ ΜΕΣΣΗΝΙΑΣ\n67 772 ΚΡΟΜΠΑΣ ΑΘΑΝΑΣΙΟΣ 1993 0:53:52 ΣΔΥ ΜΕΣΣΗΝΙΑΣ\n68 155 ΓΑΛΗΝΕΑΣ ΣΩΚΡΑΤΗΣ 1963 0:54:22 ΣΔΥ ΜΕΣΣΗΝΙΑΣ\n69 1804 ΣΤΑΥΡΟΠΟΥΛΟΣ ΑΡΙΣΤΟΜΕΝΗΣ 1964 0:54:41 ΣΔΥ ΜΕΣΣΗΝΙΑΣ\n70 1809 ΤΟΥΦΕΞΙΑΔΗΣ ΖΩΗΣ 1957 0:55:16 ΜΑΡΑΘ ΔΡΟΜΕΙΣ ΑΡΓΟΛΙΔΑΣ\n71 74 ΒΑΪΝΑ ΑΘΑΝΑΣΙΑ 1959 0:55:24 ΑΝΕΞΑΡΤΗΤΗ\n72 994 ΓΕΩΡΓΑΚΟΠΟΥΛΟΥ ΜΑΡΙΑ 1965 0:55:27 ΚΟΡΟΜΗΛΙΩΤΩΝ\n73 197 ΖΑΧΑΡΑΚΗ ΚΩΝ/ΝΑ 1965 0:56:30 ΣΔΥ ΜΕΣΣΗΝΙΑΣ\n74 677 ΚΑΛΟΓΕΡΟΠΟΥΛΟΣ ΝΙΚΟΛΑΟΣ 1971 0:57:05 ΚΥΝΗΓΟΥ\n75 993 ΤΣΕΡΠΕΣ ΓΕΩΡΓΙΟΣ 1994 0:57:14 ΚΟΡΟΜΗΛΙΩΤΩΝ\n76 1834 ΧΡΟΝΟΠΟΥΛΟΣ ΑΛΕΞΗΣ 1964 0:57:25 ΣΔΥ ΜΕΣΣΗΝΙΑΣ\n77 191 ΔΗΜΑΣ ΠΑΝΑΓΙΩΤΗΣ 1955 0:58:30 ΜΑΡΑΘ ΔΡΟΜΕΙΣ ΑΡΓΟΛΙΔΑΣ\n78 669 ΓΕΩΡΓΙΟΠΟΥΛΟΣ ΚΩΝ/ΝΟΣ 1967 0:59:07 ΣΔΥ ΜΕΣΣΗΝΙΑΣ\n79 153 ΒΥΡΛΑΣ ΔΗΜΗΤΡΗΣ 1952 0:59:15 ΜΑΡΑΘ ΔΡΟΜΕΙΣ ΑΡΓΟΛΙΔΑΣ\n80 1830 ΧΑΪΚΟΣ ΝΙΚΟΛΑΟΣ 1973 0:59:22 ΣΔΥ ΜΕΣΣΗΝΙΑΣ\n81 658 ΚΑΡΒΟΥΝΗΣ ΒΑΣΙΛΕΙΟΣ 1982 1:00:07 ΑΝΕΞΑΡΤΗΤΟΣ\n82 224 ΚΟΜΜΑΤΑΣ ΜΙΧΑΛΗΣ 1961 1:00:28 ΣΔΥ ΜΕΣΣΗΝΙΑΣ\n83 665 ΚΑΜΠΑΣ ΛΥΚΟΥΡΓΟΣ 2003 1:00:56 ΣΔΥ ΜΕΣΣΗΝΙΑΣ\n84 1778 ΠΑΠΑΔΟΠΟΥΛΟΥ ΧΡΥΣΟΥΛΑ 1957 1:01:03 ΣΔΥ ΜΕΣΣΗΝΙΑΣ\n85 195 ΕΥΤΥΧΙΑΚΟΥ ΚΩΝ/ΝΑ 1959 1:01:04 ΣΔΥ ΜΕΣΣΗΝΙΑΣ\n86 1818 ΦΑΝΑΡΑ ΜΑΡΙΑ 1971 1:01:54 ΣΔΥ ΜΕΣΣΗΝΙΑΣ\n87 48 ΑΝΤΩΝΟΠΟΥΛΟΣ ΣΩΤΗΡΗΣ 1954 1:04:32 ΑΝΕΞΑΡΤΗΤΟΣ\n88 58 ΑΡΓΥΡΟΠΟΥΛΟΣ ΜΙΧΑΛΗΣ 1975 1:04:36 ΚΟΡΟΜΗΛΙΩΤΩΝ\n89 192 ΔΟΥΣΗ ΕΥΑΝΘΙΑ 1966 1:04:40 ΣΔΥ ΜΕΣΣΗΝΙΑΣ\n90 672 ΑΡΓΥΡΟΠΟΥΛΟΥ ΧΡΙΣΤΙΝΑ 1979 1:04:47 ΚΟΡΟΜΗΛΙΩΤΩΝ\n91 673 ΑΡΓΥΡΟΠΟΥΛΟΥ ΒΑΡΒΑΡΑ 1981 1:04:48 ΚΟΡΟΜΗΛΙΩΤΩΝ\n92 1945 ΤΣΕΡΠΕΣ ΒΑΛΑΝΤΗΣ 1998 1:05:10 ΚΟΡΟΜΗΛΙΩΤΩΝ\n93 790 ΛΑΜΠΑΣ ΔΗΜΗΤΡΗΣ 1958 1:05:12 ΜΑΡΑΘ ΔΡΟΜΕΙΣ ΑΡΓΟΛΙΔΑΣ\n94 742 ΚΟΥΡΑΜΠΑΣ ΔΗΜΗΤΡΗΣ 1970 1:09:53 ΑΝΕΞΑΡΤΗΤΟΣ\n95 675 ΞΥΠΟΛΙΤΟΣ ΠΑΝΑΓΙΩΤΗΣ 1959 1:11:10 ΣΔΥ ΜΕΣΣΗΝΙΑΣ\n96 676 ΚΩΝΣΤΑΝΤΟΠΟΥΛΟΥ ΚΑΤΕΡΙΝΑ 1965 1:11:11 ΣΔΥ ΜΕΣΣΗΝΙΑΣ\n97 987 ΚΡΟΜΠΑ ΜΑΡΙΑ 2004 1:11:21 ΚΟΡΟΜΗΛΙΩΤΩΝ\n98 1917 ΚΑΛΛΑ ΓΕΩΡΓΙΑ 1992 1:11:21 ΑΝΕΞΑΡΤΗΤΗ\n99 988 ΤΣΕΡΠΕ ΑΝΝΑ-ΜΑΡΙΑ 2003 1:11:21 ΚΟΡΟΜΗΛΙΩΤΩΝ\n100 209 ΚΑΛΔΗ ΑΝΝΑ 1975 1:16:08 ΣΔΥ ΜΕΣΣΗΝΙΑΣ\n101 698 ΚΡΟΜΠΑΣ ΣΤΑΥΡΟΥΛΑ 2002 1:26:07 ΚΟΡΟΜΗΛΙΩΤΩΝ\n102 992 ΑΝΤΩΝΟΠΟΥΛΟΥ ΙΩΑΝΝΑ 2002 1:26:07 ΚΟΡΟΜΗΛΙΩΤΩΝ\n103 1952 ΚΟΚΚΑΛΗ ΑΓΓΕΛΙΚΗ 2004 1:26:07 ΚΟΡΟΜΗΛΙΩΤΩΝ\n104 1829 ΦΩΤΟΠΟΥΛΟΥ ΒΑΣΙΛΙΚΗ 1978 1:26:08 ΚΟΡΟΜΗΛΙΩΤΩΝ
URL:https://gorun.gr/race/2%ce%bf%cf%82-%ce%b3%cf%8d%cf%81%ce%bf%cf%82-%ce%ba%ce%bf%ce%bd%cf%84%ce%bf%ce%b2%ce%bf%cf%85%ce%bd%ce%b9%cf%8e%ce%bd/
CATEGORIES:Αποτελέσματα,Δρόμος
END:VEVENT
END:VCALENDAR