BEGIN:VCALENDAR
VERSION:2.0
PRODID:-//goRUN - ECPv5.8.1//NONSGML v1.0//EN
CALSCALE:GREGORIAN
METHOD:PUBLISH
X-WR-CALNAME:goRUN
X-ORIGINAL-URL:https://gorun.gr
X-WR-CALDESC:Events for goRUN
BEGIN:VTIMEZONE
TZID:Europe/Athens
BEGIN:DAYLIGHT
TZOFFSETFROM:+0200
TZOFFSETTO:+0300
TZNAME:EEST
DTSTART:20160327T010000
END:DAYLIGHT
BEGIN:STANDARD
TZOFFSETFROM:+0300
TZOFFSETTO:+0200
TZNAME:EET
DTSTART:20161030T010000
END:STANDARD
END:VTIMEZONE
BEGIN:VEVENT
DTSTART;VALUE=DATE:20160806
DTEND;VALUE=DATE:20160807
DTSTAMP:20260422T211348
CREATED:20160727T212203Z
LAST-MODIFIED:20160808T075425Z
UID:9308-1470441600-1470527999@gorun.gr
SUMMARY:2ος Ημιμαραθώνιος δρόμος Βεντζιου-Χαβορδας
DESCRIPTION:2 Ημιμαραθώνιος δρόμος βεντζιου-ζαβορδας \nΔιοργανωτής . Παυλίδης Σάββας \nΠροκήρυξη 2 αγώνα Βρέντζου-ζαβορδας \nΗμερομηνία Σάββατο 6 Αυγούστου\nΏρα εκκίνησης 17:00 \nΔιαδρομή: βεντζι-σαρακινα-παλιοτουρκο τερματισμός μοναστήρι (Αγίου νικάνωρα)ζαβορδα \nΣυγκέντρωση αθλητών μιάμιση ώρα πριν την εκκίνηση στις 3.30 Στο χωριό κέντρο – βεντζι Του νομού Γρεβενών Όπου θα είναι η αφετηρία \nΔηλώσεις συμμετοχής στο 697 2742121 Παυλίδης Σάββας \nΜπορείτε να δηλώσετε συμμετοχή και την ημέρα του αγώνα \nΈπαθλα μετάλλια σε όλους τους συμμετέχοντες \nΙατρικός έλεγχος ο ιατρικός έλεγχος γίνεται αυτοβούλως από τους συμμετέχοντες οι ενήλικες παίρνω μέρος με δική τους ευθύνη και η ανήλικες με ευθύνη του γονέα τους. \nΜετά τον τερματισμό όλων των αθλητών οι αθλητές θα μεταφερθούν με λεωφορείο στην αφετηρία. \nΟ αγώνας των 21 Χιλιομέτρων αποτελείται από χωμάτινο δρόμο Και άσφαλτο. \nΒαθμός δυσκολίας μέτριος \nΟ τερματισμός θα γίνει στους πρόποδες του μοναστηριού σε ένα μαγευτικό τοπίο. Με τον ποταμό Αλιάκμονα να αγκαλιάζει το μοναστήρι του Αγίου Νικάνορος
URL:https://gorun.gr/race/2%ce%bf%cf%82-%ce%b7%ce%bc%ce%b9%ce%bc%ce%b1%cf%81%ce%b1%ce%b8%cf%8e%ce%bd%ce%b9%ce%bf%cf%82-%ce%b4%cf%81%cf%8c%ce%bc%ce%bf%cf%82-%ce%b2%ce%b5%ce%bd%cf%84%ce%b6%ce%b9%ce%bf%cf%85-%cf%87%ce%b1%ce%b2/
CATEGORIES:Δρόμος
END:VEVENT
END:VCALENDAR