BEGIN:VCALENDAR
VERSION:2.0
PRODID:-//goRUN - ECPv5.8.1//NONSGML v1.0//EN
CALSCALE:GREGORIAN
METHOD:PUBLISH
X-WR-CALNAME:goRUN
X-ORIGINAL-URL:https://gorun.gr
X-WR-CALDESC:Events for goRUN
BEGIN:VTIMEZONE
TZID:Europe/Athens
BEGIN:DAYLIGHT
TZOFFSETFROM:+0200
TZOFFSETTO:+0300
TZNAME:EEST
DTSTART:20160327T010000
END:DAYLIGHT
BEGIN:STANDARD
TZOFFSETFROM:+0300
TZOFFSETTO:+0200
TZNAME:EET
DTSTART:20161030T010000
END:STANDARD
END:VTIMEZONE
BEGIN:VEVENT
DTSTART;VALUE=DATE:20160515
DTEND;VALUE=DATE:20160516
DTSTAMP:20260420T180241
CREATED:20160426T072508Z
LAST-MODIFIED:20160517T151338Z
UID:6149-1463270400-1463356799@gorun.gr
SUMMARY:2ο SALOMON SERRES CITY RUNNING 10\,7 χλμ και 5\,5 χλμ & 1ο ΠΑΝΕΛΛΗΝΙΟ ΑΓΩΝΑ ΔΡΟΜΟΥ ΝΟΜΙΚΩΝ 10\,7 χλμ
DESCRIPTION:ΑΠΟΤΕΛΕΣΜΑΤΑ \nRank\nGen-Sex-Cat Category Gender BIB Name YOB Club Finish 10.7\n1 \, 1 \,1\nΆνω των 18 Male 23 ΔΙΑΜΑΝΤΗΣ ΓΕΩΡΓΑΛΑΣ 1984 ΠΕΙΡΑΙΚΟΣ ΣΥΝΔΕΣΜΟΣ 0:47:58.756\n2 \, 2 \, 2 Άνω των 18 Male 223 ΓΙΩΡΓΟΣ ΣΙΚΑΛΟΣ 1965 ΣΥΛΟΓΟΣ ΜΑΡΑΘΩΝΟΔΡΟΜΩΝ ΣΕΡΡΩΝ 0:49:00.920\n3 \, 3 \, 3 Άνω των 18 Male 110 ΔΗΜΗΤΡΗΣ ΚΟΡΟΛΟΓΟΣ 1970 ΣΥΛΛ.ΜΑΡΑΘ.ΣΕΡΡΩΝ 0:51:33.836\n4 \, 4 \, 4 Άνω των 18 Male 253 ΑΘΑΝΑΣΙΟΣ ΤΣΕΛΙΟΣ 1959 STOIKOS TRAINING 0:52:07.506\n5 \, 5 \, 5 Άνω των 18 Male 32 ΒΑΣΙΛΕΙΟΣ ΧΡΥΣΟΒΑΛΑΝΤΗΣ ΓΚΟΡΟΓΙΑΣ 1988 KASIMISTRAINING/XANTHIRUNNERS 0:52:14.273\n6 \, 6 \, 6 Άνω των 18 Male 139 ΝΙΚΟΛΑΟΣ ΜΑΝΤΣΟΣ 1968 ΣΥΛΛ.ΜΑΡΑΘΩΝΟΔΡΟΜΩΝ ΣΕΡΡΩΝ 0:52:18.340\n7 \, 7 \, 7 Άνω των 18 Male 126 ΔΗΜΗΤΡΗΣ ΛΕΪΛΕΚΤΣΟΓΛΟΥ 1983 IRON TEAM 0:52:35.606\n8 \, 8 \, 8 Άνω των 18 Male 20 ΠΕΤΡΟΣ ΒΡΑΧΛΙΩΤΗΣ 1977 ΜΑΡΑΘΩΝΟΔΡΟΜΩΝ ΣΕΡΡΩΝ 0:53:32.506\n9 \, 9 \, 9 Άνω των 18 Male 88 ΚΩΝΣΤΑΝΤΙΝΟΣ ΚΑΡΑΜΑΝΩΛΗΣ 1985 Σ.Δ.Υ. ΘΕΣΣΑΛΟΝΙΚΗΣ 0:53:37.133\n10 \, 10 \, 10 Άνω των 18 Male 38 ΓΕΩΡΓΙΟΣ ΓΡΗΓΟΡΙΑΔΗΣ 1964 XANTHI RUNNERS 0:53:54.160\n11 \, 11 \, 11 Άνω των 18 Male 295 ΚΩΣΤΑΣ ΣΟΥΛΤΑΝΙΔΗΣ – 0:53:56.556\n12 \, 12 \, 12 Άνω των 18 Male 112 ΚΩΣΤΑΣ ΚΟΤΑΛΑΚΙΔΗΣ 1971 IRON TEAM -ΜΥΛΟΙ ΚΑΠΛΑΝΙΔΗ 0:54:05.390\n13 \, 13 \, 13 Άνω των 18 Male 31 ΠΑΥΛΟΣ ΓΚΙΤΣΑΣ 1997 EXPERT SPORT 0:54:19.360\n14 \, 14 \, 14 Άνω των 18 Male 189 ΠΕΤΡΟΣ ΣΤΟΪΛΑΣ 1981 0:54:34.233\n15 \, 15 \, 15 Άνω των 18 Male 239 ΓΡΗΓΟΡΗΣ ΤΕΡΖΙΔΗΣ 1991 ΣΥΛΟΓΟΣ ΜΑΡΑΘΩΝΟΔΡΟΜΩΝ ΣΕΡΡΩΝ 0:54:38.436\n16 \, 16 \, 16 Άνω των 18 Male 218 ΓΙΑΝΝΗΣ ΣΑΡΙΑΝΙΔΗΣ 1972 GYM 95 0:54:39.936\n17 \, 17 \, 17 Άνω των 18 Male 17 ΙΩΑΝΝΗΣ ΒΑΣΙΛΚΑΡΙΔΗΣ 1976 ΣΥΛ ΜΑΡΑΘ/ΜΩΝ ΣΕΡΡΩΝ 0:54:40.970\n18 \, 18 \, 18 Άνω των 18 Male 275 ΑΘΑΝΑΣΙΟΣ ΧΡΙΣΤΟΦΟΡΙΔΗΣ 1975 LAILIAS ULTRA TRAIL 0:54:54.030\n19 \, 19 \, 19 Άνω των 18 Male 73 ΓΙΩΡΓΟΣ ΘΕΟΧΑΡΗΣ 1976 ΣΥΛΟΓΟΣ ΜΑΡΑΘΩΝΟΔΡΟΜΩΝ ΣΕΡΡΩΝ 0:55:21.593\n20 \, 20 \, 20 Άνω των 18 Male 103 CRISTOS ΚΟKKIDIS 1973 0:55:21.946\n21 \, 21 \, 21 Άνω των 18 Male 2 ΚΩΝΣΤΑΝΤΙΝΟΣ ΑΓΓΕΙΟΠΛΑΣΤΗΣ 1969 ΣΥΛΟΓΟΣ ΜΑΡΑΘΩΝΟΔΡΟΜΩΝ ΣΕΡΡΩΝ 0:55:24.513\n22 \, 22 \, 22 Άνω των 18 Male 75 ΓΙΩΡΓΟΣ ΙΩΑΝΝΙΔΗΣ 1984 SERRES 0:55:50.030\n23 \, 23 \, 23 Άνω των 18 Male 130 ΓΕΩΡΓΙΟΣ ΛΙΟΥΣΑΣ 1969 ΣΥΛΛ.ΜΑΡΑΘΩΝΟΔΡΟΜΩΝ ΣΕΡΡΩΝ 0:55:55.293\n24 \, 24 \, 24 Άνω των 18 Male 292 ΑΠΟΣΤΟΛΟΣ ΓΙΟΒΑΝΟΓΛΟΥ – 0:55:57.370\n25 \, 25 \, 25 Άνω των 18 Male 170 ΔΗΜΗΤΡΗΣ ΟΙΚΟΝΟΜΙΔΗΣ 1975 OASIS GYM 0:56:02.700\n26 \, 26 \, 26 Άνω των 18 Male 169 ΣΤΕΦΑΝΟΣ ΞΙΦΤΟΣ 1963 ΣΥΛΟΓΟΣ ΜΑΡΑΘΩΝΟΔΡΟΜΩΝ ΣΕΡΡΩΝ 0:56:29.606\n27 \, 27 \, 27 Άνω των 18 Male 213 ΙΩΑΝΝΗΣ ΣΑΜΑΡΑΣ 1966 SERRES 93 0:57:05.126\n28 \, 28 \, 28 Άνω των 18 Male 117 ΕΥΑΓΓΕΛΟΣ ΚΟΥΤΚΟΣ 1970 ΜΑΡΑΘΩΝΟΔΡΟΜΩΝ ΣΕΡΡΩΝ 0:58:40.073\n29 \, 29 \, 29 Άνω των 18 Male 111 ΚΩΝΣΤΑΝΤΙΝΟΣ ΣΤΑΜΑΤΙΑΔΗΣ 1970 0:58:55.720\n30 \, 30 \, 30 Άνω των 18 Male 216 ΣΤΕΡΓΙΟΣ ΤΖΗΜΑΣ 1974 0:58:59.663\n31 \, 31 \, 31 Άνω των 18 Male 177 ΑΝΑΣΤΑΣΙΟΣ ΠΑΠΑΔΟΠΟΥΛΟΣ 1990 Ο.Κ.Α.Φ ΚΑΒΑΛΑΣ 0:59:01.780\n32 \, 32 \, 32 Άνω των 18 Male 107 ΣΤΑΥΡΟΣ ΚΟΔΡΟΠΟΥΛΟΣ 1969 ΣΥΛ.ΜΑΡΑΘ.ΣΕΡΡΩΝ 0:59:33.116\n33 \, 33 \, 33 Άνω των 18 Male 85 ΑΡΓΥΡΗΣ ΚΑΡΑΒΑΛΤΣΗΣ 1985 ΣΥΛΛ.ΜΑΡΑΘΩΝΟΔΡΟΜΩΝ ΣΕΡΡΩΝ 0:59:45.363\n34 \, 34 \, 34 Άνω των 18 Male 144 ΑΘΑΝΑΣΙΟΣ ΜΠΟΥΜΠΑΣ 1988 ΑΝΕΞΑΡΤΗΤΟΣ 0:59:50.396\n35 \, 35 \, 35 Άνω των 18 Male 187 ΒΑΣΙΛΕΙΟΣ ΠΑΠΑΝΔΡΕΟΥ 1983 IRON TEAM 0:59:53.323\n36 \, 36 \, 36 Άνω των 18 Male 34 ΑΛΕΞΑΝΔΡΟΣ ΓΡΑΚΗΣ 1991 0:59:53.406\n37 \, 37 \, 37 Άνω των 18 Male 102 ΑΘΑΝΑΣΙΟΣ ΚΛΑΡΑΚΗΣ 1990 ΣΥΛΟΓΟΣ ΜΑΡΑΘΩΝΟΔΡΟΜΩΝ ΣΕΡΡΩΝ 1:00:37.670\n38 \, 38 \, 38 Άνω των 18 Male 227 ΜΗΧΑΛΗΣ ΣΠΑΝΟΥΔΑΚΗΣ 1975 ΣΥΛΟΓΟΣ ΜΑΡΑΘΩΝΟΔΡΟΜΩΝ ΣΕΡΡΩΝ 1:00:37.886\n39 \, 39 \, 39 Άνω των 18 Male 194 ΑΛΕΞΑΝΔΡΟΣ ΠΑΡΑΣΧΟΣ 1991 EXPERT SPORT 1:00:42.363\n40 \, 40 \, 40 Άνω των 18 Male 129 ΑΝΤΩΝΗΣ ΛΙΛΟΣ 1956 ΣΥΛΛΟΓΟΣ ΜΑΡΑΘΩΝΟΔΡΟΜΩΝ ΣΕΡΡΩΝ 1:00:51.266\n41 \, 41 \, 41 Άνω των 18 Male 220 ΘΕΟΔΩΡΟΣ ΤΡΟΥΠΗΣ 1970 1:00:57.643\n42 \, 42 \, 42 Άνω των 18 Male 114 ΕΥΣΤΑΘΙΟΣ ΓΚΕΒΡΕΚΗΣ 1979 ΑΝΕΞΑΡΤΗΤΟΣ 1:00:59.793\n43 \, 43 \, 43 Άνω των 18 Male 271 ΠΕΤΡΟΣ ΧΑΤΖΗΗΛΙΑΣ 1981 TRAIN FOR LIFE CROSSFIT 1:01:01.480\n44 \, 44 \, 44 Άνω των 18 Male 296 ΔΙΑΜΑΝΤΗΣ ΚΟΥΒΑΛΑΚΗΣ – 1:01:32.360\n45 \, 45 \, 45 Άνω των 18 Male 46 ΗΡΑΚΛΗΣ ΔΕΪΡΜΕΝΤΖΙΔΗΣ 1976 ELEFTHEROUPOLI RUNNERS 1:01:41.016\n46 \, 46 \, 1\nΚάτω των 18 Male 192 ΚΩΝΣΤΑΝΤΙΝΟΣ ΠΑΡΑΔΕΙΣΟΠΟΥΛΟΣ 2001 1:01:45.680\n47 \, 47 \, 46 Άνω των 18 Male 258 ΒΑΣΙΛΕΙΟΣ ΤΣΟΛΑΚΗΣ 1971 KASIMIS TRAINING 1:01:47.186\n48 \, 48 \, 47 Άνω των 18 Male 78 LEONIDAS ΚALAPOTHAKOS 1961 1:01:56.100\n49 \, 49 \, 48 Άνω των 18 Male 201 ΒΑΓΓΕΛΗΣ ΠΙΣΤΟΛΑΣ 1993 STRENGTH BOX SERRES 1:02:07.243\n50 \, 50 \, 49 Άνω των 18 Male 281 ΧΡΗΣΤΟΣ ΑΓΓΕΛΙΔΗΣ – 1:02:44.933\n51 \, 51 \, 50 Άνω των 18 Male 196 ΧΡΗΣΤΟΣ ΤΣΟΥΡΑΛΗΣ 1985 1:02:48.610\n52 \, 52 \, 51 Άνω των 18 Male 94 ΓΙΑΝΝΗΣ ΚΑΤΟΣ 1970 ΣΥΛΟΓΟΣ ΜΑΡΑΘΩΝΟΔΡΟΜΩΝ ΣΕΡΡΩΝ 1:03:01.623\n53 \, 1 \,52\nΆνω των 18 Female 89 ΣΤΕΛΛΑ/STELLA ΚΑΡΑΠΙΛΑΦΗ/KARAPILAFH 1977 Α.Ο.ΠΟΛΥΓΥΡΟΥ 1:03:04.326\n54 \, 53 \, 53 Άνω των 18 Male 10 ΑΘΑΝΑΣΙΟΣ ΑΡΑΜΠΑΤΖΗΣ 1986 TRAIN FOR LIFE 1:03:23.166\n55 \, 54 \, 54 Άνω των 18 Male 76 ΔΗΜΗΤΡΙΟΣ ΙΩΑΝΝΙΔΗΣ 1977 ΣΥΛΛΟΓΟΣ ΜΑΡΑΘΩΝΟΔΡΟΜΩΝ ΣΕΡΡΩΝ 1:03:24.443\n56 \, 55 \, 55 Άνω των 18 Male 241 ΣΑΒΒΑΣ ΤΖΑΚΙΔΗΣ 1969 ΚΑΒΑΛΑ 1:03:31.196\n57 \, 56 \, 56 Άνω των 18 Male 97 ΧΡΙΣΤΟΣ ΚΕΔΕΡΗΣ 1991 ΑΝΕΞΑΡΤΗΤΟΣ 1:03:43.450\n58 \, 57 \, 57 Άνω των 18 Male 58 ΑΛΕΞΑΝΔΡΟΣ ΕΚΜΕΤΣΟΓΛΟΥ 1991 EXPERT SPORT 1:03:43.766\n59 \, 58 \, 58 Άνω των 18 Male 19 ΑΘΑΝΑΣΙΟΣ ΒΕΡΒΕΡΟΓΛΟΥ 1975 1:03:52.510\n60 \, 59 \, 59 Άνω των 18 Male 159 ΓΕΩΡΓΙΟΣ ΜΠΟΛΑΡΗΣ – 1:04:15.483\n61 \, 60 \, 60 Άνω των 18 Male 256 ΝΙΚΟΣ ΤΣΙΟΤΣΙΑΛΑΣ 1982 ΣΥΛΛΟΓΟΣ ΜΑΡΑΘΩΝΟΔΡΟΜΩΝ ΣΕΡΡΩΝ 1:04:18.816\n62 \, 61 \, 61 Άνω των 18 Male 224 ΓΕΩΡΓΙΟΣ ΣΙΜΟΓΛΟΥ 1983 ΣΔΥΘ 1:04:24.283\n63 \, 2 \, 62 Άνω των 18 Female 290 ΒΑΣΙΛΙΚΗ ΣΥΚΟΠΕΤΗ – 1:04:38.263\n64 \, 62 \, 63 Άνω των 18 Male 249 ΝΙΚΟΣ ΤΣΑΜΟΥΡΟΠΟΥΛΟΣ 1963 24FITCLUB SERRES 1:04:40.333\n65 \, 63 \, 64 Άνω των 18 Male 222 ΚΩΝΣΤΑΝΤΙΝΟΣ ΣΙΔΗΡΟΠΟΥΛΟΣ 1972 ΑΝΕΞΑΡΤΗΤΟΣ 1:04:43.066\n66 \, 64 \, 65 Άνω των 18 Male 285 ΠΑΝΑΓΙΩΤΗΣ ΑΝΤΩΝΙΟΥ – 1:04:52.353\n67 \, 65 \, 66 Άνω των 18 Male 210 ΓΕΩΡΓΙΟΣ ΡΟΥΣΣΟΣ 1975 DRYMOS RUNNING TEAM 1:05:23.576\n68 \, 66 \, 67 Άνω των 18 Male 140 ΚΩΝΣΤΑΝΤΙΝΟΣ ΜΑΝΩΛΑΡΑΚΗΣ 1979 TRAIN FOR LIFE CROSSFIT 1:05:23.576\n69 \, 67 \, 68 Άνω των 18 Male 60 ΠΑΝΑΓΙΩΤΗΣ ΕΜΜΑΝΟΥΗΛΙΔΗΣ 1968 ΣΥΛΛΟΓΟΣ ΜΑΡΑΘΩΝΟΔΡΟΜΩΝ ΣΕΡΡΩΝ 1:05:29.043\n70 \, 68 \, 69 Άνω των 18 Male 182 ΕΥΣΤΡΑΤΙΟΣ ΠΑΠΑΔΟΠΟΥΛΟΣ 1980 TRAIN FOR LIFE CROSSFIT 1:05:38.106\n71 \, 69 \, 70 Άνω των 18 Male 155 ΘΑΝΑΣΗΣ ΜΠΑΜΠΛΑΣ 1983 1:05:57.923\n72 \, 3 \, 71 Άνω των 18 Female 270 ΑΝΝΑ -ΜΑΡΙΑ ΧΑΡΑΛΑΜΠΙΔΟΥ 1967 ΣΔΥΘ ΣΤΡΕΜΠΕΝΙΩΤΕΣ 1:06:00.500\n73 \, 70 \, 72 Άνω των 18 Male 250 ΟΔΥΣΣΕΑΣ ΤΣΑΠΑΡΑΣ 1965 ΣΔΥΘ ΣΤΡΕΜΠΕΝΙΩΤΕΣ 1:06:00.610\n74 \, 71 \, 73 Άνω των 18 Male 121 ΙΟΡΔΑΝΗΣ ΚΥΡΕΛΤΣΙΟΣ 1971 ΣΥΛΟΓΟΣ ΜΑΡΑΘΩΝΟΔΡΟΜΩΝ ΣΕΡΡΩΝ 1:06:08.140\n75 \, 72 \, 74 Άνω των 18 Male 134 KOSTANTINOS ΜΑRTINIS 1968 ΣΥΛΛΟΓΟΣ ΜΑΡΑΘΩΝΟΔΡΟΜΩΝ ΣΕΡΡΩΝ 1:06:15.540\n76 \, 73 \, 75 Άνω των 18 Male 208 ΑΡΓΥΡΗΣ ΡΑΜΝΑΛΗΣ 1966 Α.Ο. ΗΡΑΚΛΕΙΑΣ – KERKINI LAKE RUNNERS 1:06:15.880\n77 \, 4 \, 76 Άνω των 18 Female 43 ΦΩΤΕΙΝΗ ΔΑΠΚΑ 1983 ΣΥΛΛΟΓΟΣ ΜΑΡΑΘΩΝΟΔΡΟΜΩΝ ΝΟΜΟΥ ΣΕΡΡΩΝ 1:06:22.446\n78 \, 74 \, 77 Άνω των 18 Male 116 ΔΗΜΗΤΡΗΣ ΚΟΥΣΙΑΣ 1982 TRAIN FOR LIFE 1:06:28.993\n79 \, 75 \, 78 Άνω των 18 Male 146 ΒΑΣΙΛΗΣ ΜΕΤΣΚΑΣ 1974 TRAIN FOR LIFE CROSSFIT 1:06:29.970\n80 \, 76 \, 79 Άνω των 18 Male 119 ΚΩΣΤΑΣ ΚΡΥΩΝΑΣ 1986 TRAIN FOR LIFE 1:06:39.810\n81 \, 77 \, 2 Κάτω των 18 Male 160 ΕΜΜΑΝΟΥΗΛ ΜΠΟΛΑΡΗΣ – 1:06:44.626\n82 \, 78 \, 80 Άνω των 18 Male 122 ΓΙΑΝΝΗΣ ΚΩΔΩΝΑΣ 1974 ΣΕΡΡΕΣ 93 1:06:48.873\n83 \, 79 \, 81 Άνω των 18 Male 48 ΧΡΗΣΤΟΣ ΔΕΛΗΓΙΑΝΝΙΔΗΣ 1965 ΣΥΛΛΟΓΟΣ ΜΑΡΑΘΩΝΟΔΡΟΜΩΝ ΣΕΡΡΩΝ 1:06:58.933\n84 \, 80 \, 82 Άνω των 18 Male 266 ΓΙΩΡΓΟΣ ΣΑΝΟΖΙΔΗΣ 1990 1:07:04.500\n85 \, 81 \, 83 Άνω των 18 Male 79 ΙΩΑΝΝΗΣ ΚΑΓΚΟΥΡΑΣ 1977 ΣΥΛΟΓΟΣ ΜΑΡΑΘΩΝΟΔΡΟΜΩΝ ΣΕΡΡΩΝ 1:07:15.210\n86 \, 82 \, 84 Άνω των 18 Male 12 ΝΙΚΟΛΑΟΣ ΑΥΞΕΝΤΙΑΔΗΣ 1968 ΣΥΛΛΟΓΟΣ ΜΑΡΑΘΩΝΟΔΡΟΜΩΝ ΣΕΡΡΩΝ 1:07:15.820\n87 \, 83 \, 85 Άνω των 18 Male 202 ΑΘΑΝΑΣΙΟΣ ΠΛΑΤΑΝΑΣ 1973 1:07:32.870\n88 \, 84 \, 86 Άνω των 18 Male 178 ΑΝΕΣΤΗΣ (ΚΑΒΑΛΑ) ΠΑΠΑΔΟΠΟΥΛΟΣ 1983 1:07:33.213\n89 \, 85 \, 87 Άνω των 18 Male 168 ΛΕΩΝΙΔΑΣ ΝΤΟΥΚΟΛΙΑΝΟΣ 1978 1:07:33.783\n90 \, 86 \, 88 Άνω των 18 Male 174 ΕΥΑΓΓΕΛΟΣ ΠΑΝΟΣ 1977 ΑΝΕΞΑΡΤΗΤΟΣ 1:07:36.160\n91 \, 87 \, 89 Άνω των 18 Male 185 ΘΕΟΔΩΡΟΣ ΠΑΠΑΚΩΝΣΤΑΝΤΙΝΟΥ 1971 ΓΑΤΙΔΗΣ FRESH 1:07:37.620\n92 \, 88 \, 90 Άνω των 18 Male 4 ΚΩΝΣΤΑΝΤΙΝΟΣ ΑΓΟΡΑΣΤΟΣ 1966 ΑΝΞΑΡΤΗΤΟΣ 1:07:41.730\n93 \, 89 \, 91 Άνω των 18 Male 238 ΝΙΚΟΛΑΟΣ ΒΑΚΟΥΛΗΣ 1968 ΟΡΕΙΒΑΤΙΚΗ ΛΕΣΧΗ ΣΕΡΡΩΝ 1:07:42.063\n94 \, 90 \, 92 Άνω των 18 Male 280 ΧΑΡΑΛΑΜΠΟΣ ΨΩΜΙΑΔΗΣ 1961 ΑΠΣΔ ΖΕΥΣ ΠΙΕΡΙΑΣ 1:07:46.430\n95 \, 5 \, 93 Άνω των 18 Female 175 ΠΑΝΑΓΙΩΤΑ ΠΑΝΤΕΛΑ 1996 ΝΑ.ΠΕ.Σ.Π. 1:07:51.126\n96 \, 91 \, 94 Άνω των 18 Male 286 ΞΕΝΟΦΩΝ ΞΑΝΘΟΥΛΗΣ – 1:07:59.793\n97 \, 92 \, 95 Άνω των 18 Male 16 ΔΗΜΗΤΡΙΟΣ ΒΑΣΙΛΕΙΟΥ 1983 24FITCLUBSERRES 1:08:00.810\n98 \, 93 \, 96 Άνω των 18 Male 161 ΒΑΣΙΛΗΣ ΜΠΟΜΠΟΤΑΣ 1953 ΣΥΛΟΓΟΣ ΜΑΡΑΘΩΝΟΔΡΟΜΩΝ ΣΕΡΡΩΝ 1:08:15.476\n99 \, 94 \, 97 Άνω των 18 Male 120 ΣΤΥΛΙΑΝΟΣ ΚΤΙΣΤΟΥ 1985 ΓΑΤΙΔΗΣ FRESH 1:08:17.130\n100 \, 95 \, 98 Άνω των 18 Male 257 ΠΑΣΧΑΛΗΣ ΤΣΙΟΥΤΣΙΟΥΛΗΣ 1975 TRAIN FOR LIFE CROSSFIT 1:08:18.093\n101 \, 96 \, 99 Άνω των 18 Male 158 ΚΩΝΣΤΑΝΤΙΝΟΣ ΜΠΟΓΟΓΙΑΝΝΙΔΗΣ 1985 1:08:20.390\n102 \, 97 \, 100 Άνω των 18 Male 1 ΓΙΩΡΓΟΣ ΑΒΡΑΜΙΔΗΣ 1969 ΣΥΛΟΓΟΣ ΜΑΡΑΘΩΝΟΔΡΟΜΩΝ ΣΕΡΡΩΝ 1:08:23.560\n103 \, 98 \, 101 Άνω των 18 Male 267 ΑΛΤΙΝ ΧΑΛΛΑΤΣΙ 1992 ΑΝΕΞΑΡΤΗΤΟΣ 1:08:26.183\n104 \, 99 \, 102 Άνω των 18 Male 171 ΣΤΑΥΡΟΣ ΠΑΝΑΓΙΩΤΙΔΗΣ 1994 ΓΑΤΙΔΗΣ FRESH 1:08:27.423\n105 \, 6 \, 103 Άνω των 18 Female 287 ΣΤΕΛΛΑ ΣΠΑΝΟΥΔΑΚΗ – 1:08:27.703\n106 \, 100 \, 104 Άνω των 18 Male 86 ΑΘΑΝΑΣΙΟΣ ΚΑΡΑΓΙΑΝΝΗΣ 1974 ΣΥΛΟΓΟΣ ΜΑΡΑΘΩΝΟΔΡΟΜΩΝ ΣΕΡΡΩΝ 1:08:28.030\n107 \, 101 \, 105 Άνω των 18 Male 184 ΞΕΝΟΦΩΝ ΣΦΙΛΤΣΕΡΗΣ 1972 1:08:37.756\n108 \, 102 \, 106 Άνω των 18 Male 125 ΔΙΟΝΥΣΙΟΣ ΛΑΠΠΑΣ 1950 ΟΜΑΔΑ ΜΑΡΑΘΩΝΙΟΥ ΓΙΑΝΝΙΤΣΩΝ 1:08:42.786\n109 \, 103 \, 107 Άνω των 18 Male 212 ΑΛΕΞΑΝΔΡΟΣ ΣΑΜΑΡΑΣ 1975 1:08:43.430\n110 \, 104 \, 108 Άνω των 18 Male 261 ΜΑΡΙΟΣ ΤΣΟΡΜΠΑΤΖΙΔΗΣ 1987 XANTHI RUNNERS 1:08:48.896\n111 \, 105 \, 109 Άνω των 18 Male 255 ΔΙΟΝΥΣΗΣ ΒΕΡΤΕΟΥΡΗΣ 1983 ΣΕΒΑΣ ΚΑΒΑΛΑΣ 1:08:56.536\n112 \, 106 \, 110 Άνω των 18 Male 190 ΠΕΤΡΟΣ ΠΑΠΑΠΑΣΧΑΛΗΣ 1983 1:09:03.743\n113 \, 107 \, 111 Άνω των 18 Male 193 ΚΩΝΣΤΑΝΤΙΝΟΣ ΠΑΡΑΣΚΕΥΑΣ 1981 TRAIN FOR LIFE CROSSFIT 1:09:04.726\n114 \, 108 \, 112 Άνω των 18 Male 26 ΘΕΟΔΩΡΟΣ ΓΙΑΝΝΙΣΛΗΣ 1997 1:09:06.086\n115 \, 109 \, 113 Άνω των 18 Male 14 ΒΕΝΕΤΗΣ ΒΑΛΚΑΝΗΣ 1986 TRAIN FOR LIFE 1:09:09.756\n116 \, 110 \, 114 Άνω των 18 Male 63 NIKOLAOS ΖIHNALHS 1982 1:09:12.700\n117 \, 111 \, 115 Άνω των 18 Male 262 ΚΩΝΣΤΑΝΤΙΝΟΣ ΤΣΟΥΚΑΣ 1987 GINO 1:09:18.153\n118 \, 112 \, 116 Άνω των 18 Male 54 ΔΗΜΟΥΛΙΔΗΣ ΔΗΜΟΚΡΙΤΟΣ 1986 GINO 1:09:18.153\n119 \, 7 \, 117 Άνω των 18 Female 149 ΚΥΠΑΡΙΣΣΙΑ ΜΗΣΙΟΥ 1986 ΣΥΛΛ.ΜΑΡΑΘ.ΣΕΡΡΩΝ 1:09:18.800\n120 \, 113 \, 118 Άνω των 18 Male 104 SPYROS ΚΟKKINIDIS 1990 XANTHI RUNNERS 1:09:19.920\n121 \, 114 \, 119 Άνω των 18 Male 277 ΘΑΝΑΣΗΣ ΧΡΥΣΑΦΗΣ 1991 1:09:20.113\n122 \, 115 \, 120 Άνω των 18 Male 81 ΛΕΥΤΕΡΗΣ ΚΑΚΟΥΛΙΔΗΣ 1983 FINANCELAB 1:09:48.733\n123 \, 116 \, 121 Άνω των 18 Male 55 ΔΗΜΗΤΡΗΣ ΔΟΥΛΓΕΡΑΚΗΣ 1973 ΓΑΤΙΔΗΣ FRESH 1:09:54.630\n124 \, 117 \, 122 Άνω των 18 Male 228 ΘΕΟΔΩΡΟΣ ΣΠΥΡΙΔΩΝ 1980 TRAIN FOR LIFE CROSSFIT 1:09:58.466\n125 \, 118 \, 123 Άνω των 18 Male 133 CHRISTOS ΜΑLKOGIANNIDIS 1976 1:10:10.143\n126 \, 119 \, 124 Άνω των 18 Male 65 NIKOΣ ΖΑΠΑΡΑΣ 1974 ΣΥΛΟΓΟΣ ΜΑΡΑΘΩΝΟΔΡΟΜΩΝ ΣΕΡΡΩΝ 1:10:18.436\n127 \, 120 \, 125 Άνω των 18 Male 284 ΓΡΗΓΟΡΙΟΣ ΚΑΡΑΓΚΙΟΖΗΣ – 1:10:26.236\n128 \, 121 \, 126 Άνω των 18 Male 283 ΧΡΗΣΤΟΣ ΚΑΡΑΓΚΙΟΖΗΣ – 1:10:27.066\n129 \, 8 \, 127 Άνω των 18 Female 148 ΕΥΑΓΓΕΛΙΑ ΜΗΣΙΟΥ 1981 ΣΥΛΛ.ΜΑΡΑΘ.ΣΕΡΡΩΝ 1:10:28.660\n130 \, 122 \, 128 Άνω των 18 Male 136 ΒΙΚΕΝΤΙΟΣ ΜΑΓΓΙΡΟΓΛΟΥ 1968 EXPERT SPORT 1:10:30.333\n131 \, 123 \, 129 Άνω των 18 Male 74 ΑΝΔΡΕΑΣ ΙΟΡΔΑΝΙΔΗΣ 1969 ΣΥΛΛ.ΜΑΡΑΘΩΝΟΔΡΟΜΩΝ ΣΕΡΡΩΝ 1:10:37.876\n132 \, 124 \, 130 Άνω των 18 Male 243 ΘΕΟΔΩΡΟΣ ΤΖΟΜΟΣ – 1:10:41.916\n133 \, 125 \, 131 Άνω των 18 Male 36 ΓΕΩΡΓΙΟΣ ΓΡΕΚΑΣ 1993 ΑΝΕΞΑΡΤΗΤΟΣ 1:10:42.360\n134 \, 9 \, 132 Άνω των 18 Female 142 ΑΘΑΝΑΣΙΑ ΜΑΥΡΙΔΟΥ 1982 TRAIN FOR LIFE 1:10:54.043\n135 \, 126 \, 133 Άνω των 18 Male 165 ΔΗΜΗΤΡΗΣ ΝΑΤΣΙΟΥΛΑΣ 1985 ΑΝΕΞΑΡΤΗΤΟΣ 1:10:58.193\n136 \, 127 \, 134 Άνω των 18 Male 68 ΓΕΩΡΓΙΟΣ ΜΟΥΚΟΣ 1973 ΚΕΝΤΡΟ ΔΙΔΑΣΚΑΛΙΑΣ 1:11:01.186\n137 \, 128 \, 135 Άνω των 18 Male 263 ΙΩΑΝΝΗΣ ΚΟΥΡΕΑΣ 1996 ΣΥΛΛ. ΜΑΡΑΘΟΝΟΔΡΟΜΩΝ ΣΕΡΡΩΝ 1:11:05.926\n138 \, 129 \, 136 Άνω των 18 Male 279 ΓΕΩΡΓΙΟΣ ΨΑΛΤΟΥ 1954 ΣΔΥΘ 1:11:16.560\n139 \, 130 \, 137 Άνω των 18 Male 101 ΙΩΑΝΝΗΣ ΚΙΟΣΟΓΛΟΥ 1979 ΓΑΤΙΔΗΣ FRESH 1:11:16.696\n140 \, 131 \, 138 Άνω των 18 Male 124 ΣΤΕΡΓΙΟΣ ΛΑΝΤΟΣ 1991 ΓΑΤΙΔΗΣ FRESH 1:11:16.700\n141 \, 132 \, 139 Άνω των 18 Male 248 ΣΠΥΡΟΣ ΕΥΘΥΜΙΟΥ 1992 1:11:19.146\n142 \, 10 \, 140 Άνω των 18 Female 123 ΕΛΕΝΗ ΛΑΓΟΥ 1975 STRENGTH BOX SERRES 1:11:19.300\n143 \, 133 \, 141 Άνω των 18 Male 183 ΧΡΗΣΤΟΣ ΓΑΒΑΛΑΣ 1972 1:11:21.296\n144 \, 134 \, 142 Άνω των 18 Male 206 ΚΩΝΣΤΑΝΤΙΝΟΣ ΠΡΟΣΑΛΕΝΤΗΣ 1994 TRAIN FOR LIFE CROSSFIT 1:11:22.243\n145 \, 135 \, 143 Άνω των 18 Male 115 ΘΕΟΦΙΛΟΣ ΕΥΑΓΓΕΛΟΥ 1982 ΑΝΕΞΑΡΤΗΤΟΣ 1:11:23.070\n146 \, 136 \, 144 Άνω των 18 Male 282 ΙΩΑΝΝΗΣ ΤΖΙΟΜΑΚΑΣ – 1:11:24.990\n147 \, 137 \, 145 Άνω των 18 Male 8 ΧΡΙΣΤΟΣ ΑΝΑΣΤΑΣΙΟΥ 1966 ΟΡΕΙΒΑΤΙΚΗ ΛΕΣΧΗ 1:11:38.300\n148 \, 138 \, 146 Άνω των 18 Male 217 ΧΡΙΣΤΟΔΟΥΛΟΣ ΣΑΡΑΙΔΑΡΗΣ 1981 TRAIN FOR LIFE CROSSFIT 1:11:43.203\n149 \, 139 \, 147 Άνω των 18 Male 156 ΚΩΣΤΑΣ ΜΠΕΓΟΣ 1974 ΤΡΑΠΕΖΑ ΠΕΙΡΑΙΩΣ 1:11:51.730\n150 \, 140 \, 3 Κάτω των 18 Male 162 ΛΑΖΑΡΟΣ ΜΠΟΥΡΝΑΤΖΗΣ 2000 TRAIN FOR LIFE 1:11:54.193\n151 \, 141 \, 148 Άνω των 18 Male 11 ΒΑΣΙΛΗΣ ΑΡΑΜΠΑΤΖΗΣ 1989 TRAIN FOR LIFE 1:11:58.166\n152 \, 142 \, 149 Άνω των 18 Male 83 ΣΠΥΡΟΣ ΚΑΝΑΚΑΡΗΣ 1975 1:11:59.150\n153 \, 143 \, 150 Άνω των 18 Male 131 THEMISTOKLIS ΜPLIOURAS 1982 1:12:06.090\n154 \, 144 \, 151 Άνω των 18 Male 37 ΓΙΩΡΓΟΣ ΓΡΕΚΑΣ Β 1997 ΑΝΕΞΑΡΤΗΤΟΣ 1:12:18.476\n155 \, 145 \, 152 Άνω των 18 Male 29 ΓΙΩΡΓΟΣ ΓΙΔΑΡΗΣ 1987 STRENGTH BOX SERRES 1:12:25.253\n156 \, 11 \, 153 Άνω των 18 Female 233 ΝΑΤΑΛΙΑ ΣΤΡΟΠΠΙΑΝΑ 1991 EXPERT SPORT 1:12:42.636\n157 \, 146 \, 154 Άνω των 18 Male 41 ΓΙΑΝΝΗΣ ΔΑΛΑΓΚΑΣ 1980 ΑΝΕΞΑΡΤΗΤΟΣ 1:12:42.636\n158 \, 147 \, 155 Άνω των 18 Male 137 ΣΤΕΦΑΝΟΣ ΜΑΝΤΑΤΖΗΣ 1965 ΣΔΥΘ 1:12:50.470\n159 \, 148 \, 156 Άνω των 18 Male 143 ΒΑΣΙΛΗΣ ΜΑΥΡΟΜΑΤΗΣ 1982 TRAIN FOR LIFE CROSSFIT 1:13:04.570\n160 \, 12 \, 157 Άνω των 18 Female 215 ΦΑΝΗ ΣΑΝΔΡΟΥ 1966 ΣΥΛΟΓΟΣ ΜΑΡΑΘΩΝΟΔΡΟΜΩΝ ΣΕΡΡΩΝ 1:13:13.080\n161 \, 149 \, 158 Άνω των 18 Male 231 ΗΛΙΑΣ ΣΤΕΦΑΝΙΔΗΣ 1969 ΣΔΥΘ 1:13:19.980\n162 \, 150 \, 159 Άνω των 18 Male 84 ΚΩΝΣΤΑΝΤΙΝΟΣ ΚΑΝΛΗΣ 1959 ΘΕΣΣΑΛΟΝΙΚΗ 1:13:21.703\n163 \, 151 \, 160 Άνω των 18 Male 64 ΔΗΜΗΤΡΗΣ ΖΑΜΠΑΚΛΗΣ 1993 1:13:30.880\n164 \, 152 \, 161 Άνω των 18 Male 229 ΤΑΣΟΣ ΣΤΑΥΡΙΔΗΣ 1966 ΑΟ ΧΡΥΣΟΥΠΟΛΗΣ 1:13:42.233\n165 \, 153 \, 162 Άνω των 18 Male 264 ΠΕΤΡΟΣ ΤΥΛΛΙΟΣ 1969 ΑΝΕΞΑΡΤΗΤΟΣ 1:13:48.400\n166 \, 13 \, 163 Άνω των 18 Female 198 ΕΥΑΓΓΕΛΙΑ ΠΕΝΑ 1992 ΑΝΕΞΑΡΤΗΤΟΣ 1:13:50.786\n167 \, 154 \, 164 Άνω των 18 Male 245 ΣΩΤΗΡΙΟΣ ΤΟΚΑΣ 1974 ΑΝΕΞΑΡΤΗΤΟΣ 1:13:53.343\n168 \, 155 \, 165 Άνω των 18 Male 50 ΣΠΥΡΟΣ ΔΗΜΗΤΡΙΑΔΗΣ 1971 ΑΝΕΞΑΡΤΗΤΟΣ 1:14:01.896\n169 \, 156 \, 166 Άνω των 18 Male 3 ΓΙΩΡΓΟΣ ΑΓΓΕΛΟΥΣΗΣ 1989 1:14:21.770\n170 \, 157 \, 167 Άνω των 18 Male 154 ΚΩΝΣΤΑΝΤΙΝΟΣ ΜΟΥΣΑΣ 1974 1:14:34.433\n171 \, 158 \, 168 Άνω των 18 Male 135 ΕΥΣΤΡΑΤΙΟΣ ΓΚΛΕΖΑΚΗΣ 1975 1:14:37.060\n172 \, 159 \, 169 Άνω των 18 Male 232 ΜΙΛΤΙΑΔΗΣ ΣΤΟΙΚΟΣ 1974 1:14:38.483\n173 \, 160 \, 170 Άνω των 18 Male 106 THEODOROS ΚΟSITZIDIS 1965 1:14:44.920\n174 \, 161 \, 171 Άνω των 18 Male 45 ΙΩΑΝΝΗΣ ΔΑΦΤΣΙΟΣ 1963 ΣΥΛΟΓΟΣ ΜΑΡΑΘΩΝΟΔΡΟΜΩΝ ΣΕΡΡΩΝ 1:14:50.816\n175 \, 162 \, 172 Άνω των 18 Male 151 ΓΕΩΡΓΙΟΣ ΜΙΚΡΟΥΛΗΣ 1994 1:14:57.933\n176 \, 14 \, 173 Άνω των 18 Female 274 ΘΕΟΔΩΡΑ ΧΡΗΣΤΟΦΟΡΙΔΟΥ 1988 EXPERT SPORT 1:15:00.073\n177 \, 163 \, 174 Άνω των 18 Male 25 ΚΩΝΣΤΑΝΤΙΝΟΣ ΓΙΑΒΡΟΠΟΥΛΟΣ 1985 STRENGTH BOX SERRES 1:15:09.053\n178 \, 164 \, 175 Άνω των 18 Male 209 ΣΩΤΗΡΗΣ ΡΑΜΠΟΤΑΣ 1969 ΣΥΛΟΓΟΣ ΜΑΡΑΘΩΝΟΔΡΟΜΩΝ ΣΕΡΡΩΝ 1:15:26.630\n179 \, 165 \, 176 Άνω των 18 Male 219 ΔΗΜΗΤΡΙΟΣ ΧΑΤΖΗΣΑΒΒΙΔΗΣ 1953 1:15:44.210\n180 \, 166 \, 177 Άνω των 18 Male 44 ΙΩΑΝΝΗΣ ΔΑΡΑΒΙΓΚΑΣ 1969 KOURKOURIKIS TRAINING GROUP 1:16:13.810\n181 \, 167 \, 178 Άνω των 18 Male 9 ΠΕΤΡΟΣ ΑΝΘΟΠΟΥΛΟΣ 1968 Ο.Π.Ο.ΠΥΛΗΣ 1:16:22.106\n182 \, 15 \, 179 Άνω των 18 Female 147 ΧΡΥΣΟΥΛΑ ΜΗΔΙΑΤΗ 1978 ΣΔΥΘ 1:16:22.760\n183 \, 168 \, 180 Άνω των 18 Male 214 ΑΝΔΡΕΑΣ ΣΑΜΑΤΑΣ 1991 TRAIN FOR LIFE CROSSFIT 1:16:30.730\n184 \, 169 \, 181 Άνω των 18 Male 141 ΣΥΜΕΩΝ ΜΑΥΡΙΔΗΣ 1969 1:16:32.806\n185 \, 170 \, 182 Άνω των 18 Male 291 GIUSEPPE TAVAGLIONI – 1:16:39.473\n186 \, 16 \, 183 Άνω των 18 Female 105 EVGENIA ΚΟNTOU 1973 KOURKOURIKIS TRAINING GROUP 1:17:01.960\n187 \, 171 \, 184 Άνω των 18 Male 5 ΚΩΝΣΤΑΝΤΙΝΟΣ ΑΘΑΝΑΣΙΑΔΗΣ 1977 Σ.Δ.Υ.ΘΕΣΣΑΛΟΝΙΚΗΣ 1:17:02.730\n188 \, 17 \, 185 Άνω των 18 Female 51 ΕΥΤΕΡΠΗ ΔΗΜΗΤΡΙΑΔΟΥ 1965 ΣΥΛΟΓΟΣ ΜΑΡΑΘΩΝΟΔΡΟΜΩΝ ΣΕΡΡΩΝ 1:17:27.143\n189 \, 172 \, 186 Άνω των 18 Male 96 ΒΑΣΙΛΗΣ ΚΕΒΡΕΚΙΔΗΣ 1989 ΑΝΕΞΑΡΤΗΤΟΣ 1:17:38.226\n190 \, 173 \, 187 Άνω των 18 Male 39 ΦΩΤΙΟΣ ΓΡΗΓΟΡΙΑΔΗΣ 1986 EXPRT SPORT 1:17:45.573\n191 \, 18 \, 188 Άνω των 18 Female 289 ΑΝΑΣΤΑΣΙΑ ΙΩΑΝΝΙΔΟΥ – 1:17:46.916\n192 \, 174 \, 189 Άνω των 18 Male 82 ΑΡΙΣΤΕΙΔΗΣ ΚΑΛΟΚΗΡΗΣ 1992 ΓΑΤΙΔΗΣ FRESH 1:17:52.310\n193 \, 175 \, 190 Άνω των 18 Male 90 ΓΑΒΡΗΗΛ ΚΑΡΑΦΥΛΛΙΔΗΣ 1991 ΓΑΤΙΔΗΣ FRESH 1:17:56.950\n194 \, 176 \, 191 Άνω των 18 Male 195 ΒΑΓΓΕΛΗΣ ΠΑΣΧΑΛΗΣ 1984 ESTIASISHOP.GR 1:18:23.596\n195 \, 177 \, 192 Άνω των 18 Male 166 ΣΙΜΟΣ ΝΙΚΟΛΑΟΥ 1983 EXPERT SPORT 1:18:23.876\n196 \, 178 \, 193 Άνω των 18 Male 259 ΠΑΝΑΓΙΩΤΗΣ ΤΣΟΛΑΚΙΔΗΣ 1976 XANTHI RUNNERS 1:18:25.513\n197 \, 179 \, 194 Άνω των 18 Male 108 ΜΙΧΑΗΛ ΣΑΜΠΑΝΗΣ 1978 1:18:50.570\n198 \, 180 \, 195 Άνω των 18 Male 167 ΒΑΣΙΛΗΣ ΝΤΟΤΗΣ 1973 1:19:28.633\n199 \, 181 \, 196 Άνω των 18 Male 164 ΓΙΩΡΓΟΣ ΜΩΡΗΣ 1965 KOURKOURIKIS TRAINING GROUP 1:19:44.036\n200 \, 19 \, 197 Άνω των 18 Female 56 ΕΥΑΓΓΕΛΙΑ ΔΟΥΜΑ 1978 EXPERT SPORT 1:19:51.030\n201 \, 182 \, 198 Άνω των 18 Male 128 ΓΕΩΡΓΙΟΣ ΛΙΑΡΑΣ 1968 OASIS GYM 1:19:51.680\n202 \, 20 \, 199 Άνω των 18 Female 70 LEANNE ΗOGG 1977 TWOTWOSIX 1:20:40.563\n203 \, 183 \, 200 Άνω των 18 Male 77 ΙΩΑΝΝΗΣ ΙΩΑΝΝΙΔΗΣ 1978 ISMILE 1:20:40.810\n204 \, 184 \, 201 Άνω των 18 Male 113 ΑΘΑΝΑΣΙΟΣ ΚΟΤΖΑΜΠΟΥΪΚΗΣ 1955 1:20:42.683\n205 \, 185 \, 202 Άνω των 18 Male 254 ΑΝΑΣΤΑΣΙΟΣ ΤΣΙΑΜΗΣ 1960 BIKE RIDERS 1:20:46.413\n206 \, 186 \, 203 Άνω των 18 Male 180 ΒΑΣΙΛΗΣ ΠΑΠΑΔΟΠΟΥΛΟΣ 1976 EXPERT SPORT 1:20:48.176\n207 \, 187 \, 204 Άνω των 18 Male 57 ΑΛΕΞΑΝΔΡΟΣ ΔΡΟΓΑΛΑΣ 1969 EXPERT SPORT 1:21:15.320\n208 \, 188 \, 205 Άνω των 18 Male 173 ΘΕΜΙΣΤΟΚΛΗΣ ΠΑΝΑΓΙΩΤΟΥ 1975 TRAIN FOR LIFE CROSSFIT 1:21:16.753\n209 \, 189 \, 206 Άνω των 18 Male 176 ΔΗΜΗΤΙΟΣ ΠΑΝΤΟΣ 1984 XANTHI RUNNERS 1:21:26.000\n210 \, 190 \, 207 Άνω των 18 Male 52 ΓΙΩΡΓΟΣ ΔΗΜΗΤΡΙΟΥ 1979 TRAIN FOR LIFE CROSSFIT 1:21:28.873\n211 \, 191 \, 208 Άνω των 18 Male 234 ΝΙΚΟΛΑΟΣ ΣΥΡΠΑΣ 1973 ΓΑΤΙΔΗΣ FRESH 1:21:38.483\n212 \, 21 \, 209 Άνω των 18 Female 230 ΛΙΑ ΣΤΕΡΓΙΟΥ 1981 1:21:54.743\n213 \, 22 \, 210 Άνω των 18 Female 221 ΑΝΝΑ ΣΕΡΕΤΗ 1982 TRAIN FOR LIFE 1:22:00.980\n214 \, 192 \, 211 Άνω των 18 Male 53 ΚΩΝΣΤΑΝΤΙΝΟΣ ΔΗΜΗΤΡΟΥΛΑΚΗΣ 1974 1:22:04.206\n215 \, 23 \, 212 Άνω των 18 Female 93 ΘΕΟΠΙΣΤΗ ΚΑΡΥΠΙΔΟΥ 1980 KOUZINA.BAR 1:22:16.040\n216 \, 193 \, 213 Άνω των 18 Male 242 ΝΙΚΟΣ ΤΖΗΚΑΣ 1985 KOUZINA.BAR 1:22:16.370\n217 \, 194 \, 214 Άνω των 18 Male 138 ΙΩΑΝΝΗΣ ΜΑΝΤΖΑΡΙΔΗΣ 1971 1:22:20.140\n218 \, 195 \, 215 Άνω των 18 Male 226 ΑΝΤΩΝΗΣ ΣΟΦΙΑΝΙΔΗΣ 1975 ΑΝΕΞΑΡΤΗΤΟΣ 1:22:34.493\n219 \, 196 \, 216 Άνω των 18 Male 181 ΓΙΩΡΓΟΣ ΠΑΠΑΔΟΠΟΥΛΟΣ 1985 EXPERT SPORT 1:22:42.796\n220 \, 197 \, 217 Άνω των 18 Male 293 ΚΩΣΤΑΣ ΖΙΩΓΑΣ – 1:22:43.050\n221 \, 198 \, 218 Άνω των 18 Male 132 YIOTIS ΜPOZOS 1994 1:22:46.940\n222 \, 199 \, 219 Άνω των 18 Male 273 ΔΗΜΗΤΡΙΟΣ ΧΟΥΛΙΑΡΑΣ 1967 1:22:52.903\n223 \, 200 \, 4 Κάτω των 18 Male 59 ΘΩΜΑΣ ΕΛΙΣΙΑΔΗΣ 2003 STRENGTH BOX SERRES 1:23:02.886\n224 \, 201 \, 220 Άνω των 18 Male 18 ΚΩΣΤΑΣ ΒΕΛΛΙΚΗΣ 1983 TRAIN FOR LIFE 1:23:24.290\n225 \, 24 \, 221 Άνω των 18 Female 203 ΙΩΑΝΝΑ ΠΛΙΑΤΣΙΚΑ 1974 1:23:29.420\n226 \, 25 \, 222 Άνω των 18 Female 260 ΕΛΕΝΗ ΤΣΟΛΑΚΙΔΟΥ 1978 XANTHI RUNNERS 1:23:29.856\n227 \, 202 \, 223 Άνω των 18 Male 186 ΠΑΝΑΓΙΩΤΗΣ ΠΑΠΑΚΩΝΣΤΑΝΤΙΝΟΥ 1980 TRAIN FOR LIFE CROSSFIT 1:24:05.870\n228 \, 203 \, 224 Άνω των 18 Male 24 ΕΥΑΓΓΕΛΟΣ ΓΕΩΡΓΟΠΟΥΛΟΣ 1987 1:24:10.050\n229 \, 204 \, 225 Άνω των 18 Male 15 ΙΩΑΝΝΗΣ ΒΑΣΙΛΕΙΑΔΗΣ 1987 ΑΝΕΞΑΡΤΗΤΟΣ 1:24:10.176\n230 \, 26 \, 226 Άνω των 18 Female 91 ΣΟΥΛΤΑΝΑ ΧΟΥΦΤΕΡΗ 1955 1:25:14.960\n231 \, 205 \, 227 Άνω των 18 Male 268 ΚΥΡΙΑΚΟΣ ΧΑΜΑΛΙΔΗΣ 1968 XANTHI RUNNERS 1:25:15.306\n232 \, 206 \, 228 Άνω των 18 Male 205 ΚΛΕΟΠΑΤΡΑ ΠΡΙΠΟΡΑ 1976 SALOMON STORE ATTICA 1:25:17.660\n233 \, 207 \, 229 Άνω των 18 Male 109 ΓΙΩΡΓΟΣ ΚΟΝΟΓΛΟΥ 1980 EXPERT SPORT 1:25:17.980\n234 \, 208 \, 230 Άνω των 18 Male 252 ΔΗΜΗΤΡΗΣ ΤΣΕΛΕΚΙΔΗΣ 1991 ΑΝΕΞΑΡΤΗΤΟΣ 1:25:42.630\n235 \, 27 \, 231 Άνω των 18 Female 235 ΣΤΕΛΛΑ ΤΑΙΡΗ 1981 TRAIN FOR LIFE 1:25:59.396\n236 \, 209 \, 232 Άνω των 18 Male 172 ΔΗΜΗΤΡΗΣ ΠΑΝΑΓΙΩΤΟΥ 1979 EXPERT SPORT 1:27:04.046\n237 \, 28 \, 233 Άνω των 18 Female 13 ΒΑΣΙΛΙΚΗ ΒΑΛΑΚΟΥ 1994 IRON TEAM 1:27:06.000\n238 \, 210 \, 234 Άνω των 18 Male 163 ΧΡΙΣΤΟΔΟΥΛΟΣ ΜΠΟΥΦΙΔΗΣ 1983 ΜΠΟΥΦΙΔΗΣ 1:27:49.156\n239 \, 29 \, 235 Άνω των 18 Female 35 ΣΤΕΛΛΑ ΓΡΑΜΜΕΝΟΥ 1993 TRAIN FOR LIFE 1:27:50.246\n240 \, 30 \, 236 Άνω των 18 Female 118 ΕΦΗ ΚΡΟΥΣΤΑΛΗ 1991 TRAIN FOR LIFE CROSSFIT 1:28:04.326\n241 \, 211 \, 237 Άνω των 18 Male 237 ΔΗΜΗΤΡΗΣ ΤΑΣΚΟΥΔΗΣ 1985 ΑΝΕΞΑΡΤΗΤΟΣ 1:29:23.086\n242 \, 31 \, 238 Άνω των 18 Female 225 KATEΡINA ΣΙΟΥΛΑ 1983 1:29:29.456\n243 \, 212 \, 239 Άνω των 18 Male 145 ΑΘΑΝΑΣΙΟΣ ΜΕΛΛΙΟΣ 1979 ΠΑΝΑΘΗΝΑΙΚΟΣ 1:29:52.650\n244 \, 213 \, 240 Άνω των 18 Male 67 ΓΙΩΡΓΟΣ ΖΑΦΕΙΡΙΟΥ 1968 ΑΝΕΞΑΡΤΗΤΟΣ 1:30:08.196\n245 \, 214 \, 241 Άνω των 18 Male 197 ΠΑΝΑΓΙΩΤΗΣ ΠΑΣΧΑΛΙΔΗΣ 1976 1:32:13.433\n246 \, 215 \, 242 Άνω των 18 Male 7 ΝΙΚΟΛΑΟΣ ΑΝΑΣΤΑΣΙΛΑΚΗΣ 1975 1:32:13.980\n247 \, 216 \, 243 Άνω των 18 Male 66 ΓΙΩΡΓΟΣ ΖΑΠΑΡΑΣ 1973 KOUZINA.BAR 1:32:31.670\n248 \, 217 \, 244 Άνω των 18 Male 80 ΓΙΑΝΝΗΣ ΚΑΚΑΝΟΣ 1974 1:32:31.763\n249 \, 32 \, 245 Άνω των 18 Female 204 ΒΙΒΗ ΠΡΑΠΟΓΛΟΥ 1979 TRAIN FOR LIFE CROSSFIT 1:32:34.613\n250 \, 33 \, 246 Άνω των 18 Female 246 ΣΟΦΙΑ ΤΟΥΛΟΥΜΗ 1971 EXPRT SPORT 1:32:40.956\n251 \, 34 \, 247 Άνω των 18 Female 33 MAIΡΗ ΓΟΥΣΗ 1984 Σ.Δ.Υ.ΘΕΣΣΑΛΟΝΙΚΗΣ 1:32:41.496\n252 \, 218 \, 248 Άνω των 18 Male 49 ΔΗΜΗΤΡΗΣ ΔΗΜΗΤΡΑΚΑΣ 1965 1:34:39.753\n253 \, 219 \, 249 Άνω των 18 Male 100 ΣΑΒΒΑΣ ΚΕΦΑΛΙΔΗΣ 1971 Γ.Σ. ΣΕΡΡΕΣ ‘ 93 1:34:50.776\n254 \, 220 \, 250 Άνω των 18 Male 87 ΙΩΑΝΝΗΣ ΚΑΡΑΓΚΙΟΖΑΚΗΣ 1983 1:37:19.960\n255 \, 221 \, 251 Άνω των 18 Male 92 ΣΕΡΑΦΕΙΜ ΚΑΡΥΠΙΔΗΣ 1992 ΕΕΕΔ 1:38:16.353\n256 \, 35 \, 252 Άνω των 18 Female 30 ΡΙΤΣΑ ΓΚΑΖΑΚΗ 1971 TRAIN FOR LIFE 1:38:37.490\n257 \, 36 \, 253 Άνω των 18 Female 28 ΜΑΡΙΑ ΓΙΑΝΝΟΠΟΥΛΟΥ 1997 1:40:15.083\n258 \, 222 \, 254 Άνω των 18 Male 27 ΕΛΕΥΘΕΡΙΟΣ ΓΙΑΝΝΟΓΛΟΥΔΗΣ 1993 OASIS GYM 1:40:33.653\n259 \, 37 \, 255 Άνω των 18 Female 207 ΚΑΛΛΙΟΠΗ ΡΑΙΚΟΠΟΥΛΟΥ 1974 OASIS GYM 1:42:37.266\n260 \, 38 \, 256 Άνω των 18 Female 240 ΔΕΣΠΟΙΝΑ ΤΕΡΖΙΔΟΥ 1971 OASIS GYM 1:42:38.353\n261 \, 39 \, 257 Άνω των 18 Female 95 ΓΡΗΓΟΡΙΑ ΚΑΤΣΑΒΑΚΗ 1960 OASIS GYM 1:42:38.893\n262 \, 40 \, 258 Άνω των 18 Female 199 ΑΣΗΜΙΝΑ ΠΕΣΛΗ 1995 OASIS GYM 1:42:39.306\n263 \, 223 \, 259 Άνω των 18 Male 150 ΑΘΑΝΑΣΙΟΣ ΜΗΧΟΣ 1986 OASIS GYM 1:42:40.703\n264 \, 224 \, 260 Άνω των 18 Male 179 ΑΝΕΣΤΗΣ (ΣΕΡΡΕΣ) ΠΑΠΑΔΟΠΟΥΛΟΣ 1986 OASIS GYM 1:42:42.020\n265 \, 225 \, 261 Άνω των 18 Male 265 ΚΩΣΤΑΣ ΦΩΤΑΡΑΚΗΣ 1971 OASIS GYM 1:42:43.720\n266 \, 226 \, 262 Άνω των 18 Male 272 ΤΡΙΑΝΤΑΦΥΛΛΟΣ ΧΑΤΖΗΣ 1990 OASIS GYM 1:42:44.270\n267 \, 227 \, 263 Άνω των 18 Male 42 ΒΑΚΗΣ ΔΑΝΙΗΛΟΥΔΗΣ 1989 STRENGTH BOX SERRES 1:44:07.863\n268 \, 41 \, 264 Άνω των 18 Female 211 ΒΑΣΙΛΙΚΗ ΣΑΒΒΙΔΟΥ 1960 ΣΥΛΛΟΓΟΣ ΜΑΡΑΘΩΝΟΔΡΟΜΩΝ ΣΕΡΡΩΝ 1:45:12.943\n269 \, 228 \, 265 Άνω των 18 Male 236 ΓΙΩΡΓΟΣ ΤΑΛΙΟΣ 1997 GINO 1:57:55.606\n270 \, 42 \, 266 Άνω των 18 Female 99 ΧΡΙΣΤΙΝΑ ΚΕΡΕΖΟΥΔΗ 1973 1:59:29.956\n271 \, 229 \, 267 Άνω των 18 Male 200 ΑDAM ΠΕΤΚΟΣ 1967 2:05:11.530 \n1ος Πανελλήνιος Αγώνας Δρόμου Νομικών\n10.700 μέτρα \nRank\nGen-Sex-Cat Category Gender BIB Name YOB Club Finish\n1 \, 1 \,1\nΚατηγορία Νομικών Male 320 ΚΩΝΣΤΑΝΤΙΝΟΣ ΜΑΓΑΛΙΟΣ 1983 Σ.Δ.Υ. ΒΟΛΟΥ 0:54:00.370\n2 \, 2 \, 2 Κατηγορία Νομικών Male 317 ΜΙΧΑΛΗΣ ΚΡΑΙΑΣ 1979 ΣΥΛΛΟΓΟΣ ΜΑΡΑΘΩΝΟΔΡΟΜΩΝ ΣΕΡΡΩΝ 0:55:28.843\n3 \, 3 \, 3 Κατηγορία Νομικών Male 336 ΧΡΥΣΟΣΤΟΜΟΣ ΣΟΥΠΙΑΔΗΣ 1952 ΟΜΑΔΑ ΜΑΡΑΘΩΝΙΟΥ ΓΙΑΝΝΙΤΣΩΝ 0:55:58.856\n4 \, 4 \, 4 Κατηγορία Νομικών Male 304 ΔΗΜΗΤΡΙΟΣ ΓΚΟΥΝΤΟΒΑΣ 1977 ΔΙΚΗΓΟΡΙΚΟΣ ΣΥΛΛΟΓΟΣ ΚΑΤΕΡΙΝΗΣ 1:01:53.256\n5 \, 1 \,5\nΚατηγορία Νομικών Female 312 ΕΛΕΝΗ ΚΑΛΛΙΑ 1978 BALIOTIS NATURE TRAIL 1:02:44.990\n6 \, 5 \, 6 Κατηγορία Νομικών Male 343 ΔΗΜΗΤΡΙΟΣ/DIMITRIOS ΦΩΤΑΚΙΔΗΣ/FOTAKIDIS 1966 Δ.Σ.ΧΑΛΚΙΔΙΚΗΣ/Α.Ο.ΠΟΛΥΓΥΡΟΥ 1:03:36.340\n7 \, 6 \, 7 Κατηγορία Νομικών Male 319 ΣΤΕΛΙΟΣ ΛΙΟΥΣΑΣ 1960 ΔΙΚΗΓ ΣΥΛΛΟΓΟΣ ΣΕΡΡΩΝ 1:05:32.593\n8 \, 7 \, 8 Κατηγορία Νομικών Male 335 ΙΩΑΝΝΗΣ ΣΙΑΛΜΑΣ 1983 ΔΙΚΗΓ.ΣΥΛΛ.ΑΓΡΙΝΙΟΥ 1:07:24.256\n9 \, 8 \, 9 Κατηγορία Νομικών Male 322 ΗΡΑΚΛΗΣ ΜΕΤΣΚΑΣ 1975 1:08:53.346\n10 \, 9 \, 10 Κατηγορία Νομικών Male 316 ΝΙΚΟΛΑΟΣ ΚΙΟΥΡΚΤΣΗΣ 1967 ΑΝΕΞΑΡΤΗΤΟΣ 1:09:13.463\n11 \, 10 \, 11 Κατηγορία Νομικών Male 306 ΚΩΝΣΤΑΝΤΙΝΟΣ ΔΑΓΚΟΣ 1977 ΣΥΛΛΟΓΟΣ ΜΑΡΑΘΩΝΟΔΡΟΜΩΝ ΣΕΡΡΩΝ 1:09:18.490\n12 \, 11 \, 12 Κατηγορία Νομικών Male 342 ΓΕΩΡΓΙΟΣ ΤΣΑΚΙΡΙΔΗΣ 1972 KASSIMIS-TRAINING 1:09:23.076\n13 \, 12 \, 13 Κατηγορία Νομικών Male 315 ΠΑΝΑΓΙΩΤΗΣ ΚΑΡΑΛΗΣ 1961 ΔΙΟΙΚΗΤΙΚΟ ΕΦΕΤΕΙΟ ΑΘΗΝΩΝ 1:09:52.880\n14 \, 13 \, 14 Κατηγορία Νομικών Male 345 ΑΘΑΝΑΣΙΟΣ ΧΑΤΖΗΦΩΤΙΑΔΗΣ 1985 ΕΟΣ ΝΑΟΥΣΑΣ 1:10:58.193\n15 \, 14 \, 15 Κατηγορία Νομικών Male 313 ΓΙΩΡΓΟΣ ΚΑΡΑΓΕΩΡΓΙΟΥ 1974 ΔΙΚΗΓ.ΣΥΛΛ.ΣΕΡΡΩΝ 1:12:47.420\n16 \, 15 \, 16 Κατηγορία Νομικών Male 309 ΑΝΑΣΤΑΣΙΟΣ ΖΑΧΑΡΙΑΔΗΣ 1987 ΜΑΣ Η ΚΑΛΛΙΘΕΑ ΒΕΡΟΙΑΣ RUNNING TEAM 1:16:18.830\n17 \, 16 \, 17 Κατηγορία Νομικών Male 340 ΓΕΩΡΓΙΟΣ ΣΤΥΛΛΑΣ 1985 – 1:19:37.913\n18 \, 17 \, 18 Κατηγορία Νομικών Male 314 ΔΗΜΗΤΡΗΣ ΚΑΡΑΓΙΑΝΝΗΣ 1977 ΔΣΘΕΣΣΑΛΟΝΙΚΗΣ 1:19:41.136\n19 \, 2 \, 19 Κατηγορία Νομικών Female 331 ΠΕΤΡΟΥΛΑ ΠΑΠΑΔΟΠΟΥΛΟΥ 1989 ΔΙΚΗΓΟΡΙΚΟΣ ΣΥΛΛΟΓΟΣ ΣΕΡΡΩΝ 1:22:00.526\n20 \, 18 \, 20 Κατηγορία Νομικών Male 318 ΣΤΕΡΓΙΟΣ ΣΑΡΑΪΔΑΡΗΣ 1989 ΔΙΚΗΓ.ΣΥΛΛ.ΣΕΡΡΩΝ 1:22:34.116\n21 \, 19 \, 21 Κατηγορία Νομικών Male 321 ΧΡΗΣΤΟΣ ΜΑΚΡΥΚΩΣΤΑΣ 1975 ΠΡΩΤΟΔΙΚΕΙΟ ΔΡΑΜΑΣ 1:23:51.263\n22 \, 3 \, 22 Κατηγορία Νομικών Female 308 ΚΙΚΗ ΔΡΑΓΚΙΟΓΛΟΥ 1985 TRAIN FOR LIFE CROSSFIT 1:24:05.356\n23 \, 4 \, 23 Κατηγορία Νομικών Female 326 ΜΑΧΗ ΜΠΟΥΡΟΥΖΗΚΑ 1979 1:24:17.036\n24 \, 5 \, 24 Κατηγορία Νομικών Female 300 ΕΡΗ ΒΡΑΚΟΠΟΥΛΟΥ 1986 TRAIN FOR LIFE 1:24:23.270\n25 \, 20 \, 25 Κατηγορία Νομικών Male 323 ΧΡΗΣΤΟΣ ΜΗΤΩΣΗΣ 1972 ΟΜΑΔΑ ΜΑΡΑΘΩΝΙΟΥ ΓΙΑΝΝΙΤΣΩΝ 1:25:41.676\n26 \, 21 \, 26 Κατηγορία Νομικών Male 337 ΠΑΝΑΓΙΩΤΗΣ ΣΠΥΡΟΠΟΥΛΟΣ 1966 ΔΙΚΗΓΟΡΙΚΟΣ ΣΥΛΛΟΓΟΣ ΣΕΡΡΩΝ 1:26:53.676\n27 \, 22 \, 27 Κατηγορία Νομικών Male 301 ΣΤΕΡΓΙΟΣ ΓΑΛΑΝΗΣ 1977 ΔΙΚΗΓΟΡΙΚΟΣ ΣΥΛΛΟΓΟΣ ΣΕΡΡΩΝ 1:26:53.723\n28 \, 6 \, 28 Κατηγορία Νομικών Female 302 ΑΘΗΝΑ ΓΕΩΡΓΙΑΔΟΥ 1972 ΔΙΚΗΓΟΡΙΚΟΣ ΣΥΛΛΟΓΟΣ ΣΕΡΡΩΝ 1:27:14.970\n29 \, 23 \, 29 Κατηγορία Νομικών Male 305 ΚΩΝΣΤΑΝΤΙΝΟΣ ΓΚΟΦΑΣ 1977 ΠΡΩΤΟΔΙΚΕΙΟ ΔΡΑΜΑΣ 1:27:58.766\n30 \, 7 \, 30 Κατηγορία Νομικών Female 333 ΚΑΤΕΡΙΝΑ ΡΑΠΤΟΠΟΥΛΟΥ 1966 ΣΔΥΘΕΣΣΑΛΟΝΙΚΗΣ 1:30:42.866\n31 \, 24 \, 31 Κατηγορία Νομικών Male 348 NONAME_1917 ΩΩ_ΝΟΜΙΚΩΝ_1ΟΣ ΠΑΝΕΛΛΉΝΙΟΣ ΑΓΏΝΑΣ ΔΡΌΜΟΥ ΝΟΜΙΚΏΝ_3 – 1:31:00.480\n32 \, 8 \, 32 Κατηγορία Νομικών Female 327 ΧΡΥΣΑΝΘΗ ΜΠΟΥΦΙΔΟΥ 1980 ΔΙΚΗΓΟΡΙΚΟΣ ΣΥΛΛΟΓΟΣ ΣΕΡΡΩΝ 1:32:34.286\n33 \, 9 \, 33 Κατηγορία Νομικών Female 297 ΛΟΥΚΙΑ ΑΛΕΞΑΝΔΡΙΔΟΥ 1984 TRAIN FOR LIFE 1:33:37.213\n34 \, 10 \, 34 Κατηγορία Νομικών Female 298 ΠΑΝΑΓΙΩΤΑ ΑΛΕΞΑΝΔΡΟΠΟΥΛΟΥ 1986 TRAIN FOR LIFE 1:33:39.866\n35 \, 25 \, 35 Κατηγορία Νομικών Male 311 ΠΑΝΑΓΙΩΤΗΣ ΙΑΣΟΝΙΔΗΣ ??? 1969 ΔΙΚΗΓΟΡΙΚΟΣ ΣΥΛΛΟΓΟΣ ΣΕΡΡΩΝ 1:34:29.520\n36 \, 11 \, 36 Κατηγορία Νομικών Female 332 ΔΗΜΗΤΡΑ ΠΑΣΙΑΛΗ 1992 ΘΕΣΣΑΛΟΝΙΚΗΣ 1:35:16.240\n37 \, 26 \, 37 Κατηγορία Νομικών Male 307 ΔΟΥΚΑΣ ΔΟΥΚΑΣ 1974 ΠΡΩΤΟΔΙΚΕΙΟ ΔΡΑΜΑΣ 1:38:04.680\n38 \, 12 \, 38 Κατηγορία Νομικών Female 334 ΔΕΣΠΟΙΝΑ ΣΑΜΑΡΑ 1988 TRAIN FOR LIFE 1:38:34.453\n39 \, 27 \, 39 Κατηγορία Νομικών Male 349 NONAME_1917 ΩΩ_ΝΟΜΙΚΩΝ_1ΟΣ ΠΑΝΕΛΛΉΝΙΟΣ ΑΓΏΝΑΣ ΔΡΌΜΟΥ ΝΟΜΙΚΏΝ_4 – 1:38:52.496\n40 \, 13 \, 40 Κατηγορία Νομικών Female 329 ΔΗΜΗΤΡΑ ΠΑΝΑΓΙΩΤΑΚΗ 1978 1:49:20.363\n41 \, 14 \, 41 Κατηγορία Νομικών Female 299 ΔΕΣΠΟΙΝΑ ΑΝΑΣΤΑΣΙΑΔΟΥ 1985 ΣΕΡΡΩΝ 1:52:12.700\n42 \, 28 \, 42 Κατηγορία Νομικών Male 350 ΣΕΒΑΣΤΗ ΣΑΠΟΥΝΑ – 2:00:03.226\n43 \, 29 \, 43 Κατηγορία Νομικών Male 303 ΙΩΑΝΝΗΣ ΓΙΑΝΤΣΙΟΣ 1962 ΔΙΚΗΓ.ΣΥΛΛ.ΣΕΡΡΩΝ 2:01:05.110\n44 \, 30 \, 44 Κατηγορία Νομικών Male 347 ΓΙΑΝΝΗΣ ΜΑΡΚΟΥ – 2:01:33.916
URL:https://gorun.gr/race/2%ce%bf-salomon-serres-city-running-107-%cf%87%ce%bb%ce%bc-%ce%ba%ce%b1%ce%b9-55-%cf%87%ce%bb%ce%bc-1%ce%bf-%cf%80%ce%b1%ce%bd%ce%b5%ce%bb%ce%bb%ce%b7%ce%bd%ce%b9%ce%bf-%ce%b1%ce%b3%cf%89%ce%bd/
CATEGORIES:Αποτελέσματα,Δρόμος
END:VEVENT
END:VCALENDAR