BEGIN:VCALENDAR
VERSION:2.0
PRODID:-//goRUN - ECPv5.8.1//NONSGML v1.0//EN
CALSCALE:GREGORIAN
METHOD:PUBLISH
X-WR-CALNAME:goRUN
X-ORIGINAL-URL:https://gorun.gr
X-WR-CALDESC:Events for goRUN
BEGIN:VTIMEZONE
TZID:Europe/Athens
BEGIN:DAYLIGHT
TZOFFSETFROM:+0200
TZOFFSETTO:+0300
TZNAME:EEST
DTSTART:20160327T010000
END:DAYLIGHT
BEGIN:STANDARD
TZOFFSETFROM:+0300
TZOFFSETTO:+0200
TZNAME:EET
DTSTART:20161030T010000
END:STANDARD
END:VTIMEZONE
BEGIN:VEVENT
DTSTART;VALUE=DATE:20160910
DTEND;VALUE=DATE:20160911
DTSTAMP:20260426T071056
CREATED:20160909T130342Z
LAST-MODIFIED:20160910T110946Z
UID:10329-1473465600-1473551999@gorun.gr
SUMMARY:24ος Τηλεμάχειος Δρόμος
DESCRIPTION:Το Σαββάτο 10/9/2016 θα διεξαχθεί ο 24ος Τηλεμάχειος δρόμος\, ένας αγώνας που συντηρεί μία παράδοση 24 χρόνων καθώς η ιστορία του κρατά από το 1992\, που οφείλει να διατηρηθεί και να συνεχιστεί με την ίδια θέρμη. \n    Θα θέλαμε να ευχαριστήσουμε ιδιαιτέρως τον πολιτιστικό Σύλλογο Πόρου Πρόνησος\, ο οποίος ανταποκρίθηκε με ιδιαίτερο ζήλο στο κάλεσμα να συμβάλλει με τοπικά εδέσματα αλλά και για την παρουσία των μελών του στην διοργάνωση\, τους προέδρους των τοπικών κοινοτήτων για την άμεση κινητοποίησή τους στο φετινό εγχείρημα αλλά και το μέλος του συλλόγου μας τον Ηλία Ζαπάντη για το ενδιαφέρον και την αρωγή του. \n    Οφείλουμε όλοι\, αθλητές\, περιπατητές και θεατές\, να υποστηρίξουμε έναν αγώνα –έθιμο στο νησί μας\, ταυτόσημο με την εικόνα της πανέμορφης παραλιακής διαδρομής του\, δίνοντας ένα δυναμικό παρόν\, συμμετέχοντας ή παρακολουθώντας την προσπάθεια των δρομέων μικρών και μεγάλων. \nΟι εγγραφές για τους παιδικούς αγώνες θα λάβουν χώρα στον Πόρο ώρα 18.30. \nΕνώ για τον αγώνα των 12.5 κμ στην Σκάλα ώρα 17.00 \nΕκ του Συλλόγου Δρομέων Κεφαλλονιάς
URL:https://gorun.gr/race/24%ce%bf%cf%82-%cf%84%ce%b7%ce%bb%ce%b5%ce%bc%ce%ac%cf%87%ce%b5%ce%b9%ce%bf%cf%82-%ce%b4%cf%81%cf%8c%ce%bc%ce%bf%cf%82/
CATEGORIES:Δρόμος
END:VEVENT
END:VCALENDAR