BEGIN:VCALENDAR
VERSION:2.0
PRODID:-//goRUN - ECPv5.8.1//NONSGML v1.0//EN
CALSCALE:GREGORIAN
METHOD:PUBLISH
X-WR-CALNAME:goRUN
X-ORIGINAL-URL:https://gorun.gr
X-WR-CALDESC:Events for goRUN
BEGIN:VTIMEZONE
TZID:Europe/Athens
BEGIN:DAYLIGHT
TZOFFSETFROM:+0200
TZOFFSETTO:+0300
TZNAME:EEST
DTSTART:20160327T010000
END:DAYLIGHT
BEGIN:STANDARD
TZOFFSETFROM:+0300
TZOFFSETTO:+0200
TZNAME:EET
DTSTART:20161030T010000
END:STANDARD
END:VTIMEZONE
BEGIN:VEVENT
DTSTART;VALUE=DATE:20160903
DTEND;VALUE=DATE:20160904
DTSTAMP:20260425T030507
CREATED:20160530T220832Z
LAST-MODIFIED:20160905T200220Z
UID:7702-1472860800-1472947199@gorun.gr
SUMMARY:2o Syros City Trail 2016
DESCRIPTION:10 χιλιόμετρα \nPos Race No ΕΠΙΘΕΤΟ / ΟΝΟΜΑ Club Finish\n1 9 ΔΙΑΛΕΚΤΟΣ ΓΙΩΡΓΟΣ SALOMON HELLAS 00:46:51\n2 71 SLEMECK FREDDIE 00:46:58\n3 3 ΚΑΜΠΟΥΡΟΠΟΥΛΟΣ ΑΛΕΞΑΝΔΡΟΣ ODLO / LASPORTIVA 00:47:47\n4 32 ΛΟΥΦΕΚΗΣ ΓΙΩΡΓΟΣ MY ATHLETE 00:49:59\n5 4 ΠΑΓΟΥΝΑΔΗΣ ΘΑΝΑΣΗΣ PANAKSIAKOS 00:50:01\n6 5 ΜΠΑΤΑΣ ΓΕΩΡΓΙΟΣ ODLO / LASPORTIVA 00:52:50\n7 60 ΤΑΣΣΟΠΟΥΛΟΣ ΔΗΜΗΤΡΗΣ ATHINODOROS O AIGIEYS 00:53:25\n8 57 ΣΙΔΗΡΟΠΟΥΛΟΣ ΚΩΝΣΤΑΝΤΙΝΟΣ DROMEIS SYROY 00:58:32\n9 54 ΡΟΥΣΣΟΣ ΑΝΑΡΓΥΡΟΣ DROMEIS SYROY 00:59:36\n10 22 ΔΕΝΑΞΑΣ ΓΙΩΡΓΟΣ DROMEIS SYROY 00:59:40\n11 6 ΜΑΛΑΙ ΜΑΡΙΑ ODLO / LASPORTIVA 00:59:59\n12 76 ΑΦΡΟΥΔΑΚΗΣ ΠΑΝΤΕΛΗΣ 00:59:59\n13 18 ΓΑΛΑΤΗΣ ΠΑΝΑΓΙΩΤΗΣ SCIENCETRAINING 01:00:13\n14 26 ΚΕΧΑΟΓΛΟΥ ΝΙΚΟΣ PANAKSIAKOS 01:00:22\n15 8 ΤΡΟΥΠΗΣ ΔΗΜΗΤΡΗΣ ADVENDURE 01:02:12\n16 72 ΠΑΠΑΔΟΠΟΥΛΟΣ ΑΡΙΣΤΟΤΕΛΗΣ 01:02:19\n17 48 ΠΑΠΑΘΑΝΑΣΙΟΥ ΓΙΩΡΓΟΣ BOIOTOI IMERODROMOI 01:05:21\n18 75 ΝΙΚΟΛΑΙΔΗΣ ΤΖΙΝΑ 01:05:46\n19 7 ΙΓΓΛΕΖΟΥ ΑΣΗΜΙΝΑ ANEKSARTITOS 01:05:52\n20 52 ΠΕΛΕΚΑΝΟΣ ΜΗΝΑΣ PELECANUS CRISPUS 01:06:37\n21 10 ΤΕΡΖΗ ΑΝΤΖΥ Smart Run- Advendure 01:06:56\n22 34 ΜΑΚΡΙΔΑΚΗΣ ΑΓΗΣΙΛΑΟΣ POSEIDON SYROY 01:07:34\n23 51 ΠΑΠΟΥΤΣΑΣ ΤΑΚΗΣ DROMEIS SYROY 01:07:34\n24 20 ΓΡΑΨΑΣ ΣΠΥΡΟΣ S.D.Y.Athens 01:08:08\n25 43 ΠΑΝΟΥΡΓΙΑΣ ΙΩΑΝΝΗΣ A.S. DIONYSOS AMFIKLEIAS 01:08:22\n26 21 ΔΕΒΕΛΕΚΟΣ ΣΤΡΑΤΟΣ ANEKSARTITOS 01:09:03\n27 56 ΣΙΔΗΡΟΠΟΥΛΟΣ ΝΙΚΟΛΑΟΣ SYLLOGOS DROMEON KEFALONIAS 01:09:21\n28 15 ΒΑΚΟΝΔΙΟΣ ΜΙΧΑΛΗΣ DROMEIS SYROY 01:11:06\n29 73 ΑΛΤΟΥΒΑΣ ΝΙΚΟΣ 01:11:16\n30 11 FRENZEL MAX RUNNINGREECE 01:12:09\n31 53 ΠΛΑΚΙΑΣ ΝΙΚΟΛΑΟΣ S.K.A METEORON 01:12:17\n32 49 ΚΑΜΟΛΙΝΟΣ ΝΙΚΟΛΑΟΣ ANEKSARTITOS 01:12:40\n33 19 ΓΚΛΑΒΑΣ ΘΕΟΔΩΡΟΣ EL.AS. 01:13:05\n34 40 ΝΤΟΤΣΙΑΣ ΦΩΤΗΣ ANEKSARTITOS 01:16:54\n35 23 ΔΙΟΝΥΣΟΠΟΥΛΟΣ ΓΡΗΓΟΡΙΟΣ FLYING GEESE RUNNING TEAM 01:17:46\n36 24 ΔΟΥΒΙΝΟΦ ΛΕΜΟΝΙΑ PAZOCOACH 01:17:46\n37 2 ΠΡΙΝΤΕΖΗΣ ΙΩΑΝΝΗΣ DROMEIS SYROY 01:18:59\n38 41 ΠΑΝΑΓΙΩΤΟΥ ΣΤΑΥΡΟΥΛΑ ANEKSARTITOS 01:27:03\n39 33 ΜΑΓΓΙΩΡΟΥ ΚΥΡΙΑΚΗ ANEKSARTITOS 01:27:30\n40 38 ΜΟΣΧΟΒΟΣ ΝΙΚΟΣ MINETTA Running Team 01:27:30\n41 16 ΒΑΡΒΑΡΗΓΟΣ ΓΙΩΡΓΟΣ DROMEIS SYROY 01:28:34\n42 47 ΠΑΝΤΟΥΣΗΣ ΔΗΜΗΤΡΗΣ OREIVATIKOS SPATON 01:28:46\n43 14 ΑΥΛΩΝΙΤΗΣ ΝΙΚΟΛΑΟΣ Runner Store Trail Team 01:30:04\n44 27 ΚΟΪΝΗ ΕΥΤΥΧΙΑ Runner Store Trail Team 01:30:53\n45 69 Harju Heikkila Raivi 01:31:26\n46 39 ΜΠΙΣΚΕΤΖΗ ΜΑΡΙΑ ATHINAIOI DROMEIS 01:32:56\n47 59 ΤΑΣΙΟΠΟΥΛΟΥ ΦΩΤΕΙΝΗ ANEKSARTITOS 01:33:23\n48 68 ΚΑΦΦΕΣ ΒΑΓΓΕΛΗΣ SDYM THIBAS 01:38:05\n49 63 ΦΩΤΟΠΟΥΛΟΥ ΘΕΑΝΩ Runner Store Trail Team 01:54:35 \n4 χιλιόμετρα \nPos Race No ΕΠΙΘΕΤΟ / ΟΝΟΜΑ Club Finish\n1 406 ΓΕΩΡΓΟΠΟΥΛΟΣ ΧΡΙΣΤΟΦΟΡΟΣ DROMEIS SYROY 00:22:30\n2 444 ΥΔΡΑΙΟΣ ΑΝΤΩΝΙΟΣ ANDROY 00:22:37\n3 420 ΜΕΝΔΡΙΝΟΣ ΑΛΕΞΗΣ DROMEIS SYROY 00:22:53\n4 42 ΠΑΝΟΥΡΓΙΑΣ ΕΥΣΤΑΘΙΟΣ A.S. DIONYSOS AMFIKLEIAS 00:24:40\n5 434 ΡΟΥΣΣΟΣ ΠΑΝΤΕΛΗΣ DROMEIS SYROY 00:24:59\n6 423 ΠΑΝΑΓΙΩΤΟΠΟΥΛΟΥ ΙΟΥΛΙΑ – ΕΛΕΝΗ 00:25:13\n7 475 ΒΟΥΤΣΙΝΟΣ ΑΝΤΩΝΗΣ 00:26:10\n8 480 ΚΟΝΔΥΛΗΣ ΜΙΧΑΗΛ 00:26:10\n9 458 ΠΑΠΟΥΤΣΑΣ ΘΕΟΔΟΣΗΣ 00:26:31\n10 431 ΠΙΠΕΡΗΣ ΠΑΝΤΕΛΗΣ 00:26:54\n11 412 ΚΟΝΔΥΛΗΣ ΝΕΚΤΑΡΙΟΣ GS NEAPOLIS XALKIDAS 00:27:01\n12 476 ΡΟΣΟΛΑΤΟΣ ΣΤΑΥΡΟΣ 00:27:27\n13 409 ΚΑΠΑΣΟΥΡΗΣ ΠΑΝΑΓΙΩΤΗΣ ANEKSARTITOS 00:27:28\n14 410 ΚΑΡΠΟΥΖΑ ΒΙΚΥ Inov 8- Smart Run 00:28:15\n15 456 ΠΑΠΑΔΑΚΗΣ ΛΕΥΤΕΡΗΣ 00:28:15\n16 417 ΛΟΥΚΑΚΗ ΔΕΣΠΟΙΝΑ RUNNER STORE 00:28:18\n17 429 ΠΕΛΕΚΗΣ ΕΙΡΗΝΑΙΟΣ 00:28:40\n18 477 ΠΑΝΑΓΙΩΤΗΣ ΘΑΝΟΠΟΥΛΟΣ 00:28:44\n19 416 ΚΟΥΤΣΟΥΡΑΔΗΣ ΝΑΣΟΣ PHYSIOATHENS 00:29:02\n20 479 KONTRA ARTOUR 00:29:54\n21 449 ΧΕΡΙΔΗΣ ΚΥΡΙΑΚΟΣ 00:30:44\n22 469 ΑΓΓΕΛΟΥ ΣΟΦΙΑΝΟΣ 00:31:58\n23 405 ΒΟΥΤΣΙΝΟΣ ΙΣΙΔΩΡΟΣ DROMEIS SYROY 00:32:21\n24 421 ΜΟΝΟΓΥΙΟΣ ΝΙΚΟΛΑΟΣ 00:32:33\n25 430 ΠΕΤΡΙΣΗ ΧΡΙΣΤΙΝΑ 00:32:39\n26 433 ΡΟΥΣΣΟΣ ΖΑΝΝΕΣ DROMEIS SYROY 00:32:41\n27 404 ΒΛΑΧΟΣ ΑΝΑΣΤΑΣΙΟΣ DROMEIS SYROY 00:32:52\n28 30 ΛΑΓΓΑΣ ΠΑΝΑΓΙΩΤΗΣ ANEKSARTITOS 00:33:05\n29 422 ΝΙΚΟΛΑΚΟΠΟΥΛΟΣ ΓΑΒΡΙΗΛ 00:33:05\n30 461 ΡΟΥΣΣΟΣ ΒΕΝΕΔΙΚΤΟΣ 00:33:23\n31 424 ΠΑΝΑΓΙΩΤΟΥ ΙΛΙΑΔΑ 00:33:30\n32 55 ΡΟΥΣΣΟΣ ΓΙΑΝΝΗΣ DROMEIS SYROY 00:34:09\n33 425 ΠΑΠΑΓΕΩΡΓΙΟΥ ΑΝΔΡΕΑΣ CHRONOSYSTEMS 00:34:21\n34 460 ΝΤΟΤΣΙΑ ΜΑΡΚΕΛΑ ΑΝΤΩΝΙΑ 00:34:57\n35 419 ΜΑΡΑΓΚΟΣ ΙΩΑΝΝΗΣ 00:35:00\n36 467 ΤΑΚΟΣ ΠΑΝΑΓΙΩΤΗΣ 00:35:03\n37 408 ΔΗΜΗΤΣΑΣ ΔΗΜΗΤΡΗΣ DROMEIS SYROY 00:36:28\n38 457 ΒΑΚΟΝΔΙΟΣ ΑΓΓΕΛΟΣ 00:36:48\n39 436 ΣΚΟΥΛΑ ΔΕΣΠΟΙΝΑ 00:37:12\n40 435 ΣΑΡΑΒΑΝΟΥ ΙΩΑΝΝΑ 00:37:20\n41 466 ΣΙΔΗΡΟΠΟΥΛΟΣ ΙΩΑΝΝΗΣ 00:37:43\n42 445 ΦΟΥΝΤΑΣ ΣΤΥΛΙΑΝΟΣ DROMEIS SYROY 00:37:45\n43 473 ΚΟΚΚΙΝΗΣ ΔΗΜΗΤΡΗΣ 00:39:00\n44 440 ΣΥΡΑΝΙΔΗΣ ΓΕΩΡΓΙΟΣ ZEYS PIERIAS 00:39:36\n45 471 ΚΑΤΣΙΜΠΑ ΘΕΟΔΩΡΑ 00:40:53\n46 478 ΤΣΑΜΠΑ ΕΛΛΗ 00:40:53\n47 403 ΒΑΣΙΛΟΠΟΥΛΟΥ ΑΡΙΣΤΕΑ CHRONOSYSTEMS 00:42:32\n48 438 ΣΤΥΛΙΑΝΟΣ ΒΑΡΘΟΛΟΜΑΙΟΣ 00:42:33\n49 464 ΤΣΑΒΔΑΡΙΔΟΥ ΚΩΣΤΑΝΤΙΝΑ 00:43:06\n50 437 ΣΤΕΡΓΙΑΝΗ ΝΙΚΟΥ 00:43:16\n51 446 ΦΩΤΙΟΥ ΑΘΗΝΑ 00:43:22\n52 439 ΣΥΛΙΒΑΝΗ ΕΛΕΝΗ DROMEIS SYROY 00:43:29\n53 462 ΜΙΛΤΙΑΔΗΣ ΓΑΡΟΥΦΑΛΗΣ 00:43:46\n54 413 ΚΟΡΦΙΑΤΗΣ ΑΡΙΣΤΕΙΔΗΣ DROMEIS SYROY 00:44:13\n55 465 ΡΟΖΟΣ ΓΙΩΡΓΟΣ 00:44:13\n56 82 ΑΝΤΩΝΙΑΔΟΥ ΑΘΗΝΑ 00:44:26\n57 83 ΚΟΝΤΟΥ ΜΑΙΡΗ 00:44:27\n58 441 ΣΥΡΑΝΙΔΗΣ ΧΡΗΣΤΟΣ 00:44:39\n59 474 ΓΙΑΝΝΙΡΗΣ ΚΩΣΤΑΝΤΙΝΟΣ 00:45:28\n60 453 ΦΙΛΙΠΑΚΟΠΟΥΛΟΣ ΠΑΝΑΓΙΩΤΗΣ SDYA 00:47:20\n61 454 ΤΣΕΛΙΚΗΣ ΓΙΩΡΓΟΣ 00:47:20\n62 401 ΑΝΔΡΙΚΟΠΟΥΛΟΥ ΓΕΩΡΓΙΑ ATHINODOROS O AIGIEYS 00:47:39\n63 81 ΑΘΑΝΑΣΙΟΥ ΑΓΓΕΛΟΣ 00:50:13\n64 84 ΣΑΜΑΡΑ ΜΑΡΙΝΑ 00:50:14\n65 418 ΜΑΝΤΟΓΙΑΝΝΑΚΟΥ ΣΤΑΥΡΟΥΛΑ OREIBATIKOS SPATON 00:50:28\n66 407 ΔΕΝΑΞΑΣ ΠΑΝΑΓΙΩΤΗΣ ANEKSARTITOS 00:53:00\n67 443 ΤΡΙΚΑΜΗΝΑ ΕΥΑΓΓΕΛΙΑ 00:53:01\n68 459 ΒΑΚΟΝΔΙΟΣ ΓΙΑΝΝΗΣ 00:56:29\n69 470 ΑΝΤΩΝΙΟΥ ΝΙΚΟΛΕΤΤΑ 00:57:17\n70 472 ΤΣΙΤΣΙΚΑΣ ΝΕΣΤΩΡΑΣ 00:57:17\n71 451 ΛΑΖΑΡΟΓΛΟΥ ΜΑΡΙΑ 00:57:42\n72 468 ΔΙΑΜΑΝΤΟΠΟΥΛΟΥ ΠΟΛΥΤΙΜΗ 00:57:43\n73 428 ΠΑΠΗΛΙΑ ΕΥΑΓΓΕΛΙΑ DROMEIS SYROY 01:03:05\n74 463 ΝΟ ΝΑΜΕ 01:29:11
URL:https://gorun.gr/race/2o-syros-city-trail-2016/
CATEGORIES:Αποτελέσματα,Δρόμος
END:VEVENT
END:VCALENDAR