BEGIN:VCALENDAR
VERSION:2.0
PRODID:-//goRUN - ECPv5.8.1//NONSGML v1.0//EN
CALSCALE:GREGORIAN
METHOD:PUBLISH
X-WR-CALNAME:goRUN
X-ORIGINAL-URL:https://gorun.gr
X-WR-CALDESC:Events for goRUN
BEGIN:VTIMEZONE
TZID:Europe/Athens
BEGIN:DAYLIGHT
TZOFFSETFROM:+0200
TZOFFSETTO:+0300
TZNAME:EEST
DTSTART:20160327T010000
END:DAYLIGHT
BEGIN:STANDARD
TZOFFSETFROM:+0300
TZOFFSETTO:+0200
TZNAME:EET
DTSTART:20161030T010000
END:STANDARD
END:VTIMEZONE
BEGIN:VEVENT
DTSTART;TZID=Europe/Athens:20160709T080000
DTEND;TZID=Europe/Athens:20160710T170000
DTSTAMP:20260421T203849
CREATED:20160627T152118Z
LAST-MODIFIED:20160710T064008Z
UID:8499-1468051200-1468170000@gorun.gr
SUMMARY:3οι Ορεινοί Αγώνες Κυργίων Δράμας
DESCRIPTION:Περιγραφή αγώνα\nΟ αγώνας δρόμου και ποδηλάτου θα πραγματοποιηθεί μέσα στο πανέμορφο δασάκι των Κυργίων Δράμας\, μια περιοχή με μικρές αυξομειώσεις ανηφόρας & κατηφόρας αλλά και σε πολλά σημεία με μονοπάτια που ξεκουράζουν τον αθλητή χωρίς μεγάλες ή και καθόλου κλίσεις (εύκολος ορεινός αγώνας). \nΟ αγώνας αυτός εκτός από το αγωνιστικό κομμάτι περιλαμβάνει και το στοιχείο της σύσφιξης σχέσεων και της γνωριμίας μεταξύ των δρομέων και των οικογενειών τους\, αφού προβλέπει κατασκηνωτικό χώρο με ότι θα έχει ανάγκη για μια με δύο μέρες ένας κατασκηνωτής\, καθώς και πολλές δράσεις για παιδιά όπως τοξοβολία\, τοίχο αναρρίχησης κ.α. όπου οι οικογένειες των αθλητών θα μπορούν να απασχοληθούν όσο θα διαρκέσει ο αγώνας. \nΑποποίηση ευθύνης οργανωτή. \nΌλοι οι αθλητές είναι υπεύθυνοι για την καλή φυσική κατάστασή τους και οφείλουν να εξεταστούν από γιατρό πριν τον αγώνα σε περίπτωση που δεν είναι σίγουροι για την φυσική τους κατάσταση. \nΕπίσης οφείλουν να είναι ασφαλισμένοι για την περίπτωση ατυχήματος κατά την διάρκεια της συμμετοχής τους σε αγώνα ορεινής ποδηλασίας και δρόμου. \nΟι συμμετέχοντες γνωρίζουν τον ενδεχόμενο κίνδυνο σωματικής βλάβης ή φθοράς του εξοπλισμού τους από τη συμμετοχή τους σε αγώνες σε ορεινής ποδηλασίας καθώς και τις συνέπειες αυτών.\nΟ οργανωτής δεν ευθύνεται για το τραυματισμό ή οποιαδήποτε βλάβη της υγείας των συμμετεχόντων\, οι οποίοι υποβάλλοντας την αίτηση συμμετοχής δηλώνουν ότι γνωρίζουν τους κινδύνους που εμπεριέχει η κίνηση σε ορεινό περιβάλλον\, έχουν την ανάλογη εμπειρία\, είναι ασφαλισμένοι για την περίπτωση ατυχήματος κατά την διάρκεια της συμμετοχής τους και ότι η κατάσταση της υγείας τους είναι καλή και τους επιτρέπει να αγωνιστούν. \nΜε την εγγραφή τους στον αγώνα δηλώνουν ότι σε καμία περίπτωση δε θα στραφούν ή θα προβάλλουν απαίτηση εναντίων των διοργανωτών ή εκπροσώπων αυτών ή των χορηγών ή της εποπτεύουσας αρχής αν πάθουν υλική\, σωματική ή ηθική βλάβη οι ίδιοι ή οι συνοδοί τους ή οποιοσδήποτε τρίτος εξ’ αιτίας τους από την εγγραφή ή τη συμμετοχή τους στον συγκεκριμένο αγώνα. \n  \nΠΡΟΓΡΑΜΜΑ ΑΓΩΝΩΝ – TRAIL KYRGIA 2016 \nΣάββατο 09 Ιουλίου 2016 \n16:30 Αγώνας δρόμου παιδιών. \n16:45 MTB ΧΡΟΝΟΜΕΤΡΟ 1\,8χιλ \n17:00  ΜΤΒ 26χιλ \n17:00 ΜΤΒ «Διασκέδαση – Fun» 6.5χιλ \nΚυριακή 10 Ιουλίου 2016 \n10:00 ΜΤΒ παιδιών \n10:30 Αγώνας δρόμου 16χιλ \n10:30 Αγώνας δρόμου «Διασκέδαση – Fun» 5.4χιλ \n  \nΚόστος συμμετοχής : \nΜετά την αίτηση σας μέσα σε διάστημα τριών ημερών  θα πρέπει να καταθέσετε στο παρακάτω λογαριασμό το ποσό που σας αναλογεί . \nΗ  κατάθεση σας είναι υποχρεωτική για τη συμμετοχή σας στους αγώνες. \nΑριθμός λογαριασμού: \n0026-0767-84-0103398665   ΤΑΧΥΔΡΟΜΙΚΟ ΤΑΜΙΕΥΤΗΡΙΟ \nΚατηγορίες  «Διασκέδαση – Fun» 5€/ Συμμετοχή \nΚατηγορίες: ΜΤΒ –  10€/ Συμμετοχή \nΑγώνας δρόμου  –  10€/ Συμμετοχή \nΚατηγορίες  ΜΤΒ & Αγώνας δρόμου Παιδιών Δωρεάν \n\nΕνστάσεις \nΕνστάσεις για οποιοδήποτε λόγο γίνονται μόνο από τον ίδιο τον αθλητή το αργότερο 30 λεπτά μετά τον τερματισμό του από τον αγώνα. Η όποια απόφαση της επιτροπής ενστάσεων είναι τελική. \nΤροποποίηση κανονισμών \nΗ οργάνωση διατηρεί το δικαίωμα τροποποίησης των παρόντων κανονισμών διεξαγωγής του αγώνα χωρίς προηγούμενη ενημέρωση αν αυτό κριθεί απαραίτητο. Σε καμία περίπτωση η οποιαδήποτε αλλαγή δεν θα αλλοιώνει το ύφος του αγώνα. \nΑπονομές\nΟι απονομές για κάθε κατηγορία θα πραγματοποιηθούν μετά το τέλος του αγώνα στον χώρο της γραμματείας\, σύμφωνα με το πρόγραμμα. \nΚανονισμοί Αγώνα\nΙσχύουν οι κανόνες ασφάλειας της ΕΟΠ. \nΟι συμμετέχοντες θα πρέπει:\n1\, Να κάνουν χρήση κράνους κλειστού τύπου καθώς και όλου του εξοπλισμού ασφαλείας (θώρακας\, επιγονατίδες)\, καθώς και η χρήση αριθμού του κάθε αναβάτη\, είναι υποχρεωτική και στις προπονήσεις.\n2\, Ποδηλάτης με ελλείψεις στον εξοπλισμό του με συνέπεια να μην καλύπτεται η στοιχειώδης ασφάλεια του\, δεν θα λάβει εκκίνηση.\n3\, Να φέρουν το νούμερο που θα τους δώσει η γραμματεία στο τιμόνι του ποδηλάτου τους.\n4\, Να ενημερώσουν την γραμματεία σε περίπτωση εγκατάλειψης τους. \n\nhttps://sites.google.com/site/perifisi/home/programma-agonon?pli=1 \n\n\nΕΓΡΑΦΕΣ ΑΓΩΝΩΝ\nhttps://sites.google.com/site/perifisi/home/programma-agonon/symmetoches
URL:https://gorun.gr/race/3%ce%bf%ce%b9-%ce%bf%cf%81%ce%b5%ce%b9%ce%bd%ce%bf%ce%af-%ce%b1%ce%b3%cf%8e%ce%bd%ce%b5%cf%82-%ce%ba%cf%85%cf%81%ce%b3%ce%af%cf%89%ce%bd-%ce%b4%cf%81%ce%ac%ce%bc%ce%b1%cf%82/
CATEGORIES:Δρόμος
END:VEVENT
END:VCALENDAR