BEGIN:VCALENDAR
VERSION:2.0
PRODID:-//goRUN - ECPv5.8.1//NONSGML v1.0//EN
CALSCALE:GREGORIAN
METHOD:PUBLISH
X-WR-CALNAME:goRUN
X-ORIGINAL-URL:https://gorun.gr
X-WR-CALDESC:Events for goRUN
BEGIN:VTIMEZONE
TZID:Europe/Athens
BEGIN:DAYLIGHT
TZOFFSETFROM:+0200
TZOFFSETTO:+0300
TZNAME:EEST
DTSTART:20160327T010000
END:DAYLIGHT
BEGIN:STANDARD
TZOFFSETFROM:+0300
TZOFFSETTO:+0200
TZNAME:EET
DTSTART:20161030T010000
END:STANDARD
END:VTIMEZONE
BEGIN:VEVENT
DTSTART;VALUE=DATE:20160821
DTEND;VALUE=DATE:20160822
DTSTAMP:20260424T070638
CREATED:20160430T113558Z
LAST-MODIFIED:20160824T154753Z
UID:6436-1471737600-1471823999@gorun.gr
SUMMARY:3ος αγώνας ορεινού τρεξίματος Στην σκιά του Κριάκουρα
DESCRIPTION:Προσωρινά αποτελέσματα \n21 χιλιόμετρα \nRank\nGen-Sex-Cat Category Gender BIB Name YOB Club FINISH21KM\n1 \, 1 \,1\nM18-39 Male 284 ΓΙΩΡΓΟΣ ΔΙΑΛΕΚΤΟΣ 1984 SALOMON HELLAS 2:14:46.603\n2 \, 2 \, 2 M18-39 Male 280 ΑΘΑΝΑΣΙΟΣ ΠΑΓΟΥΝΑΔΗΣ 1987 ADIDAS-MYPROTEIN 2:15:43.840\n3 \, 3 \, 1\nM40-49 Male 214 ΑΘΑΝΑΣΙΟΣ ΚΟΥΡΗΣ 1970 INOV8-FIFTH ELEMENT 2:20:47.596\n4 \, 4 \, 2 M40-49 Male 261 ΓΙΑΝΝΗΣ ΠΑΠΑΗΛΙΑΣ 1973 FIFTH ELEMENT 2:24:23.900\n5 \, 5 \, 3 M18-39 Male 296 ΝΙΚΟΣ ΡΟΥΣΑΣ 1990 2:32:47.296\n6 \, 6 \, 4 M18-39 Male 203 ΑΡΙΣΤΕΙΔΗΣ ΓΚΙΖΛΗΣ 1990 Σ.Δ.ΤΡΙΚΑΛΩΝ 2:32:49.973\n7 \, 7 \, 5 M18-39 Male 293 ΧΡΙΣΤΟΦΟΡΟΣ ΚΩΣΤΑΓΙΑΝΝΗΣ 1988 2:37:24.160\n8 \, 8 \, 3 M40-49 Male 290 ΤΡΥΦΩΝΑΣ ΡΟΥΣΙΑΜΑΝΗΣ 1974 ΣΥΛΛΟΓΟΣ ΔΡΟΜΕΩΝ ΤΡΙΚΑΛΩΝ 2:38:06.670\n9 \, 9 \, 4 M40-49 Male 219 ΧΡΗΣΤΟΣ ΑΛΕΞΙΟΥ 1972 ΕΛ.ΑΣ 2:38:53.960\n10 \, 10 \, 5 M40-49 Male 210 ΑΘΑΝΑΣΙΟΣ ΟΙΚΟΝΟΜΟΥ 1969 Σ.ΔΡΟΜΕΩΝ ΤΡΙΚΑΛΩΝ 2:41:29.213\n11 \, 11 \, 6 M40-49 Male 225 ΠΕΡΙΚΛΗΣ ΑΣΠΡΟΥΔΗΣ 1969 ΔΡΟΜΕΙΣ ΑΡΤΑΣ DIELLAS 2:43:13.670\n12 \, 12 \, 6 M18-39 Male 286 ΠΥΡΡΟΣ ΚΟΥΤΣΟΥΚΗΣ 1996 2:43:14.106\n13 \, 13 \, 7 M40-49 Male 224 ΑΘΑΝΑΣΙΟΣ ΒΑΣΙΛΟΠΟΥΛΟΣ 1974 ΤΡΑΧΙΝΑ 2:46:33.790\n14 \, 14 \, 7 M18-39 Male 298 ΜΑΡΙΟΣ ΑΥΓΕΡΗΣ – 2:49:32.573\n15 \, 15 \, 8 M18-39 Male 204 ΞΕΝΟΦΩΝ ΡΑΜΙΑΣ 1981 ΔΡΟΜΕΙΣ ΑΡΤΑΣ-DIELLAS 2:51:02.943\n16 \, 16 \, 8 M40-49 Male 249 ΠΑΝΑΓΙΩΤΗΣ ΝΤΑΡΑΓΙΑΝΝΗΣ 1970 MARATHON CLUB 2:56:21.816\n17 \, 17 \, 1\nM50+ Male 304 ΑΘΑΝΑΣΙΟΣ ΝΤΑΡΑΓΙΑΝΝΗΣ 1962 2:56:32.466\n18 \, 18 \, 9 M40-49 Male 213 ΣΠΥΡΙΔΩΝ ΠΑΠΠΑΣ 1972 2:56:41.943\n19 \, 19 \, 2 M50+ Male 294 ΒΑΣΙΛΕΙΟΣ ΚΛΑΓΚΟΣ 1962 3:00:25.470\n20 \, 20 \, 9 M18-39 Male 275 ΕΥΑΓΓΕΛΟΣ ΠΛΕΥΡΗΣ 1981 ALLTERRAINRUNNERS 3:00:41.546\n21 \, 1 \,1\nF18-39 Female 260 ΑΝΑΣΤΑΣΙΑ ΜΑΡΚΑΤΟΥ 1983 ODLO / LA SPORTIVA / GOJI BERRY TEAM 3:00:45.940\n22 \, 21 \, 10 M40-49 Male 234 ΑΓΓΕΛΟΣ ΝΙΚΟΛΟΠΟΥΛΟΣ 1976 ΠΟΛΙΤΙΣΤΙΚΗ ΔΡΑΣΗ ΒΡΑΧΝΕΙΚΩΝ 3:00:54.226\n23 \, 22 \, 10 M18-39 Male 307 ΓΕΩΡΓΙΟΣ ΚΟΥΤΣΟΥΚΗΣ 1983 3:01:10.603\n24 \, 23 \, 11 M40-49 Male 270 ΓΙΩΡΓΟΣ ΜΗΤΣΙΜΠΟΝΑΣ 1975 Σ.Δ.ΤΡΙΚΑΛΩΝ 3:05:43.566\n25 \, 24 \, 11 M18-39 Male 301 ΓΕΩΡΓΙΟΣ ΖΗΣΗΣ 1977 3:06:40.706\n26 \, 25 \, 12 M18-39 Male 265 ΔΗΜΗΤΡΗΣ ΝΙΚΟΛΑΟΥ 1983 JIMNY 3:06:50.410\n27 \, 26 \, 12 M40-49 Male 233 ΚΩΝΣΤΑΝΤΙΝΟΣ ΧΑΣΚΩΝΗΣ 1968 3:10:07.923\n28 \, 27 \, 13 M40-49 Male 279 ΣΠΥΡΟΣ ΚΑΠΡΑΛΟΣ 1976 ΙΝΤΕΡ ΠΑΤΗΣΙΩΝ 3:10:14.320\n29 \, 28 \, 13 M18-39 Male 238 ΓΕΩΡΓΙΟΣ ΣΙΩΤΗΣ 1982 Α.Σ.ΑΘΛΟΣ ΚΙΛΚΙΣ 3:10:35.346\n30 \, 29 \, 14 M18-39 Male 259 ΦΩΤΗΣ ΠΑΝΑΓΟΣ 1992 Σ.Δ. ΑΡΤΑΣ 3:11:16.590\n31 \, 2 \, 1\nF40-49 Female 269 ΜΑΡΙΑ ΤΖΙΟΒΑΡΑ 1970 3:12:00.253\n32 \, 3 \, 2 F40-49 Female 255 ΔΑΜΑΣΚΗΝΗ ΧΕΙΛΗ 1969 Γ.Σ.Ν.ΚΑΛΛΙΚΡΑΤΕΙΑΣ ”ΑΝΑTASIS” 3:13:52.056\n33 \, 30 \, 14 M40-49 Male 309 ΠΑΝΑΓΙΩΤΗΣ ΛΑΙΜΟΔΑΙΤΗΣ 1971 3:14:01.603\n34 \, 31 \, 15 M40-49 Male 237 ΠΑΝΑΓΙΩΤΗΣ ΛΙΟΝΤΟΣ 1968 – 3:16:05.850\n35 \, 32 \, 15 M18-39 Male 289 ΣΠΥΡΙΔΩΝ ΠΑΤΣΙΑΣ 1980 3:18:11.970\n36 \, 33 \, 16 M18-39 Male 288 ΙΩΑΝΝΗΣ ΝΤΟΥΦΑΣ 1980 3:18:12.170\n37 \, 4 \, 1\nF50+ Female 206 ΑΡΙΣΤΕΑ ΝΙΚΟΛΟΠΟΥΛΟΥ 1962 TECNICA 3:18:46.140\n38 \, 34 \, 17 M18-39 Male 299 ΑΛΕΞΑΝΔΡΟΣ ΜΠΕΛΛΟΣ – 3:19:10.100\n39 \, 35 \, 18 M18-39 Male 306 ΜΑΡΙΟΣ ΚΩΤΣΗΣ 1978 3:22:02.603\n40 \, 36 \, 19 M18-39 Male 271 XΡΗΣΤΟΣ BΑΣΔΕΚΗΣ 1982 3:22:02.716\n41 \, 37 \, 3 M50+ Male 212 ΣΤΑΥΡΟΣ ΚΑΤΣΑΡΩΝΑΣ 1965 KOURKOURIKIS TRAINING GROUP 3:22:40.863\n42 \, 38 \, 20 M18-39 Male 252 ΑΓΓΕΛΟΣ ΑΜΑΝΑΤΙΔΗΣ 1994 ΣΎΛΛΟΓΟΣ ΔΡΟΜΈΩΝ ΥΓΕΊΑΣ ΚΙΛΚΊΣ 3:22:41.193\n43 \, 39 \, 16 M40-49 Male 254 ΙΩΑΝΝΗΣ ΜΠΑΚΝΗΣ 1967 Γ.Σ.Ν.ΚΑΛΛΙΚΡΑΤΕΙΑΣ ”ΑΝΑTASIS” 3:27:27.090\n44 \, 40 \, 17 M40-49 Male 305 ΘΕΟΦΥΛΑΧΤΟΣ ΚΑΤΩΠΟΔΗΣ 1970 3:30:48.770\n45 \, 41 \, 4 M50+ Male 250 ΣΤΕΛΙΟΣ ΔΕΛΟΓΛΟΥ 1962 ΣΔΥ ΚΙΛΚΙΣ 3:34:01.476\n46 \, 42 \, 21 M18-39 Male 262 ΑΠΟΣΤΟΛΟΣ ΠΑΠΑΡΓΥΡΙΟΥ 1986 3:34:26.336\n47 \, 43 \, 22 M18-39 Male 207 ΧΡΗΣΤΟΣ ΡΙΖΟΣ 1978 ΔΡΟΜΕΙΣ ΑΡΤΑΣ DIELLAS 3:38:19.173\n48 \, 44 \, 23 M18-39 Male 283 ΔΗΜΗΤΡΙΟΣ ΜΠΑΤΖΙΟΣ 1990 DRAGONBALL 3:45:10.096\n49 \, 45 \, 5 M50+ Male 303 ΣΤΕΦΑΝΟΣ ΤΣΙΤΣΙΜΠΑΣΗΣ 1966 3:46:52.430\n50 \, 46 \, 18 M40-49 Male 292 ΜΑΝΟΣ ΒΕΡΝΙΚΟΣ 1975 3:49:13.216\n51 \, 47 \, 24 M18-39 Male 263 IOANNIS SAKELLARIS 1987 ΤΡΑΧΊΝΑ 3:49:44.766\n52 \, 5 \, 2 F18-39 Female 239 AGGELIKI KAGKARA 1982 ΤΡΑΧΙΝΑ 3:51:41.940\n53 \, 48 \, 25 M18-39 Male 256 ΒΑΣΙΛΕΙΟΣ ΖΗΣΗΣ 1982 3:51:47.530\n54 \, 49 \, 6 M50+ Male 281 ΚΩΝΣΤΑΝΤΙΝΟΣ ΡΑΧΙΩΤΗΣ 1964 ΑΡΙΑΔΝΗ 3:53:54.770\n55 \, 6 \, 2 F50+ Female 201 ΕΛΠΙΔΑ ΓΙΩΤΗ 1963 ARTA DANCE STUDIO 3:54:03.370\n56 \, 50 \, 26 M18-39 Male 215 ΑΥΓΟΥΣΤΙΝΟΣ ΠΑΡΑΣΥΡΗΣ 1979 ΑΕΚΑΡΑ 3:58:54.860\n57 \, 51 \, 7 M50+ Male 308 ΓΙΑΝΝΗΣ ΑΝΤΥΠΑΣ 1965 4:03:09.603\n58 \, 52 \, 19 M40-49 Male 243 ΑΛΕΞΑΝΔΡΟΣ ΜΙΛΙΛΗΣ 1974 URBAN TRAIL RUNNERS 4:05:03.490\n59 \, 53 \, 27 M18-39 Male 264 PANAGIOTIS SAKELLARIS 1985 ΤΡΑΧΙΝΑ 4:08:14.636\n60 \, 54 \, 8 M50+ Male 228 ΝΙΚΟΛΑΟΣ ΡΕΜΜΑΣ 1966 Σ Δ ΤΡΙΚΑΛΩΝ 4:14:43.210\n61 \, 55 \, 28 M18-39 Male 287 ΒΑΣΙΛΕΙΟΣ ΧΡΟΝΗΣ 1979 “ΦΥΣΙΟΛΑΤΡΙΚΌΣ ΣΎΛΛΟΓΟΣ “”ΚΟΥΛΆΚΗΣ ΠΊΧΤΟΣ””” 4:17:10.600\n62 \, 56 \, 20 M40-49 Male 231 ΚΩΝΣΤΑΝΤΙΝΟΣ ΖΑΧΟΣ 1976 ΣΥΛΛΟΓΟΣ ΔΡΟΜΕΩΝ ΥΓΕΙΑΣ ΗΡΑΚΛΕΙΟΥ 4:17:29.760\n63 \, 57 \, 21 M40-49 Male 242 ΝΙΚΟΣ ΓΙΑΝΝΑΚΗΣ 1970 “Α.Σ.ΑΥΤΟΑΜΥΝΑΣ””Η ΛΕΓΕΩΝΑ””” 4:22:12.593\n64 \, 58 \, 9 M50+ Male 278 ΜΙΧΑΛΗΣ ΜΠΟΝΗΣ 1958 ΙΝΤΕΡ ΠΑΤΗΣΙΩΝ 4:24:23.010\n65 \, 7 \, 3 F50+ Female 272 ΣΤΕΛΛΑ ΜΥΛΩΝΟΠΟΥΛΟΥ 1965 4:38:15.333\n66 \, 59 \, 22 M40-49 Male 285 ΚΩΝ\ΝΟΣ ΑΛΕΞΙΟΥ 1972 ΔΡΟΜΕΙΣ ΑΡΤΑΣ 4:38:15.663\n67 \, 8 \, 4 F50+ Female 246 ΝΑΥΣΙΚΑ ΣΤΟΥΜΠΟΥ 1966 ΣΔΥΠ/SKY WOMEN RUNNING TEAM 4:38:16.433\n68 \, 60 \, 10 M50+ Male 220 KOSTAS PETALAS 1946 4:46:56.016\n69 \, 61 \, 11 M50+ Male 277 ΓΕΩΡΓΙΟΣ ΕΛΕΥΘΕΡΙΑΔΗΣ 1953 ΣΔΥ ΔΡΆΜΑΣ 4:50:01.080 \n10 χιλιόμετρα \nRank\nGen-Sex-Cat Category Gender BIB Name YOB Club FINISH10KM\n1 \, 1 \,1\nM18-39 Male 155 ΔΗΜΗΤΡΗΣ ΜΑΝΙΚΑΣ 1993 0:53:33.483\n2 \, 2 \, 2 M18-39 Male 138 ΚΩΝΣΤΑΝΤΙΝΟΣ ΜΠΑΡΜΠΟΥΤΗΣ 1990 ΔΡΟΜΕΙΣ ΑΡΤΑΣ- DIELLAS 0:54:30.523\n3 \, 3 \, 3 M18-39 Male 101 ΙΩΑΝΝΗΣ ΚΑΡΑΓΕΩΡΓΟΣ 1985 ΔΡΟΜΕΙΣ ΑΡΤΑΣ-DIELLAS 0:55:15.420\n4 \, 4 \, 1\nNC Male 146 ΔΗΜΗΤΡΙΟΣ ΚΩΤΟΥΛΑΣ – 0:56:59.560\n5 \, 5 \, 4 M18-39 Male 132 ΔΗΜΗΤΡΙΟΣ ΤΑΤΣΗΣ 2000 ΑΘΛΟΣ ΑΡΤΑΣ 0:58:12.926\n6 \, 6 \, 2 NC Male 147 ΣΩΚΡΑΤΗΣ ΝΤΑΚΑΛΕΤΣΗΣ – 0:58:51.286\n7 \, 7 \, 1\nM40-49 Male 141 ΚΩΝΣΤΑΝΤΙΝΟΣ ΓΚΑΒΑΓΙΑΣ 1973 1:01:03.470\n8 \, 8 \, 2 M40-49 Male 124 ΜΙΧΑΛΗΣ ΣΙΛΙΟΓΚΑΣ 1969 ΣΕΒΑΣ(ΣΥΛΛΟΓΟΣ ΕΛΛΗΝΩΝ ΒΕΤΕΡΑΝΩΝ ΑΘΛΗΤΩΝ ΣΤΙΒΟΥ) 1:01:49.973\n9 \, 9 \, 5 M18-39 Male 156 ΑΙΜΙΛΙΟΣ ΓΟΥΛΑΣ 1995 1:02:08.246\n10 \, 10 \, 3 M40-49 Male 119 ΦΩΤΗΣ ΜΑΚΡΗΣ 1972 Σ.Δ.ΑΡΤΑΣ 1:06:13.853\n11 \, 11 \, 6 M18-39 Male 131 ΠΟΛΥΒΙΟΣ ΤΑΤΣΗΣ 1998 ΑΘΛΟΣ ΑΡΤΑΣ 1:07:49.176\n12 \, 12 \, 7 M18-39 Male 139 ΚΩΝΣΤΑΝΤΙΝΟΣ ΝΤΟΥΛΑΣ 1979 1:08:21.213\n13 \, 13 \, 1\nF18-39 Male 161 ΓΙΩΡΓΟΣ ΤΡΙΑΝΤΑΦΥΛΛΟΣ 1988 1:11:01.603\n14 \, 14 \, 8 M18-39 Male 150 ΓΙΑΝΝΗΣ ΤΣΙΡΟΓΙΑΝΝΗΣ 2002 1:11:54.230\n15 \, 15 \, 1\nM50+ Male 142 ΛΑΜΠΡΟΣ ΠΑΝΑΓΟΣ 1964 ΣΥΛΛΟΓΟΣ ΒΕΤΕΡΑΝΩΝ ΑΡΤΑΣ 1:12:16.263\n16 \, 16 \, 4 M40-49 Male 130 ΒΥΡΩΝ ΓΙΟΝΤΖΗΣ 1975 Σ.Δ. ΤΡΙΚΑΛΩΝ 1:12:36.723\n17 \, 17 \, 9 M18-39 Male 151 ΓΕΩΡΓΙΟΣ ΣΚΟΝΔΡΑΣ 1994 1:12:49.360\n18 \, 18 \, 10 M18-39 Male 118 ΓΕΩΡΓΙΟΣ ΣΠΗΛΙΩΤΟΠΟΥΛΟΣ 1977 JIMNY 1:12:50.350\n19 \, 19 \, 11 M18-39 Male 121 ΕΥΣΤΑΘΙΟΣ ΧΟΛΕΒΑΣ 1979 1:14:16.200\n20 \, 20 \, 12 M18-39 Male 113 ΓΙΑΝΝΗΣ ΓΟΥΛΟΠΟΥΛΟΣ 1978 Σ.Δ.ΤΡΙΚΑΛΩΝ – HERBALIFE 1:16:08.936\n21 \, 21 \, 2 M50+ Male 109 ΔΗΜΗΤΡΗΣ ΚΟΡΑΚΑΣ 1966 ΠΑΣ ΓΙΑΝΝΙΝΑ ΚΟΛΥΜΒΗΣΗ 1:16:43.533\n22 \, 22 \, 5 M40-49 Male 123 ΚΩΝΣΤΑΝΤΙΝΟΣ ΚΟΤΣΙΑΝΗΣ 1973 1:16:56.550\n23 \, 1 \,1\nF40-49 Female 163 ΑΡΕΤΗ ΑΓΓΕΛΗ 1970 ΣΥΛΛΟΓΟΣ ΔΡΟΜΕΩΝ ΙΩΑΝΝΙΝΩΝ 1:17:02.603\n24 \, 2 \, 3 M50+ Female 160 ΠΑΝΑΓΙΩΤΑ ΤΣΑΝΕΛΗ 1965 1:20:29.603\n25 \, 23 \, 4 M50+ Male 140 ΚΩΝΣΤΑΝΤΙΝΟΣ ΜΠΟΥΜΠΑΣ 1963 ΑΘΛΗΤΙΚΟΣ ΟΜΙΛΟΣ ΜΕΤΣΟΒΟΥ 1:20:30.436\n26 \, 24 \, 5 M50+ Male 157 ΚΥΡΙΑΚΟΣ ΓΚΟΩΑΣ 1966 1:21:50.640\n27 \, 3 \, 2 F40-49 Female 244 ΧΡΥΣΑ ΞΥΓΓΗ 1967 RUNNER STORE TRAIL TEAM 1:29:38.603\n28 \, 4 \, 2 F18-39 Female 107 ΘΕΟΔΩΡΑ ΤΣΙΟΛΗ 1980 ΑΓΕΛΑΟΣ Γ.Α.Σ.ΝΑΥΠΑΚΤΙΑΣ 1:37:29.616\n29 \, 25 \, 6 M40-49 Male 108 ΣΩΤΗΡΗΣ ΜΑΚΡΗΣ 1970 ΕΘΝΙΚΌΣ ΑΛΕΞΑΝΔΡΟΥΠΟΛΗΣ 1:39:41.353\n30 \, 26 \, 13 M18-39 Male 153 ΔΗΜΗΤΡΗΣ ΒΑΣΙΟΣ 2005 1:49:14.080\n31 \, 27 \, 1\nMale 164 ΦΩΤΙΟΣ ΚΑΖΙΑΝΗΣ – 1:49:14.603\n32 \, 28 \, 14 M18-39 Male 149 ΠΑΝΑΓΙΩΤΗΣ ΝΤΖΙΟΥΝΗΣ 2005 1:57:58.603\n33 \, 5 \, 3 F40-49 Female 120 ΕΥΑΓΓΕΛΙΑ ΘΕΟΔΩΡΟΥ 1969 1:57:58.750\n34 \, 6 \, 3 F18-39 Female 162 ΕΛΕΥΘΕΡΙΑ ΕΛΕΥΘΕΡΙΑΔΟΥ 1984 1:58:00.603\n35 \, 29 \, 6 M50+ Male 152 ΠΑΝΑΓΙΩΤΗΣ ΚΟΣΣΥΒΑΚΗΣ 1961 2:04:07.953\n36 \, 30 \, 3 NC Male 158 ΡΟΖΑΛΙ ΣΥΜΕΩΝΙΔΟΥ – 2:46:23.463
URL:https://gorun.gr/race/3%ce%bf%cf%82-%ce%b1%ce%b3%cf%8e%ce%bd%ce%b1%cf%82-%ce%bf%cf%81%ce%b5%ce%b9%ce%bd%ce%bf%cf%8d-%cf%84%cf%81%ce%b5%ce%be%ce%af%ce%bc%ce%b1%cf%84%ce%bf%cf%82-%cf%83%cf%84%ce%b7%ce%bd-%cf%83%ce%ba%ce%b9/
CATEGORIES:Αποτελέσματα,Βουνό
END:VEVENT
END:VCALENDAR