BEGIN:VCALENDAR
VERSION:2.0
PRODID:-//goRUN - ECPv5.8.1//NONSGML v1.0//EN
CALSCALE:GREGORIAN
METHOD:PUBLISH
X-WR-CALNAME:goRUN
X-ORIGINAL-URL:https://gorun.gr
X-WR-CALDESC:Events for goRUN
BEGIN:VTIMEZONE
TZID:Europe/Athens
BEGIN:DAYLIGHT
TZOFFSETFROM:+0200
TZOFFSETTO:+0300
TZNAME:EEST
DTSTART:20160327T010000
END:DAYLIGHT
BEGIN:STANDARD
TZOFFSETFROM:+0300
TZOFFSETTO:+0200
TZNAME:EET
DTSTART:20161030T010000
END:STANDARD
END:VTIMEZONE
BEGIN:VEVENT
DTSTART;VALUE=DATE:20160827
DTEND;VALUE=DATE:20160828
DTSTAMP:20260424T165951
CREATED:20160530T220526Z
LAST-MODIFIED:20160901T200228Z
UID:7700-1472256000-1472342399@gorun.gr
SUMMARY:3ος Δρόμος Αλληλεγγύης Ενορίας Αγίου Χαραλάμπους Κατερίνης 2016
DESCRIPTION:1 ΓΡΑΜΜΕΝΟΣ ΠΑΝΑΓΙΩΤΗΣ ΖΕΥΣ ΠΙΕΡΙΑΣ 16.34\n2 ΜΠΑΝΤΖΕΛΑΣ ΓΙΩΡΓΟΣ ΟΛΥΜΠΙΟΙ ΔΡΟΜΕΙΣ ΛΕΠΤΟΚΑΡΥΑΣ 16.58\n3 ΜΠΙΚΟΓΙΑΝΝΗΣ ΓΙΑΝΝΗΣ ΝΑΥΤΙΚΟΣ ΟΜΙΛΟΣ ΚΑΤΕΡΙΝΗΣ 17.33\n4 ΣΤΟ’Ι’ΚΟΣ ΜΙΛΤΙΑΔΗΣ ΑΝΕΞΑΡΤΗΤΟΣ 17.35\n5 ΚΟΥΤΣΙΩΤΑΣ ΓΙΩΡΓΟΣ ΖΕΥΣ ΠΙΕΡΙΑΣ 18.17\n6 ΡΟΒΥΘΑΚΗΣ ΑΝΑΣΤΑΣΙΟΣ ΣΔΥ ΚΟΖΑΝΓΗΣ 18.37\n7 ΝΤΑΒΗ ΚΩΝΣΤΑΝΤΙΝΟΣ ΑΝΕΞΑΡΤΗΤΟΣ 18.38\n8 ΠΕΡΠΕΡΙΔΗΣ ΘΕΟΔΩΡΟΣ ΟΜΓ 18.40\n9 ΑΠΟΣΤΟΛΙΔΗΣ ΔΗΜΗΤΡΗΣ ΕΝ ΣΩΜΑΤΙ ΥΓΙΕΙ – ΣΔ ΒΕΡΟΙΑΣ 18.53\n10 ΑΡΓΥΡΟΠΟΥΛΟΣ ΑΠΟΣΤΟΛΟΣ ΟΡΕΙΒΑΤΙΚΟΣ ΣΥΛΛΟΓΟΣ ΑΙΓΙΝΙΟΥ 19.01\n11 ΜΑΝΤΖΟΥ ΝΙΚΟΣ ΣΥΛΛ. ΛΙΒΑΔΙΩΤΩΝ ΚΑΤΕΡΙΝΗΣ 19.43\n12 ΠΑΠΑΔΟΠΟΥΛΟΣ ΕΥΑΓΓΕΛΟΣ ΑLMIRA MAN 19.45\n13 ΝΙΚΟΛΑΙΔΗΣ ΜΙΧΑΛΗΣ ΑΝΕΞΑΡΤΗΤΟΣ 19.47\n14 ΝΙΚΟΛΑΙΔΟΥ ΚΑΤΕΡΙΝΑ ΝΟΚ 19.53\n15 ΤΣΑΡΟΥΧΑΣ ΦΩΤΗΣ ΟΛΥΜΠΙΟΙ ΔΡΟΜΕΙΣ ΛΕΠΤΟΚΑΡΥΑΣ 19.57\n16 ΝΙΚΟΛΑ’Ι’ΔΗΣ ΠΑΡΗΣ ΑΝΕΞΑΡΤΗΤΟΣ 20.00\n17 ΤΣΕΤΣΙΛΑΣ ΚΩΝΣΤΑΝΤΙΝΟΣ ΖΕΥΣ ΠΙΕΡΙΑΣ 20.03\n18 ΘΩΜΑΙΔΗΣ ΓΙΩΡΓΟΣ ΑΝΕΞΑΡΤΗΤΟΣ 20.15\n19 ΚΑΣΑΝΙΔΟΥ ΑΓΓΕΛΙΚΗ ΑΝΕΞΑΡΤΗΤΟΣ 20.22\n20 ΜΙΧΑΗΛΟΓΛΟΥ ΔΑΜΙΑΝΟΣ ΑΝΕΞΑΡΤΗΤΟΣ 20.24\n21 ΣΑΡΑΝΤΙΔΗΣ ΜΑΡΙΝΟΣ ΦΥΣΙΟΛΑΤΡΙΚΟΣ ΟΡΕΙΒΑΤΙΚΟΣ ΟΜΙΛΟΣ ΚΟΥΦΑΛΙΩΝ 20.38\n22 ΤΖΙΛΙΑΣ ΑΡΙΣΤΟΤΕΛΗΣ ΣΔΥ ΚΟΖΑΝΗΣ 20.49\n23 ΚΑΡΑΦΟΥΛΙΔΗΣ ΔΗΜΗΤΡΙΟΣ ΑΝΕΞΑΡΤΗΤΟΣ 20.54\n24 ΣΟΥΛΟΒΙΚΑΣ ΔΗΜΗΤΡΗΣ ΖΕΥΣ ΠΙΕΡΙΑΣ 21.00\n25 ΦΕΝΕΡΙΔΗΣ ΑΝΑΣΤΑΣΙΟΣ ΑΝΕΞΑΡΤΗΤΟΣ 21.14\n26 ΣΟΥΛΙΩΤΟΥ ΑΛΕΞΑΝΔΡΑ ΖΕΥΣ ΠΙΕΡΙΑΣ 21.21\n27 ΠΕΤΡΟΠΟΥΛΟΣ ΔΗΜΗΤΡΙΟΣ ΑΝΕΞΑΡΤΗΤΟΣ 21.27\n28 ΚΑΡΑΣΑΒΒΙΔΗΣ ΑΝΑΣΤΑΣΙΟΣ ΑΝΕΞΑΡΤΗΤΟΣ 21.31\n29 ΒΑΡΜΑΖΗΣ ΑΝΤΩΝΗΣ ΑΝΕΞΑΡΤΗΤΟΣ 21.37\n30 ΠΑΠΑΔΟΠΟΥΛΟΣ ΒΑΣΙΛΗΣ ΑΝΕΞΑΡΤΗΤΟΣ 21.54\n31 ΚΑΠΕΤΗΣ ΕΥΑΓΓΕΛΟΣ ΑΝΕΞΑΡΤΗΤΟΣ 21.57\n32 ΑΓΑΘΑΓΓΕΛΙΔΟΥ ΑΓΓΕΛΙΚΗ ΖΕΥΣ ΠΙΕΡΙΑΣ 22.31\n33 ΛΑΖΑΡΙΔΟΥ ΠΑΡΘΕΝΑ ΑΝΕΞΑΡΤΗΤΟΣ 22.37\n34 ΛΑΒΑΣΑΣ ΚΥΡΙΑΚΟΣ ΑΝΕΞΑΡΤΗΤΟΣ 22.37\n35 ΑΝΑΓΝΩΣΤΟΠΟΥΛΟΣ ΕΥΑΓΓΕΛΟΣ ΖΕΥΣ ΠΙΕΡΙΑΣ 22.37\n36 ΝΙΚΟΛΑΙΔΗΣ ΝΙΚΟΣ ΑΝΕΞΑΡΤΗΤΟΣ 22.39\n37 ΚΩΣΤΑ ΕΛΕΝΗ ΖΕΥΣ ΠΙΕΡΙΑΣ 22.55\n38 ΜΠΙΝΤΑΣ ΙΩΑΝΝΗΣ ΑΝΕΞΑΡΤΗΤΟΣ 23.04\n39 ΜΠΕΛΛΟΣ ΓΙΩΡΓΟΣ ΑΝΕΞΑΡΤΗΤΟΣ 23.10\n40 ΛΑΛΑΣ ΜΑΡΙΟΣ ΑΝΕΞΑΡΤΗΤΟΣ 23.13\n41 ΚΟΚΚΙΝΟΣ ΣΤΕΦΑΝΟΣ ΣΥΛΛΟΓΟΣ ΔΡΟΜΕΩΝ ΚΑΡΔΙΤΣΑΣ 23.17\n42 ΤΣΑΚΟΣ ΚΩΝΣΤΑΝΤΙΝΟΣ ΑΝΕΞΑΡΤΗΤΟΣ 23.25\n43 ΤΟΛΙΟΣ ΔΗΜΗΤΡΗΣ ΖΕΥΣ ΠΙΕΡΙΑΣ 23.30\n44 ΣΑΡΗΓΙΑΝΝΙΔΗΣ ΝΕΟΚΛΗΣ ΑΝΕΞΑΡΤΗΤΟΣ 23.35\n45 ΔΟΥΡΜΟΥΣΗΣ ΧΡΗΣΤΟΣ ΑΝΕΞΑΡΤΗΤΟΣ 23.40\n46 ΚΑΤΣΙΟΥΛΑΣ ΖΗΣΗΣ ΟΛΥΜΠΙΟΙ ΔΡΟΜΕΙΣ ΛΕΠΤΟΚΑΡΥΑΣ 23.41\n47 ΠΑΠΑΔΟΠΟΥΛΟΥ ΠΑΡΘΕΝΑ ΑΝΕΞΑΡΤΗΤΟΣ 23.45\n48 ΛΑΜΠΡΟΥ ΓΙΩΡΓΟΣ ΠΟΔΗΛΑΤΕΣ ΔΡΟΜΟΥ ΠΙΕΡΙΑΣ 23.47\n49 ΜΙΧΑΛΙΤΣΙΟΣ ΒΑΣΙΛΕΙΟΣ ΑΝΕΞΑΡΤΗΤΟΣ 23.49\n50 ΜΑΥΡΙΔΟΥ ΔΗΜΗΤΡΑ ΑΝΕΞΑΡΤΗΤΗ 23.51\n51 ΤΣΙΤΣΟΣ ΝΙΚΟΛΑΟΣ ΟΜΓ 23.52\n52 ΤΣΙΤΣΟΣ ΘΩΜΑΣ Γ.Π.Σ. ΚΑΛΛΙΠΟΛΗΣ 23.53\n53 ΠΕΤΡΙΔΗΣ ΣΠΥΡΟΣ ΑΝΕΞΑΡΤΗΤΟΣ 24.05\n54 ΣΚΡΑΠΑΛΗ ΦΩΤΕΙΝΗ ΑΝΕΞΑΡΤΗΤΗ 24.07\n55 ΓΚΟΥΤΖΑΣ ΚΩΝΣΤΑΝΤΙΝΟΣ ΑΝΕΞΑΡΤΗΤΟΣ 24.10\n56 ΑΜΑΝΑΤΙΔΗΣ ΓΙΩΡΓΟΣ ΖΕΥΣ ΠΙΕΡΙΑΣ 24.18\n57 ΚΑΛΑ’Ι΄ΤΖΗΣ ΓΕΩΡΓΙΟΣ ΑΝΕΞΑΡΤΗΤΟΣ 24.19\n58 ΜΠΙΝΙΑΣ ΛΕΥΤΕΡΗΣ ΑΝΕΞΑΡΤΗΤΟΣ 24.25\n59 ΖΑΠΟΥΝΙΔΗΣ ΧΡΗΤΣΟΣ ΑΝΕΞΑΡΤΗΤΟΣ 24.26\n60 ΑΠΡΑΣΙΔΟΥ ΑΝΘΗ ΑΝΕΞΑΡΤΗΤΗ 24.43\n61 ΓΡΗΓΟΡΙΑΔΗΣ ΑΛΕΞΑΝΔΡΟΣ ΑΝΕΞΑΡΤΗΤΟΣ 24.44\n62 ΛΙΛΙΟΣ ΝΙΚΟΣ ΑΝΕΞΑΡΤΗΤΟΣ 24.50\n63 ΚΑΤΕΛΑΣ ΕΥΑΓΓΕΛΟΣ ΑΝΕΞΑΡΤΗΤΟΣ 24.55\n64 ΟΝΟΡΙΟ ΛΟΥΗΣ ΑΝΕΞΑΡΤΗΤΟΣ 24.57\n65 ΚΕΡΑΜΙΤΣΗΣ ΣΤΑΥΡΟΣ ΑΝΕΞΑΡΤΗΤΟΣ 25.14\n66 ΛΑΛΑΣ ΝΕΚΤΑΡΙΟΣ ΑΝΕΞΑΡΤΗΤΟΣ 25.24\n67 ΙΩΑΝΝΙΔΗΣ ΘΕΟΛΟΓΟΣ ΑΝΕΞΑΡΤΗΤΟΣ 25.39\n68 ΝΙΚΟΛΑΙΔΗΣ ΑΡΗΣ ΑΝΕΞΑΡΤΗΤΟΣ 25.37\n69 ΜΑΤΑΤΗΣ ΘΩΜΑΣ ΣΔΥΘ 25.42\n70 ΓΡΗΓΟΡΙΑΔΗΣ ΚΩΝΣΤΑΝΤΙΝΟΣ ΑΝΕΞΑΡΤΗΤΟΣ 25.50\n71 ΚΥΒΕΛΙΔΗΣ ΙΩΑΝΝΗΣ ΡΑΧΗ ΠΙΕΡΙΑΣ 25.53\n72 ΣΙΔΗΡΟΠΟΥΛΟΥ ΡΟΔΗ ΑΝΕΞΑΡΤΗΤΗ 25.57\n73 ΠΑΠΑ’Ι’ΩΑΝΟΥ ΜΑΡΙΑ ΑΝΕΞΑΡΤΗΤΗ 26.00\n74 ΚΟΥΚΙΩΤΗΣ ΔΗΜΗΤΡΗΣ ΖΕΥΣ ΠΙΕΡΙΑΣ 26.07\n75 ΕΥΑΓΓΕΛΟΠΟΥΛΟΥ ΚΑΙΤΗ ΑΝΕΞΑΡΤΗΤΗ 26.10\n76 ΛΑΜΠΡΟΥ ΘΕΜΗΣ ΠΟΔΗΛΑΤΕΣ ΔΡΟΜΟΥ ΠΙΕΡΙΑΣ 26.14\n77 ΣΙΔΗΡΟΠΟΥΛΟΣ ΓΙΩΡΓΟΣ ΑΝΕΞΑΡΤΗΤΟΣ 26.22\n78 ΚΟΥΤΑΝΗΣ ΒΑΣΙΛΗΣ ΑΝΕΞΑΡΤΗΤΟΣ 26.27\n79 ΖΟΥΜΗ ΑΝΝΑ ΣΥΛΛΟΓΟΣ ΠΟΝΤΙΩΝ ΣΑΝΤΟΡΙΝΗΣ 26.30\n80 ΧΑΤΖΗΧΑΡΑΛΑΜΠΟΥΣ ΧΡΙΣΤΙΝΑ ΑΝΕΞΑΡΤΗΤΗ 26.42\n81 ΜΑΡΙΝΟΠΟΥΛΟΣ ΑΡΙΣΤΟΤΕΛΗΣ ΕΟΣ ΠΕΤΡΑΣ 26.53\n82 ΒΑΣΙΟΥΡΗΣ ΚΩΝΣΤΑΝΤΙΝΟΣ ΖΕΥΣ ΠΙΕΡΙΑΣ 26.54\n83 ΜΑΒΙΔΗΣ ΒΑΣΙΛΗΣ ΑΝΕΞΑΡΤΗΤΟΣ 27.00\n84 ΦΛΩΡΟΥ ΠΟΛΥΞΕΝΗ ΑΝΕΞΑΡΤΗΤΗ 27.01\n85 ΚΩΝΣΤΑΝΤΙΝΙΔΟΥ ΑΝΘΟΥΛΑ ΑΝΕΞΑΡΤΗΤΗ 27.02\n86 ΧΑΡΑΛΑΜΠΙΔΗΣ ΑΡΙΣΤΟΤΕΛΗΣ ΑΝΕΞΑΡΤΗΤΟΣ 27.09\n87 ΕΛΕΥΘΕΡΙΑΔΗΣ ΑΘΑΝΑΣΙΟΣ ΑΝΕΞΑΡΤΗΤΟΣ 27.10\n88 ΦΩΤΙΑΔΗΣ ΧΑΡΑΛΑΜΠΟΣ ΑΝΕΞΑΡΤΗΤΟΣ 27.11\n89 ΣΤΕΦΑΝΙΔΗΣ ΧΑΡΑΛΑΜΠΟΣ ΑΝΕΞΑΡΤΗΤΟΣ 27.12\n90 ΙΩΑΝΝΙΔΗΣ ΒΑΣΙΛΗΣ ΖΕΥΣ ΠΙΕΡΙΑΣ 27.13\n91 ΤΣΟΡΤΑΝΙΔΟΥΑΜΑΛΙΑ ΑΝΕΞΑΡΤΗΤΗ 27.14\n92 ΤΣΟΡΤΑΝΙΔΟΥ ΑΣΗΜΙΝΑ ΑΝΕΞΑΡΤΗΤΗ 27.19\n93 ΓΟΚΤΣΗΣ ΠΕΤΡΟΣ ΑΝΕΞΑΡΤΗΤΟΣ 27.22\n94 ΣΥΜΕΩΝΙΔΗΣ ΓΙΩΡΓΟΣ ΑΝΕΞΑΡΤΗΤΟΣ 27.27\n95 ΖΟΥΓΓΟΥΡΙΔΗΣ ΝΙΚΟΣ ΑΝΕΞΑΡΤΗΤΟΣ 27.32\n96 ΜΠΟΥΡΔΟΥΒΑΛΗ ΚΩΝΣΤΑΝΤΙΝΑ ΑΝΕΞΑΡΤΗΤΗ 27.37\n97 ΚΑΤΣΑΡΑ ΑΝΔΡΟΜΑΧΗ ΑΝΕΞΑΡΤΗΤΟΣ 27.38\n98 ΠΑΠΑΙΩΑΝΝΟΥ ΠΑΝΑΓΙΩΤΗΣ ΑΝΕΞΑΡΤΗΤΟΣ 27.40\n99 ΤΣΑΓΚΟΥΛΗ ΦΑΝΗ ΟΜΙΛΟΣ ΜΑΡΑΘΩΝΟΔΡΟΜΩΝ ΓΙΑΝΝΙΤΣΩΝ 27.41\n100 ΚΑΡΑΓΙΑΝΝΗΣ ΓΙΩΡΓΟΣ ΑΝΕΞΑΡΤΗΤΟΣ 27.42\n101 ΧΟΥΛΙΑΡΑΣ ΔΗΜΗΤΡΗΣ ΑΝΕΞΑΡΤΗΤΟΣ 27.43\n102 ΑΝΑΣΤΑΣΙΑΔΟΥ ΕΛΙΣΣΑΒΕΤ ΑΝΕΞΑΡΤΗΤΟΣ 27.44\n103 ΑΘΑΝΑΣΙΑΔΗΣ ΧΡΗΣΤΟΣ ΑΝΕΞΑΡΤΗΤΟΣ 27.45\n104 ΚΥΛΩΝΗΣ ΧΡΗΣΤΟΣ ΑΝΕΞΑΡΤΗΤΟΣ 27.50\n105 ΤΣΕΤΣΙΛΑΣ ΠΕΤΡΟΣ ΑΝΕΞΑΡΤΗΤΟΣ 27.52\n106 ΜΠΙΚΟΓΙΑΝΝΗΣ ΓΙΩΡΓΟΣ ΝΟΚ 27.54\n107 ΚΕΖΑΝΤΖΑΝΙΔΗΣ ΒΑΣΙΛΕΙΟΣ ΑΝΕΞΑΡΤΗΤΟΣ 28.10\n108 ΤΖΕΚΟΣ ΚΩΝΣΤΑΝΤΙΝΟΣ ΑΝΕΞΑΡΤΗΤΟΣ 28.12\n109 ΜΑΥΡΙΔΗΣ ΖΑΧΑΡΙΑΣ ΖΕΥΣ ΠΙΕΡΙΑΣ 28.14\n110 ΗΛΙΑΔΗΣ ΧΡΗΣΤΟΣ ΑΝΕΞΑΡΤΗΤΟΣ 28.25\n111 ΔΟΜΑΚΙΔΗΣ ΠΑΝΑΓΙΩΤΗΣ ΑΝΕΞΑΡΤΗΤΟΣ 28.32\n112 ΠΑΠΑΔΟΠΟΥΛΟΣ ΒΑΣΙΛΗΣ ΑΝΕΞΑΡΤΗΤΟΣ 28.33\n113 ΣΙΔΗΡΟΠΟΥΛΟΣ ΚΩΝΣΤΑΝΤΙΝΟΣ ΑΝΕΞΑΡΤΗΤΟΣ 28.34\n114 ΣΑΜΑΡΑΣ ΝΙΚΟΛΑΟΣ ΑΝΕΞΑΡΤΗΤΟΣ 28.45\n115 ΠΑΠΑΔΟΠΟΥΛΟΣ ΛΑΖΑΡΟΣ ΑΝΕΞΑΡΤΗΤΟΣ 28.48\n116 ΤΣΙΚΑΔΕΡΗΣ ΙΩΑΝΝΗΣ ΖΕΥΣ ΠΙΕΡΙΑΣ 28.49\n117 ΜΥΣΤΡΙΔΟΥ ΔΗΜΗΤΡΑ ΑΝΕΞΑΡΤΗΤΗ 29.00\n118 ΣΙΩΜΟΥ ΑΝΤΩΝΙΑ ΑΝΕΞΑΡΤΗΤΗ 29.05\n119 ΠΕΡΠΕΡΙΔΗΣ ΑΡΣΕΝΙΟΣ ΟΜΓ 29.07\n120 ΠΑΠΑΔΟΠΟΥΛΟΣ ΔΗΜΗΤΡΙΟΣ ΑΝΕΞΑΡΤΗΤΟΣ 29.10\n121 ΤΣΑΠΟΥΡΝΙΩΤΗΣ ΓΙΑΝΝΗΣ ΑΝΕΞΑΡΤΗΤΟΣ 29.11\n122 ΖΑΖΟΣ ΧΡΗΣΤΟΣ ΑΝΕΞΑΡΤΗΤΟΣ 29.34\n123 ΑΘΑΝΑΣΙΑΔΗΣ ΤΙΜΟΘΕΟΣ ΑΝΕΞΑΡΤΗΤΟΣ 29.35\n124 ΛΑΓΟΜΙΧΟΥ ΜΑΡΙΑ ΑΝΕΞΑΡΤΗΤΟΣ 29.36\n125 ΙΩΑΝΝΙΔΗΣ ΤΑΣΟΣ ΑΝΕΞΑΡΤΗΤΟΣ 29.37\n126 ΜΠΕΚΤΑ ΡΙΖΑ ΑΝΕΞΑΡΤΗΤΟΣ 29.38\n127 ΚΟΝΙΑΣ ΧΑΡΑΛΑΜΠΟΣ ΑΝΕΞΑΡΤΗΤΟΣ 29.45\n128 ΠΟΥΡΣΑΝΙΔΗΣ ΑΘΑΝΑΣΙΟΣ ΑΝΕΞΑΡΤΗΤΟΣ 29.46\n129 ΚΑΤΣΑΡΑ ΜΑΡΙΛΕΝΑ ΑΝΕΞΑΡΤΗΤΗ 29.47\n130 ΔΙΑΜΑΝΤΟΠΟΥΛΟΥ ΔΕΣΠΟΙΝΑ ΑΝΕΞΑΡΤΗΤΗ 29.52\n131 ΣΤΑΘΗ ΧΡΥΣΤΕΛΛΑ ΑΝΕΞΑΡΤΗΤΟΣ 29.55\n132 ΟΙΚΟΝΟΜΟΥ ΞΑΝΘΗ ΑΝΕΞΑΡΤΗΤΗ 29.57\n133 ΜΠΑΓΓΕΑΣ ΛΕΩΝΙΔΑΣ ΑΝΕΞΑΡΤΗΤΟΣ 30.00\n134 ΚΑΡΑΓΙΩΡΓΗΣ ΔΗΜΗΤΡΙΟΣ ΑΝΕΞΑΡΤΗΤΟΣ 30.01\n135 ΚΑΣΤΑΝΑΣ ΠΕΤΡΟΣ ΟΜΙΛΟΣ ΜΑΡΑΘΩΝΟΔΡΟΜΩΝ ΓΙΑΝΝΙΤΣΩΝ 30.18\n136 ΓΑ’Ι’ΤΑΝΗΣ ΔΙΟΝΥΣΗΣ ΖΕΥΣ ΠΙΕΡΙΑΣ 30.19\n137 ΤΣΑΝΙΔΗΣ ΣΤΑΘΗΣ ΑΝΕΞΑΡΤΗΤΟΣ 30.20\n138 ΠΑΣΑΛΙΔΗΣ ΔΗΜΗΤΡΙΟΣ ΑΝΕΞΑΡΤΗΤΟΣ 30.21\n139 ΤΟΝΑ ΙΩΑΝΝΑ ΑΝΕΞΑΡΤΗΤΗ 30.22\n140 ΣΥΜΕΩΝΙΔΗΣ ΝΙΚΟΣ ΑΝΕΞΑΡΤΗΤΟΣ 30.23\n141 ΚΩΣΤΟΠΟΥΛΟΣ ΑΘΑΝΑΣΙΟΣ ΟΛΥΜΠΙΟΙ ΔΡΟΜΕΙΣ ΛΕΠΤΟΚΑΡΥΑΣ 30.24\n142 ΘΩΜΑΙΔΗΣ ΓΙΑΝΝΗΣ ΣΥΛΛΟΓΟΣ ΔΡΟΜΕΩΝ ΒΕΡΟΙΑΣ 30.25\n143 ΠΟΛΥΧΡΟΝΙΑΔΗΣ ΓΕΩΡΓΙΟΣ ΑΝΕΞΑΡΤΗΤΟΣ 30.26\n144 ΜΑΚΡΥΔΑΚΗΣ ΔΗΜΗΤΡΗΣ ΑΝΕΞΑΡΤΗΤΟΣ 30.27\n145 ΡΑΚΟΠΟΥΛΟΣ ΗΛΙΑΣ ΑΝΕΞΑΡΤΗΤΟΣ 30.28\n146 ΣΟΦΙΑΝΟΣ ΓΚΙΝΟΥ ΑΝΕΞΑΡΤΗΤΟΣ 30.29\n147 ΚΟΚΕΛΙΔΗΣ ΓΙΑΝΝΗΣ ΑΝΕΞΑΡΤΗΤΟΣ 30.30\n148 ΠΑΝΤΕΛΙΑΔΟΥ ΦΡΕΙΔΕΡΙΚΗ ΑΝΕΞΑΡΤΗΤΟΣ 30.45\n149 ΑΝΑΣΤΑΣΙΟΣ ΑΜΠΑΤΖΙΔΗΣ ΑΝΕΞΑΡΤΗΤΟΣ 30.47\n150 ΑΠΟΣΤΟΛΙΔΗΣ ΚΙΜΩΝΑΣ ΑΝΕΞΑΡΤΗΤΟΣ 30.52\n151 ΤΣΕΝΕΚΙΔΟΥ ΜΑΡΙΑ ΑΝΕΞΑΡΤΗΤΗ 31.05\n152 ΜΑΊ΄ΜΑΡΗΣ ΜΑΝΩΛΗΣ ΑΝΕΞΑΡΤΗΤΟΣ 31.07\n153 ΑΛΕΞΙΑΔΗΣ ΓΙΩΡΓΟΣ ΑΝΕΞΑΡΤΗΤΟΣ 31.08\n154 ΜΠΕΛΛΟΣ ΕΥΘΥΜΙΟΣ ΣΔΘ ΚΟΖΑΝΗΣ 32.00\n155 ΑΠΡΑΣΙΔΗΣ ΣΠΥΡΟΣ ΑΝΕΞΑΡΤΗΤΟΣ 32.05\n156 ΣΟΦΙΑΝΙΔΗΣ ΝΙΚΟΛΑΟΣ ΑΝΕΞΑΡΤΗΤΟΣ 32.10\n157 ΕΛΕΥΘΕΡΙΑΔΟΥ ΣΩΤΗΡΙΑ ΑΝΕΞΑΡΤΗΤΗ 32.11\n158 ΚΑΛΠΑΚΙΔΗΣ ΓΕΩΡΓΙΟΣ ΑΝΕΞΑΡΤΗΤΟΣ 32.12\n159 ΠΑΠΑΡΑ ΕΥΓΕΝΙΑ ΖΕΥΣ ΠΙΕΡΙΑΣ 32.14\n160 ΑΛΕΞΑΝΟΒ ΣΤΕΦΑΝΟΣ ΑΝΕΞΑΡΤΗΤΟΣ 32.15\n161 ΚΩΝΣΤΑΝΤΙΝΙΔΟΥ ΜΑΡΘΑ ΑΝΕΞΑΡΤΗΤΗ 32.17\n162 ΠΟΥΛΙΟΣ ΑΠΟΣΤΟΛΟΣ ΑΝΕΞΑΡΤΗΤΟΣ 32.30\n163 ΓΡΗΓΟΡΙΑΔΗΣ ΙΩΑΝΝΗΣ ΑΝΕΞΑΡΤΗΤΟΣ 32.32\n164 ΚΙΟΥΡΤΖΙΔΟΥ ΒΙΚΤΩΡΙΑ ΑΝΕΞΑΡΤΗΤΗ 32.37\n165 ΣΙΔΗΡΟΠΟΥΛΟΣ ΛΑΖΑΡΟΣ ΑΝΕΞΑΡΤΗΤΟΣ 32.38\n166 ΑΡΜΕΤΖΟΥΔΗΣ ΣΙΔΕΡΗΣ ΑΝΕΞΑΡΤΗΤΟΣ 32.51\n167 ΓΙΑ’Ι΄ΤΣΙΔΗΣ ΒΑΣΙΛΗΣ ΑΝΕΞΑΡΤΗΤΟΣ 32.52\n168 ΣΤΥΛΟΥ ΠΑΝΑΓΙΩΤΑ ΑΝΕΞΑΡΤΗΤΟΣ 32.58\n169 ΝΙΚΟΛΑΙΔΗΣ ΔΗΜΗΤΡΙΟΣ ΑΝΕΞΑΡΤΗΤΟΣ 33.00\n170 ΣΤΥΛΟΣ ΓΕΩΡΓΙΟΣ ΑΝΕΞΑΡΤΗΤΟΣ 33.00\n171 ΓΚΙΩΝΗΣ ΕΛΕΥΘΕΡΙΟΣ ΑΝΕΞΑΡΤΗΤΟΣ 33.05\n172 ΔΕΛΑΒΕΡΙΔΗΣ ΓΕΩΡΓΙΟΣ ΑΝΕΞΑΡΤΗΤΟΣ 33.06\n173 ΣΙΔΗΡΟΠΟΥΛΟΥ ΕΛΕΝΗ ΑΝΕΞΑΡΤΗΤΗ 33.15\n174 ΚΑΛΠΑΚΙΔΗΣ ΔΑΜΙΑΝΟΣ ΑΝΕΞΑΡΤΗΤΟΣ 33.16\n175 ΜΠΑΜΠΑΛΗ ΜΑΡΙΑ ΣΥΛΛ. ΛΙΒΑΔΙΩΤΩΝ ΚΑΤΕΡΙΝΗΣ 33.17\n176 ΠΑΠΑΔΟΠΟΥΛΟΥ ΑΦΡΟΔΙΤΗ ΑΝΕΞΑΡΤΗΤΟΣ 33.18\n177 ΠΑΠΑΔΟΠΟΥΛΟΣ ΙΩΑΝΝΗΣ ΑΝΕΞΑΡΤΗΤΟΣ 33.19\n178 ΣΑΡΗΓΙΑΝΝΙΔΗΣ ΗΛΙΑΣ ΑΝΕΞΑΡΤΗΤΟΣ 33.23\n179 ΠΑΠΑΔΟΠΟΥΛΟΣ ΝΙΚΑΝΩΡ ΑΝΕΞΑΡΤΗΤΟΣ 33.24\n180 ΠΑΝΙΔΗΣ ΘΕΟΦΙΛΟΣ ΑΝΕΞΑΡΤΗΤΟΣ 33.30\n181 ΚΥΛΩΝΗΣ ΙΩΑΝΝΗΣ ΖΕΥΣ ΠΙΕΡΙΑΣ 33.34\n182 ΚΥΛΩΝΗΣ ΝΙΚΟΣ ΖΕΥΣ ΠΙΕΡΙΑΣ 33.36\n183 ΤΣΑΚΠΟΥΝΙΔΗΣ ΠΑΝΑΓΙΩΤΗΣ ΑΝΕΞΑΡΤΗΤΟΣ 33.40\n184 ΔΑΜΑΛΑΣ ΘΩΜΑΣ ΑΝΕΞΑΡΤΗΤΟΣ 33.42\n185 Ε’Ι’ΤΣΙΔΟΥ ΣΟΦΙΑ ΑΝΕΞΑΡΤΗΤΗ 34.00\n186 ΧΑΡΑΛΑΜΠΙΔΟΥ ΕΛΕΥΘΕΡΙΑ ΑΝΕΞΑΡΤΗΤΗ 34.01\n187 ΣΤΥΛΟΥ ΜΑΡΙΑ ΑΝΕΞΑΡΤΗΤΟΣ 34.02\n188 ΠΟΛΥΞΕΝΗ-ΤΖΕΝΗ ΔΗΜΤΣΑ ΟLYMPUS MARATHON TEAM 34.02\n189 ΓΡΗΓΟΡΙΑΔΗΣ ΧΑΡΑΛΑΜΠΟΣ ΑΝΕΞΑΡΤΗΤΟΣ 34.04\n190 ΑΡΑΒΙΔΟΥ ΕΛΕΝΗ ΑΝΕΞΑΡΤΗΤΗ 34.18\n191 ΑΡΑΒΙΔΗΣ ΑΡΙΣΤΕΙΔΗΣ ΑΝΕΞΑΡΤΗΤΟΣ 34.20\n192 ΦΥΤΟΠΟΥΛΟΣ ΘΩΜΑΣ ΑΝΕΞΑΡΤΗΤΟΣ 34.23\n193 ΚΟΚΕΛΙΔΗΣ ΧΑΡΑΛΑΜΠΗΣ ΕΝΟΡΙΑ ΑΓ. ΧΑΡΑΛΑΜΠΟΥΣ 34.44\n194 ΣΥΡΑΝΙΔΟΥ ΕΛΕΝΗ ΑΝΕΞΑΡΤΗΤΟΣ 34.45\n195 ΕΥΤΥΧΙΑ- ΕΛΕΝΗ ΣΚΑΜΠΑΡΔΩΝΗ ΑΝΕΞΑΡΤΗΤΗ 34.48\n196 ΚΑΡΑΣΑΒΒΙΔΗΣ ΑΝΕΞΑΡΤΗΤΟΣ 35.00\n197 ΝΑΤΣΙΟΥ ΜΑΡΙΑ ΑΝΕΞΑΡΤΗΤΟΣ 35.10\n198 ΧΑΡΑΛΑΜΠΙΔΗΣ ΣΑΒΒΑΣ ΑΝΕΞΑΡΤΗΤΟΣ 35.12\n199 ΤΡΙΑΝΤΑΦΥΛΛΟΥ ΧΡΙΣΤΙΝΑ ΑΝΕΞΑΡΤΗΤΗ 35.14\n200 ΤΟΡΤΟΠΙΔΟΥ ΜΑΡΙΑ ΑΝΕΞΑΡΤΗΤΗ 35.22\n201 ΒΑΣΙΟΥΡΗΣ ΑΝΕΣΤΗΣ ΑΝΕΞΑΡΤΗΤΟΣ 35.25\n202 ΔΕΣΟΙΝΙΑΔΟΥ ΚΑΤΕΡΙΝΑ ΑΝΕΞΑΡΤΗΤΗ 35.35\n203 ΚΑΡΑΣΑΡΙΔΗΣ ΚΩΣΤΑΣ ΑΝΕΞΑΡΤΗΤΟΣ 35.37\n204 ΤΣΟΡΤΑΝΙΔΗΣ ΧΡΗΣΤΟΣ ΑΝΕΞΑΡΤΗΤΟΣ 35.42\n205 ΤΣΟΡΤΑΝΙΔΗΣ ΔΗΜΗΤΡΙΟΣ ΑΝΕΞΑΡΤΗΤΟΣ 35.47\n206 ΚΑΡΑΘΑΝΑΣ ΑΘΑΝΑΣΙΟΣ ΑΝΕΞΑΡΤΗΤΟΣ 35.51\n207 ΜΟΣΧΙΔΟΥ ΔΕΣΠΟΙΝΑ ΑΝΕΞΑΡΤΗΤΗ 35.52\n208 ΑΜΠΑΤΖΙΔΗΣ ΝΙΚΟΛΑΟΣ ΑΝΕΞΑΡΤΗΤΟΣ 35.53\n209 ΘΩΜΟΠΟΥΛΟΥ ΑΝΑΣΤΑΣΙΑ ΑΝΕΞΑΡΤΗΤΗ 35.54\n210 ΚΟΛΟΘΑ ΝΑΤΑΛΙΑ ΑΝΕΞΑΡΤΗΤΗ 35.54\n211 ΓΙΑΝΝΙΚΗΣ ΜΙΧΑΛΗΣ ΑΝΕΞΑΡΤΗΤΟΣ 36.00\n212 ΠΑΠΑΔΟΠΟΥΛΟΥ ΓΙΩΤΑ ΑΝΕΞΑΡΤΗΤΗ 36.10\n213 ΤΣΑΟΥΣΙΔΗΣ ΓΕΩΡΓΙΟΣ ΑΝΕΞΑΡΤΗΤΟΣ 36.11\n214 ΚΩΣΤΑΜΠΙΤΣΗ ΕΛΕΝΗ ΑΝΕΞΑΡΤΗΤΗ 36.19\n215 ΕΛΜΑΛΙΩΤΗ ΓΕΩΡΓΙΑ ΑΝΕΞΑΡΤΗΤΗ 36.20\n216 ΤΕΛΙΟΓΛΑΝΙΔΟΥ ΤΡΥΓΩΝΑ ΑΝΕΞΑΡΤΗΤΟΣ 36.21\n217 ΠΑΠΑΔΟΠΟΥΛΟΣ ΔΗΜΗΤΡΙΟΣ ΑΝΕΞΑΡΤΗΤΟΣ 36.36\n218 ΤΣΑΟΥΣΙΔΟΥ ΑΝΑΣΤΑΣΙΑ ΑΝΕΞΑΡΤΗΤΗ 36.38\n219 ΚΟΥΡΙΝΙΩΤΗΣ ΓΡΗΓΟΡΙΟΣ ΑΝΕΞΑΡΤΗΤΟΣ 36.41\n220 ΚΟΥΡΙΝΙΩΤΗΣ ΔΙΟΝΥΣΙΟΣ ΑΝΕΞΑΡΤΗΤΟΣ 37.00\n221 ΦΥΤΟΠΟΥΛΟΣ ΠΑΝΤΕΛΗΣ ΑΝΕΞΑΡΤΗΤΟΣ 37.05\n222 ΜΠΑΤΣΙΟΥ ΜΗΝΑ ΑΝΕΞΑΡΤΗΤΗ 37.06\n223 ΤΣΙΜΑΠΙΤΗΣ ΛΑΖΑΡΟΣ ΑΝΕΞΑΡΤΗΤΟΣ 37.07\n224 ΠΑΝΙΔΗΣ ΓΙΩΡΓΟΣ ΑΝΕΞΑΡΤΗΤΟΣ 37.13\n225 ΠΟΥΡΣΑΝΙΔΟΥ ΕΛΕΝΗ ΑΝΕΞΑΡΤΗΤΗ 37.14\n226 ΤΣΑΚΑΣ ΑΓΓΕΛΟΣ ΕΝΟΡΙΑ ΑΓ. ΧΑΡΑΛΑΜΠΟΥΣ 37.17\n227 ΧΑΤΖΗΙΩΑΝΝΙΔΗΣ ΘΕΟΔΩΡΟΣ ΑΝΕΞΑΡΤΗΤΟΣ 37.24\n228 ΧΑΝΔΟΛΙΑ ΑΦΡΟΥΛΑ ΠΕΡΙΠΑΤΗΤΕΣ ΘΕΣΣΑΛΟΝΙΚΗΣ 37.29\n229 ΕΛΕΥΘΕΡΙΑΔΗΣ ΔΗΜΗΤΡΗΣ ΑΝΕΞΑΡΤΗΤΟΣ 37.42\n230 ΚΑΡΑΘΑΝΟΥ ΕΙΡΗΝΗ ΑΝΕΞΑΡΤΗΤΗ 37.53\n231 ΑΘΑΝΑΣΟΠΟΥΛΟΣ ΚΩΝΣΤΑΝΤΙΝΟΣ ΑΝΕΞΑΡΤΗΤΟΣ 37.54\n232 ΘΩΜΟΠΟΥΛΟΣ ΓΙΑΝΝΗΣ ΑΝΕΞΑΡΤΗΤΟΣ 37.55\n233 ΒΟΓΙΑΤΖΟΓΛΟΥ ΛΑΖΑΡΟΣ ΑΝΕΞΑΡΤΗΤΟΣ 37.56\n234 ΒΑΜΒΑΚΙΔΟΥ ΑΘΑΝΑΣΙΑ ΟΜΓ 37.57\n235 ΚΑΛΑΝΤΙΔΟΥ ΑΡΧΟΝΤΙΑ ΑΝΕΞΑΡΤΗΤΗ 38.00\n236 ΚΟΥΡΙΝΙΩΤΗΣ ΙΩΑΝΝΗΣ ΑΝΕΞΑΡΤΗΤΟΣ 38.03\n237 ΚΟΥΡΙΝΙΩΤΗ ΚΑΛΛΙΟΠΗ ΑΝΕΞΑΡΤΗΤΗ 38.04\n238 ΤΣΑΓΚΑΛΙΔΟΥ ΕΛΕΝΗ ΑΝΕΞΑΡΤΗΤΟΣ 38.05\n239 ΤΕΛΙΟΓΛΑΝΙΔΟΥ ΣΟΦΙΑ ΑΝΕΞΑΡΤΗΤΗ 38.06\n240 ΞΑΝΘΟΠΟΥΛΟΥ ΜΑΡΙΑ ΑΝΕΞΑΡΤΗΤΟΣ 38.21\n241 ΣΑΡΑΠΤΣΗΣ ΧΡΙΣΤΟΦΟΡΟΣ ΑΝΕΞΑΡΤΗΤΟΣ 38.22\n242 ΣΙΩΓΟΥ ΗΛΙΑΝΝΑ ΑΝΕΞΑΡΤΗΤΟΣ 38.25\n243 ΜΥΣΤΡΙΔΟΥ ΣΤΕΛΛΑ ΑΝΕΞΑΡΤΗΤΗ 38.27\n244 ΝΙΚΟΛΑΟΥ ΔΗΜΗΤΡΗΣ ΑΝΕΞΑΡΤΗΤΟΣ 38.29\n245 ΠΑΠΑΒΕΣΗ ΦΡΑΝΤΣΕΣΚΑ ΟΜΓ 38.31\n246 ΕΥΘΥΜΙΑΔΗΣ ΧΑΡΗΣ ΑΝΕΞΑΡΤΗΤΟΣ 38.32\n247 ΤΟΜΟΓΛΗΣ ΘΕΟΔΩΡΟΣ ΑΝΕΞΑΡΤΗΤΟΣ 38.37\n248 ΜΑΤΣΑΡΙΔΗΣ ΕΥΣΤΑΘΙΟΣ ΑΝΕΞΑΡΤΗΤΟΣ 38.40\n249 ΕΥΘΥΜΙΑΔΗΣ ΝΙΚΟΛΑΟΣ ΑΝΕΞΑΡΤΗΤΟΣ 38.43\n250 ΜΠΕΗΣ ΒΑΣΙΛΗΣ ΑΝΕΞΑΡΤΗΤΟΣ 38.47\n251 ΜΑΤΣΑΡΙΔΟΥ ΓΕΩΡΓΙΑ 38.51\n252 ΤΟΜΟΓΛΗΣ ΝΙΚΟΛΑΟΣ ΑΝΕΞΑΡΤΗΤΟΣ 39.00\n253 ΤΟΨΙΚΩΤΗΣ ΡΑΦΑΗΛ ΑΝΕΞΑΡΤΗΤΟΣ 39.08\n254 ΦΤΑΡΑΣ ΑΛΕΞΑΝΔΡΟΣ ΑΝΕΞΑΡΤΗΤΟΣ 39.09\n255 ΠΑΠΑΔΟΠΟΥΛΟΣ ΕΥΑΓΓΕΛΟΣ ALMIRA MAN 39.10\n256 ΕΛΕΥΘΕΡΙΑΔΗΣ ΝΙΚΟΛΑΟΣ ΑΝΕΞΑΡΤΗΤΟΣ 39.13\n257 ΠΟΙΜΕΝΙΔΗΣ ΓΕΩΡΓΙΟΣ ΑΝΕΞΑΡΤΗΤΟΣ 39.25\n258 ΣΥΜΕΩΝΙΔΟΥ ΚΥΡΙΑΚΗ ΑΝΕΞΑΡΤΗΤΟΣ 39.26\n259 ΣΥΜΕΩΝΙΔΟΥ ΚΙΚΗ ΑΝΕΞΑΡΤΗΤΗ 39.27\n260 ΧΕΔΑ ΕΥΑΓΓΕΛΙΑ ΑΝΕΞΑΡΤΗΤΟΣ 39.28\n261 ΜΗΣΙΑΚΑΣ ΕΥΑΓΓΕΛΟΣ ΑΝΕΞΑΡΤΗΤΟΣ 39.41\n262 ΠΑΠΑΔΟΠΟΥΛΟΣ ΑΡΙΣΤΕΙΔΗΣ ΑΝΕΞΑΡΤΗΤΟΣ 39.45\n263 ΚΑΛΟΥΣΗΣ ΧΑΡΑΛΑΜΠΟΣ ΑΝΕΞΑΡΤΗΤΟΣ 40.00\n264 ΣΤΥΛΟΣ ΔΙΟΝΥΣΗΣ ΑΝΕΞΑΡΤΗΤΟΣ 40.01\n265 ΞΥΓΩΝΑΚΗΣ ΣΑΒΒΑΣ ΑΝΕΞΑΡΤΗΤΟΣ 40.02\n266 ΠΑΠΑΔΟΠΟΥΛΟΣ ΘΕΟΔΩΡΟΣ ΑΝΕΞΑΡΤΗΤΟΣ 40.14\n267 ΑΠΟΣΤΟΛΙΔΗΣ ΜΙΧΑΗΛ ΑΝΕΞΑΡΤΗΤΟΣ 40.15\n268 ΚΑΛΛΙΑΝΙΔΗΣ ΣΑΒΒΑΣ ΑΝΕΞΑΡΤΗΤΟΣ 40.16\n269 ΚΟΡΟΜΗΛΑΣ ΑΘΑΝΑΣΙΟΣ ΑΝΕΞΑΡΤΗΤΟΣ 40.27\n270 ΤΖΕΒΕΛΕΚΗ ΕΛΕΝΗ ΑΝΕΞΑΡΤΗΤΗ 40.28\n271 ΤΣΑΚΙΡΗ ΜΑΡΙΑ ΑΝΕΞΑΡΤΗΤΗ 40.38\n272 ΧΡΙΣΤΟΔΟΥΛΟΥ ΔΕΣΠΟΙΝΑ ΑΝΕΞΑΡΤΗΤΟΣ 40.46\n273 ΤΣΕΝΤΙΔΗΣ ΚΩΣΤΑΣ ΑΝΕΞΑΡΤΗΤΟΣ 40.47\n274 ΠΑΠΑΣ ΝΙΚΟΣ ΑΝΕΞΑΡΤΗΤΟΣ 40.48\n275 ΠΑΠΠΑ ΑΦΡΟΔΙΤΗ ΑΝΕΞΑΡΤΗΤΗ 40.49\n276 ΠΑΠΠΑΣ ΙΩΑΝΝΗΣ ΑΝΕΞΑΡΤΗΤΟΣ 40.50\n277 ΑΦΡΟΔΙΤΗ- ΑΑΝΝΑ ΤΣΑΓΚΑΛΙΔΟΥ ΑΝΕΞΑΡΤΗΤΗ 40.51\n278 ΤΣΑΓΚΑΛΙΔΗΣ ΚΩΝΣΤΑΝΤΙΝΟΣ ΑΝΕΞΑΡΤΗΤΟΣ 40.52\n279 ΚΩΝΣΤΑΝΤΙΝΙΔΟΥ ΜΑΡΙΑ ΑΝΕΞΑΡΤΗΤΗ 40.53\n280 ΚΑΡΑΓΙΑΝΝΙΔΟΥ ΑΝΑΣΤΑΣΙΑ ΑΝΕΞΑΡΤΗΤΗ 40.54\n281 ΠΑΠΑΔΟΠΟΥΛΟΥ ΒΑΡΒΑΡΑ ΑΝΕΞΑΡΤΗΤΗ 40.55\n282 ΣΙΔΗΡΟΠΟΥΛΟΥ ΕΛΠΙΔΑ ΑΝΕΞΑΡΤΗΤΗ 41.00\n283 ΠΑΠΑΔΟΠΟΥΛΟΣ ΝΙΚΗΤΑΣ ΑΝΕΞΑΡΤΗΤΟΣ 41.05\n284 ΠΑΠΑ’Ι’ΩΑΝΟΥ ΕΛΕΝΗ ΑΝΕΞΑΡΤΗΤΗ 41.06\n285 ΜΠΙΖΙΩΤΑ ΙΩΑΝΝΑ ΑΝΕΞΑΡΤΗΤΗ 41.17\n286 ΟΙΚΟΝΟΜΟΥ ΣΤΕΛΛΑ ΑΝΕΞΑΡΤΗΤΟΣ 41.18\n287 ΠΑΠΑΔΟΠΟΥΛΟΥ ΝΟΠΗ ΑΝΕΞΑΡΤΗΤΗ 41.23\n288 ΔΟΜΑΚΙΔΟΥ ΠΟΛΥΞΕΝΗ ΕΝΟΡΙΑ ΑΓ. ΧΑΡΑΛΑΜΠΟΥΣ 41.31\n289 ΠΑΠΑΔΟΠΟΥΛΟΥ ΓΕΩΡΓΙΑ ΑΝΕΞΑΡΤΗΤΗ 41.37\n290 ΓΡΑΜΜΑΤΙΚΟΠΟΥΛΟΥ ΕΛΕΝΗ ΑΝΕΞΑΡΤΗΤΗ 41.38\n291 ΕΥΘΥΜΙΑΔΗΣ ΧΑΡΙΛΑΟΣ ΑΝΕΞΑΡΤΗΤΟΣ 41.41\n292 ΑΘΑΝΑΣΙΑΔΟΥ ΠΗΝΕΛΟΠΗ ΑΝΕΞΑΡΤΗΤΟΣ 41.44\n293 ΦΑΡΜΑΚΗΣ ΝΙΚΟΣ ΑΝΕΞΑΡΤΗΤΟΣ 41.49\n294 ΓΕΩΡΓΙΑΔΟΥ ΑΝΑΣΤΑΣΙΑ ΑΝΕΞΑΡΤΗΤΗ 41.51\n295 ΤΣΑΚΑΣ ΠΕΤΡΟΣ ΑΝΕΞΑΡΤΗΤΟΣ 41.57\n296 ΔΕΔΙΚΑΚΗ ΕΛΕΝΗ ΑΝΕΞΑΡΤΗΤΟΣ 42.00\n297 ΦΥΤΟΠΟΥΛΟΥ ΑΓΓΕΛΙΚΗ ΑΝΕΞΑΡΤΗΤΗ 42.07\n298 ΚΑΡΑΣΑΡΙΔΟΥ ΙΨΑΝΝΑ ΑΝΕΞΑΡΤΗΤΗ 42.08\n299 ΣΤΥΛΟΣ ΠΑΣΧΑΛΗΣ ΑΝΕΞΑΡΤΗΤΟΣ 42.09\n300 ΜΟΥΡΑΤΙΔΟΥ ΓΕΩΡΓΙΑ ΑΝΕΞΑΡΤΗΤΗ 42.14\n301 ΠΑΝΙΔΟΥ ΜΕΛΙΝΑ ΑΝΕΞΑΡΤΗΤΗ 42.20\n302 ΤΡΟΥΜΠΟΥΚΗ ΚΩΝΣΤΑΝΤΙΝΑ ΑΝΕΞΑΡΤΗΤΗ 42.21\n303 ΠΑΠΑΔΟΥΠΟΥΛΟΥ ΟΛΓΑ ΑΝΕΞΑΡΤΗΤΗ 42.32\n304 ΚΟΣΜΑ ΣΟΦΙΑ ΑΝΕΞΑΡΤΗΤΗ 42.38\n305 ΠΑΠΑΔΟΠΟΥΛΟΥ ΕΛΙΣΣΑΒΕΤ ΑΝΕΞΑΡΤΗΤΗ 42.39\n306 ΖΑΜΠΑΣ ΠΑΝΑΓΙΩΤΗΣ ΑΝΕΞΑΡΤΗΤΟΣ 42.47\n307 ΧΡΙΣΤΟΦΟΡΙΔΟΥ ΕΛΕΝΗ ΑΝΕΞΑΡΤΗΤΗ 42.48\n308 ΜΑΥΡΟΠΟΥΛΟΥ ΣΟΦΙΑ – ΜΑΡΙΑ ΑΝΕΞΑΡΤΗΤΗ 42.53\n309 ΣΟΦΙΑΝΙΔΟΥ ΡΕΝΑ ΑΝΕΞΑΡΤΗΤΗ 42.55\n310 ΣΑΜΑΛΙΔΗΣ ΑΛΕΞΑΝΔΡΟΣ ΑΝΕΞΑΡΤΗΤΟΣ 43.00\n311 ΣΑΜΛΙΔΗΣ ΠΑΝΑΓΙΩΤΗΣ ΑΝΕΞΑΡΤΗΤΟΣ 43.03\n312 ΜΑΥΡΙΔΟΥ ΑΝΑΣΤΑΣΙΑ ΑΝΕΞΑΡΤΗΤΗ 43.14\n313 ΠΑΠΠΑ ΟΛΓΑ ΑΝΕΞΑΡΤΗΤΗ 43.15\n314 ΠΑΠΠΑ ΕΛΕΥΘΕΡΙΑ ΑΝΕΞΑΡΤΗΤΟΣ 43.16\n315 ΚΑΣΚΑΡΗΣ ΙΩΑΝΝΗΣ ΑΝΕΞΑΡΤΗΤΟΣ 43.23\n316 ΣΑΜΛΙΔΟΥ ΔΕΣΠΟΙΝΑ ΑΝΕΞΑΡΤΗΤΗ 43.29\n317 ΤΣΑΓΚΑΛΙΔΟΥ ΑΝΝΑ ΑΝΕΞΑΡΤΗΤΟΣ 43.30\n318 ΓΡΗΓΟΡΙΑΔΗΣ ΜΕΝΕΛΑΟΣ ΑΝΕΞΑΡΤΗΤΟΣ 43.42\n319 ΛΑ’Ι’ΝΑΣ ΦΙΛΙΠΠΟΣ ΑΝΕΞΑΡΤΗΤΟΣ 43.43\n320 ΠΑΠΑΔΟΠΟΥΛΟΥ ΟΛΓΑ ΑΝΕΞΑΡΤΗΤΗ 44.07\n321 ΑΔΑΜΙΔΟΥ ΚΑΛΛΙΟΠΗ ΑΝΕΞΑΡΤΗΤΗ 44.08\n322 ΑΓΓΕΛΟΠΟΥΛΟΥ ΕΛΕΝΗ ΑΝΕΞΑΡΤΗΤΗ 44.17\n323 ΛΑΓΟΜΙΧΟΥ ΒΑΣΙΛΙΚΗ ΑΝΕΞΑΡΤΗΤΗ 44.20\n324 ΤΑΚΟΥ ΑΝΔΡΟΜΑΧΗ ΑΝΕΞΑΡΤΗΤΗ 44.32\n325 ΣΑΜΛΙΔΟΥ ΚΑΤΕΡΙΝΑ ΑΝΕΞΑΡΤΗΤΗ 44.33\n326 ΝΙΚΟΛΑ’Ι’ΔΗΣ ΧΡΗΣΤΟΣ ΖΕΥΣ ΠΙΕΡΙΑΣ 45.00\n327 ΝΙΚΟΛΑ’Ι’ΔΗΣ ΘΑΝΟΣ ΖΕΥΣ ΠΙΕΡΙΑΣ 45.01\n328 ΤΣΕΛΕΠΗΣ ΑΘΑΝΑΣΙΟΣ ΑΝΕΞΑΡΤΗΤΟΣ 45.03\n329 ΤΖΗΜΑΓΙΩΡΓΗ ΕΛΕΝΗ ΑΝΕΞΑΡΤΗΤΗ 45.04\n330 ΧΑΛΚΙΔΟΥ ΔΕΣΠΟΙΝΑ ΑΝΕΞΑΡΤΗΤΗ 45.06\n331 ΦΟΥΡΟΥΖΙΔΟΥ ΑΝΔΡΙΑΝΝΑ ΑΝΕΞΑΡΤΗΤΟΣ 45.07\n332 ΜΑΛΕΖΑ ΕΛΕΝΗ ΑΝΕΞΑΡΤΗΤΗ 45.10\n333 ΤΣΙΡΟΓΙΑΝΝΗ ΑΝΑΣΤΑΣΙΑ ΑΝΕΞΑΡΤΗΤΗ 45.12\n334 ΦΕΡΛΙΑΣ ΝΙΚΟΛΑΟΣ ΑΝΕΞΑΡΤΗΤΟΣ 45.14\n335 ΦΕΡΛΙΑΣ ΔΡΟΣΟΣ ΑΝΕΞΑΡΤΗΤΟΣ 45.18\n336 ΓΙΑΊ΄ΤΣΙΔΟΥ ΕΛΙΣΣΑΒΕΤ ΑΝΕΞΑΡΤΗΤΗ 45.20\n337 ΜΥΡΩΤΗ ΚΡΥΣΤΑΛΛΕΝΙΑ ΑΝΕΞΑΡΤΗΤΗ 45.22\n338 ΜΥΡΩΤΗ ΙΩΑΝΝΑ ΑΝΕΞΑΡΤΗΤΟΣ 45.24\n339 ΠΑΠΑΔΟΠΟΥΛΟΥ ΔΗΜΗΤΡΑ ΟΜΓ 45.28\n340 ΣΤΟ’Ι’ΤΣΗ ΘΕΟΔΩΡΑ ΟΜΓ 45.40\n341 ΣΥΒΡΙΔΟΥ ΕΛΕΝΗ ΑΝΕΞΑΡΤΗΤΗ 45.42\n342 ΞΥΓΩΝΑΚΗΣ ΑΝΔΡΕΑΣ ΑΝΕΞΑΡΤΗΤΟΣ 45.44\n343 ΠΑΝΙΔΟΥ ΝΙΚΗ ΑΝΕΞΑΡΤΗΤΟΣ 45.46\n344 ΦΕΡΛΙΑ ΑΝΝΑ ΑΝΕΞΑΡΤΗΤΗ 45.48\n345 ΦΕΡΛΙΑ ΑΙΚΑΤΕΡΙΝΗ ΑΝΕΞΑΡΤΗΤΗ 45.49\n346 ΦΩΚΑ’Ι’ΔΥΟ ΧΑΡΚΛΕΙΑ ΑΝΕΞΑΡΤΗΤΗ 45.50\n347 ΜΥΛΩΝΑΣ ΠΑΝΤΕΈΗΜΩΝ ΑΝΕΞΑΡΤΗΤΟΣ 46.00\n348 ΜΥΛΩΝΑΣ ΑΛΕΞΑΝΔΡΟΣ ΖΕΥΣ ΠΙΕΡΙΑΣ 46.05\n349 ΜΥΛΩΝΑ ΒΑΣΙΛΙΚΗ ΑΝΕΞΑΡΤΗΤΗ 46.06\n350 ΠΑΣΑΛΙΔΟΥ ΕΛΕΝΗ ΜΕΡΙΜΝΑ ΠΑΙΔΙΟΥ 46.07\n351 ΑΘΗΝΑ ΘΩΜΟΠΟΥΛΟΥ ΜΕΡΙΜΝΑ ΠΑΙΔΙΟΥ 46.08\n352 ΤΑΤΣΙΔΗΣ ΧΡΗΣΤΟΣ ΑΝΕΞΑΡΤΗΤΟΣ 46.22\n353 ΑΡΜΕΤΖΟΥΔΗΣ ΧΡΗΣΤΟΣ ΑΝΕΞΑΡΤΗΤΟΣ 46.30\n354 ΤΣΟΛΕΡΙΔΟΥ ΕΛΠΙΔΑ ΑΝΕΞΑΡΤΗΤΗ 46.32\n355 ΟΝΟΡΙΟ ΑΛΕΞΙΑ ΑΝΕΞΑΡΤΗΤΗ 46.39\n356 ΠΑΠΑΔΟΠΟΥΛΟΥ ΑΛΕΚΑ ΜΕΡΙΜΝΑ ΠΑΙΔΙΟΥ 46.40\n357 ΒΡΟΥΖΟΥ ΜΑΡΙΑ ΑΝΕΞΑΡΤΗΤΗ 46.41\n358 ΑΝΤΩΝΗΣ – ΤΑΞΙΑΡΧΗΣ ΣΙΑΜΑΤΡΑΣ ΜΕΡΙΜΝΑ ΠΑΙΔΙΟΥ 46.44\n359 ΤΣΑΤΣΟΥ ΑΝΤΩΝΙΑ ΑΝΕΞΑΡΤΗΤΗ 46.45\n360 ΒΑΓΕΝΑ ΜΑΡΙΑ ΑΝΕΞΑΡΤΗΤΗ 46.47\n361 ΚΩΝΣΤΑΝΤΙΝΟΥ ΓΙΩΡΓΟΣ ΑΝΕΞΑΡΤΗΤΟΣ 46.48\n362 ΜΥΣΤΡΙΔΟΥ ΒΑΛΕΡΙΑ ΑΝΕΞΑΡΤΗΤΗ 46.50\n363 ΤΖΕΚΟΥ ΚΑΛΛΙΟΠΗ ΑΝΕΞΑΡΤΗΤΗ 46.51\n364 ΠΑΡΑΣΚΕΥΑ’Ι’ΔΥΟ ΜΑΡΙΑ ΑΝΕΞΑΡΤΗΤΗ 46.54\n365 ΜΠΑΛΤΑΤΖΗ ΜΑΓΔΑ ΑΝΕΞΑΡΤΗΤΗ 46.56\n366 ΚΑΨΑΛΑ ΚΩΝΣΤΑΝΤΙΝΑ ΑΝΕΞΑΡΤΗΤΗ 46.57\n367 ΚΟΡΟΜΗΛΑ ΕΛΕΝΗ ΑΝΕΞΑΡΤΗΤΗ 47.00\n368 ΠΑΠΑΔΟΠΟΥΛΟΣ ΠΟΛΥΚΑΡΠΟΣ ΑΝΕΞΑΡΤΗΤΟΣ 47.03\n369 ΦΥΤΟΠΟΥΛΟΥ ΣΟΦΙΑ ΑΝΕΞΑΡΤΗΤΟΣ 47.04\n370 ΤΣΑΟΥΣΙΔΗΣ ΔΗΜΗΤΡΙΟΣ ΑΝΕΞΑΡΤΗΤΟΣ 47.05\n371 ΚΟΥΚΑ ΒΑΛΕΝΤΙΝΑ ΑΝΕΞΑΡΤΗΤΟΣ 47.06\n372 ΣΥΜΕΩΝΙΔΗΣ ΓΕΩΡΓΙΟΣ ΑΝΕΞΑΡΤΗΤΟΣ 47.07\n373 ΜΙΧΑΛΙΤΣΙΟΥ ΙΩΑΝΝΑ ΑΝΕΞΑΡΤΗΤΗ 47.08\n374 ΤΑΜΠΑΚΗ ΜΑΡΙΑ ΑΝΕΞΑΡΤΗΤΗ 47.50\n375 ΤΑΜΠΑΚΗ ΕΛΕΥΘΕΡΙΑ ΑΝΕΞΑΡΤΗΤΗ 48.00\n376 ΣΟΦΙΑΝΙΔΟΥ ΣΟΦΙΑ ΑΝΕΞΑΡΤΗΤΗ 48.05\n377 ΚΩΝΣΤΑΝΤΙΝΟΥ ΑΝΔΡΟΜΑΧΗ ΑΝΕΞΑΡΤΗΤΟΣ 48.06\n378 ΠΑΝΤΕΛΙΑΔΟΥ ΔΗΜΗΤΡΑ ΑΝΕΞΑΡΤΗΤΗ 48.16\n379 ΤΥΡΝΑΒΙΤΟΥ ΣΟΦΙΑ ΑΝΕΞΑΡΤΗΤΗ 48.17\n380 ΤΣΟΛΕΡΙΔΟΥ ΔΕΣΠΟΙΝΑ ΑΝΕΞΑΡΤΗΤΗ 48.18\n381 ΠΟΔΑ ΠΑΝΑΓΙΩΤΑ ΑΝΕΞΑΡΤΗΤΗ 48.19\n382 ΦΟΡΟΥΝΤΣΙΔΟΥ ΓΕΩΡΓΙΑ ΑΝΕΞΑΡΤΗΤΗ 48.24\n383 ΚΩΤΙΔΟΥ ΠΑΡΑΣΚΕΥΗ ΑΝΕΞΑΡΤΗΤΗ 48.25\n384 ΑΠΟΣΤΟΛΙΔΟΥ ΕΛΕΝΗ ΑΝΕΞΑΡΤΗΤΗ 48.26\n385 ΔΟΜΑΚΙΔΗΣ ΓΙΩΡΓΟΣ ΕΝΟΡΙΑ ΑΓ. ΧΑΡΑΛΑΜΠΟΥΣ 48.27\n386 ΜΑΛΕΖΑ ΑΛΕΞΑΝΔΡΑ ΑΝΕΞΑΡΤΗΤΗ 48.28\n387 ΔΕΡΜΙΣΗΣ ΜΙΧΑΗΛ ΑΝΕΞΑΡΤΗΤΟΣ 48.40\n388 ΔΕΡΜΙΣΗΣ ΚΩΝΣΤΑΝΤΙΝΟΣ ΑΝΕΞΑΡΤΗΤΟΣ 48.42\n389 ΤΖΗΜΑΓΙΩΡΓΗ ΚΥΡΙΑΚΗ ΑΝΕΞΑΡΤΗΤΗ 48.56\n390 ΤΕΝΤΑΚΗ ΕΛΕΝΗ ΑΝΕΞΑΡΤΗΤΗ 48.57\n391 ΤΟΜΟΓΛΗ ΕΛΕΥΘΕΡΙΑ ΑΝΕΞΑΡΤΗΤΗ 49.22\n392 ΜΟΣΧΙΔΟΥ ΜΑΡΙΑ ΑΝΕΞΑΡΤΗΤΟΣ 49.23\n393 ΣΙΩΜΟΣ ΑΓΓΕΛΟΣ ΑΝΕΞΑΡΤΗΤΟΣ 49.24\n394 ΓΕΩΡΓΙΑΔΟΥ ΝΙΚΟΛΕΤΑ ΑΝΕΞΑΡΤΗΤΗ 49.32\n395 ΣΑΡΡΗ ΜΑΡΙΑ ΑΝΕΞΑΡΤΗΤΗ 49.37\n396 ΤΖΗΜΑΓΙΩΡΓΗ ΦΑΝΗ ΑΝΕΞΑΡΤΗΤΗ 49.40\n397 ΣΑΜΛΙΔΟΥ ΓΕΩΡΓΙΑ ΑΝΕΞΑΡΤΗΤΗ 49.52\n398 ΣΑΜΛΙΔΟΥ ΕΛΕΥΘΕΡΙΑ ΑΝΕΞΑΡΤΗΤΗ 50.00\n399 ΣΚΟΥΛΑΡΙΩΤΗ ΒΑΣΙΛΙΚΗ ΑΝΕΞΑΡΤΗΤΗ 50.10\n400 ΟΙΚΟΝΟΜΙΔΟΥ ΑΝΑΣΤΑΣΙΑ ΑΝΕΞΑΡΤΗΤΗ 50.20\n401 ΑΡΜΕΤΖΟΥΔΗΣ ΠΑΝΑΓΙΩΤΗΣ – ΝΙΚΟΛΑΟΣ ΑΝΕΞΑΡΤΗΤΟΣ 50.21\n402 ΜΑΡΜΑΡΙΔΟΥ ΜΑΡΙΑ ΑΝΕΞΑΡΤΗΤΗ 50.22\n403 ΠΑΠΑΔΟΠΟΥΛΟΥ ΛΟΥΙΖΑ ΑΝΕΞΑΡΤΗΤΗ 50.23\n404 ΤΖΗΜΑΓΙΩΡΓΗ ΔΕΣΠΟΙΝΑ ΑΝΕΞΑΡΤΗΤΗ 50.25\n405 ΧΑΝΔΟΛΙΑ ΒΑΣΙΛΙΚΗ ΑΝΕΞΑΡΤΗΤΗ 50.29\n406 ΧΑΝΔΟΛΙΑ ΧΑΡΙΚΛΕΙΑ ΑΝΕΞΑΡΤΗΤΗ 50.31\n407 ΕΥΣΤΑΘΙΑΔΟΥ ΠΑΡΘΕΝΑ ΑΝΕΞΑΡΤΗΤΗ 50.33\n408 ΣΑΒΒΙΔΟΥ ΜΑΡΙΑ ΑΝΕΞΑΡΤΗΤΗ 50.40\n409 ΣΑΒΒΙΔΟΥ ΔΑΦΝΗ ΑΝΕΞΑΡΤΗΤΟΣ 50.43\n410 ΕΥΣΤΑΘΙΑΔΟΥ ΔΕΣΟΙΝΑ ΑΝΕΞΑΡΤΗΤΗ 50.45\n411 ΛΑΖΑΡΙΔΟΥ ΕΙΡΗΝΗ ΑΝΕΞΑΡΤΗΤΗ 50.47\n412 ΠΑΠΑΝΙΚΟΛΑΟΥ ΕΥΑΓΓΕΛΙΑ ΑΝΕΞΑΡΤΗΤΟΣ 50.48\n413 ΓΡΑΜΜΑΤΙΚΟΠΟΥΛΟΣ ΛΑΖΑΡΟΣ ΑΝΕΞΑΡΤΗΤΟΣ 50.49\n414 ΚΩΝΣΤΑΝΤΙΝΙΔΟΥ ΛΥΔΙΑ ΑΝΕΞΑΡΤΗΤΗ 50.50\n415 ΠΑΤΑΡΙΔΟΥ ΔΙΟΝΥΣΙΑ ΑΝΕΞΑΡΤΗΤΗ 50.51\n416 ΚΑΖΑΝΤΣΙΔΟΥ ΛΟΥΙΖΑ ΑΝΕΞΑΡΤΗΤΗ 50.52\n417 ΚΩΝΣΤΑΝΤΙΝΙΔΟΥ ΕΛΕΝΗ ΑΝΕΞΑΡΤΗΤΟΣ 50.53\n418 ΓΡΗΓΟΡΙΑΔΟΥ ΕΛΙΣΣΑΒΕΤ ΑΝΕΞΑΡΤΗΤΟΣ 50.54\n419 ΑΝΔΡΕΟΥ ΑΝΤΩΝΙΟΣ ΑΝΕΞΑΡΤΗΤΟΣ 50.55\n420 ΜΑΡΙΑ- ΠΑΡΘΕΝΑ ΑΝΔΡΕΟΥ ΑΝΕΞΑΡΤΗΤΗ 50.56\n421 ΔΗΜΗΝΑ ΣΟΦΙΑ ΑΝΕΞΑΡΤΗΤΗ 50.57\n422 ΑΝΔΡΕΟΥ ΙΩΑΝΝΗΣ ΑΝΕΞΑΡΤΗΤΟΣ 50.58\n423 ΖΩΣΙΜΙΔΗΣ ΚΩΝΣΤΑΝΤΙΝΟΣ ΑΝΕΞΑΡΤΗΤΟΣ 51.00\n424 ΚΑΡΑΛΗΣ ΧΑΡΑΛΑΜΠΟΣ ΑΝΕΞΑΡΤΗΤΟΣ 51.01\n425 ΚΥΡΙΑΖΟΠΟΥΛΟΣ ΘΩΜΑΣ ΑΝΕΞΑΡΤΗΤΟΣ 51.02\n426 ΔΟΜΑΚΙΔΟΥ ΑΝΑΣΤΑΣΙΑ ΕΝΟΡΙΑ ΑΓ. ΧΑΡΑΛΑΜΠΟΥΣ 51.03\n427 ΞΑΝΘΟΠΟΥΛΟΥ ΑΝΑΣΤΑΣΙΑ ΑΝΕΞΑΡΤΗΤΟΣ 51.04\n428 ΟΙΚΟΝΟΜΟΥ ΕΛΕΝΑ ΑΝΕΞΑΡΤΗΤΗ 51.17\n429 ΟΙΚΟΝΟΜΟΥ ΑΓΑΘΗ ΑΝΕΞΑΡΤΗΤΗ 51.18\n430 ΑΔΑΜΟΥ ΙΩΑΝΝΗΣ ΤΥΠΟΓΡΑΦΕΙΟΥ ΑΔΑΜΟΥ 51.19\n431 ΔΑΔΑΜΗΣ ΝΙΚΟΛΑΟΣ ΖΕΥΣ ΠΙΕΡΙΑΣ 51.20\n432 ΚΟΝΤΕΛΙΔΟΥ ΒΙΒΗ ΖΕΥΣ ΠΙΕΡΙΑΣ 51.31\n433 ΤΟΜΟΓΛΗ ΣΟΥΖΑΝΑ ΑΝΕΞΑΡΤΗΤΟΣ 51.32\n434 ΠΑΝΑΓΙΩΤΙΔΗΣ ΔΗΜΗΤΡΗΣ ΑΝΕΞΑΡΤΗΤΟΣ 52.00\n435 ΚΟΥΜΗ ΠΗΝΕΛΟΠΗ ΑΝΕΞΑΡΤΗΤΟΣ 52.21\n436 ΤΣΑΓΚΑΛΙΔΟΥ ΕΥΦΡΟΣΥΝΗ ΑΝΕΞΑΡΤΗΤΗ 53.05\n437 ΕΥΘΥΜΙΑΔΟΥ ΚΑΛΛΙΟΠΗ ΑΝΕΞΑΡΤΗΤΗ 53.10\n438 ΧΑ’Ι’ΛΑΤΖΙΔΗΣ ΑΝΤΩΝΙΟΣ ΑΝΕΞΑΡΤΗΤΟΣ 53.11\n439 ΧΑ’Ι’ΛΑΑΤΖΙΔΟΥ ΔΕΣΠΟΙΝΑ ΑΝΕΞΑΡΤΗΤΗ 53.20\n440 ΧΑ’Ι’ΛΑΤΖΙΔΟΥ ΜΑΡΙΑ ΑΝΕΞΑΡΤΗΤΗ 53.21\n441 ΣΤΑΘΑΚΟΠΟΥΛΟΥ ΧΡΥΣΟΥΛΑ ΑΝΕΞΑΡΤΗΤΟΣ 53.39\n442 ΗΛΙΑΔΟΥ ΣΤΑΥΡΟΥΛΑ ΑΝΕΞΑΡΤΗΤΗ 53.40\n443 ΧΑΡΑΛΑΜΠΙΔΗΣ ΓΕΩΡΓΙΟΣ ΑΝΕΞΑΡΤΗΤΟΣ 53.41\n444 ΤΣΕΝΤΙΔΟΥ ΕΦΗ ΑΝΕΞΑΡΤΗΤΗ 53.45\n445 ΧΑΡΑΛΑΜΠΙΔΟΥ ΣΟΦΙΑ ΑΝΕΞΑΡΤΗΤΗ 53.46\n446 ΜΑΥΡΟΠΟΥΛΟΥ ΜΑΡΙΑ ΑΝΕΞΑΡΤΗΤΗ 53.47\n447 ΠΑΥΛΙΔΟΥ ΜΕΛΙΝΑ ΑΝΕΞΑΡΤΗΤΗ 53.48\n448 ΚΑΡΑΓΙΩΡΟΓΛΟΥ ΔΗΜΗΤΡΑ ΑΝΕΞΑΡΤΗΤΗ 53.51\n449 ΔΕΤΟΥΔΗ ΕΙΡΗΝΗ ΑΝΕΞΑΡΤΗΤΗ 53.55\n450 ΚΩΝΣΤΑΝΤΙΝΙΔΟΥ ΚΩΝΣΤΑΝΤΙΝΑ ΑΝΕΞΑΡΤΗΤΟΣ 54.00\n451 ΝΙΚΟΛΑΙΔΟΥ ΣΟΝΙΑ- ΜΑΡΙΑ ΑΝΕΞΑΡΤΗΤΗ 54.05\n452 ΝΙΚΟΛΑΙΔΟΥ ΧΡΙΣΤΙΝΑ ΑΝΕΞΑΡΤΗΤΗ 54.06
URL:https://gorun.gr/race/3%ce%bf%cf%82-%ce%b4%cf%81%cf%8c%ce%bc%ce%bf%cf%82-%ce%b1%ce%bb%ce%bb%ce%b7%ce%bb%ce%b5%ce%b3%ce%b3%cf%8d%ce%b7%cf%82-%ce%b5%ce%bd%ce%bf%cf%81%ce%af%ce%b1%cf%82-%ce%b1%ce%b3%ce%af%ce%bf%cf%85-%cf%87/
CATEGORIES:Αποτελέσματα,Δρόμος
END:VEVENT
END:VCALENDAR