BEGIN:VCALENDAR
VERSION:2.0
PRODID:-//goRUN - ECPv5.8.1//NONSGML v1.0//EN
CALSCALE:GREGORIAN
METHOD:PUBLISH
X-WR-CALNAME:goRUN
X-ORIGINAL-URL:https://gorun.gr
X-WR-CALDESC:Events for goRUN
BEGIN:VTIMEZONE
TZID:Europe/Athens
BEGIN:DAYLIGHT
TZOFFSETFROM:+0200
TZOFFSETTO:+0300
TZNAME:EEST
DTSTART:20160327T010000
END:DAYLIGHT
BEGIN:STANDARD
TZOFFSETFROM:+0300
TZOFFSETTO:+0200
TZNAME:EET
DTSTART:20161030T010000
END:STANDARD
END:VTIMEZONE
BEGIN:VEVENT
DTSTART;VALUE=DATE:20160724
DTEND;VALUE=DATE:20160725
DTSTAMP:20260421T133115
CREATED:20160705T065906Z
LAST-MODIFIED:20160727T203014Z
UID:8690-1469318400-1469404799@gorun.gr
SUMMARY:3ος Δρόμος Θηναίας Γης
DESCRIPTION:EventDescr Pos GenderPos CategPos Name RaceNo Category Gender Club Time Net Time\n7.1km 1 1 1 ΓΡΙΒΑΣ ΓΕΡΑΣΙΜΟΣ 138 M31-40 Male 00:26:38 00:26:35\n7.1km 2 2 1 ΠΑΠΑΛΑΜΠΡΟΣ ΛΑΜΠΡΟΣ 167 M41-50 Male SYLLOGOS DROMEON KEFALONIAS 00:29:07 00:29:07\n7.1km 3 3 2 ΡΑΛΛΗΣ ΝΙΚΟΣ 166 M41-50 Male SYLLOGOS DROMEON KEFALONIAS 00:29:12 00:29:09\n7.1km 4 4 2 ΒΑΡΔΑΡΑΜΑΤΟΣ ΜΑΡΙΝΟΣ 137 M31-40 Male 00:29:15 00:29:11\n7.1km 5 5 3 ΜΩΡΑΙΤΗΣ ΓΕΡΑΣΙΜΟΣ 135 M41-50 Male 00:29:30 00:29:28\n7.1km 6 6 3 ΚΟΥΛΟΥΜΠΗΣ ΓΕΡΑΣΙΜΟΣ 103 M31-40 Male SYLLOGOS DROMEON KEFALONIAS 00:29:58 00:29:56\n7.1km 7 7 4 ΔΗΜΗΤΡΙΟΥ ΓΕΩΡΓΙΟΣ 158 M41-50 Male 00:30:13 00:30:11\n7.1km 8 8 4 ΣΤΕΦΑΝΑΤΟΣ ΣΠΥΡΟΣ 134 M31-40 Male 00:30:33 00:30:30\n7.1km 9 9 5 ΒΟΥΤΣΙΝΑΣ ΑΛΕΞΑΝΔΡΟΣ 140 M31-40 Male 00:30:50 00:30:46\n7.1km 10 10 5 ΚΑΛΟΓΗΡΑΤΟΣ ΑΝΔΡΕΑΣ 162 M41-50 Male SYLLOGOS DROMEON KEFALONIAS 00:31:10 00:31:08\n7.1km 11 11 6 ΚΟΥΛΟΥΜΠΗΣ ΠΑΡΙΣΗΣ 102 M31-40 Male SYLLOGOS DROMEON KEFALONIAS 00:31:23 00:31:20\n7.1km 12 12 6 ΚΟΥΡΟΥΚΛΗΣ ΑΝΤΩΝΗΣ 136 M41-50 Male 00:31:54 00:31:52\n7.1km 13 13 7 ΚΟΥΡΟΣ ΚΩΝΣΤΑΝΤΙΝΟΣ 165 M41-50 Male 00:32:01 00:31:58\n7.1km 14 14 1 ΤΣΟΥΡΟΥΦΛΗΣ ΚΩΝΣΤΑΝΤΙΝΟΣ 132 M19-30 Male 00:32:29 00:32:23\n7.1km 15 15 7 ΘΑΝΑΣΗΣ ΕΥΣΤΑΘΙΟΣ 170 M31-40 Male 00:32:37 00:32:32\n7.1km 16 16 1 ΜΑΡΚΑΝΤΩΝΗΣ ΝΙΚΟΣ 105 M14-18 Male 00:32:39 00:32:36\n7.1km 17 17 8 ΛΑΣΚΑΡΗΣ ΣΥΜΕΩΝ 147 M31-40 Male SYLLOGOS DROMEON KEFALONIAS 00:32:41 00:32:37\n7.1km 18 18 1 ΣΙΔΗΡΟΠΟΥΛΟΣ ΝΙΚΟΣ 150 M51-60 Male SYLLOGOS DROMEON KEFALONIAS 00:33:00 00:32:55\n7.1km 19 19 9 ΚΟΥΛΟΥΜΠΗΣ ΘΕΟΔΩΡΟΣ 114 M31-40 Male 00:33:19 00:33:16\n7.1km 20 20 8 ΣΙΜΑΤΟΣ ΦΩΤΗΣ 149 M41-50 Male 00:33:30 00:33:27\n7.1km 22 21 10 ΠΡΕΝΤΑΝΟΣ ΝΙΚΟΣ 161 M31-40 Male SYLLOGOS DROMEON KEFALONIAS 00:33:45 00:33:39\n7.1km 23 22 2 ΧΑΡΙΤΟΣ ΑΝΔΡΕΑΣ 148 M19-30 Male SYLLOGOS DROMEON KEFALONIAS 00:34:27 00:34:22\n7.1km 24 23 1 ΑΛΕΞΑΝΔΡΑΤΟΣ ΠΑΝΑΓΗΣ 128 M61+ Male 00:34:35 00:34:31\n7.1km 25 2 1 ΣΑΜΟΛH ΒΑΝΙΑ 101 F31-40 Female SYLLOGOS DROMEON KEFALONIAS 00:35:31 00:35:29\n7.1km 26 24 2 ΣΤΑΘΑΤΟΣ ΒΑΣΙΛΗΣ 117 M51-60 Male 00:35:36 00:35:29\n7.1km 27 25 2 ΞΕΝΟΣ ΠΑΝΑΓΗΣ 156 M14-18 Male 00:35:38 00:35:36\n7.1km 28 26 3 ΣΑΜΑΛΗΣ ΗΡΑΚΛΗΣ 171 M19-30 Male 00:36:04 00:35:57\n7.1km 29 27 11 ΜΑΓΟΥΛΑΣ ΣΠΥΡΟΣ 157 M31-40 Male 00:36:53 00:36:47\n7.1km 30 28 3 ΚΟΚΚΙΝΟΣ ΠΑΝΑΓΙΩΤΗΣ 142 M51-60 Male 00:37:31 00:37:26\n7.1km 31 29 3 ΔΟΜΕΝΙΚΟΣ ΙΑΣΩΝΑΣ 153 M14-18 Male 00:37:56 00:37:51\n7.1km 32 3 2 ΚΟΣΜΕΤΑΤΟΥ ΡΕΓΓΙΝΑ 129 F31-40 Female 00:38:07 00:38:01\n7.1km 33 30 4 ΣΤΑΜΑΤΕΛΑΤΟΣ ΛΕΥΤΕΡΗΣ 131 M51-60 Male 00:39:07 00:39:01\n7.1km 34 31 4 ΔΟΜΕΝΙΚΟΣ ΟΡΦΕΑΣ 152 M14-18 Male 00:39:09 00:39:04\n7.1km 35 32 5 ΦΩΚΑΣ ΝΙΚΟΛΑΣ 145 M51-60 Male 00:39:24 00:39:19\n7.1km 36 33 5 ΦΩΚΑΣ ΝΙΚΟΛΑΣ 146 M14-18 Male 00:39:25 00:39:19\n7.1km 37 4 1 ΑΜΒΡΟΣΙΑΤΟΥ ΜΑΡΙΑ 116 F51-60 Female 00:40:03 00:40:00\n7.1km 38 5 1 ΚΑΜΙΝΑΡΗ ΜΑΡΙΑ 160 F41-50 Female SYLLOGOS DROMEON KEFALONIAS 00:40:15 00:40:09\n7.1km 39 6 3 ΠΟΤΑΜΙΑΝΟΥ ΒΑΣΙΛΙΚΗ 126 F31-40 Female 00:40:35 00:40:25\n7.1km 40 7 4 ΞΑΓΟΡΑΚΗ ΕΛΛΗ 127 F31-40 Female 00:41:04 00:40:53\n7.1km 41 34 6 ΣΑΡΡΗΓΙΑΝΝΑΚΗΣ ΠΑΝΑΓΙΩΤΗΣ 110 M14-18 Male 00:41:54 00:41:46\n7.1km 42 35 7 ΡΟΥΜΑΝΗΣ ΓΕΩΡΓΙΟΣ 155 M14-18 Male 00:42:00 00:42:00\n7.1km 43 36 12 ΣΤΑΥΡΟΠΟΥΛΟΣ ΚΩΝΣΤΑΝΤΙΝΟΣ 124 M31-40 Male 00:42:02 00:41:59\n7.1km 44 8 5 ERLEBACHOVA LUCIE 159 F31-40 Female 00:43:11 00:43:05\n7.1km 45 37 4 ΚΑΛΑΜΠΑΛΙΚΗΣ ΓΕΩΡΓΙΟΣ 172 M19-30 Male 00:43:12 00:43:05\n7.1km 21 1 1 ΜΕΡΚΑΙ ΤΖΟΑΝΝΑ 141 F14-18 Female 00:33:34 00:33:21\n7.1km 46 9 2 ΝΕΡΑΤΖΙΝΗ ΜΑΡΙΑΝΝΑ 104 F14-18 Female 00:43:53 00:43:53\n7.1km 47 38 6 ΧΡΙΣΤΟΦΟΡΑΤΟΣ ΒΑΣΙΛΗΣ 130 M51-60 Male 00:44:34 00:44:27\n7.1km 48 39 8 ΠΑΠΑΓΕΩΡΓΙΟΥ ΑΝΔΡΕΑΣ 173 M14-18 Male 00:44:44 00:44:41\n7.1km 49 40 5 ΚΗΡΥΚΟΣ ΙΩΑΝΝΗΣ 139 M19-30 Male 00:45:09 00:45:02\n7.1km 50 41 2 ΔΕΛΑΚΑΣ THEO 123 M61+ Male 00:45:20 00:45:18\n7.1km 51 42 9 ΠΕΤΡΑΤΟΣ ΦΩΤΗΣ 164 M41-50 Male 00:45:42 00:45:35\n7.1km 52 10 1 ΧΡΗΣΤΑΤΟΥ ΝΙΚΟΛΕΤΑ 143 F19-30 Female 00:46:08 00:46:04\n7.1km 53 43 9 ΚΟΥΛΟΥΜΠΗΣ ΒΑΣΙΛΗΣ 122 M14-18 Male 00:47:14 00:47:12\n7.1km 54 44 10 ΚΟΣΜΑΤΟΣ ΑΝΔΡΕΑΣ 112 M41-50 Male 00:47:41 00:47:34\n7.1km 55 11 2 ΠΑΝΑΓΙΩΤΟΥ ΜΑΡΙΑ 120 F41-50 Female 00:48:19 00:48:16\n7.1km 56 45 3 ΜΑΤΙΑΤΟΣ ΠΑΝΟΣ 121 M61+ Male 00:48:19 00:48:14\n7.1km 57 46 10 ΧΑΛΙΚΙΑΣ ΓΕΡΑΣΙΜΟΣ 109 M14-18 Male 00:49:41 00:49:32\n7.1km 58 12 2 ΜΗΛΙΤΣΟΠΟΥΛΟΥ ΓΕΩΡΓΙΑ 113 F19-30 Female 00:49:47 00:49:41\n7.1km 59 13 3 ΜΙΧΑΗΛΙΔΟΥ ΤΖΟΥΛΙΕΤΑ 144 F19-30 Female 00:50:28 00:50:24\n7.1km 60 47 11 ΧΑΛΙΩΤΗΣ ΣΠΥΡΙΔΩΝ 154 M41-50 Male 00:50:52 00:50:46\n7.1km 61 14 2 ΜΙΖΗΚΑΚΗ ΣΟΦΙΑ 169 F51-60 Female 00:51:53 00:51:49\n7.1km 62 48 4 ΜΙΖΗΚΑΚΗΣ ΙΩΑΝΝΗΣ 168 M61+ Male 00:53:17 00:53:14\n7.1km 63 49 13 ΚΟΥΛΟΥΜΠΗΣ ΑΝΔΡΕΑΣ 108 M31-40 Male 00:54:50 00:54:42\n7.1km 64 50 11 ΜΑΡΚΑΝΤΩΝΗΣ ΒΙΚΤΩΡΑΣ 106 M14-18 Male 00:58:47 00:58:44\n7.1km 65 51 14 ΑΝΟΥΣΑΚΗΣ ΝΙΚΟΛΑΣ 163 M31-40 Male 00:58:47 00:58:43\n7.1km 66 52 12 ΚΟΥΤΟΥΓΚΟΥ ΠΕΡΙΚΛΗΣ 151 M14-18 Male 01:03:36 01:03:34\n7.1km 67 15 3 ΣΤΑΘΑΤΟΣ ΝΙΟΒΗ 118 F14-18 Female 01:03:37 01:03:35\n7.1km 68 53 13 ΣΤΑΘΑΤΟΣ ΓΙΩΡΓΟΣ 115 M14-18 Male 01:03:41 01:03:39\n7.1km 69 54 12 ΤΖΑΝΑΤΟΣ ΠΑΝΑΓΗΣ 133 M41-50 Male 01:04:43 01:04:43\n7.1km 70 16 3 ΚΑΙΚΤΖΗ ΠΕΠΗ 107 F41-50 Female 01:17:27 01:17:17\n7.1km 71 17 3 ΚΑΛΟΓΕΡΑΤΟΥ ΕΥΓΕΝΙΑ 174 F51-60 Female 01:17:27 01:17:21\n7.1km 72 55 5 ΑΓΑΔΗΣ ΔΗΜΗΤΡΗΣ 175 M61+ Male 01:17:28 01:17:24 \nΑΠΟΤΕΛΕΣΜΑΤΑ ΠΑΙΔΙΚΩΝ ΑΓΩΝΩΝ 3ου ΔΡΟΜΟΥ ΘΗΝΑΙΑΣ ΓΗΣ \nΕΩΣ 5 ΕΤΩΝ 50 Μ ΑΓΟΡΙΑ\nΔΑΝΝΑΛΑΤΟΣ ΑΓΓΕΛΟΣ\nΣΙΜΟΣ ΒΟΣΚΟΠΟΥΛΟΣ \nΕΩΣ 5 ΕΤΩΝ 50 Μ ΚΟΡΙΤΣΙΑ\nΠΑΠΑΓΕΩΡΓΙΟΥ ΑΝΤΟΥΑΝΝΕΤΑ\nΚΟΥΛΟΥΜΠΗ ΕΥΡΥΔΙΚΗ\nΚΟΥΛΟΥΜΠΗ ΣΩΤΗΡΙΑ \n6-7 ΕΤΩΝ 200 Μ ΑΓΟΡΙΑ\n1. ΣΠΥΡΟΣ ΑΠΕΡΓΗΣ\n2. ΔΗΜΗΤΡΙΟΥ ΧΡΗΣΤΟΣ\nΚΑΛΟΓΗΡΑΤΟΣ ΤΑΣΟΣ \n6-7 ΕΤΩΝ 200 Μ ΚΟΡΙΤΣΙΑ \n1. ΕΛΕΝΗ ΣΒΟΡΩΝΟΥ\n2. ΝΙΚΟΛΕΤΑ ΚΑΡΑΝΔΡΕΟΥ\n3. ΜΑΡΙΑΝΝΑ ΣΤΑΥΡΟΠΟΥΛΟΥ \n8-10 ΕΤΩΝ 200 Μ ΑΓΟΡΙΑ \n1. ΚΩΣΤΑΝΤΙΝΟΣ ΓΚΙΟΥΛΟΣ\n2. ΚΟΥΛΟΥΜΠΗΣ ΜΑΚΗΣ\n3. ΣΤΕΛΙΟΣ ΓΑΣΠΑΡΗΣ \n8-10 ΕΤΩΝ 200 Μ ΚΟΡΙΤΣΙΑ \n1. ΠΡΕΝΤΑΝΟΥ ΑΓΓΕΛΙΚΗ\n2. ΣΦΑΚΙΑΝΑΚΗ ΕΛΠΙΔΑ\n3. ΔΑΝΙΑ ΔΗΜΗΤΡΑ \n11-13 ΕΤΩΝ 300 Μ ΑΓΟΡΙΑ \n1. ΝΙΚΟΛΑΣ ΑΠΕΡΓΗΣ\n2. ΓΑΣΠΑΡΗΣ ΑΓΓΕΛΟΣ\n3. ΚΟΥΤΟΥΓΚΟΣ ΑΛΕΞΑΝΔΡΟΣ \n11-13 ΕΤΩΝ 300 Μ ΚΟΡΙΤΣΙΑ \n1. ΤΖΟΑΝΝΑ ΜΕΡΚΑΕΪ\n2. ΗΛΕΚΤΡΑ ΔΟΜΕΝΙΚΟΥ
URL:https://gorun.gr/race/3%ce%bf%cf%82-%ce%b4%cf%81%cf%8c%ce%bc%ce%bf%cf%82-%ce%b8%ce%b7%ce%bd%ce%b1%ce%af%ce%b1%cf%82-%ce%b3%ce%b7%cf%82/
CATEGORIES:Αποτελέσματα,Δρόμος
END:VEVENT
END:VCALENDAR