BEGIN:VCALENDAR
VERSION:2.0
PRODID:-//goRUN - ECPv5.8.1//NONSGML v1.0//EN
CALSCALE:GREGORIAN
METHOD:PUBLISH
X-WR-CALNAME:goRUN
X-ORIGINAL-URL:https://gorun.gr
X-WR-CALDESC:Events for goRUN
BEGIN:VTIMEZONE
TZID:Europe/Athens
BEGIN:DAYLIGHT
TZOFFSETFROM:+0200
TZOFFSETTO:+0300
TZNAME:EEST
DTSTART:20160327T010000
END:DAYLIGHT
BEGIN:STANDARD
TZOFFSETFROM:+0300
TZOFFSETTO:+0200
TZNAME:EET
DTSTART:20161030T010000
END:STANDARD
END:VTIMEZONE
BEGIN:VEVENT
DTSTART;VALUE=DATE:20160731
DTEND;VALUE=DATE:20160801
DTSTAMP:20260422T121259
CREATED:20160803T080222Z
LAST-MODIFIED:20160803T080347Z
UID:9406-1469923200-1470009599@gorun.gr
SUMMARY:3ος Ημιμαραθώνιος Μεσοτόπου Λέσβου
DESCRIPTION:RANK GENDER AGE CAT BIB NAME SEX CLUB ΧΡΟΝΟΣ ΚΑΘ. ΧΡΟΝΟΣ\n1 1 1 21012 ΧΑΡΑΛΑΜΠΟΣ ΙΑΤΡΟΥΔΕΛΛΗΣ Α CHIOSRUNNING 01:22:02 01:22:02\n2 2 2 21001 ΝΙΚΟΛΑΟΣ ΑΡΓΥΡΟΠΟΥΛΟΣ Α ΑΡΙΣΒΑΙΟΣ 01:24:04 01:24:04\n3 3 3 21004 ΣΤΡΑΤΗΣ ΒΑΡΤΑΛΑΜΙΔΗΣ Α ΑΛΚΑΙΟΣ 01:31:51 01:31:51\n4 4 4 21027 ΣΤΡΑΤΟΣ ΦΡΑΓΚΟΥ Α 01:31:52 01:31:51\n5 5 1 21043 ΠΑΝΑΓΙΩΤΗΣ ΚΑΛΚΑΒΟΥΡΑΣ Α ΣΔΥ ΠΕΙΡΑΙΑ 01:32:23 01:32:21\n6 6 5 21037 ΔΗΜΗΤΡΙΟΣ ΤΑΡΑΝΗΣ Α 01:33:25 01:33:20\n7 7 6 21013 XΡΗΣΤΟΣ ΙΝTZIΡΤΖΗΣ Α 01:33:27 01:33:26\n8 8 7 21010 ΓΕΩΡΓΙΟΣ ΖΑΓΚΟΥΛΗΣ Α Α.Ο ΜΕΣΟΤΟΠΟΣ 01:36:21 01:36:19\n9 9 2 21039 ΣΤΕΛΙΟΣ ΑΡΜΕΝΑΚΗΣ Α 01:36:46 01:36:46\n10 10 8 21020 ΜΙΧΑΛΗΣ ΜΑΡΓΑΡΙΤΗΣ Α 01:37:53 01:37:49\n11 1 1 21021 ΔΕΣΠΟΙΝΑ ΜΑΡΙΝΟΥ Γ Polias Runners 01:41:10 01:41:06\n12 11 9 21038 ΖΗΣΗΣ ΜΑΥΡΟΔΗΜΟΣ Α 01:41:10 01:41:10\n13 12 3 21002 ΠΑΝΑΓΙΩΤΗΣ ΒOYΓΙΟΥΚΑΣ Α 01:41:11 01:41:11\n14 13 10 21009 ΠΑΝΑΓΙΩΤΗΣ ΔΙΜΠΑΜΠΗΣ Α 01:42:48 01:42:48\n15 14 11 21017 ΑΣΤΕΡΙΟΣ ΚΥΡΙΑΚΟΣ Α 01:44:40 01:44:40\n16 15 4 21011 ΚΩΝ/ΝΟΣ ΖΑΓΚΟΥΛΗΣ Α Α.Ο.Μ 01:44:51 01:44:48\n17 16 12 21040 ΣΤΑΥΡΟΣ ΛΕΥΤΕΡΑΚΟΣ Α 01:45:18 01:45:18\n18 17 13 21026 ΕΥΘΥΜΙΟΣ ΤΑΓΑΡΗΣ Α 01:45:18 01:45:15\n19 2 2 21029 ESTER ROSAS Γ 01:45:44 01:45:42\n20 18 14 21036 ΜΙΧΑΗΛ ΧΑΤΖΗΔΗΜΗΤΡΙΟΥ Α 01:47:26 01:47:26\n21 19 15 21035 ΔΗΜΗΤΡΙΟΣ ΚΑΝΤΖΟΥΡΑΣ Α 01:47:27 01:47:25\n22 20 16 21024 ΑΓΓΕΛΟΣ ΠΑΣΚΟΣ Α 01:47:43 01:47:40\n23 21 17 21014 ΣΤΡΑΤΗΣ ΚΑΛΑΤΖΗΣ Α 01:49:38 01:49:35\n24 22 18 21005 ΠΑΝΑΓΙΩΤΗΣ ΒΕΡΒΕΡΗΣ Α 01:51:00 01:50:56\n25 23 19 21003 ΙΩΑΝΝΗΣ ΒΑΛΕΛΗΣ Α 01:51:59 01:51:57\n26 24 20 21022 ΕΥΣΤΡΑΤΙΟΣ ΜΟΥΦΛΟΥΖΕΛΛΗΣ Α 01:53:49 01:53:46\n27 25 21 21031 ΠΑΝΑΓΙΩΤΗΣ ΜΙΧΑΗΛΙΔΗΣ Α ΑΟ ΜΕΣΟΤΟΠΟΥ 01:53:50 01:53:46\n28 26 22 21032 ΓΙΑΝΝΗΣ ΧΑΤΖΗΑΝΤΩΝΙΟΥ Α 01:54:16 01:54:12\n29 27 23 21030 ΓΙΩΡΓΟΣ ΦΩΤΑΣ Α 01:54:16 01:54:13\n30 28 24 21041 ΛΕΥΤΕΡΗΣ ΠΑΠΑΦΙΛΙΠΠΟΥ Α 01:54:16 01:54:13\n31 29 25 21006 ΓΕΩΡΓΙΟΣ ΓΩΓΗΣ Α 01:57:35 01:57:31\n32 30 26 21034 ΗΛΙΑΣ ΔΗΜΟΠΟΥΛΟΣ Α 01:59:18 01:59:16\n33 31 27 21028 ΧΡΙΣΤΟΦΟΡΟΣ ΧΑΤΖΗΒΑΣΙΛΕΙΟΥ Α 01:59:40 01:59:39\n34 32 5 21025 ΓΡΗΓΟΡΙΟΣ ΠΙΠΙΝΗΣ Α 02:01:18 02:01:18\n35 33 28 21008 ΛΑΖΑΡΟΣ ΔΗΜΤΣΑΣ Α ΣΚΑΜΑΝΔΡΙΟΣ 02:02:15 02:02:13\n36 34 29 21007 ΧΡΗΣΤΟΣ ΔΑΓΙΕΛΛΗΣ Α 02:04:18 02:04:14\n37 35 6 21042 ΔΗΜΗΤΡΗΣ ΣΤΑΜΑΤΗΣ Α 02:06:16 02:06:13\n38 36 7 21033 ΧΡΗΣΤΟΣ ΠΑΝΟΥΡΓΙΑΣ Α 02:06:36 02:06:33\n39 37 30 21023 ΔΗΜΗΤΡΙΟΣ ΠΑΛΟΓΕΛΗΣ Α ΔΡΟΜΕΙΣ ΠΑΡΚΟΥ ΤΡΙΤΣΗ 02:06:36 02:06:32\n40 38 31 21019 ΧΑΡΙΛΑΟΣ ΜΑΛΛΗΣ Α 02:11:57 02:11:54\n41 3 3 21018 ΜΑΡΙΑ ΛΙΑΚΟΠΟΥΛΟΥ Γ ΑΛΚΑΙΟΣ 02:58:06 02:58:04 \n5 χιλιόμετρα \nRANK GENDER AGE CAT BIB NAME SEX CLUB ΧΡΟΝΟΣ ΚΑΘ. ΧΡΟΝΟΣ\n1 1 0 5010 ΒΑΣΙΛΗΣ ΜΠΑΚΑΣ Α 00:16:37 00:16:37\n2 2 0 5015 ΓΙΩΡΓΟΣ ΖΑΓΚΟΥΛΗΣ Α 00:16:40 00:16:40\n3 3 0 5017 ΟΡΓΚΕΣ ΚΟΥΡΤΗΣ Α 00:16:41 00:16:41\n4 4 0 5005 ΑΠΟΣΤΟΛΗΣ ΜΠΑΚΑΣ Α 00:16:43 00:16:43\n5 5 0 5011 ΙΩΑΝΝΗΣ ΙΝΤΖΙΡΤΖΗΣ Α 00:16:57 00:16:57\n6 6 0 5007 ΒΑΣΙΛΗΣ ΧOYΣΙΑΔΑΣ Α 00:17:18 00:17:18\n7 1 0 5020 ΣΤΕΛΛΑ ΓΕΩΡΓΑΚΕΛΛΗ Γ ΠΑΝΕΛΛΗΝΙΟΣ ΓΣ 00:17:21 00:17:21\n8 7 0 5016 ΔΗΜΗΤΡΗΣ ΤΣΑΚΙΡΗΣ Α 00:17:24 00:17:24\n9 8 0 5003 ΚΩΝ/ΝΟΣ ΚΑTEΡΙΝΕΛΛΗΣ Α 00:19:14 00:19:14\n10 9 0 5019 ΔΗΜΗΤΡΗΣ ΙΝΤΖΙΡΤΖΗΣ Α 00:19:15 00:19:15\n11 10 0 5018 ΚΩΣΤΑΣ ΜΕΣΤΟΣ Α 00:19:18 00:19:18\n12 11 0 5002 ΠΑΥΛΟΣ ΒΟΥΒΟΥΛΟΥΔΑΣ Α 00:21:04 00:21:04\n13 12 0 5014 ΑΝΤΩΝΗΣ ΚΑΞΗΡΗΣ Α 00:21:20 00:21:20\n14 13 0 5013 ΣΤΡΑΤΟΣ ΠΙΠΙΝΗΣ Α 00:21:31 00:21:31\n15 2 0 5008 ΒΑΣΙΛΙΚΗ ΒΑΙΟΠΟΥΛΟΥ Γ 00:24:29 00:24:29\n16 14 0 5009 ΑΝΤΩΝΗΣ ΑΝΤΩΝΙΑΔΗΣ Α 00:25:58 00:25:58\n17 15 0 5022 ΙΑΣΩΝΑΣ ΔΥΟΜΠΑΝΗΣ Α 00:27:44 00:27:44\n18 16 0 5021 ΚΩΝΣΤΑΝΤΙΝΟΣ ΒΑΛΗΛΗΣ Α 00:27:44 00:27:44\n19 17 0 5006 ΓΕΩΡΓΙΟΣ ΧONΔΡΕΛΛΗΣ Α 00:28:38 00:28:384443 χιλιόμετρα \n3 χιλιόμετρα \nRANK GENDER AGE CAT BIB NAME SEX CLUB ΧΡΟΝΟΣ ΚΑΘ. ΧΡΟΝΟΣ\n1 1 1 3041 ΙΩΑΝΝΗΣ ΧΑΤΖΗΠΑΝΑΓΙΩΤΗΣ Α 00:10:11 00:10:11\n2 2 2 3059 ΑΛΕΞΑΝΔΡΟΣ ΚΕΛΜΑΛΗΣ Α 00:10:14 00:10:14\n3 3 3 5030 ΔΗΜΗΤΡΗΣ ΚΟΥΛΜΑΝΔΑΣ Α 00:10:50 00:10:50\n4 4 4 3019 ΝΙΚΟΛΑΟΣ ΚAΣΤΡΙΝΟΣ Α 00:10:54 00:10:54\n5 5 1 5045 ΤΑΞΙΑΡΧΗΣ ΝΗΣΙΩΤΗΣ Α ΑΘΛΟΚΙΝΗΣΗ 00:11:04 00:11:04\n6 6 2 21015 ΒΑΣΙΛΗΣ ΨΥΛΛΑΚΗΣ Α 00:12:05 00:12:05\n7 7 5 5038 ΝΙΚΟΛΑΟΣ ΠΛΩΜΑΡΙΤΗΣ Α 00:12:07 00:12:07\n8 8 6 3035 ΓΕΩΡΓΙΟΣ ΣΙΣΜΑΝΙΔΗΣ Α 00:13:31 00:13:31\n9 9 3 3048 ΚΩΣΤΑΣ ΧΥΔΗΡΙΩΤΗΣ Α 00:13:45 00:13:45\n10 10 7 3031 ΔΗΜΗΤΡΙΟΣ ΠΕΡΡΑΣ Α 00:13:48 00:13:48\n11 11 8 3061 ΑΝΤΩΝΙΟΣ ΜΟΥΤΣΟΣ Α 00:13:51 00:13:51\n12 12 9 3057 ΑΝΤΩΝΗΣ ΚΟΝΤΑΚΑΣ Α 00:13:59 00:13:59\n13 13 4 3021 ΣΤΥΛΙΑΝΟΣ ΚOYTΣΚΟΥΔΗΣ Α ΑΘΛΟΚΙΝΗΣΗ 00:14:02 00:14:02\n14 14 5 3020 ΔΗΜΗΤΡΙΟΣ ΚOYTΣΚΟΥΔΗΣ Α AΘΛΟΚΙΝΗΣΗ 00:14:05 00:14:05\n15 15 6 5023 ΠΑΝΑΓΙΩΤΗΣ ΓΑΙΤΑΝΟΣ Α 00:14:31 00:14:31\n16 16 10 3040 ΓΕΩΡΓΙΟΣ ΤΣΙΜΕΚΗΣ Α 00:14:42 00:14:42\n17 17 7 3011 ΔΗΜΗΤΡΙΟΣ ΓΙΑΝΝΟΠΟΥΛΟΣ Α 00:14:49 00:14:49\n18 18 11 3024 ΠΑΝΑΓΙΩΤΗΣ ΜΑΥΡΟΥΔΗΣ Α 00:15:37 00:15:37\n19 19 12 21061 ΜΙΧΑΛΗΣ ΜΙΧΑΗΛ Α 00:15:37 00:15:37\n20 1 1 3034 ΦΩΤΕΙΝΗ ΡΟΥΜΕΛΙΩΤΗ Γ 00:15:44 00:15:44\n21 20 8 3042 ΧΑΡΑΛΑΜΠΟΣ ΧΥΔΗΡΙΩΤΗΣ Α 00:15:55 00:15:55\n22 2 2 3029 ΚΛΑΙΡΗ ΝΤΟΥΜΑΝΗ Γ 00:16:04 00:16:04\n23 21 13 3054 ΠΑΝΑΓΙΩΤΗΣ ΒΑΛΕΛΗΣ Α 00:16:09 00:16:09\n24 22 14 3026 ΒΑΣΙΛΕΙΟΣ ΜΠΟΥΡΛΑΚΗΣ Α 00:16:22 00:16:22\n25 23 9 5029 ΟΡΕΣΤΗΣ ΚΟΝΤΟΣ Α 00:16:39 00:16:39\n26 24 10 3010 ΣΤΕΛΙΟΣ ΒΟΥΓΙΟΥΚΑΣ Α 00:16:40 00:16:40\n27 25 11 3006 ΓΕΩΡΓΙΟΣ ΒΑΛΑΒΑΝΗΣ Α ΑΟΜ 00:16:44 00:16:44\n28 26 12 3005 ΙΩΑΝΝΗΣ ΒAKAΛΗΣ Α 00:16:47 00:16:47\n29 3 3 3051 ΜΑΡΙΑΛΕΝΑ ΒΟΡΕΟΠΟΥΛΟΥ Γ 00:17:11 00:17:11\n30 4 1 3023 ΡΟΖΑ ΚΑΡΥΔΗ Γ 00:17:16 00:17:16\n31 5 2 3028 ΛΙΝΑ ΝΟΜΙΚΟΥ Γ 00:17:16 00:17:16\n32 6 4 3030 ΜΑΡΙΑ ΠΕΡΡΑ Γ 00:17:37 00:17:37\n33 27 13 3018 ΜΙΧΑΛΗΣ ΚAΡΑΣΤΕΦΑΝΗΣ Α 00:18:01 00:18:01\n34 7 5 3025 ΕΙΡΗΝΗ ΜΠΟΥΡΛΑΚΗ Γ 00:18:23 00:18:23\n35 28 15 3056 ΔΗΜΗΤΡΙΟΣ ΓΩΓΟΣ Α 00:18:57 00:18:57\n36 8 3 3012 ΜΑΡΙΑ ΕΥΑΓΓΕΛΙΝΟΥ Γ 00:19:00 00:19:00\n37 29 16 3053 ΓΕΩΡΓΙΟΣ ΠΕΤΡΑΚΗΣ Α 00:19:59 00:19:59\n38 30 17 3055 ΓΑΒΡΙΗΛ ΧΟΝΔΡΕΛΗΣ Α 00:20:12 00:20:12\n39 31 14 3017 ΣΤΑΜΑΤΗΣ ΚAΞΙΡΗΣ Α 00:21:00 00:21:00\n40 9 4 3058 ΕΛΕΝΗ ΚΑΛΑΜΠΑΚΑ Γ 00:21:17 00:21:17\n41 10 6 3046 ΣΤΑΥΡΟΥΛΑ ΒΑΛΕΛΗ Γ 00:21:57 00:21:57\n42 11 5 3013 ΜΑΙΡΗ ΖAΦΕΙΡΕΛΛΗ Γ 00:21:57 00:21:57\n43 12 7 3047 ΚΩΝΣΤΑΝΤΙΝΑ ΝΤΟΥΝΙΑ Γ 00:23:36 00:23:36\n44 13 8 3052 ΑΝΑΣΤΑΣΙΑ ΔΗΜΑ Γ 00:26:55 00:26:55\n45 14 9 3008 ΜΥΡΣΙΝΗ ΒΑΣΙΛΑ Γ 00:29:29 00:29:29 \n3 χιλιόμετρα βάδισμα \nRANK GENDER AGE CAT BIB NAME SEX CLUB ΧΡΟΝΟΣ ΚΑΘ. ΧΡΟΝΟΣ\n1 1 0 5049 ΕΛΠΙΔΑ ΜΑΡΙΑ ΣΤΑΜΠΟΥΛΗ Γ 00:18:35 00:18:35\n2 1 0 5036 ΘΕΟΧΑΡΗΣ ΠΕΛΕΚΟΣ Α 00:18:49 00:18:49\n3 2 0 3070 ΔΕΣΠΟΙΝΑ ΙΩΣΗΦΕΛΗ Γ 00:20:11 00:20:11\n4 2 0 3069 ΓΙΑΝΝΗΣ ΒΑΛΗΛΗΣ Α 00:20:12 00:20:12\n5 3 0 21084 ΝΙΚΟΣ ΘΕΟΔΟΣΙΟΥ Α 00:21:25 00:21:25\n6 4 0 3068 ΛΑΚΗΣ ΒΑΛΗΛΗΣ Α 00:21:27 00:21:27\n7 5 0 3004 ΣΑΒΒΑΣ ΒABΛΑΔΕΛΛΗΣ Α 00:24:00 00:24:00\n8 6 0 21072 ΒΑΣΙΛΗΣ ΚΑΛΟΓΗΡΟΣ Α 00:25:06 00:25:06\n9 7 0 3044 GIGEL VACARU Α 00:25:08 00:25:08\n10 8 0 21089 ΑΔΑΜ ΚΑΣΑΠΗΣ Α 00:26:12 00:26:12\n11 3 0 3001 ΕΛΕΝΗ ΑΒΡΑΜΕΛΟΥ Γ 00:26:13 00:26:13\n12 4 0 21088 ΜΑΡΙΑ ΚΑΡΛΑΡΑ Γ 00:26:53 00:26:53\n13 9 0 21086 ΜΑΓΔΑΛΗΝΟΣ ΒΛΑΜΗΣ Α 00:27:42 00:27:42\n14 5 0 5041 ΚΑΤΕΡΙΝΑ ΚΟΥΡΛΗ Γ 00:28:10 00:28:10\n15 10 0 21085 ΒΑΣΙΛΕΙΟΣ ΒΟΓΙΑΤΖΗΣ Α 00:28:14 00:28:14\n16 6 0 3015 ΚΑΤΕΡΙΝΑ ΘΕΟΔΟΣΙΟΥ Γ 00:28:18 00:28:18\n17 7 0 3014 ΕΛΕΝΗ ΖΟΥΜΠΟΥΝΕΛΛΗ Γ 00:28:26 00:28:26\n18 8 0 3060 ΔΗΜΗΤΡΑ ΣΙΒΡΗ Γ 00:29:04 00:29:04\n19 9 0 3062 ΠΑΝΑΓΙΩΤΑ ΚΩΣΤΑΝΤΙΝΕΛΛΗ Γ 00:29:29 00:29:29\n20 11 0 3050 ΒΑΣΙΛΕΙΟΣ ΓΙΑΛΟΥΡΗΣ Α 00:29:39 00:29:39\n21 12 0 21073 ΦΩΤΗΣ ΒΑΛΕΛΗΣ Α 00:30:52 00:30:52\n22 10 0 21083 ΧΡΥΣΑΝΘΗ ΠΑΠΑΔΟΠΟΥΛΟΥ Γ 00:31:02 00:31:02\n23 11 0 21081 ΙΣΜΗΝΗ ΓΕΡΟΔΗΜΟΥ Γ 00:31:02 00:31:02\n24 12 0 21082 ΔΙΟΝΥΣΙΑ ΠΕΠΠΕ Γ 00:31:05 00:31:05\n25 13 0 5035 ΠΑΥΛΙΝΑ ΝΟΙΚΟΚΥΡΗ Γ 00:31:07 00:31:07\n26 14 0 3009 ΧΡΙΣΤΙΝΑ ΒΑΣΙΛΑ Γ 00:31:11 00:31:11\n27 15 0 5040 ΜΕΛΠΟΜΕΝΗ ΔΡΑΚΟΥΛΗ Γ 00:31:27 00:31:27\n28 16 0 3027 ΕΥΔΟΚΙΑ ΝΟΙΚΟΚΥΡΗ Γ 00:31:59 00:31:59\n29 17 0 3002 ΕΥΑΝΘΙΑ ΑΓΡΙΤΑΚΑ Γ 00:31:59 00:31:59\n30 13 0 5037 ΑΡΙΣΤΕΙΔΗΣ ΤΣΟΥΡΟΣ Α 00:32:25 00:32:25\n31 18 0 3033 ΕΦΗ ΠΙΠΙΝΗ Γ 00:32:30 00:32:30\n32 19 0 3016 ΘΕΟΔΩΡΑ σα Γ 00:32:46 00:32:46\n33 20 0 3045 ΜΑΡΙΑ ΧΡΙΣΤΟΔΟΥΛΟΥ Γ 00:32:48 00:32:48\n34 21 0 5050 ΓΙΩΤΑ ΠΑΠΑΔΟΠΟΥΛΟΥ Γ 00:32:49 00:32:49\n35 22 0 5044 ΚΛΕΙΩ ΤΖΙΟΒΑΝΗ Γ 00:34:05 00:34:05\n36 23 0 5047 ΧΡΥΣΑΝΘΗ ΤΖΟΒΑΝΗ Γ 00:34:08 00:34:08\n37 24 0 21087 ΑΙΜΙΛΙΑ ΚΑΙΔΑΤΖΗ Γ 00:35:07 00:35:07\n38 25 0 5046 ΕΛΕΝΗ ΠΙΤΣΑ Γ 00:35:52 00:35:52\n39 26 0 3065 ΑΦΡΟΔΙΤΗ ΚΑΡΛΑΡΑ Γ 00:35:52 00:35:52\n40 27 0 21071 ΔΗΜΗΤΡΑ ΓΩΓΟΥ Γ 00:37:41 00:37:41\n41 28 0 3049 ΒΑΣΙΛΙΚΗ ΚΑΡΑΣΤΕΦΑΝΗ Γ 00:39:27 00:39:27\n42 29 0 3064 ΧΡΙΣΤΙΝΑ ΚΑΡΤΕΡΗ Γ 00:40:29 00:40:29\n43 30 0 3063 ΕΛΠΙΔΑ ΚΑΡΤΕΡΗ Γ 00:40:31 00:40:31\n44 31 0 3067 ΠΑΝΑΓΙΩΤΑ ΒΡΑΧΝΟΥ Γ 00:40:31 00:40:31\n45 32 0 5039 ΑΓΛΑΙΑ ΚΩΝΣΤΑΝΤΙΝΕΛΛΗ Γ 00:42:33 00:42:33\n46 33 0 5042 ΓΕΩΡΓΙΑ ΔΡΟΣΟΥ Γ 00:43:04 00:43:04
URL:https://gorun.gr/race/3%ce%bf%cf%82-%ce%b7%ce%bc%ce%b9%ce%bc%ce%b1%cf%81%ce%b1%ce%b8%cf%8e%ce%bd%ce%b9%ce%bf%cf%82-%ce%bc%ce%b5%cf%83%ce%bf%cf%84%cf%8c%cf%80%ce%bf%cf%85-%ce%bb%ce%ad%cf%83%ce%b2%ce%bf%cf%85/
CATEGORIES:Αποτελέσματα,Δρόμος
END:VEVENT
END:VCALENDAR