BEGIN:VCALENDAR
VERSION:2.0
PRODID:-//goRUN - ECPv5.8.1//NONSGML v1.0//EN
CALSCALE:GREGORIAN
METHOD:PUBLISH
X-WR-CALNAME:goRUN
X-ORIGINAL-URL:https://gorun.gr
X-WR-CALDESC:Events for goRUN
BEGIN:VTIMEZONE
TZID:Europe/Athens
BEGIN:DAYLIGHT
TZOFFSETFROM:+0200
TZOFFSETTO:+0300
TZNAME:EEST
DTSTART:20160327T010000
END:DAYLIGHT
BEGIN:STANDARD
TZOFFSETFROM:+0300
TZOFFSETTO:+0200
TZNAME:EET
DTSTART:20161030T010000
END:STANDARD
END:VTIMEZONE
BEGIN:VEVENT
DTSTART;VALUE=DATE:20161015
DTEND;VALUE=DATE:20161016
DTSTAMP:20260422T062158
CREATED:20161017T065930Z
LAST-MODIFIED:20161017T070206Z
UID:12169-1476489600-1476575999@gorun.gr
SUMMARY:3oς Νυχτερινός Δρόμος του Νερού Έδεσσας
DESCRIPTION:5 χιλιόμετρα \nΑΠΟΤΕΛΕΣΜΑΤΑ 3ου ΝΥΚΤΕΡΙΝΟΥ ΔΡΟΜΟΥ ΝΕΡΟΥ ΣΤΗΝ ΕΔΕΣΣΑ \nΓΕΝΙΚΗ ΚΑΤΑΤΑΞΗ ΔΡΟΜΕΩΝ\nΓΕΝ BIB ΕΠΩΝΥΜΟ ΟΝΟΜΑ ΦΥΛΟ ΚΑΤ ΠΟΛΗ ΟΜΑΔΑ ΧΡΟΝΟΣ\n1 238 ΜΙΧΑΗΛΙΔΗΣ ΠΕΤΡΟΣ Α Ανδρών ΠΥΡΓΟΙ ΕΟΡΔΑΙΑΣ Σ.Δ.Ο. ΕΟΡΔΑΙΑΣ 0:17:49\n2 229 ΚΟΥΚΟΥΤΕΓΟΣ ΑΝΤΩΝΙΟΣ Α Ανδρών ΒΕΡΟΙΑ ΣΥΛ. ΔΡΟΜΕΩΝ ΒΕΡΟΙΑΣ 0:18:01\n3 10 ΧΟΤΖΑ ΦΡΑΝΣΕΣΚΟ Α Ανδρών ΕΔΕΣΣΑ ΠΑΣ ΦΛΑΜΟΥΡΙΑΣ 0:18:08\n4 301 ΔΗΜΗΤΡΙΑΔΗΣ ΑΜΒΡΟΣΙΟΣ Α Ανδρών ΠΤΟΛΕΜΑΙΔΑ ΣΔΥ ΒΟΛΟΥ 0:18:47\n5 230 ΙΟΡΔΑΝΟΠΟΥΛΟΣ ΕΛΕΥΘΕΡΙΟΣ Α Ανδρών ΒΕΡΟΙΑ ΣΥΛΛΟΓΟΣ ΔΡΟΜΕΩΝ ΒΕΡΟΙΑΣ 0:18:53\n6 292 ΙΝΤΖΕΣ ΚΩΝΣΤΑΝΤΙΝΟΣ Α Ανδρών ΓΙΑΝΝΙΤΣΑ ΓΠΣ ΚΑΛΛΙΠΟΛΗΣ 0:19:08\n7 215 ΠΑΡΑΣΤΑΤΙΔΗΣ ΘΕΟΔΩΡΟΣ Α Ανδρών ΘΕΣΣΑΛΟΝΙΚΗ Σ.Δ.Υ.ΘΕΣ/ΝΙΚΗΣ 0:19:10\n8 199 ΡΟΒΥΘΑΚΗΣ ΑΝΑΣΤΑΣΙΟΣ Α Ανδρών ΝΕΑΠΟΛΗ ΚΟΖΑΝΗΣ ΣΔΥ ΚΟΖΑΝΗΣ 0:19:10\n9 195 ΣΚΟΡΔΑΣ ΑΘΑΝΑΣΙΟΣ Α Ανδρών ΝΕΑΠΟΛΗ ΚΟΖΑΝΗΣ ΣΔΥ ΚΟΖΑΝΗΣ 0:19:13\n10 259 ΠΑΠΑΔΟΠΟΥΛΟΣ ΔΗΜΗΤΡΙΟΣ Α Ανδρών ΕΔΕΣΣΑ ΠΑΣ ΦΛΑΜΟΥΡΙΑΣ 0:19:31\n11 36 ΧΡΥΣΟΧΟΪΔΗΣ ΙΩΑΝΝΗΣ Α Ανδρών ΕΔΕΣΣΑ ΣΕΒΑΣ ΕΔΕΣΣΑΣ 0:19:42\n12 8 ΠΟΝΤΙΚΗΣ ΔΗΜΗΤΡΗΣ Α Ανδρών ΕΔΕΣΣΑ ΠΑΣ ΦΛΑΜΟΥΡΙΑΣ 0:19:44\n13 7 ΠΙΤΣΙΔΟΠΟΥΛΟΣ ΕΛΕΥΘΕΡΙΟΣ Α Ανδρών ΕΔΕΣΣΑ Γ.Σ. ΕΔΕΣΣΑΣ 0:19:51\n14 288 ΜΙΧΑΗΛΙΔΗΣ ΣΤΑΥΡΟΣ Α Ανδρών ΣΚΥΔΡΑ ΟΜΑΔΑ ΜΑΡΑΘΩΝΙΟΥ ΓΙΑΝΝΙΤΣΩΝ 0:19:55\n15 252 ΣΙΟΥΛΑΣ ΝΙΚΟΛΑΟΣ Α Ανδρών ΘΕΣΣΑΛΟΝΙΚΗ ΣΕΒΑΣΘ 0:19:57\n16 11 ΣΙΩΝΗΣ ΠΑΪΣΙΟΣ Α Ανδρών ΕΔΕΣΣΑ ΑΕΡΩΠΟΣ ΕΔΕΣΣΑΣ 0:19:58\n17 24 ΤΖΩΤΖΗΣ ΠΕΤΡΟΣ Α Ανδρών ΕΔΕΣΣΑ ΣΕΒΑΣ ΕΔΕΣΣΑΣ 0:20:17\n18 15 ΝΙΚΟΛΑΟΥ ΚΩΝΣΤΑΝΤΙΝΟΣ Α Ανδρών ΕΔΕΣΣΑ 0:20:21\n19 5 ΚΑΜΤΣΗ ΑΣΗΜΕΝΙΑ Γ Γυναικών ΕΔΕΣΣΑ Γ.Σ. ΕΔΕΣΣΑΣ 0:20:22\n20 268 ΣΤΟΙΚΟΣ ΑΝΤΩΝΗΣ Α Ανδρών ΑΡΝΙΣΣΑ ROAD RUNNERS ARNISSAS 0:20:28\n21 272 ΠΕΤΡΟΠΟΥΛΟΣ ΔΗΜΗΤΡΙΟΣ Α Ανδρών ΚΑΛΟΝΕΡΙ ΚΟΖΑΝΗΣ ΣΔΥ ΚΟΖΑΝΗΣ 0:20:31\n22 302 ΔΑΡΔΟΥΜΠΑΣ ΑΘΑΝΑΣΙΟΣ Α Ανδρών ΚΟΖΑΝΗ ΣΔΥ ΚΟΖΑΝΗΣ 0:20:31\n23 4 ΔΗΜΗΤΡΙΑΔΟΥ ΦΑΝΗ Γ Γυναικών ΕΔΕΣΣΑ Γ.Σ. ΕΔΕΣΣΑΣ 0:20:58\n24 100 ΚΙΟΥΡΤΖΙΔΗΣ ΒΑΣΙΛΕΙΟΣ Α Ανδρών ΕΔΕΣΣΑ Γ.Σ. ΕΔΕΣΣΑΣ 0:20:59\n25 239 ΣΙΣΚΟΣ ΤΡΥΦΩΝ Α Ανδρών ΠΤΟΛΕΜΑΪΔΑ ΣΔΟΕ Katsikia runners 0:21:08\n26 74 ΤΣΑΠΑΣ ΔΗΜΗΤΡΙΟΣ Α Ανδρών ΕΔΕΣΣΑ ACADEMY FITTNES CLUB 0:21:10\n27 177 ΠΟΝΤΙΚΗΣ ΒΑΣΙΛΕΙΟΣ Α Ανδρών ΕΔΕΣΣΑ ΠΑΣ ΦΛΑΜΟΥΡΙΑΣ 0:21:11\n28 211 ΠΑΠΑΔΟΠΟΥΛΟΣ ΓΕΩΡΓΙΟΣ Α Ανδρών ΕΔΕΣΣΑ ΣΕΒΑΣ ΕΔΕΣΣΑΣ 0:21:20\n29 219 ΚΟΥΤΣΑΚΗΣ ΘΟΔΩΡΗΣ Α Ανδρών ΕΔΕΣΣΑ 0:21:27\n30 131 ΑΛΜΠΑΝΗΣ ΣΩΤΗΡΗΣ Α Ανδρών ΕΔΕΣΣΑ 0:21:33\n31 200 ΛΑΒΑΣΑΣ ΚΥΡΙΑΚΟΣ Α Ανδρών ΝΕΑΠΟΛΗ ΚΟΖΑΝΗΣ Α. Σ. Α. με Α. ” ΛΙΜΝΑΙΟΙ ” Ν. ΚΑΣΤΟΡΙΑΣ 0:21:35\n32 304 ΚΑΡΑΛΑΖΟΣ ΔΗΜΗΤΡΗΣ Α Ανδρών ΑΡΝΙΣΣΑ ROAD RUNNERS ARNISSAS 0:21:39\n33 305 ΠΑΠΑΤΡΑΙΑΝΟΥ ΕΥΔΟΞΙΑ Γ Γυναικών ΑΡΝΙΣΣΑ ROAD RUNNERS ARNISSAS 0:21:40\n34 218 ΚΑΡΤΑΛΗΣ ΠΑΝΤΕΛΗΣ Α Ανδρών ΕΔΕΣΣΑ 0:21:51\n35 156 ΜΕΓΑΡΧΙΩΤΗΣ ΠΑΝΟΣ Α Ανδρών ΘΕΣΣΑΛΟΝΙΚΗ 0:21:52\n36 197 ΤΣΑΚΙΛΤΖΙΔΗΣ ΚΥΡΙΑΚΟΣ Α Ανδρών ΚΟΖΑΝΗ 0:21:54\n37 175 ΛΑΖΗΣ ΒΑΣΙΛΗΣ Α Ανδρών ΕΔΕΣΣΑ ΠΑΣ ΦΛΑΜΟΥΡΙΑΣ 0:21:56\n38 50 ΜΙΑΛΗΣ ΙΩΑΝΝΗΣ Α Ανδρών ΕΔΕΣΣΑ 0:22:01\n39 3 ΓΚΕΝΤΖΗ ΑΛΕΞΑΝΔΡΑ Γ Γυναικών ΕΔΕΣΣΑ Γ.Σ. ΕΔΕΣΣΑΣ 0:22:02\n40 1 ΑΝΤΩΝΙΑΔΟΥ ΑΙΚΑΤΕΡΙΝΗ Γ Γυναικών ΕΔΕΣΣΑ Γ.Σ. ΕΔΕΣΣΑΣ 0:22:15\n41 277 ΠΑΣΙΑΛΗΣ ΚΥΡΙΑΚΟΣ Α Ανδρών ΕΔΕΣΣΑ 0:22:39\n42 39 ΤΥΜΗΣ ΑΡΙΣΤΕΙΔΗΣ Α Ανδρών ΕΔΕΣΣΑ 0:22:42\n43 275 ΝΟΥΤΣΙΟΣ ΙΩΑΝΝΗΣ Α Ανδρών ΑΜΦΙΛΟΧΙΑ ΑΜΦΙΛΟΧΙΑ 0:22:44\n44 358 ΣΙΩΡΗΣ ΙΩΑΝΝΗΣ Α Ανδρών ΕΔΕΣΣΑ 0:22:46\n45 97 ΒΛΑΔΙΚΑΣ ΘΩΜΑΣ Α Ανδρών ΕΔΕΣΣΑ ACADEMY FITTNES CLUB 0:22:47\n46 183 ΔΟΥΡΒΑΝΑΚΗΣ ΜΙΧΑΛΗΣ Α Ανδρών ΕΔΕΣΣΑ ΠΑΣ ΦΛΑΜΟΥΡΙΑΣ 0:22:48\n47 94 ΠΑΠΑΧΡΗΣΤΟΥ ΔΗΜΗΤΡΗΣ Α Ανδρών ΕΔΕΣΣΑ ACADEMY FITTNES CLUB 0:22:57\n48 300 ΚΟΣΜΙΔΗΣ ΣΥΜΕΩΝ Α Ανδρών ΠΤΟΛΕΜΑΪΔΑ Σ.Δ.Ο. ΕΟΡΔΑΙΑΣ 0:22:59\n49 201 ΤΖΙΛΙΑΣ ΑΡΙΣΤΟΤΕΛΗΣ Α Ανδρών ΝΕΑΠΟΛΗ ΚΟΖΑΝΗΣ ΣΔΥ ΚΟΖΑΝΗΣ 0:22:59\n50 287 ΚΑΜΤΣΗ ΕΛΕΝΗ Γ Γυναικών ΕΔΕΣΣΑ Γ.Σ. ΕΔΕΣΣΑΣ 0:23:02\n51 123 ΜΠΑΣΜΑΤΖΟΓΛΟΥ ΕΜΜΑΝΟΥΗΛ Α Ανδρών ΘΕΣΣΑΛΟΝΙΚΗ 0:23:09\n52 170 ΠΑΠΑΝΑΣΤΑΣΙΟΥ ΣΩΚΡΑΤΗΣ Α Ανδρών ΕΔΕΣΣΑ 0:23:16\n53 162 ΜΥΤΙΛΗΝΟΣ ΠΑΝΑΓΙΩΤΗΣ Α Ανδρών ΘΕΣΣΑΛΟΝΙΚΗ 0:23:19\n54 290 ΠΑΠΑΤΡΑΙΑΝΟΣ ΓΕΩΡΓΙΟΣ Α Ανδρών ΑΡΝΙΣΣΑ ROAD RUNNERS ARNISSAS 0:23:21\n55 291 ΠΑΠΑΤΡΑΙΑΝΟΣ ΚΩΝΣΤΑΝΤΙΝΟΣ Α Ανδρών ΑΡΝΙΣΣΑ ROAD RUNNERS ARNISSAS 0:23:22\n56 119 ΠΑΛΗΜΑΝΗΣ ΚΩΝΣΤΑΝΤΙΝΟΣ Α Ανδρών ΕΔΕΣΣΑ 0:23:23\n57 205 ΑΡΓΥΡΙΑΔΗΣ ΙΩΑΝΝΗΣ Α Ανδρών ΘΕΣ/ΝΙΚΗ ΣΔΥ ΘΕΣΣΑΛΟΝΙΚΗΣ 0:23:23\n58 176 ΜΑΡΤΣΗΣ ΑΝΑΣΤΑΣΙΟΣ Α Ανδρών ΕΔΕΣΣΑ ΠΑΣ ΦΛΑΜΟΥΡΙΑΣ 0:23:37\n59 267 ΕΓΡΕΣ ΖΑΦΕΙΡΗΣ Α Ανδρών ΚΑΛΟΝΕΡΙ ΚΟΖΑΝΗΣ ΑΝΕΞΑΡΤΗΤΟΣ 0:23:46\n60 269 ΜΠΕΛΛΟΣ ΓΕΩΡΓΙΟΣ Α Ανδρών ΝΕΑΠΟΛΗ ΚΟΖΑΝΗΣ ΣΔΥ ΚΟΖΑΝΗΣ 0:23:46\n61 313 ΜΠΟΤΖΩΡΗΣ ΘΕΟΔΩΡΟΣ Α Ανδρών ΘΕΣΣΑΛΟΝΙΚΗ 0:23:48\n62 335 ΜΙΧΑΣ ΓΕΩΡΓΙΟΣ Α Ανδρών ΕΔΕΣΣΑ 0:23:53\n63 27 ΜΗΤΡΙΑΣ ΕΥΑΓΓΕΛΟΣ Α Ανδρών ΕΔΕΣΣΑ 0:23:55\n64 106 ΓΑΡΓΑΛΑΣ ΔΗΜΗΤΡΙΟΣ Α Ανδρών ΘΕΣΣΑΛΟΝΙΚΗ 0:24:07\n65 312 ΛΑΛΑΓΚΟΣ ΚΩΝΣΤΑΝΤΙΝΟΣ Α Ανδρών ΘΕΣΣΑΛΟΝΙΚΗ 0:24:08\n66 154 ΡΕΤΖΙΟΣ ΦΩΤΙΟΣ Α Ανδρών ΕΔΕΣΣΑ ΙΚΑΡΟΣ 0:24:09\n67 333 ΑΝΤΩΝΙΑΔΗΣ ΦΑΝΗΣ Α Ανδρών ΕΔΕΣΣΑ 0:24:17\n68 346 ΦΑΝΑΚΗΣ ΑΠΟΣΤΟΛΟΣ Α Ανδρών ΦΙΛΩΤΑΣ ΣΟΛΟΥ ΝΤΕΡΕ ΦΙΛΩΤΑΣ 0:24:20\n69 303 ΜΗΣΙΡΛΙΔΟΥ ΕΛΙΣΣΑΒΕΤ Γ Γυναικών ΕΔΕΣΣΑ 0:24:23\n70 70 ΜΑΡΚΟΥΖΑΝΗΣ ΑΝΤΩΝΗΣ Α Ανδρών ΕΔΕΣΣΑ ACADEMY FITTNES CLUB 0:24:27\n71 113 ΚΟΛΑ ΜΑΝΟΣ Α Ανδρών ΈΔΕΣΣΑ 0:24:28\n72 102 ΚΟΓΙΑΣ ΓΕΩΡΓΙΟΣ Α Ανδρών ΘΕΣΣΑΛΟΝΙΚΗ 0:24:32\n73 245 ΞΕΝΙΔΗΣ ΑΝΑΣΤΑΣΙΟΣ Α Ανδρών ΕΔΕΣΣΑ 0:24:34\n74 212 ΧΟΤΖΑ ΡΟΕΛ Α Ανδρών ΕΔΕΣΣΑ ΠΑΣ ΦΛΑΜΟΥΡΙΑΣ 0:24:36\n75 285 ΑΝΤΩΝΙΑΔΟΥ ΙΩΑΝΝΑ Γ Γυναικών ΕΔΕΣΣΑ 0:24:38\n76 329 ΚΟΓΙΑ ΜΑΡΙΑ Γ Γυναικών ΒΕΡΟΙΑ ΣΥΛΛΟΓΟΣ ΔΡΟΜΕΩΝ ΒΕΡΟΙΑΣ 0:24:44\n77 334 ΚΙΤΣΟΣ ΕΥΣΤΑΘΙΟΣ Α Ανδρών ΕΔΕΣΣΣΑ 0:24:49\n78 242 ΧΑΤΖΗΓΕΩΡΓΙΟΥ ΓΕΩΡΓΙΟΣ Α Ανδρών ΘΕΣΣΑΛΟΝΙΚΗ 0:24:57\n79 160 ΔΗΜΟΥ ΓΕΩΡΓΙΟΣ Α Ανδρών ΕΔΕΣΣΑ 0:24:58\n80 314 ΜΗΤΥΛΙΝΟΣ ΝΙΚΟΣ Α Ανδρών ΘΕΣΣΑΛΟΝΙΚΗ ΑΝΕΞΑΡΤΗΤΟΣ 0:25:00\n81 297 ΧΑΡΝΤ ΚΩΝΣΤΑΝΤΙ Α Ανδρών ΘΕΣΣΑΛΟΝΙΚΗ POLYSPORT 0:25:06\n82 296 ΠΕΤΑΛΩΤΗΣ ΚΩΝΣΤΑΝΤΊΝΟΣ Α Ανδρών ΘΕΣΣΑΛΟΝΊΚΗ Σ.Δ.Υ.ΘΕΣ/ΝΙΚΗΣ 0:25:08\n83 145 ΔΗΜΗΤΡΙΑΔΟΥ ΦΑΙΗ Γ Γυναικών ΕΔΕΣΣΑ Γ.Σ. ΕΔΕΣΣΑΣ 0:25:11\n84 286 ΑΡΣΕΝΙΟΥ ΕΛΙΝΑ Γ Γυναικών ΕΔΕΣΣΑ Γ.Σ. ΕΔΕΣΣΑΣ 0:25:12\n85 284 ΤΣΙΤΣΟΣ ΘΩΜΑΣ Α Ανδρών ΓΙΑΝΝΙΤΣΑ ΓΠΣ ΚΑΛΛΙΠΟΛΗΣ 0:25:14\n86 276 ΝΟΥΤΣΙΟΥ ΧΑΡΑ Γ Γυναικών ΑΜΦΙΛΟΧΙΑ ΑΜΦΙΛΟΧΙΑ 0:25:16\n87 228 ΚΟΣΤΙΤΣ ΣΙΛΟΥΑΝΗ Γ Γυναικών ΕΔΕΣΣΑ ΠΑΣ ΦΛΑΜΟΥΡΙΑΣ 0:25:17\n88 294 ΚΥΡΙΑΚΟΥ ΑΛΕΞΑΝΔΡΟΣ Α Ανδρών ΕΔΕΣΣΑ ΤΡΕΧΩ ΓΙΑ ΤΗΝ ΕΔΕΣΣΑ 0:25:26\n89 327 ΠΟΛΑΤΣΙΔΗΣ ΠΑΥΛΟΣ Α Ανδρών ΚΡΥΑ ΒΡΥΣΗ ΑΝΕΞΑΡΤΗΤΟΣ 0:25:28\n90 283 ΤΣΙΤΣΟΣ ΝΙΚΟΛΑΟΣ Α Ανδρών ΓΙΑΝΝΙΤΣΑ ΟΜΑΔΑ ΜΑΡΑΘΩΝΙΟΥ ΓΙΑΝΝΙΤΣΩΝ 0:25:37\n91 357 ΓΙΑΛΑΜΑΣ ΔΗΜΗΤΡΗΣ Α Ανδρών ΚΟΠΑΝΟΣ-ΝΑΟΥΣΑΣ 0:25:41\n92 356 ΓΚΙΟΡΣΟΣ ΑΡΓΥΡΗΣ Α Ανδρών ΑΓΓΕΛΟΧΩΡΙ 0:25:42\n93 148 ΤΖΑΦΕΡΗ ΑΝΝΕΤΑ Γ Γυναικών ΕΔΕΣΣΑ 0:25:57\n94 254 ΣΤΕΡΓΙΑΔΗΣ ΣΤΑΜΑΤΗΣ Α Ανδρών ΘΕΣΣΑΛΟΝΙΚΗ ΣΔΥ ΘΕΣΣΑΛΟΝΙΚΗΣ 0:26:06\n95 273 ΠΑΡΘΕΝΟΠΟΥΛΟΣ ΜΙΧΑΗΛ Α Ανδρών ΘΕΣΣΑΛΟΝΙΚΗ Σ.Δ.Υ.ΘΕΣ/ΝΙΚΗΣ (ΣΤΡΕΜΠΕΝΙΩΤΕΣ) 0:26:08\n96 190 ΜΑΥΡΙΔΗΣ ΓΙΑΝΝΗΣ Α Ανδρών ΕΔΕΣΣΑ 0:26:09\n97 125 ΣΙΠΚΑ ΕΛΕΥΘΕΡΙΑ Γ Γυναικών ΕΔΕΣΣΑ Γ.Σ. ΕΔΕΣΣΑΣ 0:26:11\n98 247 ΡΥΣΑΦΗΣ ΔΗΜΗΤΡΙΟΣ Α Ανδρών ΕΔΕΣΣΑ 0:26:14\n99 165 ΕΥΑΓΓΕΛΟΠΟΥΛΟΥ ΑΙΚΑΤΕΡΙΝΗ Γ Γυναικών ΚΑΤΕΡΙΝΗ Α.Π.Σ.Δ. ΖΕΥΣ ΠΙΕΡΙΑΣ 0:26:15\n100 202 ΒΑΡΔΑΡΗΣ ΧΡΗΣΤΟΣ Α Ανδρών ΑΡΝΙΣΣΑ 0:26:20\n101 6 ΜΗΤΣΑΡΑΚΗ ΝΙΚΟΛΕΤΑ Γ Γυναικών ΕΔΕΣΣΑ ΠΑΣ ΦΛΑΜΟΥΡΙΑΣ 0:26:22\n102 42 ΣΕΡΠΕΤΣΟΓΛΟΥ ΛΑΖΑΡΟΣ Α Ανδρών ΕΔΕΣΣΑ 0:26:24\n103 164 ΓΚΟΥΠΙΔΕΝΗΣ ΣΤΕΦΑΝΟΣ Α Ανδρών ΚΑΣΤΟΡΙΑ 0:26:28\n104 168 ΜΙΣΟΚΕΦΑΛΟΣ ΓΙΑΝΝΗΣ Α Ανδρών ΒΕΡΟΙΑ ΣΔΥ ΒΕΡΟΙΑΣ 0:26:30\n105 85 ΜΠΑΚΥΡΤΣΗΣ ΛΕΥΤΕΡΗΣ Α Ανδρών ΕΔΕΣΣΑ ACADEMY FITTNES CLUB 0:26:38\n106 153 ΡΕΤΖΙΟΣ ΝΙΚΟΛΑΟΣ Α Ανδρών ΕΔΕΣΣΑ ΙΚΑΡΟΣ 0:26:49\n107 29 ΜΑΥΡΟΠΑΛΙΑΣ ΤΡΥΦΩΝ Α Ανδρών ΕΔΕΣΣΑ ΣΕΒΑΣ ΕΔΕΣΣΑΣ 0:26:53\n108 220 ΜΗΝΟΥ ΧΡΗΣΤΟΣ Α Ανδρών ΟΡΜΑ ΟΜΑΔΑ ΜΑΡΑΘΩΝΙΟΥ ΓΙΑΝΝΙΤΣΩΝ 0:27:01\n109 352 ΣΑΛΛΗ ΣΩΤΗΡΙΑ Γ Γυναικών ΣΚΥΔΡΑ ΣΚΥΔΡΑΙΚΟΣ 0:27:03\n110 76 ΒΛΑΔΙΤΣΗΣ ΣΤΑΥΡΟΣ Α Ανδρών ΕΔΕΣΣΑ ACADEMY FITTNES CLUB 0:27:07\n111 189 ΧΑΤΖΗΤΡΑΗΣ ΑΓΓΕΛΟΣ Α Ανδρών ΕΔΕΣΣΑ 0:27:27\n112 343 ΛΙΑΠΗΣ ΕΥΘΥΜΙΟΣ Α Ανδρών ΓΙΑΝΝΙΤΣΑ ΓΠΣ ΚΑΛΛΙΠΟΛΗΣ 0:27:29\n113 324 ΚΑΛΑΪΤΖΗΣ ΘΩΜΑΣ Α Ανδρών ΝΑΟΥΣΑ 0:27:41\n114 71 ΚΑΦΕΤΖΗΣ ΘΩΜΑΣ Α Ανδρών ΕΔΕΣΣΑ ACADEMY FITTNES CLUB 0:27:45\n115 120 ΜΑΥΡΙΔΗΣ ΑΝΕΣΤΗΣ Α Ανδρών ΕΔΕΣΣΑ 0:27:46\n116 196 ΚΑΡΑΘΑΝΑΣΗ ΠΑΝΑΓΙΩΤΑ Γ Γυναικών ΝΕΑΠΟΛΗ ΚΟΖΑΝΗΣ ΣΔΥ ΚΟΖΑΝΗΣ 0:27:49\n117 110 ΜΠΟΥΖΑΝΑ ΑΙΚΑΤΕΡΙΝΗ Γ Γυναικών ΕΔΕΣΣΑ 0:27:50\n118 40 ΜΠΕΛΜΠΑΣ ΑΘΑΝΑΣΙΟΣ Α Ανδρών ΕΔΕΣΣΑ 0:27:51\n119 #N/A #N/A #N/A #N/A #N/A #N/A 0:27:51\n120 370 ΚΟΚΛΗΣ ΔΗΜΗΤΡΙΟΣ Α Ανδρών ΕΔΕΣΣΑ 0:27:57\n121 121 ΒΟΓΙΑΤΖΗΣ ΣΩΤΗΡΙΟΣ Α Ανδρών ΕΔΕΣΣΑ ΣΕΒΑΣ ΕΔΕΣΣΑΣ 0:27:58\n122 41 ΑΓΙΟΣ ΚΩΝΣΤΑΝΤΙΝΟΣ Α Ανδρών ΕΔΕΣΣΑ 0:28:00\n123 146 ΕΥΘΥΜΙΑΔΟΥ ΔΕΣΠΟΙΝΑ Γ Γυναικών ΕΔΕΣΣΑ 0:28:00\n124 126 ΣΙΠΚΑΣ ΚΩΝΣΤΑΝΤΙΝΟΣ Α Ανδρών ΕΔΕΣΣΑ 0:28:01\n125 48 ΑΝΤΩΝΙΑΔΟΥ ΕΛΙΣΑΒΕΤ Α Ανδρών ΕΔΕΣΣΑ 0:28:01\n126 255 ΚΑΜΖΕΛΑΣ ΔΗΜΗΤΡΙΟΣ Α Ανδρών ΦΛΩΡΙΝΑ 0:28:02\n127 47 ΚΙΤΚΑΣ ΙΩΑΝΝΗΣ Α Ανδρών ΕΔΕΣΣΑ 0:28:04\n128 147 ΕΥΘΥΜΙΑΔΟΥ ΑΝΑΣΤΑΣΙΑ Γ Γυναικών ΕΔΕΣΣΑ 0:28:05\n129 260 ΚΩΝΣΤΑΝΤΙΝΙΔΟΥ ΚΥΡΙΑΚΗ Γ Γυναικών ΕΔΕΣΣΑ 0:28:07\n130 326 ΞΥΔΙΑΝΟΣ ΑΝΤΩΝΙΟΣ Α Ανδρών ΚΕΡΑΤΣΙΝΙ 0:28:13\n131 89 ΠΑΠΑΔΟΠΟΥΛΟΣ ΧΡΗΣΤΟΣ Α Ανδρών ΕΔΕΣΣΑ ACADEMY FITTNES CLUB 0:28:15\n132 49 ΚΙΤΚΑΣ ΑΘΑΝΑΣΙΟΣ Α Ανδρών ΕΔΕΣΣΑ 0:28:15\n133 155 ΡΕΤΖΙΟΥ ΑΝΝΑ Γ Γυναικών ΕΔΕΣΣΑ ΙΚΑΡΟΣ 0:28:15\n134 112 ΑΡΒΑΝΙΤΗΣ ΔΗΜΗΤΡΙΟΣ Α Ανδρών ΕΔΕΣΣΑ ΑΝΕΞΑΡΤΗΤΟΣ 0:28:15\n135 13 ΠΑΠΑΝΤΩΝΗΣ ΛΑΜΠΡΟΣ Α Ανδρών ΕΔΕΣΣΑ Γ.Σ. ΕΔΕΣΣΑΣ 0:28:15\n136 244 ΤΣΙΚΑΔΕΡΗΣ ΙΩΑΝΝΗΣ Α Ανδρών ΚΑΤΕΡΙΝΗ ΑΠΣ ΔΡΟΜΕΩΝ ΠΙΕΡΙΑΣ «ΖΕΥΣ» 0:28:16\n137 232 ΣΑΜΑΡΑΣ ΝΙΚΟΛΑΟΣ Α Ανδρών ΕΔΕΣΣΑ ΑΝΕΞΑΡΤΗΤΟΣ 0:28:18\n138 234 ΣΑΜΑΡΑ ΣΟΦΙΑ Γ Γυναικών ΕΔΕΣΣΑ ΕΔΕΣΣΑ 0:28:18\n139 233 ΣΑΜΑΡΑ ΒΑΣΙΛΙΚΗ Γ Γυναικών ΕΔΕΣΣΑ 0:28:18\n140 240 ΚΟΥΣΗΣ ΑΠΟΣΤΟΛΟΣ Α Ανδρών ΠΤΟΛΕΜΑΪΔΑ ΣΔΟΕ 0:28:23\n141 227 ΑΣΚΗΤΙΔΗΣ ΜΗΝΑΣ Α Ανδρών ΓΙΑΝΝΙΤΣΑ ΓΠΣ ΚΑΛΛΙΠΟΛΗΣ 0:28:28\n142 12 ΠΑΠΑΝΤΩΝΗΣ ΘΕΟΔΟΣΙΟΣ Α Ανδρών ΕΔΕΣΣΑ 0:28:38\n143 133 ΔΙΤΣΟΥ ΜΑΡΙΑ Γ Γυναικών ΕΔΕΣΣΑ 5:21:02\n144 161 ΜΑΝΩΛΗ ΕΛΙΝΑ Γ Γυναικών ΕΔΕΣΣΑ 0:28:44\n145 108 ΙΩΑΝΝΙΔΗΣ ΓΕΩΡΓΙΟΣ Α Ανδρών ΕΔΕΣΣΑ 0:28:47\n146 186 ΜΟΥΚΑΣ ΑΘΑΝΑΣΙΟΣ Α Ανδρών – ΠΑΣ ΦΛΑΜΟΥΡΙΑΣ 0:28:52\n147 167 ΑΜΠΑΤΖΙΑΔΗΣ ΕΥΣΤΑΘΙΟΣ Α Ανδρών ΑΘΗΝΑ 0:28:54\n148 166 ΑΜΠΑΤΖΙΑΔΗΣ ΓΕΩΡΓΙΟΣ Α Ανδρών ΘΕΣΣΑΛΟΝΙΚΗ ΑΝΕΞΑΡΤΗΤΟΣ 0:28:55\n149 138 ΙΑΚΩΒΑΚΗΣ ΠΑΝΑΓΙΩΤΗΣ Α Ανδρών ΕΔΕΣΣΑ 0:29:02\n150 231 ΠΑΡΑΣΚΕΥΑΣ ΔΗΜΗΤΡΙΟΣ Α Ανδρών ΕΔΕΣΣΑ 0:29:05\n151 96 ΒΛΑΔΙΚΑΣ ΧΡΗΣΤΟΣ Α Ανδρών ΕΔΕΣΣΑ ACADEMY FITTNES CLUB 0:29:07\n152 144 ΣΟΝΤΡΑΣ ΑΝΕΣΤΗΣ Α Ανδρών ΕΔΕΣΣΑ 0:29:10\n153 139 ΠΑΛΑΜΑ ΜΑΡΊΑ Γ Γυναικών ΈΔΕΣΣΑ Γ.Σ. ΕΔΕΣΣΑΣ 0:29:17\n154 224 ΧΑΣΙΟΥΡΑΣ ΓΙΑΝΝΗΣ Α Ανδρών ΒΕΡΟΙΑ SELI DREAM TEAM 0:29:21\n155 281 ΣΑΛΟΝΙΚΙΔΟΥ ΑΝΑΣΤΑΣΙΑ Γ Γυναικών ΓΙΑΝΝΙΤΣΑ 0:29:30\n156 187 ΑΥΞΕΝΤΙΑΔΟΥ ΕΥΠΡΑΞΙΑ Γ Γυναικών ΣΕΡΡΕΣ ΑΝΕΞΑΡΤΗΤΗ 0:29:32\n157 323 ΖΗΜΝΑ ΚΑΛΛΙΟΠΗ Γ Γυναικών ΕΔΕΣΣΑ 0:29:40\n158 325 ΔΗΜΑΚΑ ΜΑΡΙΛΕΝΑ Γ Γυναικών ΕΔΕΣΣΑ 0:29:41\n159 246 ΠΕΤΡΙΔΗΣ ΑΡΙΣΤΕΙΔΗΣ Α Ανδρών ΕΔΕΣΣΑ 0:29:42\n160 169 ΘΩΜΑΪΔΗΣ ΓΙΑΝΝΗΣ Α Ανδρών ΒΕΡΟΙΑ ΣΔΥ ΒΕΡΟΙΑΣ 0:29:45\n161 38 ΚΑΡΤΣΩΛΗΣ ΔΗΜΗΤΡΙΟΣ Α Ανδρών ΕΔΕΣΣΑ 0:29:47\n162 179 ΣΗΜΑΔΗ ΓΕΩΡΓΙΑ Γ Γυναικών ΕΔΕΣΣΑ ΠΑΣ ΦΛΑΜΟΥΡΙΑΣ 0:29:49\n163 53 ΠΕΤΚΟΥ ΑΝΑΣΤΑΣΙΟΣ Α Ανδρών ΕΔΕΣΣΑ ΑΝΕΞΑΡΤΗΤΟΣ 0:29:53\n164 258 ΤΣΑΛΚΑΝΤΗΣ ΔΗΜΗΤΡΙΟΣ Α Ανδρών ΓΙΑΝΝΙΤΣΑ 0:29:57\n165 354 ΠΑΡΙΣΚΟΣ ΠΕΤΡΟΣ Α Ανδρών ΕΔΕΣΣΑ ΑΝΕΞΑΡΤΗΤΟΣ 0:29:57\n166 181 ΓΙΟΝΔΗΣ ΧΡΗΣΤΟΣ Α Ανδρών ΕΔΕΣΣΑ 0:29:57\n167 263 ΠΑΝΑΓΙΩΤΙΔΟΥ ΕΙΡΗΝΗ Γ Γυναικών ΓΙΑΝΝΙΤΣΑ 0:29:58\n168 257 ΤΣΑΛΚΑΝΤΗΣ ΝΙΚΟΛΑΣ Α Ανδρών ΓΙΑΝΝΙΤΣΑ 0:29:59\n169 261 ΔΡΕΝΑΦΤΣΗΣ ΙΩΑΝΝΗΣ Α Ανδρών ΚΑΛΗ-ΣΚΥΔΡΑ 0:30:00\n170 256 ΠΑΝΑΓΙΩΤΙΔΟΥ ΣΑΡΑ Γ Γυναικών ΓΙΑΝΝΙΤΣΑ 0:30:01\n171 157 ΓΕΡΕΜΤΖΕ ΜΑΡΙΑ Γ Γυναικών ΕΔΕΣΣΑ 0:30:02\n172 158 ΠΙΠΗΣ ΝΙΚΟΛΑΟΣ Α Ανδρών ΕΔΕΣΣΑ 0:30:03\n173 34 ΧΑΤΖΗΙΟΡΔΑΝΙΔΟΥ ΔΕΣΠΟΙΝΑ Γ Γυναικών ΣΚΥΔΡΑ ΑΝΕΞΑΡΤΗΤΟΣ 0:30:05\n174 75 ΚΥΡΜΑΝΟΓΛΟΥ ΕΥΑΓΓΕΛΙΑ Γ Γυναικών ΕΔΕΣΣΑ ACADEMY FITTNES CLUB 0:30:06\n175 35 ΦΑΝΤΙΔΗΣ ΛΑΖΑΡΟΣ Α Ανδρών ΣΚΥΔΡΑ ΑΝΕΞΑΡΤΗΤΟΣ 0:30:07\n176 33 ΑΠΟΣΤΟΛΙΔΗΣ ΙΩΑΝΝΗΣ Α Ανδρών ΠΡΟΦΉΤΗΣ ΗΛΊΑΣ ΑΝΕΞΑΡΤΗΤΟΣ 0:30:08\n177 298 ΧΡΗΣΤΟΥ ΑΛΕΞΑΝΔΡΟΣ Α Ανδρών ΕΔΕΣΣΑ Γ.Σ. ΕΔΕΣΣΑΣ 0:30:08\n178 253 ΑΡΜΕΝΙΝΗΣ ΑΘΑΝΑΣΙΟΣ Α Ανδρών ΘΕΣΣΑΛΟΝΙΚΗ ΣΕΒΑΣ ΘΕΣ/ΝΙΚΗΣ 0:30:10\n179 216 ΒΟΥΚΕΛΑΤΟΣ ΛΑΖΑΡΟΣ Α Ανδρών ΕΔΕΣΣΑ 0:30:14\n180 299 ΧΡΗΣΤΟΥ ΑΙΚΑΤΕΡΙΝΗ Γ Γυναικών ΕΔΕΣΣΑ Γ.Σ. ΕΔΕΣΣΑΣ 0:30:14\n181 278 ΔΑΣΚΑΛΟΥ ΙΩΑΝΝΗΣ Α Ανδρών ΕΔΕΣΣΑ 8 ΔΗΜΟΤΙΚΟ 0:30:15\n182 152 ΓΙΑΝΤΣΗΣ ΓΕΩΡΓΙΟΣ Α Ανδρών ΕΔΕΣΣΑ 0:30:16\n183 280 ΤΟΥΡΤΟΥΡΗΣ ΑΝΑΣΤΑΣΙΟΣ Α Ανδρών ΕΔΕΣΣΑ 0:30:17\n184 353 ΠΑΤΕΤΣΙΝΗΣ ΑΘΑΝΑΣΙΟΣ Α Ανδρών ΕΔΕΣΣΑ 0:30:18\n185 194 ΣΑΡΙΓΙΑΝΝΗ ΕΒΕΛΙΝΑ Γ Γυναικών ΕΔΕΣΣΑ ΠΑΣ ΦΛΑΜΟΥΡΙΑΣ 0:30:21\n186 193 ΓΙΑΝΝΟΥΛΤΣΗ ΑΝΑΣΤΑΣΙΑ Γ Γυναικών ΕΔΕΣΣΑ ΠΑΣ ΦΛΑΜΟΥΡΙΑΣ 0:30:22\n187 192 ΚΙΑΡΗ ΘΕΟΔΩΡΑ Γ Γυναικών ΕΔΕΣΣΑ ΠΑΣ ΦΛΑΜΟΥΡΙΑΣ 0:30:23\n188 150 ΜΠΟΚΟΥΒΑΛΑ ΧΡΙΣΤΙΝΑ Γ Γυναικών ΕΔΕΣΣΑ 0:30:24\n189 132 ΝΙΚΟΛΑΟΥ ΑΝΑΣΤΑΣΙΑ Γ Γυναικών ΕΔΕΣΣΑ 0:30:25\n190 136 ΜΠΑΤΣΙΡΗ ΧΡΥΣΑΝΘΗ Γ Γυναικών ΕΔΕΣΣΑ Γ.Σ. ΕΔΕΣΣΑΣ 0:30:27\n191 22 ΓΙΑΝΤΣΗΣ ΝΙΚΟΛΑΟΣ Α Ανδρών ΕΔΕΣΣΑ ΑΕΡΩΠΟΣ ΕΔΕΣΣΑΣ 0:30:28\n192 203 ΛΑΜΠΡΙΝΟΣ ΔΗΜΗΤΡΙΟΣ Α Ανδρών ΓΙΑΝΝΙΤΣΑ 0:30:29\n193 204 ΛΑΜΠΡΙΝΟΣ ΑΘΑΝΑΣΙΟΣ Α Ανδρών ΓΙΑΝΝΙΤΣΑ 0:30:30\n194 46 ΠΑΠΠΟΥΣ ΓΕΩΡΓΙΟΣ Α Ανδρών ΕΔΕΣΣΑ 0:30:31\n195 270 ΜΠΕΛΛΟΣ ΕΥΘΥΜΙΟΣ Α Ανδρών ΝΕΑΠΟΛΗ ΚΟΖΑΝΗΣ ΑΝΕΞΑΡΤΗΤΟΣ 0:30:33\n196 198 ΠΑΠΑΤΟΛΙΟΣ ΑΠΟΣΤΟΛΟΣ Α Ανδρών ΝΕΑΠΟΛΗ ΚΟΖΑΝΗΣ ΣΔΥ ΚΟΖΑΝΗΣ 0:30:34\n197 271 ΜΠΟΥΖΟΠΟΥΛΟΣ ΙΟΡΔΑΝΗΣ Α Ανδρών ΝΕΑΠΟΛΗ ΚΟΖΑΝΗΣ ΑΝΕΞΑΡΤΗΤΟΣ 0:30:35\n198 124 ΠΕΤΣΙΝΑΡΗ ΜΑΡΙΑ Γ Γυναικών ΕΔΕΣΣΑ 0:30:37\n199 174 ΚΑΛΛΙΓΙΑΝΝΙΔΗΣ ΚΩΝΣΤΑΝΤΙΝΟΣ Α Ανδρών ΕΔΕΣΣΑ ΠΑΣ ΦΛΑΜΟΥΡΙΑΣ 0:30:38\n200 178 ΣΗΜΑΔΗ ΕΛΕΝΗ Γ Γυναικών ΕΔΕΣΣΑ ΠΑΣ ΦΛΑΜΟΥΡΙΑΣ 0:30:40\n201 63 ΙΩΑΚΙΜΙΔΟΥ ΜΑΡΙΑ Γ Γυναικών ΕΔΕΣΣΑ ACADEMY FITTNES CLUB 0:30:43\n202 348 ΑΣΛΑΝΙΔΟΥ ΓΕΩΡΓΙΑ Γ Γυναικών ΕΔΕΣΣΑ 0:30:47\n203 347 ΣΤΑΥΡΟΠΟΥΛΟΥ ΠΗΝΕΛΟΠΗ Γ Γυναικών ΕΔΕΣΣΑ 0:30:49\n204 92 ΦΕΛΕΚΗ ΜΑΡΚΕΛΑ Γ Γυναικών ΕΔΕΣΣΑ ACADEMY FITTNES CLUB 0:30:52\n205 91 ΛΙΑΜΠΑ ΑΓΓΕΛΙΚΗ Γ Γυναικών ΕΔΕΣΣΑ ACADEMY FITTNES CLUB 0:30:53\n206 315 ΤΟΜΟΣΟΓΛΟΥ ΘΑΛΕΙΑ Γ Γυναικών ΕΔΕΣΣΑ 0:30:53\n207 226 ΜΑΥΡΙΔΟΥ ΣΩΤΗΡΙΑ Γ Γυναικών ΓΙΑΝΝΙΤΣΑ ΓΠΣ ΚΑΛΛΙΠΟΛΗΣ 0:31:00\n208 207 ΠΑΠΑΔΟΠΟΥΛΟΥ ΞΑΝΘΙΠΠΗ Γ Γυναικών ΓΙΑΝΝΙΤΣΑ 0:31:02\n209 206 ΚΩΣΤΕΛΙΔΟΥ ΣΤΥΛΙΑΝΗ Γ Γυναικών ΓΙΑΝΝΙΤΣΑ 0:31:04\n210 241 ΚΑΡΑΜΑΝΙΔΗΣ ΠΑΝΑΓΙΩΤΗΣ Α Ανδρών ΠΤΟΛΕΜΑΙΔΑ ΑΝΕΞΑΡΤΗΤΟΣ 0:31:07\n211 72 ΣΤΑΥΡΕΚΑΣ ΙΩΑΝΝΗΣ Α Ανδρών ΕΔΕΣΣΑ ACADEMY FITTNES CLUB 0:31:13\n212 317 ΜΑΚΡΟΠΟΥΛΟΥ ΕΛΕΝΗ Γ Γυναικών ΕΔΕΣΣΑ 0:31:17\n213 316 ΣΤΕΦΑΝΙΔΗΣ ΕΥΑΓΓΕΛΟΣ Α Ανδρών ΕΔΕΣΣΑ 0:31:18\n214 30 ΝΙΚΟΥ ΓΕΩΡΓΙΟΣ Α Ανδρών ΕΔΕΣΣΑ 0:31:20\n215 78 ΡΥΣΑΦΗΣ ΑΘΑΝΑΣΙΟΣ Α Ανδρών ΕΔΕΣΣΑ 0:31:21\n216 217 ΙΩΑΝΝΟΥ ΔΗΜΗΤΡΑ Γ Γυναικών ΕΔΕΣΣΑ 0:31:23\n217 264 ΠΑΝΑΓΙΩΤΙΔΟΥ ΕΛΙΣΑΒΕΤ Γ Γυναικών ΓΙΑΝΝΙΤΣΑ 0:31:24\n218 262 ΠΑΡΔΑ ΔΗΜΗΤΡΑ Γ Γυναικών ΓΙΑΝΝΙΤΣΑ 0:31:26\n219 282 ΠΕΤΡΙΔΟΥ ΕΙΡΗΝΗ Γ Γυναικών ΓΙΑΝΝΙΤΣΑ 0:31:28\n220 26 ΩΡΟΛΟΓΑΣ ΑΜΥΝΤΑΣ Α Ανδρών ΕΔΕΣΣΑ 0:31:30\n221 107 ΒΑΤΑΝΤΖΗΣ ΧΡΗΣΤΟΣ Α Ανδρών ΕΔΕΣΣΑ 0:31:44\n222 64 ΧΑΤΖΗΑΝΤΩΝΑΔΗΣ ΧΑΡΑΛΑΜΠΟΣ Α Ανδρών ΕΔΕΣΣΑ ACADEMY FITTNES CLUB 0:31:52\n223 213 ΦΡΑΓΚΟΣ ΕΥΑΓΓΕΛΟΣ Α Ανδρών ΦΛΑΜΟΥΡΙΑ ΕΔΕΣΣΑΣ ΠΑΣ ΦΛΑΜΟΥΡΙΑΣ 0:31:53\n224 90 ΒΑΣΙΛΟΠΟΥΛΟΣ ΑΠΟΣΤΟΛΟΣ Α Ανδρών ΕΔΕΣΣΑ ACADEMY FITTNES CLUB 0:31:57\n225 88 ΑΣΛΑΝΙΔΟΥ ΜΕΛΙΝΑ Γ Γυναικών ΕΔΕΣΣΑ ACADEMY FITTNES CLUB 0:31:58\n226 163 ΚΑΡΑΜΑΝΗΣ ΚΥΡΙΑΚΟΣ Α Ανδρών ΘΕΣΣΑΛΟΝΙΚΗ 0:31:59\n227 37 ΠΟΤΗΡΗΣ ΧΡΗΣΤΟΣ Α Ανδρών ΕΔΕΣΣΑ ΣΕΒΑΣ ΕΔΕΣΣΑΣ 0:32:02\n228 149 ΡΑΠΤΗ ΜΑΡΙΑ Γ Γυναικών ΕΔΕΣΣΑ 0:32:04\n229 43 ΡΟΥΜΕΛΗΣ ΧΑΡΙΛΑΟΣ Α Ανδρών ΕΔΕΣΣΑ 0:32:06\n230 18 ΑΘΑΝΑΣΙΑΔΗΣ ΑΘΑΝΑΣΙΟΣ Α Ανδρών ΕΔΕΣΣΑ 0:32:08\n231 322 ΜΠΟΠΤΣΗ ΑΙΚΑΤΕΡΙΝΗ Γ Γυναικών ΦΛΑΜΟΥΡΙΑ ΠΑΣ ΦΛΑΜΟΥΡΙΑΣ 0:32:14\n232 82 ΓΚΑΝΑΣ ΑΛΕΞΑΝΔΡΟΣ Α Ανδρών ΕΔΕΣΣΑ 0+ 0:32:21\n233 81 ΧΡΙΣΤΟΦΟΡΙΔΗΣ ΧΑΡΑΛΑΜΠΟΣ Α Ανδρών ΘΕΣΣΑΛΟΝΙΚΗ 0:32:23\n234 80 ΟΥΡΔΑΣ ΝΙΚΟΛΑΟΣ Α Ανδρών ΈΔΕΣΣΑ 0:32:25\n235 135 ΤΣΕΚΡΕΛΗ ΟΛΓΑ Γ Γυναικών ΘΕΣΣΑΛΟΝΙΚΗ 0:32:38\n236 345 ΔΗΜΑΚΑΣ ΝΙΚΟΛΑΟΣ Α Ανδρών ΕΔΕΣΣΑ 0:32:43\n237 99 ΠΑΠΠΑΣ ΑΘΑΝΑΣΙΟΣ Α Ανδρών ΕΔΕΣΣΑ 0:32:58\n238 98 ΡΟΔΟΒΑΛΗ ΕΛΕΝΗ Γ Γυναικών ΕΔΕΣΣΑ 0:33:02\n239 31 ΛΙΟΥΣΑΣ ΒΑΣΙΛΕΙΟΣ Α Ανδρών ΕΔΕΣΣΑ 0:33:13\n240 32 ΚΩΝΣΤΑΝΤΟΠΟΥΛΟΣ ΙΩΑΝΝΗΣ Α Ανδρών ΑΘΗΝΑ 0:33:14\n241 274 ΤΣΑΝΑΚΤΣΙΔΗΣ ΝΙΚΗΦΟΡΟΣ Α Ανδρών ΘΕΣ/ΝΙΚΗ ΣΔΥ ΘΕΣΣΑΛΟΝΙΚΗΣ 0:33:19\n242 134 ΤΣΑΝΙΔΟΥ ΧΑΡΙΚΛΕΙΑ Γ Γυναικών ΓΙΑΝΝΙΤΣΑ 0:33:33\n243 171 ΣΕΡΠΕΤΙΔΟΥ ΓΕΩΡΓΙΑ Γ Γυναικών ΕΔΕΣΣΑ ΠΑΣ ΦΛΑΜΟΥΡΙΑΣ 0:33:34\n244 172 ΑΒΡΑΜΙΔΟΥ ΑΝΝΑ Γ Γυναικών ΕΔΕΣΣΑ ΠΑΣ ΦΛΑΜΟΥΡΙΑΣ 0:33:36\n245 55 ΖΑΧΑΡΙΑΔΟΥ ΜΑΡΙΑ Γ Γυναικών ΕΔΕΣΣΑ ACADEMY FITTNES CLUB 0:33:39\n246 307 ΜΟΥΤΣΑ ΕΡΓΚΙΣ Α Ανδρών ΕΔΕΣΣΑ 0:33:44\n247 330 ΚΥΒΕΛΙΔΟΥ ΚΥΡΙΑΚΗ Γ Γυναικών ΕΔΕΣΣΑ 0:34:01\n248 243 ΑΡΓΥΡΟΠΟΥΛΟΥ ΜΕΛΠΩΜΕΝΗ Γ Γυναικών ΕΔΕΣΣΑ 0:34:05\n249 105 ΚΑΡΥΔΟΠΟΥΛΟΥ ΜΑΡΙΑΝΝΑ Γ Γυναικών ΕΔΕΣΣΑ 0:34:13\n250 225 ΜΑΥΡΙΔΟΥ ΜΑΡΙΑ Γ Γυναικών ΓΙΑΝΝΙΤΣΑ ΓΠΣ ΚΑΛΛΙΠΟΛΗΣ 0:34:15\n251 25 ΖΗΝΑΣ ΒΑΣΙΛΕΙΟΣ Α Ανδρών ΕΔΕΣΣΑ 0:34:26\n252 159 ΜΠΑΓΚΗ ΠΕΤΡΙΝΑ Γ Γυναικών ΕΔΕΣΣΑ 0:34:28\n253 57 ΑΝΑΣΤΑΣΙΟΥ ΠΑΣΧΑΛΙΝΑ Γ Γυναικών ΕΔΕΣΣΑ ACADEMY FITTNES CLUB 0:34:38\n254 214 ΚΑΡΑΝΙΚΟΛΑ ΞΑΝΘΙΠΠΗ Γ Γυναικών ΓΙΑΝΝΙΤΣΑ 0:34:44\n255 279 ΙΟΡΔΑΝΙΔΗΣ ΘΕΟΔΩΡΟΣ Α Ανδρών ΕΔΕΣΣΑ 0:34:46\n256 318 ΨΑΡΙΚΟΓΛΟΥ ΝΙΚΟΛΑΟΣ Α Ανδρών ΕΔΕΣΣΑ ΑΝΕΞΑΡΤΗΤΟΣ 0:34:59\n257 319 ΨΑΡΙΚΟΓΛΟΥ ΜΑΡΙΑ Γ Γυναικών ΕΔΕΣΣΑ 0:35:00\n258 340 ΜΙΧΑΗΛΙΔΗΣ ΑΘΑΝΑΣΙΟΣ Α Ανδρών ΘΕΣΣΑΛΟΝΙΚΗ 0:35:08\n259 235 ΑΒΡΑ ΑΝΑΣΤΑΣΙΑ Γ Γυναικών ΚΟΥΦΑΛΙΑ Αριωνας Κουφαλιων 0:35:26\n260 236 ΑΒΡΑΣ ΓΕΩΡΓΙΟΣ Α Ανδρών ΚΟΥΦΑΛΙΑ Αριωνας Κουφαλιων 0:35:27\n261 237 ΑΒΡΑΣ ΒΑΣΙΛΕΙΟΣ Α Ανδρών ΚΟΥΦΑΛΙΑ ΑΝΕΞΑΡΤΗΤΟΣ 0:35:29\n262 208 ΤΥΝΜΠΟΥ ΟΛΥΜΠΙΑ Γ Γυναικών ΓΟΥΜΜΕΝΙΣΑ 0:35:58\n263 209 ΚΕΤΣΕΤΖΙΔΗΣ ΓΕΩΡΓΙΟΣ Α Ανδρών ΓΟΥΜΜΕΝΙΣΑ 0:35:59\n264 17 ΠΕΤΡΟΥΣΗ ΜΑΡΙΑ Γ Γυναικών ΕΔΕΣΣΑ 0:36:03\n265 338 ΧΡΗΣΤΟΥ ΒΑΣΙΛΕΙΟΣ Α Ανδρών ΕΔΕΣΣΑ 0:36:05\n266 339 ΕΥΑΓΓΕΛΙΔΟΥ ΕΛΕΝΗ Γ Γυναικών ΕΔΕΣΣΑ 0:36:06\n267 142 ΣΔΡΕΓΑ ΣΤΥΛΙΑΝΗ Γ Γυναικών ΕΔΕΣΣΑ 0:36:16\n268 372 ΤΕΡΖΟΓΛΟΥ ΑΝΑΣΤΑΣΙΟΣ Α Ανδρών ΕΔΕΣΣΑ 0:36:19\n269 173 ΚΑΛΛΙΓΙΑΝΝΙΔΟΥ ΖΩΗ Γ Γυναικών ΕΔΕΣΣΑ ΠΑΣ ΦΛΑΜΟΥΡΙΑΣ 0:36:20\n270 180 ΣΗΜΑΔΗΣ ΒΑΣΙΛΗΣ Α Ανδρών ΕΔΕΣΣΑ 0:36:22\n271 371 ΤΕΡΖΟΓΛΟΥ ΣΟΦΙΑ Γ Γυναικών ΕΔΕΣΣΑ 0:36:24\n272 221 ΝΙΚΟΛΟΠΟΥΛΟΥ ΕΦΗ Γ Γυναικών ΒΕΡΟΙΑ SELI DREAM TEAM 0:36:26\n273 222 ΑΥΓΕΡΟΥ ΚΑΛΛΙΟΠΗ Γ Γυναικών ΒΕΡΟΙΑ SELI DREAM TEAM 0:36:27\n274 310 ΧΡΥΣΙΚΟΣ ΒΑΣΙΛΕΙΟΣ Α Ανδρών ΘΕΣΣΑΛΟΝΙΚΗ 0:36:29\n275 309 ΠΑΠΑΔΟΠΟΥΛΟΥ ΦΩΤΕΙΝΗ Γ Γυναικών ΘΕΣΣΑΛΟΝΙΚΗ 0:36:30\n276 44 ΤΖΟΥΛΗΣ ΕΥΑΓΓΕΛΟΣ Α Ανδρών ΕΔΕΣΣΑ 0:36:33\n277 103 ΠΑΠΑΣΤΑΘΟΠΟΥΛΟΣ ΠΑΝΑΓΙΩΤΗΣ Α Ανδρών ΑΘΗΝΑ 0:36:35\n278 104 ΠΕΤΡΟΛΕΚΑ ΒΑΣΙΛΙΚΗ Γ Γυναικών ΑΘΗΝΑ 0:36:37\n279 355 ΤΣΑΚΩΝΤΣΗΣ ΑΛΕΞΑΝΔΡΟΣ Α Ανδρών ΕΔΕΣΣΑ 0:36:47\n280 28 ΚΟΝΤΖΙΛΑΣ ΝΙΚΟΛΑΟΣ Α Ανδρών ΣΠΑΤΑ ΑΤΤΙΚΗΣ ΑΝΕΞΑΡΤΗΤΟΣ 0:37:10\n281 73 ΡΩΣΣΙΔΟΥ ΟΛΓΑ Γ Γυναικών ΕΔΕΣΣΑ ACADEMY FITTNES CLUB 0:37:14\n282 56 ΧΡΟΝΗ ΝΑΤΑΛΙΑ Γ Γυναικών ΕΔΕΣΣΑ ACADEMY FITTNES CLUB 0:37:22\n283 137 ΓΚΙΑΛΗ ΖΑΦΕΙΡΩ Γ Γυναικών ΕΔΕΣΣΑ 0:37:27\n284 331 ΚΥΒΕΛΙΔΟΥ ΣΟΦΙΑ Γ Γυναικών ΕΔΕΣΣΑ 0:37:29\n285 328 ΧΑΤΖΗΓΙΑΝΝΗ ΔΕΣΠΟΙΝΑ Γ Γυναικών ΕΔΕΣΣΑ 0:37:42\n286 20 ΑΘΑΝΑΣΙΑΔΗ ΚΩΝΣΤΑΝΤΙΝΑ Γ Γυναικών ΕΔΕΣΣΑ 0:37:57\n287 16 ΒΑΡΕΛΑ ΧΡΥΣΑΝΘΗ Γ Γυναικών ΕΔΕΣΣΑ 0:38:00\n288 83 ΠΑΠΑΔΗΜΗΤΡΙΟΥ ΙΩΑΝΝΑ Γ Γυναικών ΕΔΕΣΣΑ 0:38:00\n289 337 ΠΑΡΙΣΚΟΥ ΜΑΡΙΑ Γ Γυναικών ΕΔΕΣΣΑ 0:38:07\n290 350 ΚΑΦΕΤΖΗ ΑΘΑΝΑΣΙΑ Γ Γυναικών ΕΔΕΣΣΑ 0:38:12\n291 95 ΚΑΦΕΤΖΗΣ ΑΝΑΣΤΑΣΙΟΣ Α Ανδρών ΕΔΕΣΣΑ ACADEMY FITTNES CLUB 0:38:15\n292 77 ΑΡΑΜΠΑΤΖΗ ΕΛΕΝΗ Γ Γυναικών ΕΔΕΣΣΑ ACADEMY FITTNES CLUB 0:38:46\n293 122 ΠΑΝΑΗΛΙΔΟΥ ΧΡΙΣΤΙΝΑ Γ Γυναικών ΕΔΕΣΣΑ 0:39:22\n294 118 ΝΙΚΟΛΑΙΔΟΥ ΑΙΚΑΤΕΡΙΝΗ Γ Γυναικών ΕΔΕΣΣΑ 0:39:42\n295 182 ΠΑΣΙΑΛΗΣ ΓΙΩΡΓΟΣ Α Ανδρών ΕΔΕΣΣΑ 0:39:44\n296 306 ΜΗΤΟΓΛΟΥ ΣΤΕΛΛΑ Γ Γυναικών ΓΙΑΝΝΗΣΤΑ ΓΠΣ ΚΑΛΛΙΠΟΛΗΣ 0:39:49\n297 23 ΜΠΟΓΙΑΣ ΑΡΙΣΤΕΙΔΗΣ Α Ανδρών ΕΔΕΣΣΑ 0:39:52\n298 68 ΓΑΤΣΗ ΘΕΟΔΩΡΑ Γ Γυναικών ΕΔΕΣΣΑ ACADEMY FITTNES CLUB 0:40:38\n299 45 ΛΙΑΝΤΗ ΕΛΕΝΗ Γ Γυναικών ΕΔΕΣΣΑ 0:40:41\n300 361 ΔΗΜΑΚΑ ΛΙΤΣΑ Γ Γυναικών ΕΔΕΣΣΑ 0:40:54\n301 69 ΒΛΑΔΙΚΑ ΕΛΙΣΑΒΕΤ Γ Γυναικών ΕΔΕΣΣΑ ACADEMY FITTNES CLUB 0:40:56\n302 151 ΓΙΑΝΤΣΗ ΑΙΚΑΤΕΡΙΝΗ Γ Γυναικών ΕΔΕΣΣΑ 0:41:02\n303 14 ΜΑΡΑΝΤΙΔΟΥ ΘΩΜΑΗ Γ Γυναικών ΕΔΕΣΣΑ ΑΝΕΞΑΡΤΗΤΟΣ 0:41:02\n304 109 ΜΠΟΥΖΑΝΑ ΜΑΡΙΑ Γ Γυναικών ΕΔΕΣΣΑ 0:41:03\n305 336 ΙΩΑΝΝΙΔΟΥ ΕΛΙΣΑΒΕΤ Γ Γυναικών ΕΔΕΣΣΑ 0:41:04\n306 184 ΠΡΙΒΑΤΗΤΣΑΝΗΣ ΒΑΣΙΛΕΙΟΣ Α Ανδρών ΕΔΕΣΣΑ ΑΝΕΞΑΡΤΗΤΟΣ 0:41:06\n307 248 ΟΥΛΕΜΑΝΗΣ ΣΤΑΥΡΟΣ Α Ανδρών ΕΔΕΣΣΑ 0:41:07\n308 51 ΚΩΣΤΑΣ ΔΗΜΗΤΡΙΟΣ Α Ανδρών ΕΔΕΣΣΑ ΑΝΕΞΑΡΤΗΤΟΣ 0:41:08\n309 308 ΛΙΠΑΡΙΝΗ ΓΕΩΡΓΙΑ Γ Γυναικών ΕΔΕΣΣΑ 0:41:15\n310 250 ΧΑΤΖΗΣ ΣΩΤΗΡΗΣ Α Ανδρών ΓΙΑΝΝΙΤΣΑ 0:41:17\n311 251 ΧΑΤΖΗΣ ΔΗΜΗΤΡΗΣ Α Ανδρών ΓΙΑΝΝΙΤΣΑ 0:41:18\n312 140 ΒΛΑΧΟΣ ΔΗΜΗΤΡΗΣ Α Ανδρών ΕΔΕΣΣΑ 0:41:19\n313 111 ΑΝΑΣΤΑΣΙΟΥ ΣΟΦΙΑ Γ Γυναικών ΕΔΕΣΣΑ 0:41:20\n314 117 ΔΕΡΒΙΣΣΗ ΑΝΑΣΤΑΣΙΑ Γ Γυναικών ΕΔΕΣΣΑ 0:41:27\n315 114 ΤΣΑΚΙΡΗΣ ΒΑΣΙΛΕΙΟΣ Α Ανδρών ΕΔΕΣΣΑ 0:41:35\n316 116 ΤΣΟΥΚΑΛΑ ΜΑΡΙΑ Γ Γυναικών ΕΔΕΣΣΑ 0:41:36\n317 115 ΤΣΑΚΙΡΗΣ ΣΤΑΥΡΟΣ Α Ανδρών ΕΔΕΣΣΑ 0:41:38\n318 249 ΟΥΛΕΜΑΝΗ ΕΒΕΛΙΝΑ Γ Γυναικών ΕΔΕΣΣΑ 0:41:43\n319 52 ΟΥΛΕΜΑΝΗ ΕΥΔΟΚΙΑ Γ Γυναικών ΕΔΕΣΣΑ ΑΝΕΞΑΡΤΗΤΟΣ 0:41:44\n320 101 ΑΘΑΝΑΣΙΑΔΟΥ ΒΑΣΙΛΙΚΗ Γ Γυναικών ΕΔΕΣΣΑ 0:41:46\n321 21 ΑΘΑΝΑΣΙΑΔΗ ΑΝΝΑ Γ Γυναικών ΕΔΕΣΣΑ 0:41:48\n322 128 ΓΙΑΚΟΥΒΗΣ ΗΛΙΑΣ Α Ανδρών ΕΔΕΣΣΑ 0:42:00\n323 129 ΓΙΑΚΟΥΒΗ ΜΙΧΑΕΛΑ Γ Γυναικών ΕΔΕΣΣΑ 0:42:01\n324 130 ΚΑΛΑΙΤΖΙΔΟΥ ΧΑΡΗ Γ Γυναικών ΕΔΕΣΣΑ 0:42:03\n325 127 ΓΙΑΚΟΥΒΗΣ ΒΑΣΙΛΗΣ Α Ανδρών ΕΔΕΣΣΑ 0:42:09\n326 185 ΜΟΡΙΧΟΒΙΤΟΥ ΑΙΚΑΤΕΡΙΝΗ Γ Γυναικών ΕΔΕΣΣΑ ΑΝΕΞΑΡΤΗΤΟΣ 0:42:10\n327 295 ΚΑΡΑΒΑΣΙΛΗ ΘΕΟΔΩΡΑ Γ Γυναικών ΕΔΕΣΣΑ 0:42:20\n328 320 ΤΣΑΟΥΣΗ ΣΟΥΛΑ Γ Γυναικών ΦΛΑΜΟΥΡΙΑ ΠΑΣ ΦΛΑΜΟΥΡΙΑΣ 0:42:27\n329 321 ΚΑΡΑΚΙΤΣΗ ΜΠΟΠΤΣΗ ΝΙΤΣΑ Γ Γυναικών ΦΛΑΜΟΥΡΙΑ ΠΑΣ ΦΛΑΜΟΥΡΙΑΣ 0:42:30\n330 376 ΣΑΡΗΠΑΝΙΔΗΣ ΣΟΦΟΚΛΗΣ Α Ανδρών ΚΡΥΑ ΒΡΥΣΗ ΣΥΛΛΟΓΟΣ ΠΟΝΤΙΩΝ ΚΡΥΑΣ ΒΡΥΣΗΣ 0:43:16\n331 377 ΣΚΕΝΤΕΡΙΔΟΥ ΠΕΡΣΕΦΟΝΗ Γ Γυναικών ΚΡΥΑ ΒΡΥΣΗ ΣΥΛΛΟΓΟΣ ΠΟΝΤΙΩΝ ΚΡΥΑΣ ΒΡΥΣΗΣ 0:43:17\n332 79 ΓΚΙΩΣΗΣ ΑΝΑΣΤΑΣΙΟΣ Α Ανδρών ΕΔΕΣΣΑ 0:43:23\n333 65 ΑΛΙΜΠΑΚΗ ΜΑΓΔΑ Γ Γυναικών ΕΔΕΣΣΑ ACADEMY FITTNES CLUB 0:43:48\n334 60 ΚΙΟΥΡΤΖΙΔΗΣ ΔΗΜΗΤΡΙΟΣ Α Ανδρών ΕΔΕΣΣΑ ACADEMY FITTNES CLUB 0:43:49\n335 191 ΜΑΡΤΣΗ ΑΝΑΣΤΑΣΙΑ Γ Γυναικών ΕΔΕΣΣΑ ΠΑΣ ΦΛΑΜΟΥΡΙΑΣ 0:43:52\n336 9 ΤΟΤΛΗ ΑΝΑΣΤΑΣΙΑ Γ Γυναικών ΕΔΕΣΣΑ ΠΑΣ ΦΛΑΜΟΥΡΙΑΣ 0:43:53\n337 66 ΓΙΑΝΤΣΗ ΠΑΡΑΣΚΕΥΗ Γ Γυναικών ΕΔΕΣΣΑ ACADEMY FITTNES CLUB 0:44:08\n338 93 ΣΟΥΛΙΩΤΗ ΑΙΚΑΤΕΡΙΝΗ Γ Γυναικών ΕΔΕΣΣΑ ACADEMY FITTNES CLUB 0:44:10\n339 67 ΣΟΥΛΙΩΤΗ ΔΗΜΗΤΡΑ Γ Γυναικών ΕΔΕΣΣΑ ACADEMY FITTNES CLUB 0:44:10\n340 364 ΛΕΥΘΕΡΗΣ ΙΩΑΝΝΗΣ Α Ανδρών ΕΔΕΣΣΑ 0:44:10\n341 365 ΛΕΥΘΕΡΗΣ ΔΗΜΗΤΡΙΟΣ Α Ανδρών ΕΔΕΣΣΑ 0:45:26\n342 368 ΣΤΕΦΑΝΙΔΟΥ ΜΑΡΙΑ Γ Γυναικών ΓΙΑΝΝΙΤΣΑ ΓΠΣ ΚΑΛΛΙΠΟΛΗΣ 0:45:39\n343 369 ΣΑΡΤΙΝΗ ΕΛΕΥΘΕΡΙΑ Γ Γυναικών ΓΙΑΝΝΙΤΣΑ ΓΠΣ ΚΑΛΛΙΠΟΛΗΣ 0:45:43\n344 366 ΣΤΕΦΑΝΙΔΗΣ ΓΙΩΡΓΟΣ Α Ανδρών ΓΙΑΝΝΙΤΣΑ ΓΠΣ ΚΑΛΛΙΠΟΛΗΣ 0:45:45\n345 367 ΣΤΕΦΑΝΙΔΟΥ ΔΕΣΠΟΙΝΑ Γ Γυναικών ΓΙΑΝΝΙΤΣΑ ΓΠΣ ΚΑΛΛΙΠΟΛΗΣ 0:45:52\n346 344 ΝΑΛΜΠΑΝΤΟΓΛΟΥ ΣΟΦΙΑ Γ Γυναικών ΕΔΕΣΣΑ 0:46:00\n347 341 ΜΕΡΙΣΙΩΤΗ ΙΩΑΝΝΑ Γ Γυναικών ΕΔΕΣΣΑ 0:46:02\n348 19 ΜΗΤΣΟΠΟΥΛΟΥ ΚΩΝΣΤΑΝΤΙΝΑ Γ Γυναικών ΕΔΕΣΣΑ ΕΔΕΣΣΑ 0:46:07\n349 311 ΒΑΜΒΑΚΑ ΜΑΡΙΑ Γ Γυναικών ΕΔΕΣΣΑ ΑΝΕΞΑΡΤΗΤΟΣ 0:46:10\n350 342 ΛΑΡΟΥ ΕΛΕΝΗ Γ Γυναικών ΕΔΕΣΣΑ 0:46:12\n351 373 ΜΠΕΣΑ ΙΩΑΝΝΑ Γ Γυναικών ΕΔΕΣΣΑ 0:46:15\n352 61 ΖΕΙΡΕΚΛΙΔΟΥ ΑΝΝΑ Γ Γυναικών ΕΔΕΣΣΑ ACADEMY FITTNES CLUB 0:46:21\n353 58 ΜΑΤΗ ΕΥΑΓΓΕΛΙΑ Γ Γυναικών ΕΔΕΣΣΑ ACADEMY FITTNES CLUB 0:46:22\n354 359 ΣΠΥΡΟΠΟΥΛΟΥ ΟΛΓΑ Γ Γυναικών ΕΔΕΣΣΑ 0:46:30\n355 360 ΜΠΟΖΙΝΗΣ ΧΡΙΣΤΟΔΟΥΛΟΣ Α Ανδρών ΕΔΕΣΣΑ 0:46:35\n356 363 ΠΡΟΒΑΔΟΣ ΔΗΜΗΤΡΙΟΣ Α Ανδρών ΕΔΕΣΣΑ 0:46:38\n357 374 ΑΤΜΑΤΖΙΔΟΥ ΣΟΦΙΑ Γ Γυναικών ΓΙΑΝΝΙΤΣΑ 0:46:41\n358 375 ΤΣΙΛΟΓΛΑΝΙΔΟΥ ΣΗΜΕΛΑ Γ Γυναικών ΓΙΑΝΝΙΤΣΑ 0:46:42\n359 59 ΤΖΗΚΟΠΟΥΛΟΥ ΕΥΘΥΜΙΑ Γ Γυναικών ΕΔΕΣΣΑ ACADEMY FITTNES CLUB 0:47:06\n360 62 ΔΗΜΟΓΚΑΤΣΗ ΜΑΡΙΑ Γ Γυναικών ΕΔΕΣΣΑ ACADEMY FITTNES CLUB 0:47:09\n361 362 ΓΕΡΟΓΙΑΝΝΗ ΕΛΕΝΑ Γ Γυναικών ΕΔΕΣΣΑ 0:47:50\n362 266 ΝΤΙΟΥΔΗΣ ΝΙΚΟΛΑΟΣ Α Ανδρών ΓΙΑΝΝΙΤΣΑ 0:48:00\n363 265 ΝΤΙΟΥΔΗΣ ΣΤΕΦΑΝΟΣ Α Ανδρών ΓΙΑΝΝΙΤΣΑ 0:48:01\n364 223 ΛΑΓΟΜΑΤΗΣ ΝΙΚΟΛΑΣ Α Ανδρών ΓΙΑΝΝΙΤΣΑ ΓΠΣ ΚΑΛΛΙΠΟΛΗΣ 0:48:02\n365 188 ΤΣΟΛΑΚΙ ΧΡΥΣΑΝΘΗ Γ Γυναικών ΣΕΡΡΕΣ ΑΝΕΞΑΡΤΗΤΗ 0:49:53\n366 210 ΤΣΑΛΑΓΡΑΔΑΣ ΓΕΩΡΓΙΟΣ Α Ανδρών ΚΟΥΦΑΛΙΑ 0:49:57\n367 84 ΚΟΝΤΑΞΗ ΣΟΦΙΑ Γ Γυναικών ΕΔΕΣΣΑ 0:52:27\n368 349 ΚΑΦΕΤΖΗΣ ΕΥΣΤΡΑΤΙΟΣ Α Ανδρών ΕΔΕΣΣΑ 0:52:49\n369 351 ΧΑΤΖΗΑΝΤΩΝΙΟΥ ΑΙΚΑΤΕΡΙΝΗ Γ Γυναικών ΕΔΕΣΣΑ 0:52:57\n370 86 ΑΛΙΩΠΗΣ ΜΑΤΘΑΙΟΣ Α Ανδρών ΕΔΕΣΣΑ ACADEMY FITTNES CLUB DNF\n371 87 ΓΡΟΥΙΤΣΗΣ ΔΗΜΗΤΡΙΟΣ Α Ανδρών ΕΔΕΣΣΑ ACADEMY FITTNES CLUB DNF\n372 2 ΓΙΟΥΡΟΥΚΗΣ ΠΑΝΤΕΛΗΣ Α Ανδρών ΕΔΕΣΣΑ ΠΑΣ ΦΛΑΜΟΥΡΙΑΣ DNF\n373 54 ΠΕΤΚΟΥ ΙΩΑΝΝΑ Γ Γυναικών ΕΔΕΣΣΑ ΠΑΣ ΦΛΑΜΟΥΡΙΑΣ DNF
URL:https://gorun.gr/race/3o%cf%82-%ce%bd%cf%85%cf%87%cf%84%ce%b5%cf%81%ce%b9%ce%bd%cf%8c%cf%82-%ce%b4%cf%81%cf%8c%ce%bc%ce%bf%cf%82-%cf%84%ce%bf%cf%85-%ce%bd%ce%b5%cf%81%ce%bf%cf%8d-%ce%ad%ce%b4%ce%b5%cf%83%cf%83%ce%b1%cf%82/
CATEGORIES:Αποτελέσματα,Δρόμος
ATTACH;FMTTYPE=image/png:https://gorun.gr/wp-content/uploads/2016/09/images.png
END:VEVENT
END:VCALENDAR