BEGIN:VCALENDAR
VERSION:2.0
PRODID:-//goRUN - ECPv5.8.1//NONSGML v1.0//EN
CALSCALE:GREGORIAN
METHOD:PUBLISH
X-WR-CALNAME:goRUN
X-ORIGINAL-URL:https://gorun.gr
X-WR-CALDESC:Events for goRUN
BEGIN:VTIMEZONE
TZID:Europe/Athens
BEGIN:DAYLIGHT
TZOFFSETFROM:+0200
TZOFFSETTO:+0300
TZNAME:EEST
DTSTART:20160327T010000
END:DAYLIGHT
BEGIN:STANDARD
TZOFFSETFROM:+0300
TZOFFSETTO:+0200
TZNAME:EET
DTSTART:20161030T010000
END:STANDARD
END:VTIMEZONE
BEGIN:VEVENT
DTSTART;VALUE=DATE:20160730
DTEND;VALUE=DATE:20160731
DTSTAMP:20260421T221658
CREATED:20160616T071715Z
LAST-MODIFIED:20160730T120751Z
UID:8275-1469836800-1469923199@gorun.gr
SUMMARY:3o Aquathlon Πέραμος 2016
DESCRIPTION:3o AQUATHLON \n«ΠΕΡΑΜΟΣ 2016» \nΠΡΟΚΗΡΥΞΗ ΑΓΩΝΩΝ \nΟ Όμιλος Θαλασσίων Αθλημάτων Καβάλας συνδιοργανώνει με τον Δήμο Παγγαίου 3ο AQUATHLON στο κόλπο της Ν.Περάμου και στους αστικούς δρόμους της περιοχής με την επωνυμία « ΠΕΡΑΜΟΣ 2016». \nΔικαίωμα συμμετοχής: Δικαίωμα συμμετοχής στον αγώνα έχουν αθλητές και αθλήτριες που έχουν συμπληρώσει το 13ο έτος της ηλικίας τους και βρίσκονται σε άρτια φυσική και ψυχική κατάσταση\, αρκεί να συμπληρώσουν και να υπογράψουν τα απαραίτητα έγγραφα (Δήλωση Συμμετοχής & Υπεύθυνη Δήλωση). Για συμμετέχοντες κάτω των 18 ετών\, είναι απαραίτητη η Υπεύθυνη Δήλωση από γονέα ή κηδεμόνα \nΗμερομηνία: Σάββατο 30 Ιουλίου 2016 \nΤόπος: Κόλπος Ν. Περάμου\, παραλία Ν. Περάμου αστικοί δρόμοι περιοχής \nΏρα αγώνα: 18:00μ.μ. \nΏρα προσέλευσης – Τεχνική σύσκεψη : Οδηγίες για την διεξαγωγή του αγώνα θα δοθούν 1 ώρα πριν την εκκίνηση \nΚανονισμοί: Για την κολύμβηση οι συμμετέχοντες έχουν τη δυνατότητα να αγωνιστούν με γυαλάκια ή μάσκα κολύμβησης\, με εγκεκριμένο μαγιό όπως αυτό προβλέπεται από τη FINA και αφορά στο Open Water\, απλό κολυμβητικό μαγιό ή στολή τριάθλου. Πλευστικά ή κολυμβητικά βοηθήματα (σανίδες\, πέδιλα\, χεράκια\, κ.τ.λ.) δεν επιτρέπονται\, όπως και αναπνευστικά βοηθήματα (αναπνευστήρες).Οσοι επιθυμούν  να χρησιμοποιήσουν κολυμβητικά βοηθήματα θα αποκλείονται από την κατάταξη της κατηγορίας τους. Πριν την εκκίνηση οι συμμετέχοντες έχουν το δικαίωμα να αλειφθούν με λάδι\, αντηλιακό\, βαζελίνη\, γράσο ή οτιδήποτε άλλο επιθυμούν. \nΧρονομέτρηση : Ηλεκτρονική και θα υπάρξουν και ενδιάμεσα περάσματα σε κάθε γύρο. \nΠεριγραφή αγώνα αποστάσεις: Ο αγώνας ξεκινά με 1\,2 χλμ. Τρέξιμο οι αθλητές περνούν από την ζώνη αλλαγής και κολυμπούν 800μ οριοθετημένα με σημαδούρες πριν  το νησάκι της Περάμου  περνούν από την ζώνη αλλαγής και ξεκινούν 5 χλμ τρέξιμο όπου και τερματίζουν από εκεί που ξεκίνησαν \nΚατηγορίες αγώνα : 1η κατηγορία έως 20 ετών (1996) 2η κατηγορία  20– 35 ετών (1995-1981) 3η κατηγορία 35-50 ετών (1980-1966)4η κατηγορία 50 και άνω(1965 και άνω) \nΣκυταλοδρομία ( Aλλος τρέχει άλλος κολυμπάει): \nΤο αγώνισμα της σκυταλοδρομίας θα διεξαχθεί με δύο αθλητές από τους οποίους ο ένας είναι δρομέας και ο άλλος κολυμβητής\, ίδιου φύλου ή μικτής ομάδας. Οι κατηγορίες είναι με το άθροισμα των ηλικιών των δύο αθλητών και είναι 1η κατηγορία έως 60 ετών\, 2η κατηγορία έως 80 ετών 3η κατηγορία 100 και άνω \nΕγγραφές: Εγγραφές θα γίνονται στη φόρμα συμμετοχής του www.othak.gr  ή  και την ημέρα του αγώνα τουλάχιστον δύο ώρες νωρίτερα της εκκίνησης\, οι συμμετέχοντες πρέπει να βρίσκονται στο χώρο της γραμματείας μία ώρα πριν την εκκίνηση\, έτσι ώστε να επιβεβαιώσουν την εγγραφή τους και να παραλάβουν το νούμερό τους. Όσοι εγγραφούν έως τις 20 Ιουλίου 2016 θα παραλάβουν με το πακέτο εγγραφής τους  μπλουζάκι του αγώνα και κολυμβητικό σκουφάκι. \nΕκκίνηση :Η εκκίνηση του αγώνα θα γίνει μπροστά από το σπιτάκι του ΟΘΑΚ στη παραλία της Ν. Περάμου. \nΈπαθλα: Στον πρώτο/η νικητή/τρια  της γενικής κατηγορίας του αγώνα θα δοθεί κύπελλο και μετάλλιο ενώ στους τρείς πρώτους αθλητές /τριες κάθε κατηγορίας θα δοθεί μετάλλιο και δίπλωμα. Σε όλους τους συμμετέχοντες θα δοθούν αναμνηστικά διπλώματα και μετάλλια. \nΚόστος συμμετοχής: Η συμμετοχή του κάθε αθλητή είναι  10€. \nΔηλώσεις συμμετοχής: Οι ενδιαφερόμενοι μπορούν να δηλώσουν συμμετοχή στη φόρμα συμμετοχής στο www.othak.gr ή στο FAX του συλλόγου 2510231018 αλλά και στη γραμματεία του ΟΘΑΚ την ημέρα του αγώνα έως και δύο  ώρες  πριν τον αγώνα. \nΟι συμμετέχοντες οφείλουν να έχουν μαζί τους έγγραφο που να πιστοποιεί την ηλικία τους και να υπογράψουν την υπεύθυνη δήλωση αθλητή\, οι δε αθλητές το αθλητικό τους δελτίο ή φωτοτυπία αυτού. \nΑπό το Δ.Σ. του Συλλόγου.
URL:https://gorun.gr/race/3o-aquathlon-%cf%80%ce%ad%cf%81%ce%b1%ce%bc%ce%bf%cf%82-2016/
CATEGORIES:Τρίαθλο
END:VEVENT
END:VCALENDAR