BEGIN:VCALENDAR
VERSION:2.0
PRODID:-//goRUN - ECPv5.8.1//NONSGML v1.0//EN
CALSCALE:GREGORIAN
METHOD:PUBLISH
X-WR-CALNAME:goRUN
X-ORIGINAL-URL:https://gorun.gr
X-WR-CALDESC:Events for goRUN
BEGIN:VTIMEZONE
TZID:Europe/Athens
BEGIN:DAYLIGHT
TZOFFSETFROM:+0200
TZOFFSETTO:+0300
TZNAME:EEST
DTSTART:20160327T010000
END:DAYLIGHT
BEGIN:STANDARD
TZOFFSETFROM:+0300
TZOFFSETTO:+0200
TZNAME:EET
DTSTART:20161030T010000
END:STANDARD
END:VTIMEZONE
BEGIN:VEVENT
DTSTART;VALUE=DATE:20160827
DTEND;VALUE=DATE:20160828
DTSTAMP:20260424T152227
CREATED:20160412T104049Z
LAST-MODIFIED:20160831T071737Z
UID:5145-1472256000-1472342399@gorun.gr
SUMMARY:3os  ΑΓΩΝΑΣ ΔΡΟΜΟΥ 5 & 10 ΧΛΜ. ΤΥΧΕΡΟΥ ΈΒΡΟΥ "ΑΓΙΟΣ ΙΟΑΝΝΗΣ Ο ΠΡΟΔΡΟΜΟΣ"
DESCRIPTION:10 ΧΙΛΙΟΜΕΤΡΑ\nBibID Firstname Lastname YOB Gender Club Raceid GunTime Ranking\n207 ΧΑΡΑΛΑΜΠΟΣ ΒΟΥΛΚΟΣ 1990 M ΛΥΚΟΙ ΚΕΧΑΓΙΟΓΛΟΥ 10Km 0:37:01 1\n267 ΦΩΤΗΣ ΜΟΥΡΑΤΙΔΗΣ 1983 M ΛΥΚΟΙ ΚΕΧΑΓΙΟΓΛΟΥ 10Km 0:37:17 2\n338 ΚΩΝΣΤΑΝΤΙΝΟΣ ΔΕΛΗΓΕΩΡΓΙΟΣ M 10Km 0:39:28 3\n293 ΧΡΙΣΤΟΔΟΥΛΟΣ ΡΥΖΙΩΤΗΣ 1973 M ΛΥΚΟΙ ΚΕΧΑΓΙΟΓΛΟΥ 10Km 0:39:35 4\n327 ΙΩΑΝΝΗΣ ΚΑΛΟΥΔΗΣ M 10Km 0:39:48 5\n316 ΓΕΩΡΓΙΟΣ ΑΝΤΩΝΟΠΟΥΛΟΣ M 10Km 0:40:09 6\n211 ΝΙΚΟΣ ΓΙΟΦΤΣΙΔΗΣ 1971 M ΛΥΚΟΙ ΚΕΧΑΓΙΟΓΛΟΥ 10Km 0:40:11 7\n303 ΑΝΕΣΤΗΣ ΤΣΑΚΙΡΗΣ 1971 M ΛΥΚΟΙ – ΚΕΧΑΓΙΟΓΛΟΥ 10Km 0:40:17 8\n244 ΔΗΜΗΤΡΙΟΣ ΚΟΡΑΚΑΣ 1982 M ΛΥΚΟΙ ΚΕΧΑΓΙΟΓΛΟΥ 10Km 0:41:07 9\n277 ΓΙΩΡΓΟΣ ΟΣΕΠΑΣΒΙΛΗ 1982 M 10Km 0:41:38 10\n233 ΘΩΜΑΣ ΚΑΛΟΓΙΑΝΝΙΔΗΣ 1976 M ΛΥΚΟΙ ΚΕΧΑΓΙΟΓΛΟΥ 10Km 0:41:47 11\n263 ΘΕΟΔΩΡΟΣ ΜΙΧΑΗΛΙΔΗΣ 1979 M ΛΥΚΟΙ ΚΕΧΑΓΙΟΓΛΟΥ 10Km 0:42:28 12\n215 ΗΛΙΑΣ ΓΚΡΟΖΟΣ 1982 M ΛΥΚΟΙ ΚΕΧΑΓΙΟΓΛΟΥ 10Km 0:43:00 13\n341 ΣΤΕΡΓΙΟΣ ΠΑΠΑΔΟΠΟΥΛΟΣ M 10Km 0:43:05 14\n229 ΘΕΟΔΩΡΟΣ ΗΛΙΟΥ 1965 M Α.Ο.Ο 10Km 0:44:14 15\n311 ΚΩΝ/ΝΟΣ ΧΑΤΖΗΠΕΜΟΥ 1963 M ΛΥΚΟΙ ΚΕΧΑΓΙΟΓΛΟΥ ΤΥΧΕΡΟΚ 10Km 0:44:51 16\n318 ΕΥΣΤΑΘΙΟΣ ΓΚΕΒΡΕΚΗΣ M 10Km 0:44:52 17\n231 ΧΡΗΣΤΟΣ ΚΑΒΟΥΡΑΣ 1986 M 10Km 0:44:52 18\n224 ΦΥΛΛΗΣ ΔΡΑΚΙΔΗΣ 1971 M Α.Ο.ΟΡΕΣΤΙΑΔΑΣ 10Km 0:44:54 19\n309 ΧΡΗΣΤΟΣ ΦΥΛΛΑΡΙΔΗΣ 1973 M ΛΥΚΟΙ ΚΕΧΑΓΙΟΓΛΟΥ 10Km 0:44:54 20\n228 ΧΡΗΣΤΟΣ ΖΗΛΟΥΔΗΣ 1960 M RUNNING TEAM ORESTIADA 10Km 0:44:54 21\n326 ΘΕΟΔΩΡΟΣ ΚΑΡΑΣΤΑΘΗΣ M 10Km 0:45:09 22\n241 ΠΑΝΑΓΙΩΤΗΣ ΚΕΡΑΜΙΔΗΣ 1988 M EVROS MARATHON TEAM 10Km 0:45:10 23\n286 ΔΗΜΟΣ ΠΑΠΑΣ 1991 M RUNNING TEAM ETHNIKOY 10Km 0:45:17 24\n222 ΓΕΩΡΓΙΟΣ ΔΗΜΟΥ 1990 M RUNNNING TEAM ΕΘΝΙΚΟΥ ΑΛΕΞΑΝΔΡΟΥΠΟΛΗΣ 10Km 0:45:19 25\n324 ΔΙΟΓΕΝΗΣ ΣΠΑΘΟΠΟΥΛΟΣ M 10Km 0:45:24 26\n206 ΔΗΜΗΤΡΙΟΣ ΒΕΡΙΚΟΥΚΗΣ 1977 M KRAV MAGA – KARATE ALEXPOLIS 10Km 0:46:10 27\n302 ΔΗΜΗΤΡΗΣ ΤΣΑΚΑΛΙΔΗΣ 1979 M 10Km 0:46:11 28\n320 ΓΕΩΡΓΙΟΣ ΜΑΡΚΙΔΗΣ M 10Km 0:46:26 29\n258 ΑΓΓΕΛΟΣ ΜΑΡΚΟΣ 1981 M ΛΥΚΟΙ ΚΕΧΑΓΙΟΓΛΟΥ 10Km 0:46:37 30\n332 ΓΕΩΡΓΙΟΣ ΣΤΑΜΠΟΥΛΑΚΗΣ M 10Km 0:46:40 31\n325 ΜΑΚΗΣ ΑΛΕΞΙΟΥΔΗΣ M 10Km 0:46:42 32\n294 ΕΜΙΝΕΝΤ ΣΑΡΙΣΟΥ 1969 F ΛΥΚΟΙ ΚΕΧΑΓΙΟΓΛΟΥ 10Km 0:46:49 33\n208 ΔΗΜΗΤΡΗΣ ΒΟΥΡΔΟΓΛΟΥ 1977 M ΛΥΚΟΙ ΚΕΓΑΧΙΟΓΛΟΥ 10Km 0:47:01 34\n252 ΜΑΡΙΑ ΛΑΜΠΟΥΔΗ 1980 F 10Km 0:47:12 35\n330 ΔΗΜΗΤΡΙΟΣ ΔΟΣΙΔΗΣ M 10Km 0:47:24 36\n284 ΕΥΑΓΓΕΛΟΣ ΠΑΠΑΛΑΜΠΙΔΗΣ 1978 M ΛΥΚΟΙ-ΚΑΧΑΓΙΟΓΛΟΥ 10Km 0:47:49 37\n232 ΛΗΤΩ ΚΑΛΟΓΙΑΝΝΗ 1989 F 10Km 0:47:50 38\n260 ΔΗΜΗΤΡΗΣ ΜΕΛΑΣ 1990 M ΤΥΧΕΡΟΥ 10Km 0:48:27 39\n282 ΤΑΣΟΣ ΠΑΠΑΔΟΠΟΥΛΟΣ 1990 M Ο.Κ.Α.Φ. ΚΑΒΑΛΑΣ 10Km 0:48:27 40\n291 ΙΩΑΝΝΗΣ ΠΡΙΝΤΕΖΗΣ 1966 M ΔΡΟΜΕΙΣ ΣΥΡΟΥ 10Km 0:48:36 41\n333 ΚΩΝΣΤΑΝΤΙΝΟΣ ΤΣΙΡΟΣ M 10Km 0:48:37 42\n245 ΑΝΝΑ ΚΟΥΚΟΥΛΟΜΑΤΗ 1969 F ORESTIADA RUNNING TEAM 10Km 0:48:39 43\n236 ΑΘΑΝΑΣΙΟΣ ΚΑΜΠΑΝΤΑΗΣ 1972 M ΧΕΛΩΝΕΣ ΤΥΧΕΡΟΥ 10Km 0:48:50 44\n268 ΕΜΜΑΝΟΥΗΛ ΜΠΑΓΚΑΤΖΟΥΝΗΣ 1984 M 10Km 0:48:51 45\n234 ΛΑΖΑΡΟΣ ΚΑΛΟΥΖΙΔΗΣ 1988 M 10Km 0:49:00 46\n315 ΑΝΔΡΕΑΣ ΠΑΛΕΣ M 10Km 0:49:31 47\n299 ΟΥΡΑΝΙΑ ΣΤΑΘΗ 1973 F ΛΥΚΟΙ ΚΕΧΑΓΙΟΓΛΟΥ 10Km 0:49:33 48\n240 ΧΡΙΣΤΟΔΟΥΛΟΣ ΚΑΤΣΙΜΑΣ 1976 M ΑΝΕΞΑΡΤΗΤΟΣ 10Km 0:50:09 49\n212 ΖΑΧΑΡΙΑΣ ΓΚΑΜΠΙΤΣΑΚΗΣ 1957 M LYKOI KEHAGIOGLOY 10Km 0:50:16 50\n243 ΚΩΝΣΤΑΝΤΙΝΟΣ ΚΟΛΟΦΩΤΗΣ 1971 M ΣΤΡΑΤΟΣ 10Km 0:50:17 51\n314 ΒΑΣΙΛΗΣ ΓΚΙΡΔΑΣ M 10Km 0:50:23 52\n308 ΑΡΙΣΤΕΑ ΤΣΟΥΚΑΛΑ 1968 F ΛΥΚΟΙ ΚΕΧΑΓΙΟΓΛΟΥ 10Km 0:50:27 53\n336 ΔΗΜΟΣ ΓΚΑΙΝΤΑΤΖΟΠΟΥΛΟΣ M 10Km 0:50:29 54\n253 ΝΙΚΟΛΑΟΣ ΛΑΣΚΑΡΕΛΗΣ M ΛΥΚΟΙ – ΚΕΧΑΓΙΟΓΛΟΥ 10Km 0:50:30 55\n281 ΣΤΕΦΑΝΟΣ ΠΑΠΑΔΟΠΟΥΛΟΣ 2000 M ΛΥΚΟΙ ΚΕΧΑΓΙΟΓΛΟΥ 10Km 0:50:35 56\n269 ΝΑΝΤΙΑ ΜΠΑΚΑΤΙΝΑΚΗ 1974 F ΛΥΚΟΙ ΚΕΧΑΓΙΟΓΛΟΥ 10Km 0:50:38 57\n278 ΑΝΔΡΕΑΣ ΠΑΛΕΡΑΣ 1977 M ORESTIADA RUNNING TEAM 10Km 0:50:39 58\n265 ΝΙΚΟΣ ΜΟΣΧΟΥ 1964 M RUNNING TEAM ΕΘΝΙΚΟΣ ΑΛΕΞΑΝΔΡΟΥΠΟΛΗΣ 10Km 0:50:51 59\n237 ΜΙΛΤΟΣ ΚΑΠΟΥΣΟΥΖΗΣ 1990 M TIHERO 10Km 0:51:17 60\n328 ΤΑΣΟΣ ΒΑΣΙΛΕΙΑΔΗΣ M 10Km 0:51:40 61\n317 ΗΛΙΑΣ ΦΩΤΕΙΑΔΗΣ M 10Km 0:51:50 62\n248 ΑΘΑΝΑΣΙΟΣ ΚΥΡΟΥ 1985 M 10Km 0:51:51 63\n322 ΠΑΝΤΕΛΗΣ ΔΗΜΟΥΤΣΗΣ M 10Km 0:51:58 64\n246 ΠΑΝΑΓΙΩΤΗΣ ΚΟΥΤΡΑΣ 1988 M ΛΥΚΟΙ ΚΕΧΑΓΙΟΓΛΟΥ 10Km 0:52:05 65\n227 ΝΙΚΟΛΑΟΣ ΖΑΧΑΡΗΣ 1980 M ΛΥΚΟΙ ΚΕΧΑΓΙΟΓΛΟΥ 10Km 0:52:06 66\n279 ΔΗΜΗΤΡΙΟΣ ΠΑΝΤΟΣ 1984 M XANTHI RUNNERS 10Km 0:52:48 67\n319 ΙΩΣΗΦ ΤΣΑΚΑΛΟΣ M 10Km 0:52:51 68\n297 ΓΕΩΡΓΙΟΣ ΣΙΣΚΟΣ 1970 M ΛΥΚΟΙ ΚΕΧΑΓΙΟΓΛΟΥ 10Km 0:52:52 69\n203 ΣΤΕΛΛΑ ΑΡΑΜΠΑΤΖΗ 1995 F ΛΥΚΟΙ ΚΕΧΑΓΙΟΓΛΟΥ 10Km 0:52:53 70\n202 ΠΕΤΡΟΣ ΑΝΘΟΠΟΥΛΟΣ 1968 M ΟΠΟΠΥΛΗΣ 10Km 0:52:54 71\n300 ΔΗΜΗΤΡΙΟΣ ΣΤΑΜΠΟΛΙΔΗΣ 1976 M 10Km 0:53:03 72\n238 ΒΑΣΙΛΙΚΗ ΚΑΡΑΔΗΜΗΤΡΙΟΥ 1983 F 10Km 0:53:03 73\n251 ΙΩΑΝΝΗΣ ΛΑΜΠΙΔΗΣ 1974 M Α.Ο.Τ 10Km 0:53:08 74\n323 ΦΙΛΗΜΩΝ ΤΑΚΕΤΖΗΣ M 10Km 0:53:14 75\n287 ΧΡΗΣΤΟΣ ΠΑΤΣΗΣ 1982 M Ο.Π.Ο.Π. 10Km 0:53:18 76\n261 ΠΑΝΟΣ ΜΕΤΑΡΧΙΩΤΗΣ M 10Km 0:53:22 77\n250 ΙΩΑΝΝΗΣ ΜΠΑΤΑΚΗΣ M 10Km 0:53:43 78\n334 ΙΩΑΝΝΗΣ ΚΑΠΕΤΑΝΙΔΗΣ M 10Km 0:53:57 79\n301 ΧΡΗΣΤΟΣ ΤΕΠΕΛΗΣ 1957 M 10Km 0:54:29 80\n290 ΧΑΡΑΛΑΜΠΟΣ ΠΟΥΤΙΟΣ 1968 M – 10Km 0:54:42 81\n285 ΑΝΝΑ ΠΑΠΑΛΕΞΑΝΔΡΟΥ 1981 F 10Km 0:54:57 82\n257 ΓΙΑΝΝΗΣ ΜΑΝΤΖΑΡΙΔΗΣ 1971 M 10Km 0:55:00 83\n273 ΓΙΟΥΝΤΕ ΣΡΙΚΟΥΜΑΡΑΝ ΝΙΜΑΛΑΚΟΥΜΑΡΑΝ 1979 M CITADEL RUNNING TEAM 10Km 0:55:08 84\n239 ΚΩΝΣΤΑΝΤΙΝΟΣ ΚΑΡΑΝΑΣΙΟΣ 1978 M 10Km 0:55:19 85\n219 ΓΡΗΓΟΡΙΟΣ ΔΕΡΕΚΕΝΑΡΗΣ 1974 M ΤΥΧΕΡΟ 10Km 0:56:00 86\n256 ΣΩΤΗΡΗΣ ΜΑΚΡΗΣ 1970 M 10Km 0:56:33 87\n266 ΔΗΜΗΤΡΗΣ ΜΟΥΛΟΥΔΗΣ 1968 M ΛΥΚΟΙ ΚΕΧΑΓΙΟΓΛΟΥ 10Km 0:56:37 88\n331 ΘΕΟΦΥΛΑΚΤΟΣ ΤΕΛΛΙΓΙΑΝΝΙΔΗΣ M 10Km 0:57:13 89\n210 ΘΕΑΝΩ ΓΙΑΝΝΟΥΛΗ 1986 F 10Km 0:57:33 90\n339 ΙΩΑΝΝΗΣ ΦΛΕΓΚΑΣ M 10Km 0:57:34 91\n340 ΘΕΟΔΩΡΑ ΚΟΚΚΙΔΗ F 10Km 0:57:35 92\n355 SPARE355 SPARE355 F 10Km 0:58:04 93\n223 ΝΙΚΟΣ ΔΟΜΑΚΙΝΗΣ 2001 M 10Km 0:58:04 94\n337 ΚΩΝΣΤΑΝΤΙΝΟΣ ΒΟΥΛΓΑΡΗΣ M 10Km 0:58:09 95\n288 ΔΗΜΗΤΡΙΟΣ ΠΕΤΚΟΠΟΥΛΟΣ 1980 M ΑΝΕΞΑΡΤΗΤΟΣ 10Km 0:58:10 96\n254 ΝΙΚΟΛΑΟΣ ΛΙΤΣΚΑΣ 1986 M 10Km 0:58:48 97\n298 ΜΑΝΩΛΗΣ ΣΙΩΠΗΣ 1987 M ΧΕΛΩΝΕΣ ΤΥΧΕΡΟΥ 10Km 0:58:48 98\n230 ΝΑΤΑΣΑ ΘΕΟΧΑΡΙΔΟΥ 1993 F ΛΥΚΟΙ ΚΕΧΑΓΙΟΓΛΟΥ 10Km 0:58:50 99\n264 ΝΤΕΝΗΣ ΜΟΚΑΛΗΣ 1993 M ΧΕΛΩΝΕΣ ΤΥΧΕΡΟΥ 10Km 0:59:00 100\n306 ΔΗΜΗΤΡΗΣ ΤΣΟΛΑΚΗΣ 1969 M ΛΥΚΟΙ ΚΕΧΑΓΙΟΓΛΟΥ 10Km 1:00:16 101\n280 ΕΥΑΓΓΕΛΙΑ ΠΑΠΑΔΗΜΟΥ 1972 F ΟΠΑ 10Km 1:00:17 102\n271 ΑΧΙΛΛΕΑΣ ΜΠΙΜΠΤΖΑΣ 1973 M 10Km 1:00:56 103\n225 ΜΑΤΙΝΑ ΕΛΕΥΘΕΡΙΑΔΟΥ 1976 F 10Km 1:02:58 104\n360 SPARE360 SPARE360 F 10Km 1:03:20 105\n205 ΕΥΘΑΛΙΑ ΒΑΡΕΛΑ 1970 F SCIENCETRAINING.GR 10Km 1:04:28 106\n343 ΑΛΕΞΑΝΔΡΟΣ ΚΕΡΑΣΙΔΗΣ M 10Km 1:04:28 107\n321 ΓΕΩΡΓΙΟΣ ΔΑΡΟΥΣΗΣ M 10Km 1:06:28 108\n226 ΚΡΙΣΤΙ ΖΑΓΓΙΛΗ 1983 F 10Km 1:06:28 109\n344 ΧΡΗΣΤΟΣ ΓΟΛΑΤΣΗΣ M 10Km 1:09:22 110\n272 ΕΥΑΓΓΕΛΟΣ ΜΥΛΩΝΑΣ 2001 M 10Km 1:09:22 111 \n5 ΧΙΛΙΟΜΕΤΡΑ\n110 ΑΠΟΣΤΟΛΟΣ ΓΚΑΤΖΙΟΣ 1972 M ΛΥΚΟΙ ΚΕΧΑΓΙΟΓΛΟΥ 5Km 0:18:29 1\n132 ΠΑΝΑΓΙΩΤΗΣ ΛΑΤΑΣ 1984 M RUNNING TEAM ETHNIKOS ALEXANDROUPOLIS 5Km 0:20:47 2\n242 ΑΝΑΣΤΑΣΙΟΣ ΚΕΡΑΜΙΔΗΣ 1995 M EVROS MARATHON TEAM 5Km 0:21:00 3\n158 SPPARE158 SPPARE158 F 5Km 0:21:29 4\n144 ΒΑΣΙΛΗΣ ΠΑΝΤΕΚΙΔΗΣ 1983 M 5Km 0:21:34 5\n131 ΑΝΤΩΝΙΟΣ ΚΟΥΦΟΣ 1969 M RUNNING TEAM ΕΘΝΙΚΟΥ ΑΛΕΞ\ΠΟΛΗΣ 5Km 0:21:46 6\n129 ΔΟΥΛΗΣ ΚΙΣΣΟΥΔΗΣ 1981 M 5Km 0:22:36 7\n146 ΣΠΥΡΟΣ ΠΑΠΑΘΕΟΔΩΡΟΥ 1998 M 5Km 0:22:42 8\n135 ΛΕΥΤΕΡΗΣ ΜΑΤΖΑΡΗΣ 1981 M ΕΝ ΣΩΜΑΤΙ ΑΛΕΞΠΟΛΗ 5Km 0:22:44 9\n123 ΔΗΜΗΤΡΗΣ ΚΑΜΠΑΚΑΚΗΣ 2001 M 5Km 0:23:29 10\n139 ΕΥΑΓΓΕΛΟΣ ΜΠΙΡΙΝΤΖΗΣ 1987 M 5Km 0:23:45 11\n154 ΑΡΓΥΡΗΣ ΤΣΟΛΑΚΗΣ 1978 M 5Km 0:23:49 12\n151 ΦΩΤΕΙΝΗ ΣΚΑΡΛΑΤΟΥ 1991 F 5Km 0:23:55 13\n155 ΓΕΩΡΓΙΟΣ ΧΑΤΖΗΒΑΣΙΛΕΙΟΥ 1953 M ΣΕΒΑΣ ΑΛΕΞΑΝΔΡΟΥΠΟΛΗΣ 5Km 0:24:02 14\n121 ΒΑΙΟΣ ΖΑΠΑΡΤΑΣ 1976 M 5Km 0:24:50 15\n152 ΟΥΡΑΝΙΑ ΣΤΑΘΗ 1973 F ΛΥΚΟΙ ΚΕΧΑΓΙΟΓΛΟΥ 5Km 0:24:52 16\n128 ΠΕΤΡΟΣ ΚΑΤΣΙΜΑΣ 1975 M ΑΝΕΞΑΡΤΗΤΟΣ 5Km 0:25:01 17\n140 ΘΩΜΑΗ ΝΑΣΚΟΥ 1967 F YPSARION TRAIL RUNNERS 5Km 0:25:11 18\n147 ΜΙΧΑΗΛ ΠΕΤΣΙΑΣ 1975 M 5Km 0:25:11 19\n124 ΜΕΝΕΛΑΟΣ ΚΑΡΑΓΙΑΝΝΗΣ 2002 M 5Km 0:25:36 20\n133 ΑΝΔΡΕΑΣ ΛΙΤΣΚΑΣ 1989 M ΧΕΛΩΝΕΣ ΤΥΧΕΡΟΥ 5Km 0:26:03 21\n117 ΓΕΩΡΓΙΟΣ ΕΛΕΥΘΕΡΙΑΔΗΣ 1959 M 5Km 0:26:29 22\n141 ΚΩΝΣΤΑΝΤΙΝΟΣ ΝΟΔΑΡΟΣ 1987 M 5Km 0:27:42 23\n115 ΠΑΝΑΓΙΩΤΗΣ ΑΘΑΝΑΣΟΠΟΥΛΟΣ 1981 M 5Km 0:28:09 24\n102 ΒΑΣΙΛΕΙΟΣ ΑΛΕΞΙΟΥ 1985 M Ο.Π.Ο.Π. 5Km 0:28:15 25\n127 ΛΗΤΩ ΚΑΤΟΧΙΑΝΟΥ F 5Km 0:28:24 26\n335 ΝΑΘΑΝΑΗΛ ΔΑΝΤΣΙΟΣ M 5Km 0:28:36 27\n101 ΑΝΑΣΤΑΣΙΑ ΑΛΕΚΟΓΛΟΥ 1989 F 5Km 0:28:51 28\n103 ΣΟΦΙΑ ΑΡΒΑΝΙΤΗ 1980 F 5Km 0:29:48 29\n111 ΚΑΤΕΡΙΝΑ ΓΚΑΤΖΙΟΥ 2003 F ΝΙΚΗ ΑΛΕΞΠΟΛΗΣ 5Km 0:29:48 30\n137 ΙΩΑΝΝΑ ΜΗΤΡΟΥΛΑΚΗ 1986 F 5Km 0:30:14 31\n145 ΓΕΩΡΓΙΑ ΠΑΝΩΤΑ 1965 F 5Km 0:30:23 32\n159 SPPARE159 SPPARE159 F 5Km 0:30:44 33\n126 ΘΕΟΦΑΝΗΣ ΚΑΡΥΔΑΚΗΣ 1991 M RUNNING TEAM ΕΘΝΙΚΟΥ ΑΛΕΞ/ΠΟΛΗΣ 5Km 0:30:49 34\n149 ΘΕΟΔΟΣΙΟΣ ΡΟΠΟΥΛΟΣ 1990 M 5Km 0:30:51 35\n108 ΑΓΓΕΛΟΣ ΒΟΥΤΣΑΣ 1988 M 5Km 0:30:52 36\n106 ΓΕΩΡΓΙΟΣ ΒΛΑΧΑΒΑΣ 1981 M 5Km 0:31:29 37\n122 ΛΕΩΝΙΔΑΣ ΚΑΛΦΑΣ 1987 M 5Km 0:31:59 38\n118 ΜΑΡΙΚΑ ΕΛΕΥΘΕΡΙΑΔΟΥ 1955 F 5Km 0:32:02 39\n119 ΚΩΝΣΤΑΝΤΙΝΟΣ ΕΞΑΚΟΥΣΤΟΣ 1984 M 5Km 0:32:13 40\n160 SPPARE160 SPPARE160 F 5Km 0:32:31 41\n107 ΠΑΝΑΓΙΩΤΗΣ ΒΟΥΛΚΟΣ 1957 M 5Km 0:33:41 42\n104 ΧΡΗΣΤΟΣ ΒΑΛΚΑΝΗΣ 1988 M 5Km 0:34:43 43\n125 ΑΘΑΝΑΣΙΟΣ ΚΑΡΑΓΙΑΝΝΗΣ 1973 M 5Km 0:36:04 44\n113 ΝΙΚΟΛΑΟΣ ΔΗΜΟΠΟΥΛΟΣ 1977 M 5Km 0:36:24 45\n143 ΕΙΡΗΝΗ ΠΑΝΕΡΗ 1985 F 5Km 0:36:24 46\n130 ΕΛΕΝΗ ΚΟΚΚΙΝΗ 1970 F 5Km 0:36:33 47\n156 ΙΩΑΝΝΑ ΔΟΜΠΑΡΑ 2000 F 5Km 0:38:45 48\n136 ΕΛΕΝΗ ΜΗΤΙΟΥΔΗ 2001 F 5Km 0:41:24 49\n157 ΙΣΙΔΩΡΑ ΑΘΑΝΑΣΙΑΔΗ 2000 F 5Km 0:44:40 50\n112 ΕΥΑΓΓΕΛΙΑ ΔΕΡΕΚΕΝΑΡΗ 1976 F 5Km 0:46:25 51\n134 ΕΛΠΙΔΑ ΜΑΚΡΗ 1980 F Ο.Π.Ο.Π. 5Km 0:48:38 52
URL:https://gorun.gr/race/3os-%ce%b1%ce%b3%cf%89%ce%bd%ce%b1%cf%83-%ce%b4%cf%81%ce%bf%ce%bc%ce%bf%cf%85-5-10-%cf%87%ce%bb%ce%bc-%cf%84%cf%85%cf%87%ce%b5%cf%81%ce%bf%cf%85-%ce%ad%ce%b2%cf%81%ce%bf%cf%85-%ce%b1%ce%b3%ce%b9/
CATEGORIES:Αποτελέσματα,Δρόμος
END:VEVENT
END:VCALENDAR