BEGIN:VCALENDAR
VERSION:2.0
PRODID:-//goRUN - ECPv5.8.1//NONSGML v1.0//EN
CALSCALE:GREGORIAN
METHOD:PUBLISH
X-WR-CALNAME:goRUN
X-ORIGINAL-URL:https://gorun.gr
X-WR-CALDESC:Events for goRUN
BEGIN:VTIMEZONE
TZID:Europe/Athens
BEGIN:DAYLIGHT
TZOFFSETFROM:+0200
TZOFFSETTO:+0300
TZNAME:EEST
DTSTART:20160327T010000
END:DAYLIGHT
BEGIN:STANDARD
TZOFFSETFROM:+0300
TZOFFSETTO:+0200
TZNAME:EET
DTSTART:20161030T010000
END:STANDARD
END:VTIMEZONE
BEGIN:VEVENT
DTSTART;VALUE=DATE:20160731
DTEND;VALUE=DATE:20160801
DTSTAMP:20260422T032819
CREATED:20160420T144601Z
LAST-MODIFIED:20160731T103207Z
UID:5672-1469923200-1470009599@gorun.gr
SUMMARY:5οι Αυξέντιοι Αγώνες Κρήτης – Μινωικά Αθλήματα
DESCRIPTION:ΑΝΑΝΕΩΜΕΝΗ ΠΡΟΚΥΡΗΞΗ ΑΓΩΝΩΝ. \n(ΑΦΑΙΡΕΘΗΚΕ Η ΔΩΡΕΑΝ ΜΕΤΑΦΟΡΑ ΜΕ ΠΟΥΛΜΑΝ).\n \nΠΡΟΣΒΑΣΗ ΜΕ ΚΤΕΛ ΑΠΟ ΧΑΝΙΩΠΟΡΤΑ \nΑΝΑΧΩΡΗΣΕΙΣ 07:30 ΚΑΙ 09:00 \nΔΙΑΡΚΕΙΑ 35 ΛΕΠΤΑ \nΚΟΣΤΟΣ: 3.50 \nΣύλλογος Πιρουνιανών «Αξέντι» \nΠεριφέρεια Κρήτης\, Περιφερειακή Ενότητα Ηρακλείου \nΔήμος Γόρτυνας \nΌμιλος Υπεραποστάσεων Κρήτης \n  \n5οι Αυξέντιοι Αγώνες Κρήτης – Μινωικά Αθλήματα \nΚυριακή 31 Ιουλίου 2016 \nΏρα Έναρξης Αγωνισμάτων: 10:00 π.μ. \nΤοποθεσία: Πιρουνιανά Αγίας Βαρβάρας Ηρακλείου Κρήτης \n  \n07:30 – Θεία Λειτουργία στον Ι.Ν. Αγ. Πνεύματος (Αξέντι) \n10:00 – Παιδικός Αγώνας 600 μ. \n10:00 – Πεζοπορία 6.350 μ. \n10:15 – Αυξέντιος Δρόμος 6.350 μ. \n11:00 – Κρητικό Βόλι \n11:45 – Άλμα εις μήκος \n12:30 – Ακόντιο \n13:00 – Τοξοβολία* \n– Επίδειξη Ξιφασκίας* (από την Αθλητική Λέσχη Μεσαράς) \n– Επίδειξη TAE KWON DO* \n* δεν είναι οριστική η συμμετοχή \n  \nΕΠΑΘΛΑ ΓΙΑ ΤΟΥΣ 3 ΠΡΩΤΟΥΣ ΝΙΚΗΤΕΣ/ΤΡΙΕΣ \nΑΝΑΜΝΗΣΤΙΚΑ ΜΕΤΑΛΛΙΑ-ΔΙΠΛΩΜΑΤΑ ΓΙΑ ΟΛΟΥΣ ΤΟΥΣ ΣΥΜΜΕΤΕΧΟΝΤΕΣ \n  \nΕΚΠΤΩΣΗ 40% ΣΤΑ ΑΚΤΟΠΛΟΪΚΑ ΕΙΣΙΤΗΡΙΑ ΜΕ ΑΝΕΚ LINES – BLUE STAR FERRIES \n  \nΠΛΗΡΟΦΟΡΙΕΣ: \nΣΑΒΟΥΙΔΑΚΗΣ ΓΙΩΡΓΟΣ 6974762517 & \nΣΚΟΥΡΒΟΥΛΙΑΝΑΚΗΣ ΑΛΕΞΑΝΔΡΟΣ  697.26.44.168 \n  \nΟΙ ΟΠΟΙΕΣΔΗΠΟΤΕ ΑΛΛΑΓΕΣ ΣΤΟ ΠΡΟΓΡΑΜΜΑ ΘΑ ΑΝΑΚΟΙΝΩΝΟΝΤΑΙ ΕΓΚΑΙΡΑ ΣΤΑ ΜΕΣΑ ΕΝΗΜΕΡΩΣΗΣ \n— \n\nΌμιλος Υπεραποστάσεων Κρήτης\nΈτος ίδρυσης 1992\nΈδρα:Στάδιο Ελευθερίας\, Ηράκλειο (Χανιώπορτα) \nNEO Δ.Σ. (από 9/3/2013) \nΠΡΟΕΔΡΟΣ Ι Τζανή Μαρία Ι 6974.481.191 \nΑΝΤΙΠΡΟΕΔΡΟΣ Ι Αμαργιανιτάκης Γιάννης \nΓΡΑΜΜΑΤΕΑΣ Ι Σκουρβουλιανάκης Στέφανος Ι 6936.125.835 \nΤΑΜΙΑΣ Ι Τριανταφυλλάκης Αντώνης \nΕΦΟΡΟΣ ΑΓΩΝΩΝ Ι Παντατοσάκης Γιάννης Ι 6972.865.015 \nΜΕΛΗ Ι Μαστοράκης Μανόλης \nΠεριοχή συνημμένων
URL:https://gorun.gr/race/5%ce%bf%ce%b9-%ce%b1%cf%85%ce%be%ce%ad%ce%bd%cf%84%ce%b9%ce%bf%ce%b9-%ce%b1%ce%b3%cf%8e%ce%bd%ce%b5%cf%82-%ce%ba%cf%81%ce%ae%cf%84%ce%b7%cf%82-%ce%bc%ce%b9%ce%bd%cf%89%ce%b9%ce%ba%ce%ac/
CATEGORIES:Δρόμος
END:VEVENT
END:VCALENDAR