BEGIN:VCALENDAR
VERSION:2.0
PRODID:-//goRUN - ECPv5.8.1//NONSGML v1.0//EN
CALSCALE:GREGORIAN
METHOD:PUBLISH
X-WR-CALNAME:goRUN
X-ORIGINAL-URL:https://gorun.gr
X-WR-CALDESC:Events for goRUN
BEGIN:VTIMEZONE
TZID:Europe/Athens
BEGIN:DAYLIGHT
TZOFFSETFROM:+0200
TZOFFSETTO:+0300
TZNAME:EEST
DTSTART:20160327T010000
END:DAYLIGHT
BEGIN:STANDARD
TZOFFSETFROM:+0300
TZOFFSETTO:+0200
TZNAME:EET
DTSTART:20161030T010000
END:STANDARD
END:VTIMEZONE
BEGIN:VEVENT
DTSTART;VALUE=DATE:20161002
DTEND;VALUE=DATE:20161003
DTSTAMP:20260420T073738
CREATED:20160629T214935Z
LAST-MODIFIED:20161002T144915Z
UID:8547-1475366400-1475452799@gorun.gr
SUMMARY:5ος ΕΟΡΔΑΪΚΟΣ ΗΜΙΜΑΡΑΘΩΝΙΟΣ ΚΑΙ ΛΑΪΚΟΣ ΑΓΩΝΑΣ ΔΡΟΜΟΥ 8ΧΙΛ
DESCRIPTION:5ος Εορδαϊκός Ημιμαραθώνιος\nΠτολεμαϊδα \n1 1 1050 ΚΑΠΕΤΑΝΟΣ ΛΑΖΑΡΟΣ\n01:18:25\n2 2 1109 ΠΑΓΟΥΝΟΠΟΥΛΟΣ ΣΤΕΛΙΟΣ\n01:19:14\n3 3 1164 ΠΑΠΠΑΣ ΣΠΥΡΙΔΩΝ\n01:26:10\n4 4 1121 ΠΕΓΙΟΣ ΤΡΙΑΝΤΑΦΥΛΛΟΣ\n01:27:02\n5 5 1106 ΝΗΤΣΙΟΣ ΑΝΤΩΝΙΟΣ\n01:28:13\n6 6 1097 ΜΠΟΓΙΑΤΖΗΣ ΘΩΜΑΣ\n01:30:01\n7 7 1129 ΣΙΔΗΡΟΠΟΥΛΟΣ ΣΑΒΒΑΣ\n01:30:24\n8 8 1138 ΤΖΗΜΟΣ ΝΙΚΟΣ\n01:31:03\n9 9 1008 ΑΣΛΑΝΙΔΗΣ ΠΑΥΛΟΣ\n01:31:26\n10 10 1172 ΜΠΑΜΠΟΥΝΑΣ ΠΑΝΑΓΙΩΤΗΣ\n01:32:09\n11 11 1082 ΜΑΣΣΑΣ ΚΩΝΣΤΑΝΤΙΝΟΣ\n01:32:22\n12 12 1088 ΜΙΧΑΗΛΙΔΗΣ ΠΕΤΡΟΣ\n01:34:12\n13 13 1146 ΤΣΑΚΙΡΗΣ ΚΩΝ/ΝΟΣ\n01:34:31\n14 14 1048 ΙΩΑΝΝΙΔΗΣ ΕΥΑΓΓΕΛΟΣ\n01:34:57\n15 15 1025 ΓΙΑΝΝΟΥ ΧΑΡΙΛΑΟΣ\n01:36:38\n16 16 1046 ΙΣΠΟΓΛΟΥ ΚΩΝΣΤΑΝΤΙΝΟΣ\n01:37:07\n17 17 1099 ΜΠΟΥΜΠΟΝΑΡΗΣ ΘΩΜΑΣ\n01:37:48\n18 18 1166 ΚΑΝΛΗΣ ΘΕΟΛΟΓΟΣ\n01:37:59\n19 19 1112 ΠΑΠΑΔΗΜΗΤΡΙΟΥ ΔΙΟΜΗΔΗΣ\n01:38:22\n20 20 1072 ΛΙΑΠΗΣ ΒΑΣΙΛΕΙΟΣ\n01:38:40\n21 21 1045 ΙΟΡΔΑΝΙΔΗΣ ΔΗΜΗΤΡΙΟΣ\n01:38:59\n22 22 1004 ΑΛΕΞΟΠΟΥΛΟΣ ΑΛΕΞΙΟΣ\n01:39:12\n23 23 1085 ΜΗΤΡΟΥΛΗΣ-ΤΣΑΚΙΛΤΣΙΔΗΣ ΓΙΑΝΝΗΣ-ΑΧΙΛΛΕΑΣ\n01:39:36\n24 24 1079 ΜΑΝΤΣΟΣ ΧΡΗΣΤΟΣ\n01:39:39\n25 1 1027 ΓΚΟΛΗ ΑΛΙΚΗ\n01:39:46\n26 25 1090 ΜΠΑΜΠΙΛΑΣ ΝΙΚΟΛΑΟΣ\n01:40:14\n27 26 1155 ΧΑΡΙΤΙΔΗΣ ΔΗΜΗΤΡΙΟΣ\n01:40:24\n28 27 1139 ΤΟΠΑΛΗΣ ΝΙΚΟΣ\n01:40:25\n29 28 1086 ΜΙΜΗΣ ΔΗΜΗΤΡΙΟΣ\n01:40:54\n30 29 1165 ΚΟΤΣΕΛΙΔΗΣ ΠΑΝΑΓΙΩΤΗΣ\n01:41:02\n31 30 1029 ΓΚΟΥΤΖΙΟΜΗΤΡΟΣ ΚΩΣΤΑΣ\n01:41:10\n32 2 1039 ΕΛΕΥΘΕΡΙΑΔΟΥ AΝΑΣΤΑΣΙΑ\n01:41:11\n33 31 1003 ΑΔΑΜΙΔΗΣ ΤΑΣΟΣ\n01:41:21\n34 32 1064 ΚΟΤΖΑΙΤΣΗΣ ΠΡΟΔΡΟΜΟΣ\n01:41:36\n35 33 1128 ΣΑΡΗΜΑΝΩΛΗΣ ΣΙΜΟΣ\n01:41:41\n36 34 1070 ΚΩΤΣΙΔΗΣ ΓΡΗΓΟΡΗΣ\n01:42:01\n37 35 1033 ΓΡΗΓΟΡΙΑΔΗΣ ΑΝΤΩΝΙΟΣ\n01:42:02\n38 36 1019 ΓΑΛΑΤΗΣ ΠΑΝΑΓΙΩΤΗΣ\n01:42:34\n39 37 1160 ΡΟΥΣΣΟΣ ΓΕΩΡΓΙΟΣ\n01:42:49\n40 38 1156 ΧΑΤΖΗΓΕΩΡΓΙΟΥ ΚΩΝΣΤΑΝΤΙΝΟΣ\n01:42:58\n41 39 1145 ΤΣΑΚΙΛΤΖΙΔΗΣ ΚΥΡΙΑΚΟΣ\n01:43:23\n42 40 1021 ΓΑΡΓΑΝΗΣ ΠΑΣΧΑΛΗΣ\n01:43:39\n43 41 1130 ΣΙΟΛΔΑΣ ΑΘΑΝΑΣΙΟΣ\n01:43:58\n44 42 1141 ΤΡΙΜΠΟΣ ΓΕΩΡΓΙΟΣ\n01:45:10\n45 43 1084 ΜΑΥΡΙΔΗΣ ΘΟΔΩΡΟΣ\n01:45:13\n46 44 1061 ΚΕΒΡΕΚΙΔΗΣ ΧΡΥΣΟΣΤΟΜΟΣ\n01:45:48\n47 45 1009 ΒΑΒΛΙΑΡΑΣ ΑΣΤΕΡΙΟΣ\n01:45:49\n48 46 1102 ΝΑΘΑΝΑΗΛ ΠΑΠΑΔΟΠΟΥΛΟΣ\n01:46:03\n49 47 1131 ΣΙΣΚΟΣ ΤΡΥΦΩΝ\n01:46:31\n50 48 1038 ΔΟΥΝΑΣ ΑΝΤΩΝΗΣ\n01:46:35\n51 49 1010 ΒΑΜΒΑΣ ΑΘΑΝΑΣΙΟΣ\n01:46:47\n52 50 1113 ΠΑΠΑΔΟΠΟΥΛΟΣ ΙΩΑΝΝΗΣ\n01:47:00\n53 51 1067 ΚΡΙΤΣΑΝΗΣ ΑΛΕΞΑΝΔΡΟΣ\n01:47:01\n54 52 1077 ΜΑΚΡΙΔΗΣ ΔΗΜΗΤΡΙΟΣ\n01:47:04\n55 53 1083 ΜΑΣΤΡΑΝΕΣΤΗΣ ΦΩΤΗΣ\n01:47:21\n56 54 1081 ΜΑΡΑΣ ΖΗΣΗΣ\n01:47:23\n57 55 1066 ΚΟΥΛΕΤΣΑΣ ΑΘΑΝΑΣΙΟΣ\n01:47:26\n58 56 1047 ΙΩΑΝΝΙΔΗΣ ΚΥΡΙΑΚΟΣ\n01:47:28\n59 57 1052 ΚΑΡΑΓΚΙΟΖΗΣ ΝΙΚΟΣ\n01:47:40\n60 58 1091 ΜΠΑΜΠΙΝΗΣ ΑΛΕΞΑΝΔΡΟΣ\n01:48:14\n61 59 1060 ΚΑΤΩΤΙΚΙΔΗΣ ΔΗΜΗΤΡΗΣ\n01:48:15\n62 60 1163 ΧΑΤΖΗΚΑΜΑΡΗΣ ΓΙΑΝΝΗΣ\n01:48:17\n63 61 1069 ΚΩΣΤΗΣ ΓΕΩΡΓΙΟΣ\n01:48:28\n64 62 1162 ΘΩΙΔΗΣ ΓΕΩΡΓΙΟΣ\n01:49:21\n65 63 1054 ΚΑΡΑΜΠΑΣΗΣ ΠΕΤΡΟΣ\n01:49:30\n66 64 1089 ΜΠΑΛΤΖΗΣ ΒΑΣΙΛΕΙΟΣ\n01:49:30\n67 65 1065 ΚΟΥΓΙΟΥΜΤΖΙΔΗΣ ΑΝΑΣΤΑΣΙΟΣ\n01:50:00\n68 66 1042 ΖΗΚΟΣ BΑΣΙΛΕΙΟΣ\n01:50:09\n69 67 1123 ΠΕΤΡΟΠΟΥΛΟΣ ΔΗΜΗΤΡΙΟΣ\n01:50:30\n70 68 1133 ΣΤΑΘΟΠΟΥΛΟΣ ΔΗΜΗΤΡΗΣ\n01:50:42\n71 69 1058 ΚΑΡΥΠΙΔΗΣ ΓΙΩΡΓΟΣ\n01:50:50\n72 70 1142 ΤΡΥΦΩΝΙΔΗΣ ΗΛΙΑΣ\n01:50:56\n73 71 1075 ΜΑΒΗΣ ΧΡΗΣΤΟΣ\n01:51:20\n74 72 1037 ΔΗΜΗΤΡΙΑΔΗΣ ΚΩΝ/ΝΟΣ\n01:51:49\n75 73 1147 ΤΣΑΜΟΣ ΕΛΕΥΘΕΡΙΟΣ\n01:52:08\n76 3 1100 ΜΠΡΕΤΣΑ ΜΑΡΙΑ\n01:52:11\n77 74 1041 ΖΑΦΕΙΡΙΔΗΣ ΔΗΜΗΤΡΙΟΣ\n01:53:02\n78 75 1144 ΤΣΑΓΚΑΝΗΣ ΓΕΩΡΓΙΟΣ\n01:53:43\n79 76 1032 ΓΡΗΓΟΡΑΚΗΣ ΓΡΗΓΟΡΗΣ\n01:54:15\n80 77 1119 ΠΑΤΣΙΑΝΗΣ ΕΥΣΤΡΑΤΙΟΣ\n01:54:21\n81 78 1135 ΣΤΟΙΤΣΗΣ ΔΗΜΗΤΡΙΟΣ\n01:54:25\n82 79 1117 ΠΑΠΠΑΣ ΒΛΑΔΙΜΗΡΟΣ\n01:54:38\n83 80 1035 ΔΑΝΙΗΛΙΔΗΣ ΑΘΑΝΑΣΙΟΣ\n01:54:40\n84 81 1006 ΑΝΔΡΟΝΙΚΙΔΗΣ ΙΩΑΝΝΗΣ\n01:54:41\n85 82 1068 ΚΡΙΤΣΑΝΗΣ ΧΡΥΣΟΣ\n01:54:41\n86 83 1062 ΚΙΛΗΣ ΚΥΡΙΑΚΟΣ\n01:54:59\n87 84 1049 ΚΑΚΛΙΔΗΣ ΔΗΜΗΤΡΙΟΣ\n01:55:33\n88 85 1012 ΒΑΣΙΛΕΙΑΔΗΣ ΧΑΡΑΛΑΜΠΟΣ\n01:55:33\n89 86 1107 ΝΙΚΕΖΗΣ ΘΩΜΑΣ\n01:57:16\n90 87 1170 ΑΣΙΑΝΟΣ ΙΩΑΚΕΙΜ\n01:57:22\n91 88 1024 ΓΙΑΝΝΙΚΟΣ ΓΕΩΡΓΙΟΣ\n01:57:41\n92 4 1158 ΧΟΚΙΑ ΛΙΝΤΊΤΑ\n01:58:28\n93 89 1074 ΛΟΓΔΑΝΙΔΗΣ ΔΗΜΗΤΡΙΟΣ\n01:58:47\n94 90 1110 ΠΑΜΠΟΥΚΙΔΗΣ ΒΑΣΙΛΕΙΟΣ\n01:58:58\n95 91 1103 ΝΑΚΟΥ ΙΩΑΝΝΗΣ\n01:58:58\n96 92 1161 ΣΤΑΜΟΣ ΓΕΩΡΓΙΟΣ\n01:59:39\n97 93 1151 ΤΣΙΤΣΟΣ ΝΙΚΟΣ\n01:59:57\n98 94 1149 ΤΣΙΙΡΙΓΩΤΗΣ ΒΑΣΙΛΕΙΟΣ\n02:00:17\n99 95 1022 ΓΕΡΑΚΗΣ ΧΡΗΣΤΟΣ\n02:00:20\n100 96 1094 ΜΠΙΓΓΑΣ ΧΑΡΑΛΑΜΠΟΣ\n02:00:32\n101 97 1015 ΒΛΑΧΟΣ ΧΡΗΣΤΟΣ\n02:00:43\n102 98 1159 ΧΡΙΣΤΟΦΟΡΙΔΗΣ ΝΙΚΟΛΑΟΣ\n02:00:50\n103 99 1020 ΓΑΡΓΑΛΑΣ ΧΡΗΣΤΟΣ\n02:00:51\n104 100 1125 ΠΟΥΤΑΛΗΣ ΙΩΑΝΝΗΣ\n02:00:51\n105 101 1056 ΚΑΡΑΠΟΝΑΡΛΙΔΗΣ ΕΥΤΥΧΗΣ\n02:01:33\n106 102 1118 ΠΑΤΚΑΣ ΛΑΖΑΡΟΣ\n02:03:19\n107 103 1076 ΜΑΓΓΟΣ ΛΑΖΑΡΟΣ\n02:05:24\n108 104 1150 ΤΣΙΤΟΥΡΗΣ ΑΘΑΝΑΣΙΟΣ\n02:06:06\n109 105 1036 ΔΗΜΑΚΗΣ ΓΕΩΡΓΙΟΣ\n02:08:11\n110 106 1169 ΤΣΙΟΥΜΗΤΑΣ ΑΘΑΝΑΣΙΟΣ\n02:10:57\n111 107 1005 ΑΝΑΓΝΩΣΤΟΥ ΜΙΧΑΗΛ\n02:12:00\n112 108 1114 ΠΑΠΑΔΟΠΟΥΛΟΣ ΙΩΑΝΝΗΣ\n02:12:35\n113 109 1013 ΒΑΣΙΛΕΙΑΔΗΣ ΠΑΝΑΓΙΩΤΗΣ\n02:13:19\n114 110 1014 ΒΑΣΙΛΗΣ ΔΕΛΗΓΙΑΝΝΙΔΗΣ\n02:16:45\n115 111 1152 ΦΑΝΑΚΗΣ ΤΟΛΗΣ\n02:16:45\n116 112 1092 ΜΠΑΡΤΖΩΚΑΣ ΣΤΕΡΓΙΟΣ\n02:18:04\n117 113 1120 ΠΑΧΑΤΥΡΟΓΛΟΥ ΝΙΚΟΛΑΟΣ\n02:18:39\n118 114 1078 ΜΑΝΤΙΚΟΣ ΚΟΡΝΗΛΙΟΣ\n02:19:21\n119 115 1093 ΜΠΕΛΛΟΣ ΓΕΩΡΓΙΟΣ\n02:19:54\n120 116 1168 ΣΕΡΙΣΤΑΤΙΔΗΣ ΑΛΕΞΑΝΔΡΟΣ\n02:19:54\n121 117 1167 ΣΕΡΙΣΤΑΤΙΔΗΣ ΓΕΩΡΓΙΟΣ\n02:21:15\n122 118 1115 ΠΑΠΑΪΩΑΝΝΟΥ ΧΡΗΣΤΟΣ\n02:24:02\n123 119 1116 ΠΑΠΑΪΩΆΝΝΟΥ ΠΑΝΑΓΙΏΤΗΣ\n02:35:14\n124 120 1111 ΠΑΠΑΔΗΜΗΤΡΙΟΥ ΔΗΜΗΤΡΗΣ –\n124 120 1108 ΠΑΓΟΥΝΟΠΟΥΛΟΣ ΚΩΣΤΑΣ –\n124 120 1124 ΠΛΑΚΕΤΑΣ ΚΟΣΜΑΣ –\n124 120 1122 ΠΕΤΡΙΔΗΣ ΕΥΑΓΓΕΛΟΣ –\n124 120 1126 ΣΑΚΑΡΙΔΗΣ ΣΕΡΑΦΕΙΜ –\n124 120 1127 ΣΑΛΙΑΚΟΥ ΓΙΩΡΓΟΣ –\n124 120 1132 ΣΠΑΝΔΩΝΙΔΗΣ ΔΗΜΗΤΡΗΣ –\n124 120 1136 ΣΥΜΕΩΝΙΔΗΣ ΓΕΩΡΓΙΟΣ –\n124 120 1137 ΤΑΒΑΚΗΣ ΣΤΑΥΡΟΣ –\n124 120 1134 ΣΤΟΓΙΑΝΝΗΣ ΑΘΑΝΑΣΙΟΣ –\n124 120 1143 ΤΡΥΦΩΝΟΣ ΠΕΤΡΟΣ –\n124 120 1140 ΤΟΠΟΥΖΑΚΗΣ ΔΗΜΗΤΡΗΣ –\n124 120 1095 ΜΠΙΛΙΟΥΣΗΣ ΣΩΤΗΡΗΣ –\n124 5 1096 ΜΠΙΛΛΙΜΗ ΒΙΟΛΕΤΑ –\n124 120 1104 ΝΕΣΤΟΡΑΣ ΔΗΜΗΤΡΙΟΣ –\n124 120 1105 ΝΕΣΤΟΡΟΠΟΥΛΟΣ ΚΩΣΤΑΣ –\n124 120 1101 ΜΥΛΟΝΑΣ ΒΑΣΙΛΕΙΟΣ –\n124 120 1098 ΜΠΟΥΖΟΠΟΥΛΟΣ ΙΟΡΔΑΝΗΣ –\n124 120 1071 ΛΑΜΠΡΟΠΟΥΛΟΣ ΚΩΝΣΤΑΝΤΙΝΟΣ –\n124 120 1073 ΛΙΟΥΡΗΣ ΧΡΗΣΤΟΣ –\n124 120 1080 ΜΑΝΩΛΑΣ ΚΩΝ/ΝΟΣ –\n124 120 1087 ΜΙΜΤΣΗΣ ΣΤΕΦΑΝΟΣ –\n124 120 1007 ΑΝΤΩΝΟΠΟΥΛΟΣ ΓΕΩΡΓΙΟΣ –\n124 120 1016 ΒΟΤΣΗΣ ΕΥΘΥΜΙΟΣ –\n124 120 1017 ΒΟΤΣΗΣ ΣΗΔΕΡΗΣ –\n124 120 1018 ΒΟΤΣΗΣ ΣΙΔΕΡΗΣ –\n124 120 1001 ΑΒΡΑΜΙΔΗΣ ΙΑΚΩΒΟΣ –\n124 120 1002 ΑΒΡΑΜΙΔΗΣ ΙΑΚΩΒΟΣ –\n124 120 1011 ΒΑΣΒΑΤΕΚΗΣ ΣΩΤΗΡΗΣ –\n124 5 1034 ΓΡΗΓΟΡΙΑΔΟΥ ΜΑΚΡΙΝΑ –\n124 120 1030 ΓΟΥΓΟΥΣΗΣ ΚΩΝΣΤΑΝΤΙΝΟΣ –\n124 120 1028 ΓΚΟΥΝΤΟΒΑΣ ΔΗΜΗΤΡΙΟΣ –\n124 120 1026 ΓΚΙΟΝΟΓΛΟΥ ΗΡΑΚΛΗΣ –\n124 120 1057 ΚΑΡΑΧΑΛΙΟΣ ΚΩΣΤΑΣ –\n124 120 1055 ΚΑΡΑΠΟΝΑΡΛΙΔΗΣ ΕΥΤΥΧΗΣ –\n124 120 1059 ΚΑΤΣΟΥΛΑΣ ΑΝΔΡΕΑΣ –\n124 120 1063 ΚΟΣΜΙΔΗΣ ΣΥΜΕΩΝ –\n124 120 1053 ΚΑΡΑΜΠΑΣΗΣ ΑΝΑΣΤΑΣΙΟΣ –\n124 120 1051 ΚΑΠΛΑΝΙΔΗΣ ΧΡΗΣΤΟΣ –\n124 120 1040 ΖΑΝΙΔΗΣ ΧΡΗΣΤΟΣ –\n124 120 1043 ΖΟΥΜΠΟΣ ΚΩΝΣΤΑΝΤΙΝΟΣ –\n124 120 1044 ΖΩΓΡΑΦΟΣ ΝΙΚΟΣ –\n124 120 1153 ΧΑΙΤΑΣ ΝΙΚΟΣ –\n124 120 1154 ΧΑΙΤΑΣ ΝΙΚΟΛΑΟΣ –\n124 120 1148 ΤΣΑΡΤΣΑΝΗΣ ΔΗΜΗΤΡΙΟΣ –\n124 120 1157 ΧΑΤΖΗΚΩΣΤΑΝΤΙΝΟΥ ΣΤΕΦΑΝΟΣ –\nDQF DQF 1171 ΒΡΥΖΙΔΗΣ ΛΑΖΑΡΟΣ disqualified\nDQF DQF 1023 ΓΙΑΚΑΜΟΖΗΣ ΧΡΗΣΤΟΣ disqualified\nDQF DQF 1031 ΓΟΥΛΑΣ ΗΛΙΑΣ disqualified \n8 ΧΙΛΙΟΜΕΤΡΑ \n1 1 2072 ΚΟΥΤΣΟΥΜΠΙΔΗΣ ΔΗΜΗΤΡΙΟΣ\n00:28:30\n00:28:30\n2 2 2024 ΓΚΑΡΑΒΕΛΛΑΣ ΣΠΥΡΙΔΩΝ\n00:30:58\n00:30:58\n3 3 2196 ΣΚΟΡΔΑΣ ΑΘΑΝΑΣΙΟΣ\n00:31:25\n00:31:25\n4 4 2161 ΦΙΤΖΙΟΣ ΣΤΕΛΙΟΣ\n00:32:05\n00:32:04\n5 5 2069 ΚΟΥΚΕΣΗΣ ΟΔΥΣΣΕΑΣ\n00:32:46\n00:32:46\n6 6 2093 ΜΙΧΑΗΛΙΔΗΣ ΣΤΑΥΡΟΣ\n00:33:08\n00:33:07\n7 7 2041 ΖΗΣΗΣ ΓΙΑΝΝΗΣ\n00:33:55\n00:33:53\n8 8 2058 ΚΑΤΣΑΡΑΣ ΧΡΗΣΤΟΣ\n00:33:58\n00:33:55\n9 9 2143 ΤΟΡΝΙΔΗΣ ΣΩΚΡΑΤΗΣ\n00:34:39\n00:34:32\n10 10 2020 ΓΑΤΑΣ ΑΝΤΩΝΙΟΣ\n00:35:17\n00:35:16\n11 11 2012 ΑΝΤΩΝΙΟΥ ΗΛΙΑΣ\n00:35:28\n00:35:23\n12 12 2088 ΜΑΜΑΛΙΓΚΑΣ ΚΩΝ/ΝΟΣ\n00:35:29\n00:35:23\n13 13 2060 ΚΑΦΑΝΤΑΡΗΣ ΗΛΙΑΣ\n00:36:28\n00:36:26\n14 14 2197 ΜΕΛΙΔΗΣ ΑΝΕΣΤΗΣ\n00:36:31\n00:36:29\n15 15 2157 ΤΣΙΧΟΥΡΙΔΗΣ ΔΗΜΗΤΡΗΣ\n00:36:53\n00:36:53\n16 16 2154 ΤΣΙΚΟΤΑΝΗΣ ΣΤΑΥΡΟΣ\n00:37:21\n00:37:17\n17 17 2195 ΚΑΡΑΓΙΑΝΝΗΣ ΘΕΟΔΩΡΟΣ\n00:37:24\n00:37:22\n18 1 2139 ΤΖΑΚΟΠΟΥΛΟΥ ΣΤΕΛΛΑ\n00:37:41\n00:37:39\n19 18 2183 ΚΑΠΛΑΝΟΓΛΟΥ ΠΑΝΤΕΛΗΣ\n00:37:59\n00:37:51\n20 19 2125 ΠΟΛΑΤΙΔΗΣ ΔΗΜΗΤΡΙΟΣ\n00:38:48\n00:38:42\n21 20 2075 ΚΡΙΤΣΑΝΗΣ ΠΑΝΑΓΙΩΤΗΣ\n00:38:51\n00:38:49\n22 21 2100 ΜΠΑΚΑΛΗΣ ΣΤΑΥΡΟΣ\n00:38:52\n00:38:43\n23 22 2173 ΧΡΥΣΟΣΤΟΜΙΔΗΣ ΧΑΡΗΣ\n00:38:53\n00:38:53\n24 23 2181 ΖΑΡΚΑΔΑΣ ΣΤΥΛΙΑΝΟΣ\n00:38:54\n25 24 2120 ΠΑΠΑΔΟΠΟΥΛΟΣ ΓΕΩΡΓΙΟΣ\n00:38:59\n00:38:55\n26 25 2073 ΚΟΥΤΣΟΥΜΠΙΔΗΣ ΝΙΚΟΛΑΟΣ\n00:39:03\n00:39:01\n27 26 2201 ΜΠΙΛΙΟΥΣΗΣ ΣΩΤΗΡΗΣ\n00:39:09\n00:39:02\n28 27 2152 ΤΣΑΧΕΙΡΙΔΗΣ ΗΛΙΑΣ\n00:39:35\n00:39:24\n29 28 2124 ΠΛΑΚΕΤΑΣ ΚΩΝ/ΝΟΣ\n00:39:35\n00:39:25\n30 29 2109 ΝΙΚΟΠΟΥΛΟΣ ΧΡΗΣΤΟΣ\n00:39:58\n00:39:50\n31 30 2056 ΚΑΣΙΚΤΣΗΣ ΚΩΝ/ΝΟΣ\n00:40:07\n00:39:58\n32 31 2130 ΣΚΟΝΤΑΣ ΚΩΣΤΑΝΤΙΝΟΣ\n00:40:09\n00:40:04\n33 32 2116 ΠΑΝΑΤΣΑΣ ΚΏΣΤΑΣ\n00:40:24\n00:40:15\n34 33 2038 ΕΜΑΝΟΥΗΛ ΑΝΑΣΤΑΣΙΟΣ\n00:40:32\n00:40:22\n35 34 2165 ΦΩΛΤΟΠΟΥΛΟΣ ΓΕΩΡΓΙΟΣ\n00:40:59\n00:40:57\n36 35 2029 ΓΟΥΡΖΟΥΛΙΔΗΣ ΔΗΜΗΤΡΙΟΣ\n00:41:05\n00:40:59\n37 36 2200 ΚΩΝΣΤΑΝΤΙΝΙΔΗΣ ΧΡΗΣΤΟΣ\n00:41:05\n00:40:57\n38 37 2037 ΕΓΡΕΣ ΖΑΦΕΙΡΗΣ\n00:41:12\n00:41:09\n39 38 2132 ΣΜΥΡΝΙΩΤΗΣ ΣΩΤΗΡΗΣ\n00:41:17\n00:41:10\n40 39 2153 ΤΣΙΚΟΓΙΑΣ ΣΤΕΡΓΙΟΣ\n00:41:24\n00:41:19\n41 40 2035 ΔΙΚΑΣ ΙΩΑΝΝΗΣ\n00:41:34\n00:41:26\n42 41 2111 ΞΕΝΙΔΗΣ ΑΝΑΣΤΑΣΙΟΣ\n00:42:02\n00:41:58\n43 42 2079 ΛΑΜΠΡΙΑΝΙΔΗΣ ΑΘΑΝΑΣΙΟΣ\n00:42:03\n00:41:54\n44 43 2128 ΣΑΧΠΑΤΖΙΔΗΣ ΣΤΑΥΡΟΣ\n00:42:03\n45 44 2087 ΜΑΜΑΛΗΣ ΓΕΩΡΓΙΟΣ\n00:42:12\n00:42:10\n46 45 2008 ΑΛΗΧΑΝΙΔΗΣ ΣΩΚΡΑΤΗΣ\n00:42:16\n00:42:13\n47 46 2205 ΚΡΗΤΙΚΟΣ ΙΟΥΛΙΑΝΟΣ\n00:42:23\n00:42:21\n48 47 2112 ΠΑΛΑΣΙΟΥ ΚΩΣΤΑΝΤΙΝΟΣ\n00:42:25\n00:42:23\n49 48 2105 ΝΑΚΟΠΟΥΛΟΣ ΔΗΜΗΤΡΙΟΣ\n00:42:34\n00:42:27\n50 2 2094 ΜΟΡΕΝΟ ΕΛΣΑ\n00:42:38\n00:42:35\n51 49 2188 ΔΑΝΙΗΛΙΔΗΣ ΧΑΡΑΛΑΜΠΟΣ\n00:42:44\n00:42:43\n52 50 2204 ΠΟΥΣΑΛΙΔΗΣ ΚΩΝΣΤΑΝΤΙΝΟΣ\n00:42:57\n00:42:57\n53 51 2057 ΚΑΤΡΑΝΙΤΣΙΩΤΗΣ ΒΑΣΙΛΕΙΟΣ\n00:42:58\n00:42:55\n54 3 2186 ΜΠΑΚΑ ΑΓΓΕΛΙΚΗ\n00:43:02\n00:42:57\n55 52 2052 ΚΑΡΑΛΙΩΤΗΣ ΑΝΔΡΕΑΣ\n00:43:18\n00:43:07\n56 53 2194 ΖΗΛΑΒΕΡΙΔΗΣ ΧΡΗΣΤΟΣ\n00:43:19\n00:43:11\n57 54 2193 ΓΚΕΚΑΣ ΒΑΣΙΛΗΣ\n00:43:30\n00:43:25\n58 55 2011 ΑΝΤΩΝΙΑΔΗΣ ΚΩΣΤΑΝΤΙΝΟΣ\n00:43:31\n00:43:26\n59 56 2191 ΑΘΑΝΑΣΙΑΔΗΣ ΔΗΜΗΤΡΗΣ\n00:43:33\n00:43:27\n60 57 2046 ΚΑΚΟΥΛΙΔΗΣ ΘΕΟΔΩΡΟΣ\n00:43:34\n00:43:27\n61 58 2123 ΠΑΠΑΧΑΡΑΛΑΜΠΟΥΣ ΠΑΝΑΓΙΩΤΗΣ\n00:43:42\n00:43:38\n62 4 2036 ΔΟΥΠΚΑΡΙΔΟΥ ΒΑΣΙΛΙΚΗ\n00:43:42\n00:43:38\n63 59 2065 ΚΟΡΑΒΟΣ ΑΧΙΛΛΕΑΣ\n00:43:43\n00:43:39\n64 60 2166 ΦΩΛΤΟΠΟΥΛΟΣ ΠΕΡΙΚΛΗΣ\n00:43:51\n00:43:48\n65 61 2113 ΠΑΛΗΟΛΥΡΑΣ ΓΕΩΡΓΙΟΣ\n00:44:10\n00:44:04\n66 5 2136 ΤΑΝΤΣΗ ΑΣΠΑΣΙΑ\n00:44:17\n00:44:07\n67 6 2198 ΜΠΙΛΛΙΜΗ ΒΙΟΛΕΤΑ\n00:44:25\n00:44:14\n68 62 2127 ΣΑΛΙΑΚΟΥ ΓΕΩΡΓΙΟΣ\n00:44:25\n00:44:15\n69 63 2042 ΘΕΟΦΑΝΙΔΗΣ ΠΑΝΑΓΙΩΤΗΣ\n00:44:30\n00:44:18\n70 64 2149 ΤΣΑΓΚΑΛΙΔΗΣ ΣΠΥΡΟΣ\n00:44:33\n00:44:27\n71 65 2028 ΓΚΟΓΚΟΣ ΗΛΙΑΣ\n00:44:34\n72 66 2022 ΓΕΡΟΔΗΜΟΣ ΘΕΟΔΩΡΟΣ\n00:44:43\n00:44:40\n73 67 2034 ΔΗΜΟΠΟΥΛΟΣ ΔΗΜΗΤΡΗΣ\n00:44:44\n00:44:40\n74 68 2101 ΜΠΑΛΤΖΗΣ ΔΗΜΗΤΡΙΟΣ\n00:44:53\n75 69 2040 ΕΦΡΑΙΜΙΔΗΣ ΔΗΜΗΤΡΙΟΣ\n00:44:53\n00:44:48\n76 70 2039 ΕΜΑΝΟΥΗΛ ΠΑΝΑΓΙΩΤΗΣ\n00:45:05\n00:44:55\n77 71 2084 ΛΟΥΜΠΟΥΤΣΚΟΣ ΔΗΜΗΤΡΗΣ\n00:45:07\n00:45:07\n78 72 2045 ΙΩΣΗΦΙΔΗΣ ΝΙΚΟΛΑΟΣ\n00:45:18\n00:45:16\n79 73 2141 ΤΖΕΤΖΗΣ ΓΙΩΡΓΟΣ\n00:45:20\n00:45:11\n80 74 2119 ΠΑΠΑΔΟΠΟΥΛΟΣ ΘΕΟΔΩΡΟΣ\n00:45:38\n00:45:32\n81 75 2007 ΑΘΑΝΑΣΙΟΥ ΙΩΑΝΝΗΣ\n00:46:26\n00:46:21\n82 76 2097 ΜΟΥΜΟΥΛΙΔΗΣ ΓΕΩΡΓΙΟΣ\n00:46:44\n00:46:34\n83 7 2110 ΞΑΝΘΟΠΟΥΛΟΥ ΔΕΣΠΟΙΝΑ\n00:46:48\n00:46:44\n84 8 2043 ΘΕΟΦΑΝΙΔΟΥ ΑΛΕΞΑΝΔΡΑ\n00:47:00\n00:46:56\n85 77 2129 ΣΙΤΑΡΙΔΗΣ ΙΩΑΝΝΗΣ\n00:47:01\n00:46:58\n86 9 2187 ΚΟΥΣΣΗ ΧΡΙΣΤΙΝΑ\n00:47:19\n00:47:12\n87 78 2009 ΑΝΔΡΕΟΠΟΥΛΟΣ ΓΕΩΡΓΙΟΣ\n00:47:23\n00:47:17\n88 10 2050 ΚΑΠΛΑΝΙΔΟΥ ΚΥΡΙΑΚΗ\n00:47:23\n00:47:18\n89 79 2010 ΑΝΔΡΕΟΠΟΥΛΟΣ ΠΑΥΛΟΣ\n00:47:23\n00:47:18\n90 80 2144 ΤΡΑΙΚΟΣ ΛΑΖΑΡΟΣ\n00:47:25\n00:47:17\n91 11 2106 ΝΑΛΠΑΝΤΙΔΟΥ ΕΙΡΗΝΟΥΛΑ\n00:47:26\n00:47:16\n92 81 2126 ΠΡΑΠΑΣ ΦΩΤΙΟΣ\n00:47:45\n00:47:33\n93 82 2160 ΦΙΛΙΠΠΟΥ ΠΑΝΑΓΙΩΤΗΣ\n00:47:45\n00:47:33\n94 83 2049 ΚΑΛΟΜΕΝΙΔΗΣ ΖΑΦΕΙΡΗΣ\n00:47:57\n00:47:49\n95 84 2096 ΜΟΥΜΟΥΛΙΔΗΣ ΧΡΗΣΤΟΣ\n00:48:03\n00:47:53\n96 85 2192 ΓΕΩΡΓΙΑΔΗΣ ΓΙΩΡΓΟΣ – ΡΑΦΑΗΛ\n00:48:40\n00:48:34\n97 86 2146 ΤΡΙΑΝΤΑΦΥΛΛΟΥ ΝΙΚΟΛΗΣ\n00:49:09\n00:49:09\n98 87 2021 ΓΕΡΑΚΗΣ ΓΙΑΝΝΗΣ\n00:49:47\n00:49:36\n99 88 2138 ΤΑΤΑΡΙΔΗΣ ΠΑΝΑΓΙΩΤΗΣ\n00:49:58\n00:49:46\n100 89 2001 ΑΒΡΑΜΙΔΗΣ ΑΛΕΞΑΝΔΡΟΣ\n00:50:25\n00:50:20\n101 90 2098 ΜΟΥΡΑΤΙΔΗΣ ΓΕΩΡΓΙΟΣ\n00:50:25\n00:50:22\n102 91 2031 ΔΑΜΙΑΝΙΔΗΣ ΧΑΡΑΛΑΜΠΟΣ\n00:50:25\n00:50:23\n103 92 2182 ΒΑΣΙΛΑΚΑΗΣ ΚΛΕΑΝΘΗΣ\n00:50:37\n00:50:31\n104 93 2121 ΠΑΠΑΔΟΠΟΥΛΟΣ ΓΕΩΡΓΙΟΣ\n00:50:41\n00:50:34\n105 94 2067 ΚΟΣΜΙΔΗΣ ΠΕΤΡΟΣ\n00:50:41\n00:50:34\n106 95 2076 ΚΥΡΙΑΚΙΔΗΣ ΑΘΑΝΑΣΙΟΣ\n00:51:07\n00:51:02\n107 12 2122 ΠΑΠΑΔΟΠΟΥΛΟΥ ΛΗΤΩ\n00:51:21\n00:51:15\n108 96 2115 ΠΑΝΑΤΣΑΣ ΕΠΑΜΕΙΝΏΝΔΑΣ\n00:51:22\n00:51:14\n109 97 2089 ΜΑΝΟΥΣΑΡΙΔΗΣ ΧΡΥΣΑΝΘΟΣ\n00:52:24\n00:52:12\n110 13 2164 ΦΟΥΔΟΥΛΗ ΑΝΑΣΤΑΣΙΑ\n00:52:47\n00:52:36\n111 98 2159 ΤΥΠΟΥ ΓΙΑΝΝΗΣ\n00:53:05\n00:53:00\n112 14 2082 ΛΙΟΥΛΙΟΥ ΕΛΕΝΗ\n00:53:06\n00:52:56\n113 15 2190 ΣΕΡΣΕΡΜΗ ΧΡΥΣΟΒΑΛΑΝΤΟΥ\n00:53:17\n00:53:14\n114 16 2030 ΓΟΥΡΖΟΥΛΙΔΟΥ ΜΕΛΠΩΜΕΝΗ\n00:53:48\n00:53:39\n115 17 2083 ΛΙΤΣΙ ΧΡΗΣΤΙΝΑ\n00:53:48\n00:53:39\n116 18 2184 ΚΥΠΤΗ ΧΡΥΣΑ\n00:59:32\n00:59:28\n117 99 2145 ΤΡΙΑΝΤΑΦΥΛΛΟΥ XAΡΙΣΙΟΣ\n00:59:32\n00:59:29\n118 100 2167 ΧΑΛΔΟΥΠΗΣ ΖΗΣΗΣ\n01:01:12\n01:01:01\n119 101 2068 ΚΟΥΓΙΟΥΜΙΤΣΙΔΗΣ ΠΑΥΛΟΣ\n01:01:13\n01:01:12\n120 102 2203 ΛΙΑΜΠΟΣ ΗΛΙΑΣ\n01:02:47\n01:02:37\n121 19 2202 ΣΟΥΚΛΑΡΟΠΟΥΛΟΥ ΜΑΡΙΑ\n01:02:47\n01:02:37\n122 20 2189 ΠΑΠΠΑ ΑΡΓΥΡΩ\n01:03:04\n01:03:02\n123 21 2135 ΣΤΟΓΙΑΝΝΗ ΟΛΓΑ\n01:03:52\n01:03:47\n124 103 2092 ΜΗΤΡΟΥΛΗΣ ΔΗΜΗΤΡΙΟΣ\n01:05:24\n01:05:11\n125 104 2017 ΒΑΣΙΛΕΙΑΔΗΣ ΘΕΟΔΩΡΟΣ\n01:05:25\n01:05:11\n126 22 2199 ΜΑΥΡΙΔΟΥ ΑΝΑΣΤΑΣΙΑ\n01:05:53\n01:05:50\n127 23 2055 ΚΑΡΑΣΙΟΥΝΑ ΒΑΣΙΛΙΚΗ\n01:07:06\n01:07:02\n128 24 2086 ΜΑΛΑΠΑΝΗ ΕΙΡΗΝΗ\n01:08:20\n01:08:13\n129 105 2013 ΑΠΟΣΤΟΛΟΣ ΚΟΥΣΗΣ\n01:27:27\n01:27:22\n130 106 2185 ΚΟΥΣΣΗΣ ΑΓΓΕΛΟΣ\n01:27:36\n01:27:31\n131 107 2137 ΤΑΡΑΤΣΙΔΗΣ ΠΑΝΑΓΙΩΤΗΣ\n01:53:57\n132 108 2133 ΣΟΦΙΑΝΟΠΟΥΛΟΣ ΘΕΟΔΩΡΟΣ –\n132 25 2134 ΣΤΕΦΑΝΙΔΟΥ ΑΝΑΣΤΑΣΙΑ –\n132 108 2131 ΣΚΟΝΤΑΣ ΦΩΤΗΣ –\n132 25 2147 ΤΡΥΦΩΝΙΔΟΥ ΕΛΕΝΗ –\n132 108 2148 ΤΡΥΦΩΝΟΣ ΘΕΟΔΩΡΟΣ –\n132 108 2142 ΤΟΛΙΟΠΟΥΛΟΣ ΠΑΝΑΓΙΩΤΗΣ –\n132 25 2140 ΤΖΕΛΛΟΥ ΚΩΝΣΤΑΝΤΙΝΑ –\n132 108 2117 ΠΑΝΤΕΛΕΙΟΥ ΣΑΒΒΑΣ –\n132 108 2118 ΠΑΝΤΖΟΥΡΗΣ ΠΕΤΡΟΣ –\n132 108 2090 ΜΑΥΡΟΠΑΛΙΑΣ ΤΡΥΦΩΝ –\n132 108 2091 ΜΗΓΚΟΣ ΠΑΣΧΑΛΗΣ –\n132 25 2085 ΜΑΚΡΙΔΟΥ ΚΡΙΤΣΑΝΗ ΕΛΕΝΗ –\n132 108 2080 ΛΑΣΠΟΝΙΚΟΣ ΙΩΑΝΝΗΣ –\n132 108 2081 ΛΙΑΚΟΣ ΕΥΘΥΜΙΟΣ –\n132 108 2099 ΜΟΥΣΤΑΚΑΣ ΠΕΡΙΚΛΗΣ –\n132 25 2095 ΜΟΥΚΑ ΠΑΡΑΣΚΕΥΗ –\n132 108 2102 ΜΠΑΛΤΖΟΠΟΥΛΟΣ ΑΝΤΩΝΗΣ –\n132 108 2103 ΜΠΑΤΙΚΗΣ ΙΩΑΝΝΗΣ –\n132 108 2104 ΜΠΙΣΙΡΗΣ ΚΩΝΣΤΑΝΤΙΝΟΣ –\n132 108 2107 ΝΕΒΕΣΚΙΩΤΗΣ ΧΑΡΙΣΙΟΣ –\n132 25 2108 ΝΙΚΟΛΑΟΥ ΜΕΝΙΑ –\n132 108 2114 ΠΑΝΑΤΣΑΣ ΝΩΝΤΑΣ –\n132 108 2014 ΑΡΓΥΡΙΑΔΗΣ ΙΩΑΝΝΗΣ –\n132 108 2015 ΒΑΣΒΑΤΕΚΗΣ ΕΛΕΥΘΕΡΙΟΣ –\n132 108 2016 ΒΑΣΒΑΤΕΚΗΣ ΔΗΜΗΤΡΙΟΣ –\n132 108 2018 ΒΑΣΙΛΕΙΑΔΗΣ ΑΛΕΞΑΝΔΡΟΣ –\n132 108 2019 ΒΡΥΖΙΔΗΣ ΠΑΝΑΓΙΩΤΗΣ –\n132 25 2002 ΑΒΡΑΜΙΔΟΥ ΘΕΟΔΩΡΑ –\n132 25 2003 ΑΒΡΑΜΙΔΟΥ ΘΕΟΔΩΡΑ –\n132 108 2004 ΑΓΓΕΛΙΔΗΣ ΙΩΑΝΝΗΣ –\n132 108 2005 ΑΔΑΜΙΔΗΣ ΘΕΟΔΩΡΟΣ –\n132 25 2006 ΑΘΑΝΑΣΙΑΔΟΥ ΕΛΙΣΑΒΕΤ –\n132 108 2023 ΓΙΑΝΝΟΥ ΣΥΜΕΩΝ –\n132 108 2025 ΓΚΑΤΣΙΟΥΦΑΣ ΠΑΝΑΓΙΩΤΗΣ –\n132 108 2026 ΓΚΑΤΣΟΣ ΙΩΑΝΝΗΣ –\n132 108 2027 ΓΚΕΡΤΣΗΣ ΚΩΝΣΤΑΝΤΙΝΟΣ –\n132 108 2032 ΔΗΜΗΤΡΙΑΔΗΣ ΑΜΒΡΟΣΙΟΣ –\n132 108 2033 ΔΗΜΗΤΡΙΑΔΗΣ ΧΡΗΣΤΟΣ –\n132 108 2070 ΚΟΥΛΙΤΣΑΣ ΠΟΛΥΧΡΟΝΗΣ –\n132 108 2071 ΚΟΥΣΗΣ ΙΩΑΝΝΗΣ –\n132 108 2077 ΚΩΝΣΤΑΝΤΙΝΙΔΗΣ ΑΝΤΩΝΗΣ –\n132 108 2078 ΛΑΖΑΡΙΔΗΣ ΚΩΝ ΝΟΣ –\n132 25 2066 ΚΟΡΑΦΤΣΑ ΘΟΔΩΡΑ –\n132 25 2059 ΚΑΤΣΙΟΥ ΑΝΑΣΤΑΣΙΑ –\n132 108 2061 ΚΕΣΚΙΛΙΔΗΣ ΧΡΗΣΤΟΣ –\n132 108 2062 ΚΟΚΑΝΗΣ ΛΕΩΝΙΔΑΣ –\n132 108 2063 ΚΟΛΛΙΑΣ ΙΩΑΝΝΗΣ –\n132 108 2064 ΚΟΛΛΙΑΣ ΑΝΑΣΤΑΣΙΟΣ –\n132 108 2051 ΚΑΡΑΓΙΩΡΓΟΣ ΜΑΡΙΟΣ –\n132 25 2053 ΚΑΡΑΜΠΙΚΑ ΧΡΙΣΤΙΝΑ –\n132 108 2054 ΚΑΡΑΝΑΝΟΣ ΜΑΝΩΛΗΣ –\n132 25 2044 ΙΩΑΝΝΙΔΟΥ ΑΣΗΜΕΝΙΑ –\n132 108 2047 ΚΑΛΑΪΤΖΗΣ ΘΩΜΑΣ –\n132 25 2048 ΚΑΛΑΜΠΟΥΚΑ ΑΝΝΑ –\n132 108 2162 ΦΙΤΖΙΟΣ ΧΡΗΣΤΟΣ –\n132 108 2163 ΦΟΛΤΟΠΟΥΛΟΣ ΠΕΡΙΚΛΗΣ –\n132 108 2168 ΧΑΛΚΙΔΗΣ ΙΩΑΝΝΗΣ –\n132 108 2169 ΧΑΤΖΗΓΙΑΝΝΑΚΗΣ ΘΩΜΑΣ –\n132 108 2170 ΧΑΤΖΗΙΩΑΝΝΙΔΗΣ ΧΡΗΣΤΟΣ –\n132 108 2171 ΧΡΗΣΤΟΥ ΧΡΗΣΤΟΣ –\n132 25 2172 ΧΡΙΣΤΟΦΟΡΟΥ ΠΑΡΘΕΝΑ –\n132 108 2150 ΤΣΑΚΜΑΚΗΣ ΑΝΤΩΝΗΣ –\n132 108 2151 ΤΣΑΤΣΑΓΙΑΝΝΗΣ ΚΩΝ/ΝΟΣ –\n132 108 2155 ΤΣΙΟΥΜΗΤΑΣ ΚΩΝ/ΝΟΣ –\n132 108 2156 ΤΣΙΟΥΜΗΤΑΣ ΑΘΑΝΑΣΙΟΣ –\n132 25 2158 ΤΣΟΓΚΑ ΚΙΚΗ –
URL:https://gorun.gr/race/5%ce%bf%cf%82-%ce%b5%ce%bf%cf%81%ce%b4%ce%b1%cf%8a%ce%ba%ce%bf%cf%83-%ce%b7%ce%bc%ce%b9%ce%bc%ce%b1%cf%81%ce%b1%ce%b8%cf%89%ce%bd%ce%b9%ce%bf%cf%83-%ce%ba%ce%b1%ce%b9-%ce%bb%ce%b1%cf%8a%ce%ba%ce%bf/
CATEGORIES:Αποτελέσματα,Δρόμος
END:VEVENT
END:VCALENDAR