BEGIN:VCALENDAR
VERSION:2.0
PRODID:-//goRUN - ECPv5.8.1//NONSGML v1.0//EN
CALSCALE:GREGORIAN
METHOD:PUBLISH
X-WR-CALNAME:goRUN
X-ORIGINAL-URL:https://gorun.gr
X-WR-CALDESC:Events for goRUN
BEGIN:VTIMEZONE
TZID:Europe/Athens
BEGIN:DAYLIGHT
TZOFFSETFROM:+0200
TZOFFSETTO:+0300
TZNAME:EEST
DTSTART:20160327T010000
END:DAYLIGHT
BEGIN:STANDARD
TZOFFSETFROM:+0300
TZOFFSETTO:+0200
TZNAME:EET
DTSTART:20161030T010000
END:STANDARD
END:VTIMEZONE
BEGIN:VEVENT
DTSTART;VALUE=DATE:20160904
DTEND;VALUE=DATE:20160905
DTSTAMP:20260425T143228
CREATED:20160726T201915Z
LAST-MODIFIED:20160908T095311Z
UID:9283-1472947200-1473033599@gorun.gr
SUMMARY:5ος Ορεινός Ημιμαραθώνιος Βερμίου
DESCRIPTION:23.160 μέτρα \nαγωνας Halfmarathon ΚΑΤΗΓΟΡΙΑ ΧΡΟΝΟΣ\nα/α επιθετο Ονομα Ον.πατρος ημερ.γεννησ συλλογος\n29 ΤΟΜΑΡΑΣ ΑΝΑΣΤΑΣΙΟΣ Α 1:40:14:90 ΝΙΚΟΛΑΟΣ 28/12/1979 ΣΥΛΛΟΓΟΣ ΔΡΟΜΕΩΝ ΙΩΑΝΝΙΝΩΝ\n59 ΘΕΟΔΩΡΙΔΗΣ ΑΓΓΕΛΟΣ Α 1:42:00:00 ΣΩΤΗΡΗΣ 8/3/1993 Γ.Σ.ΠΡΩΤΕΣΑΣ ΗΓΟΥΜΕΝΙΤΣΑ\n76 ΖΙΑΓΚΑΣ ΑΘΑΝΑΣΙΟΣ Α 1:46:51:50 ΜΗΛΙΟΣ 13/4/1976 ΣΥΛΛ ΔΡΟΜ ΥΓΕΙΑΣ ΚΟΖΑΝΗ\n27 ΑΝΔΡΟΥΤΣΟΣ ΑΛΕΞΗΣ Α 1:47:50:50\n33 ΜΑΡΚΑΚΗΣ ΑΝΔΡΕΑΣ Α 1:48:42:00\n67 ΡΟΥΣΗΣ ΓΕΩΡΓΙΟΣ Α 1:51:12:00 ΙΩΑΝΝΗΣ 20/5/1992 AYDRA RUNNERS\n75 ΖΑΦΕΙΡΗΣ ΔΗΜΗΤΡΙΟΣ Α 1:53:40:00 ΕΛΕΥΘΕΡΙΟΣ 28/2/1978 ΣΚΑ ΜΕΤΕΩΡΑ\n51 ΣΠΥΡΙΔΗΣ ΚΥΡΙΑΚΟΣ Α 1:54:42:00 ΔΗΜΗΤΡΗΣ  4/5/1970 Ο.Μ.ΓΙΑΝΝΙΤΣΩΝ\n52 ΤΣΑΡΤΣΑΝΗΣ ΔΗΜΗΤΡΙΟΣ Α 1:54:45:00\n36 ΜΠΕΛΛΟΣ ΓΙΑΝΝΗΣ Α 1:55:44:00 ΑΝΑΣΤΑΣΙΟΣ  16/1/1982 ΑΝΕΞΑΡΤΗΤΟΣ\n28 ΣΙΩΖΙΟΥ ΓΕΩΡΓΙΑ Γ 1:57:23:00\n123 ΖΑΝΙΔΗΣ ΧΡΗΣΤΟΣ Α 1:59:21:00\n19 ΘΑΝΟΓΛΟΥ ΠΑΥΣΑΝΙΑΣ Α 2:00:00:00\n83 ΚΑΜΠΟΥΡΗΣ ΓΕΩΡΓΙΟΣ Α 2:02:50:00\n115 ΜΠΑΚΝΗΣ ΙΩΑΝΝΗΣ Α 2:04:30:00\n107 ΧΙΛΗ ΔΑΜΑΣΚΗΝΗ Γ 2:04:51:00\n50 ΔΗΜΗΤΡΙΑΔΗΣ ΚΩΝΣΤΑΝΤΙΝΟΣ Α 2:08:37:00\n108 ΜΗΤΣΙΟΥ ΝΙΚΟΛΑΟΣ Α 2:08:47:00 ΚΩΝΣΤΑΝΤΙΝΟΣ  9/5/1970 ΑΝΕΞΑΡΤΗΤΟΣ\n39 ΚΑΡΑΓΙΑΝΝΗΣ ΦΙΛΙΠΠΟΣ Α 2:09:28:00\n99 ΔΗΜΑΔΗΣ ΣΤΕΦΑΝΟΣ Α 2:11:48:00\n68 ΓΑΛΙΑΤΣΙΟΣ ΙΩΑΝΝΗΣ Α 2:12:27:00 ΑΘΑΝΑΣΙΟΣ 21/12/1987 ΑΝΕΞΑΡΤΗΤΟΣ\n91 ΜΙΧΑΗΛΙΔΗΣ ΧΑΡΑΛΑΜΠΟΣ Α 2:12:45:00 ΑΡΙΣΤΟΤΕΛΗΣ 4/9/1975 aps zeus katerini\n128 ΣΕΒΑΣΤΙΑΔΗΣ ΗΛΕΙΑΣ Α 2:13:03:00 ΓΕΩΡΓΙΟΣ 25/7/1968 ΑΝΕΞΑΡΤΗΤΟΣ\n124 ΜΕΤΣΟΒΙΤΗΣ ΙΩΑΝΝΗΣ Α 2:13:05:00 ΓΕΩΡΓΙΟΣ 5/1/1968 ΑΝΕΞΑΡΤΗΤΟΣ Θεσσαλονικη\n116 ΛΟΥΠΑΚΗΣ ΕΛΕΥΘΕΡΙΟΣ Α 2:14:16:00 ΔΗΜΗΤΡΙΟΣ 20/6/1976 ΣΔΥ ΘΕΣΣΑΛΟΝΙΚΗΣ\n38 ΔΗΜΗΤΡΑΚΗΣ ΣΤΑΥΡΟΣ Α 2:14:51:00 ΝΙΚΟΛΑΟΣ 3/5/1953 ΑΛΕΞΑΝΔΡΕΙΑ\n47 ΛΑΠΠΑΣ ΔΙΟΝΥΣΙΟΣ Α 2:18:02:00\n14 ΗΛΙΑΣ ΙΩΑΝΝΗΣ Α 2:23:02:00 ΛΕΣΧΗ ΚΑΤΑΔΡΟΜΩΝ ΧΑΛΚΙΔΙΚΗΣ\n60 ΔΑΦΝΗΣ ΔΙΟΝΥΣΗΣ Α 2:26:28:00 ΝΙΚΟΛΑΟΣ 26/11/1984 Ανεξάρτητος\n136 ΜΙΚΕΖΗΣ ΘΩΜΑΣ Α 2:35:39:00\n84 ΤΑΣΙΩΝΗ ΒΑΣΙΛΙΚΗ Γ 2:59:28:00 \n10 ΧΙΛΙΟΜΕΤΡΑ \nαγωνας 10Km ΚΑΤΗΓΟΡΙΑ ΧΡΟΝΟΣ\nΓΕΝΙΚΗ ΕΙΔΙΚΗ α/α επιθετο Ονομα συλλογος\n1 1 126 ΜΙΧΑΗΛΙΔΗΣ ΠΕΤΡΟΣ Α 49:42:10\n2 2 150 ΚΑΤΣΑΡΑΣ ΧΡΗΣΤΟΣ Α 50:55:90\n3 3 132 ΛΟΥΜΠΟΥΤΣΚΟΣ ΧΡΗΣΤΟΣ Α 51:55:20 ΑΝΕΞΑΡΤΗΤΟΣ\n4 4 64 ΚΟΥΚΟΥΤΕΓΟΣ ΑΝΤΩΝΗΣ Α 52:34:70\n5 5 103 ΜΙΧΑΗΛΙΔΗΣ ΣΤΑΥΡΟΣ Α 57:08:10 Ο.Μ.ΓΙΑΝΝΙΤΣΩΝ\n6 6 96 ΠΑΡΑΔΕΙΣΟΠΟΥΛΟΣ ΚΩΝΣΤΑΝΤΙΝΟΣ Α 58:06:90\n7 7 56 ΠΑΝΑΓΙΩΤΙΔΗΣ ΔΗΜΗΤΡΗΣ Α 59:35:30\n8 8 81 ΚΑΙΣΑΡΙΔΗΣ ΓΕΩΡΓΙΟΣ Α 59:40:70 ΑΝΕΞΑΡΤΗΤΟΣ\n9 9 149 ΜΑΚΡΙΔΗΣ ΔΗΜΗΤΡΗΣ Α 1:02:29:50\n10 1 142 ΝΙΜΠΙΤΗ ΓΕΩΡΓΙΑ Γ 1:02:41:40\n11 10 108 ΜΑΧΑΙΡΑΚΗΣ ΜΑΝΟΣ Α 1:04:30:90 ΕΥΚΛΗΣ\n12 11 55 ΜΑΝΤΣΙΟΣ ΝΙΚΗΦΟΡΟΣ Α 1:04:56:90\n13 12 109 ΧΡΟΝΗΣ ΜΙΧΑΛΗΣ Α 1:05:01:90 URSA TEAM\n14 13 116 ΛΑΜΠΑΔΙΤΗΣ ΧΡΗΣΤΟΣ Α 1:06:47:00 ΕΥΚΛΗΣ\n15 14 105 ΜΗΤΣΙΚΟΠΟΥΛΟΣ ΘΩΜΑΣ Α 1:11:43:50\n16 15 140 ΑΦΕΝΤΟΥΛΗΣ ΚΩΝΣΤΑΝΤΙΝΟΣ Α 1:11:53:40\n17 2 134 ΚΟΥΚΑΚΗ ΚΑΤΕΡΙΝΑ Γ 1:11:56:60\n18 16 141 ΑΒΡΑΣ ΙΩΑΝΝΗΣ Α 1:12:01:90\n19 17 124 ΤΕΓΟΣ ΚΩΝΣΤΑΝΤΙΝΟΣ Α 1:12:08:70 ΚΕΝΤΑΥΡΟΣ\n20 18 65 ΠΕΤΡΙΔΗΣ ΛΕΟΝΤΑΡΗΣ Α 1:12:30:00 Ο.Μ.Γ.\n21 19 72 ΣΠΥΡΙΔΗΣ ΔΗΜΗΤΡΗΣ Α 1:13:39:60 Ο.Μ.ΓΙΑΝΝΙΤΣΩΝ\n22 20 118 ΧΡΙΣΟΣΤΟΜΑΚΗΣ ΓΙΩΡΓΟΣ Α 1:13:40:00\n23 21 104 ΠΑΡΑΔΕΙΣΟΠΟΥΛΟΣ ΔΗΜΗΤΡΙΟΣ Α 1:14:17:80\n24 22 88 ΠΑΤΣΙΑΝΗΣ ΣΤΡΑΤΟΣ Α 1:14:25:00\n25 23 97 ΜΠΑΝΤΗΣ ΘΕΟΔΩΡΟΣ Α 1:14:40:98\n26 24 89 ΤΣΟΛΑΚΙΔΗΣ ΑΝΤΩΝΙΟΣ Α 1:14:41:00 ΣΥΛ ΔΡΟΜ ΒΕΡΟΙΑΣ\n27 3 148 ΝΤΖΙΑΜΠΑΝΣΚΑ ΜΑΡΙΑ Γ 1:16:58:50\n28 25 117 ΦΥΣΙΚΑΣ ΧΡΗΣΤΟΣ Α 1:19:09:20 Ανεξάρτητος\n29 26 80 ΑΓΓΟΣ ΓΕΩΡΓΙΟΣ Α 1:22:50:20\n30 27 95 ΣΚΟΔΡΑΣ ΕΥΡΙΠΙΔΗΣ Α 1:22:50:60\n31 28 133 ΑΒΡΑΣ ΓΕΩΡΓΙΟΣ Α 1:35:10:20\n32 29 125 ΑΒΡΑΣ ΒΑΣΙΛΕΙΟΣ Α 1:35:11:80\n33 30 79  ΤΡΙΑΡΙΔΗΣ ΠΑΝΑΓΙΩΤΗΣ Α 1:37:15:49 ΣΔΥ ΚΙΛΚΙΣ\n34 4 87 ΤΣΙΛΙΚΙΔΟΥ ΜΑΡΙΑ Γ 1:37:15:50 ΣΔΥ ΚΙΛΚΙΣ\n35 31 73 ΓΙΟΤΙΚΑΣ ΔΗΜΗΤΡΗΣ Α 1:39:50:50\n36 32 63 ΖΟΥΜΠΟΣ ΚΩΝΣΤΑΝΤΙΝΟΣ Α 1:40:12:50\n37 33 71 ΚΑΜΠΑΝΗΣ ΒΑΛΑΝΤΗΣ Α 1:40:12:90\n38 5 57 ΜΑΥΡΟΜΑΤΙΔΟΥ ΒΙΛΜΑ Γ 1:40:27:60\n39 34 110 ΓΩΓΟΣ ΑΛΕΞΑΝΔΡΟΣ Α 1:42:51:50
URL:https://gorun.gr/race/5%ce%bf%cf%82-%ce%bf%cf%81%ce%b5%ce%b9%ce%bd%cf%8c%cf%82-%ce%b7%ce%bc%ce%b9%ce%bc%ce%b1%cf%81%ce%b1%ce%b8%cf%8e%ce%bd%ce%b9%ce%bf%cf%82-%ce%b2%ce%b5%cf%81%ce%bc%ce%af%ce%bf%cf%85-2/
CATEGORIES:Αποτελέσματα,Βουνό
END:VEVENT
END:VCALENDAR