BEGIN:VCALENDAR
VERSION:2.0
PRODID:-//goRUN - ECPv5.8.1//NONSGML v1.0//EN
CALSCALE:GREGORIAN
METHOD:PUBLISH
X-WR-CALNAME:goRUN
X-ORIGINAL-URL:https://gorun.gr
X-WR-CALDESC:Events for goRUN
BEGIN:VTIMEZONE
TZID:Europe/Athens
BEGIN:DAYLIGHT
TZOFFSETFROM:+0200
TZOFFSETTO:+0300
TZNAME:EEST
DTSTART:20160327T010000
END:DAYLIGHT
BEGIN:STANDARD
TZOFFSETFROM:+0300
TZOFFSETTO:+0200
TZNAME:EET
DTSTART:20161030T010000
END:STANDARD
END:VTIMEZONE
BEGIN:VEVENT
DTSTART;VALUE=DATE:20160515
DTEND;VALUE=DATE:20160516
DTSTAMP:20260420T131353
CREATED:20160422T122308Z
LAST-MODIFIED:20160516T064915Z
UID:5869-1463270400-1463356799@gorun.gr
SUMMARY:5ο ΚΥΠΕΛΟ ΑΦΑΙΑ 2016
DESCRIPTION:ΑΓΩΝΑΣ ΒΟΥΝΟΥ «5ο ΚΥΠΕΛΟ ΑΦΑΙΑ 2016» \nΑίγινα \nΑΠΟΤΕΛΕΣΜΑΤΑ 15ΚΜ \nGen-Sex-Cat Category Gender ΒΙΒ Name YOB Club 7km 15km\n1 \, 1 \,1 <34 Male 736 ΣΤΑΥΡΟΣ ΧΟΖΟΣ 1984 ΦΛΟΓΑ-PDSODYSSEAS 0:34:41 1:24:07\n2 \, 2 \, 1 35-54 Male 642 ΣΠΥΡΟΣ ΚΑΠΡΑΛΟΣ 1976 ΙΝΤΕΡ ΠΑΤΗΣΙΩΝ 0:36:32 1:25:56\n3 \, 3 \, 2 <34 Male 674 ΦΙΛΙΠΠΟΣ ΜΑΛΙΟΥΚΗΣ 1988 Α.Κ. ΜΠΑΚΟΥΛΑ 0:36:34 1:26:31\n4 \, 4 \, 3 <34 Male 611 ΣΤΕΛΙΟΣ ΓΙΑΝΝΑΚΟΠΟΥΛΟΣ 1986 0:39:33 1:36:41\n5 \, 5 \, 4 <34 Male 758 ΧΡΗΣΤΟΣ ΓΚΙΚΑΣ 1983 0:41:33 1:37:02\n6 \, 6 \, 5 <34 Male 640 ΓΙΑΝΝΗΣ ΚΑΛΟΥΔΗΣ 1983 ΣΔΥ ΑΙΓΙΝΑΣ 0:41:58 1:38:27\n7 \, 7 \, 2 35-54 Male 663 ΣΩΖΟΣ ΛΑΜΠΑΔΑΡΙΟΣ 1973 ΣΔΥ ΑΙΓΙΝΑΣ 0:42:37 1:39:42\n8 \, 8 \, 1 >55 Male 727 ΑΔΑΜΑΝΤΙΟΣ ΧΑΤΖΗΣ 1959 ΑΠΣ ΑΠΟΛΛΩΝ Δ.ΑΤΤΙΚΗΣ 0:45:22 1:40:06\n9 \, 9 \, 3 35-54 Male 700 ΧΡΗΣΤΟΣ ΠΑΓΩΝΗΣ 1979 ΤΡΑΠΕΖΑ ΑΙΜΑΤΟΣ ΔΗΜΗΤΡΗΣ ΒΛΩΝ 0:41:48 1:41:09\n10 \, 10 \, 4 35-54 Male 605 ΝΙΚΟΛΑΟΣ ΑΘΑΝΑΣΟΠΟΥΛΟΣ 1968 ΤΡΑΠΕΖΑ ΑΙΜΑΤΟΣ ΔΗΜΗΤΡΗΣ ΒΛΩΝ 0:42:39 1:42:13\n11 \, 1 \,6 <34 Female 749 LIEGA ZELGALVE 1985 0:42:57 1:42:22\n12 \, 11 \, 5 35-54 Male 748 ARNIS KAPAKOVSKIS 1981 0:44:30 1:42:22\n13 \, 12 \, 6 35-54 Male 602 ΚΩΣΤΑΣ ΑΘΑΝΑΣΟΠΟΥΛΟΣ 1971 ΤΡΑΠΕΖΑ ΑΙΜΑΤΟΣ ΔΗΜΗΤΡΗΣ ΒΛΩΝ 0:42:35 1:44:24\n14 \, 13 \, 7 <34 Male 634 ΚΩΝΣΤΑΝΤΙΝΟΣ ΖΑΧΑΡΟΠΟΥΛΟΣ 1982 0:46:13 1:46:00\n15 \, 14 \, 8 <34 Male 698 ΣΤΕΛΙΟΣ ΟΙΚΟΝΟΜΟΥ 1983 ΣΔΥ ΑΙΓΙΝΑΣ 0:46:25 1:46:41\n16 \, 15 \, 7 35-54 Male 636 ΓΙΩΡΓΟΣ ΙΩΑΝΝΙΔΗΣ 1978 0:44:42 1:49:10\n17 \, 16 \, 2 >55 Male 682 ΜΙΧΑΛΗΣ ΜΠΟΝΗΣ 1958 ΙΝΤΕΡ ΠΑΤΗΣΙΩΝ 0:46:23 1:49:16\n18 \, 17 \, 8 35-54 Male 645 ΔΗΜΗΤΡΗΣ ΚΑΤΡΗΣ 1972 OAA 0:46:05 1:49:41\n19 \, 18 \, 9 35-54 Male 754 ΓΙΑΝΝΗΣ ΤΕΡΖΟΓΛΟΥ 1973 0:47:34 1:49:53\n20 \, 19 \, 9 <34 Male 621 ΓΡΗΓΟΡΙΟΣ ΔΙΟΝΥΣΟΠΟΥΛΟΣ 1990 FLYING GEESE RUNNING TEAM 0:49:49 1:51:02\n21 \, 20 \, 3 >55 Male 662 ΒΑΣΙΛΗΣ ΚΡΗΤΙΚΟΣ 1959 ΑΠΣ ΑΘΗΝΑΙΟΙ ΔΡΟΜΕΙΣ 0:47:08 1:52:24\n22 \, 21 \, 4 >55 Male 740 ΛΕΩΝΙΔΑΣ ΧΟΛΕΒΑΣ 1953 FLOGA 0:49:59 1:54:13\n23 \, 22 \, 10 35-54 Male 730 ΤΑΣΟΣ ΧΕΙΛΑΡΗΣ 1962 0:47:16 1:54:34\n24 \, 23 \, 11 35-54 Male 753 ΣΠΥΡΟΣ ΜΠΕΣΗΣ 1978 0:47:06 1:55:56\n25 \, 24 \, 12 35-54 Male 612 ΝΙΚΟΛΑΟΣ ΓΙΑΝΝΗΣ 1962 THE LAND BEYOND 0:50:59 1:59:01\n26 \, 25 \, 10 <34 Male 721 ΣΩΖΩΝ ΤΡΙΑΝΤΑΦΥΛΛΟΥ 1987 0:49:52 2:00:29\n27 \, 2 \, 11 <34 Female 705 ΣΤΑΥΡΟΥΛΑ ΠΑΝΑΓΙΩΤΟΥ 1984 – 0:51:48 2:05:23\n28 \, 3 \, 12 <34 Female 669 ΕΛΕΝΗ ΛΑΜΠΗ 1990 ΑΝΕΞΑΡΤΗΤΟΣ 0:54:20 2:06:01\n29 \, 26 \, 5 >55 Male 720 ΕΡΡΙΚΟΣ ΤΖΙΝΙΟΛΗΣ 1945 ΑΠΣ ΑΘΗΝΑΙΟΙ ΔΡΟΜΕΙΣ 0:54:06 2:07:50\n30 \, 27 \, 13 35-54 Male 676 ΠΛΑΤΩΝ ΜΟΥΣΓΟΠΟΥΛΟΣ 1966 0:58:34 2:10:53\n31 \, 28 \, 14 35-54 Male 717 ΜΙΧΑΛΗΣ ΣΕΡΕΤΗΣ 1967 0:58:08 2:12:10\n32 \, 29 \, 15 35-54 Male 760 ΑΘΑΝΑΣΙΟΣ ΘΕΟΧΑΡΗΣ 1967 0:58:24 2:13:13\n33 \, 30 \, 16 35-54 Male 715 ΝΙΚΟΛΑΟΣ ΠΡΕΑΡΗΣ 1970 ΑΠΣ ΑΘΗΝΑΙΟΙ ΔΡΟΜΕΙΣ 1:01:28 2:15:19\n34 \, 4 \, 17 35-54 Female 751 ΧΡΙΣΤΙΝΑ ΚΑΛΤΣΑ 1978 ΑΠΣ ΑΘΗΝΑΙΟΙ ΔΡΟΜΕΙΣ 1:01:21 2:15:20\n35 \, 5 \, 6 >55 Female 680 ΜΑΡΙΑ ΜΠΙΣΚΕΝΤΖΗ – ΙΩΑΝΝΟΥ 1955 ΑΠΣ ΑΘΗΝΑΙΟΙ ΔΡΟΜΕΙΣ 0:58:18 2:17:02\n36 \, 31 \, 18 35-54 Male 778 ΑΝΑΣΤΑΣΙΟΣ ΣΟΡΤΣΗΣ 1975 0:58:40 2:23:05\n37 \, 6 \, 13 <34 Female 712 ΠΑΝΑΓΙΩΤΑ ΠΑΠΑΝΑΓΙΩΤΟΥ 1988 ΑΠΣ ΑΘΗΝΑΙΟΙ ΔΡΟΜΕΙΣ 0:59:11 2:35:18\n38 \, 32 \, 7 >55 Male 613 ΓΕΩΡΓΙΟΣ ΔΙΑΜΑΝΤΗΣ 1956 ΑΠΣ ΑΘΗΝΑΙΟΙ ΔΡΟΜΕΙΣ 0:59:14 2:35:19\n39 \, 33 \, 8 >55 Male 695 ΑΘΑΝΑΣΙΟΣ ΞΥΓΚΟΣ ΑΠΣ ΑΘΗΝΑΙΟΙ ΔΡΟΜΕΙΣ – 2:42:37 \nΑΠΟΤΕΛΕΣΜΑΤΑ 5ΚΜ \nΑ/Α Gender ΒΙΒ Name YOB Club 5km\n1 Male 833 ΓΙΩΡΓΟΣ ΓΙΑΝΝΟΥΛΗΣ 1989 AEGINA 0:21:00\n2 Male 913 ΔΗΜΗΤΡΗΣ ΛΟΡΕΝΤΖΟΣ 1988 ΣΔΥ ΑΙΓΙΝΑΣ 0:22:37\n3 Male 881 ΚΩΝΣΤΑΝΤΙΝΟΣ ΚΑΤΡΙΔΗΣ 1998 Ο.Α.Κ.ΑΙΓΙΝΑΣ 0:25:11\n4 Female 888 ΜΟΝΙΚΑ ΚΟΜΝΗΝΟΥ 2004 0:25:46\n5 Male 996 ΠΑΝΑΓΙΩΤΗΣ ΣΤΑΘΗΣ 1995 PANAGAKIS Y. C. 0:26:55\n6 Male 927 ΓΕΩΡΓΙΟΣ ΜΑΝΙΑΣ 1978 ΑΠΣ ΑΘΗΝΑΙΟΙ ΔΡΟΜΕΙΣ 0:27:04\n7 Male 998 ΚΩΝΣΤΑΝΤΙΝΟΣ ΣΤΑΥΡΟΠΟΥΛΟΣ 2002 ΟΑΚ ΑΙΓΙΝΑΣ 0:28:15\n8 Male 819 ΓΕΩΡΓΙΟΣ ΒΑΤΙΚΙΩΤΗΣ 1973 ΣΔΥ ΑΙΓΙΝΑΣ 0:28:45\n9 Male 854 ΝΙΚΟΛΑΟΣ ΓΚΑΡΗΣ 2003 0:28:47\n10 Male 892 ΓΙΩΡΓΟΣ ΚΟΥΚΟΥΛΗΣ 1991 0:28:51\n11 Male 896 ΧΡΗΣΤΟΣ ΚΩΣΤΕΛΙΔΗΣ 1968 ΑΠΣ ΑΘΗΝΑΙΟΙ ΔΡΟΜΕΙΣ 0:30:02\n12 Female 1053 ΦΑΙΗ ΘΕΟΔΩΡΑΚΗ 1991 ΣΔΥ ΑΙΓΙΝΑΣ 0:30:06\n13 Male 792 ΓΕΩΡΓΙΟΣ ΑΝΤΩΝΟΠΟΥΛΟΣ 1989 0:30:57\n14 Male 828 ΔΗΜΗΤΡΗΣ ΦΕΙΚΟΣ 1969 0:31:03\n15 Male 1066 ΘΩΜΑΣ ΚΟΓΙΑΣ 1978 0:31:06\n16 Male 796 ΝΙΚΟΣ ΑΞΙΩΤΗΣ 1991 0:31:09\n17 Male 807 ΝΙΚΟΣ ΑΠΟΣΤΟΛΟΠΟΥΛΟΣ 1977 DAMAGE INC. 0:31:11\n18 Male 865 ΓΙΩΡΓΟΣ ΖΗΣΙΜΑΤΟΣ 2003 ΟΑΚ ΑΙΓΙΝΑΣ 0:31:26\n19 Male 1079 ΠΑΝΑΓΙΩΤΗΣ ΠΑΛΛΗΣ 2000 0:32:07\n20 Male 1093 ΑΝΤΩΝΗΣ ΠΑΛΛΗΣ 2004 0:32:08\n21 Male 1068 ΧΡΗΣΤΟΣ ΔΗΜΟΠΟΥΛΟΣ 1963 0:32:24\n22 Female 985 ΜΑΡΙΕΛ ΠΤΕΡΟΥΔΗ 1972 0:32:27\n23 Female 890 ΘΕΟΔΩΡΑ ΚΟΝΤΟΡΟΥΔΑ 1985 0:32:53\n24 Male 990 ΑΘΑΝΑΣΙΟΣ ΣΓΟΥΡΟΠΟΥΛΟΣ 1955 . 0:33:18\n25 Female 910 ΡΙΑ ΛΟΡΑΝΔΟΥ 1976 0:33:33\n26 Male 1063 ΓΙΩΡΓΟΣ ΤΣΑΚΙΡΗΣ 1974 0:33:58\n27 Male 995 ΝΙΚΟΛΑΟΣ ΣΤΑΘΗΣ 1962 ΣΔΥ ΑΙΓΙΝΑΣ 0:34:08\n28 Male 885 ΣΩΤΗΡΗΣ ΚΑΤΣΑΣ 1975 0:34:19\n29 Male 894 ΓΙΑΝΝΗΣ ΚΡΕΟΥΖΗΣ 1954 ΣΔΥΑΙΓΙΝΑΣ 0:34:24\n30 Female 971 ΕΛΕΝΗ ΠΑΠΑΪΩΑΝΝΟΥ 1962 0:34:44\n31 Male 911 ΣΤΑΥΡΟΣ ΛΟΡΕΝΤΖΟΣ 1979 ΝΑΜΑ 0:34:46\n32 Male 1004 ΦΙΛΙΠΠΟΣ ΤΡΙΚΚΑΣ 1949 ΟΜΙΛΟΣ ΑΝΤΙΣΦΑΙΡΙΣΗΣ ΑΘΗΝΩΝ 0:35:00\n33 Male 1000 ΕΛΕΥΘΕΡΙΟΣ ΣΩΡΡΟΣ 1960 0:35:52\n34 Male 791 ΑΠΟΣΤΟΛΟΣ ΑΛΕΞΙΟΥ 1980 ΑΠΣ ΑΘΗΝΑΙΟΙ ΔΡΟΜΕΙΣ 0:35:53\n35 Male 878 ΑΠΟΣΤΟΛΟΣ ΚΑΡΟΥΤΑΣ 1986 ΑΠΣ ΑΘΗΝΑΙΟΙ ΔΡΟΜΕΙΣ 0:35:54\n36 Male 1078 ΝΕΚΤΑΡΙΟΣ ΠΑΛΛΗΣ 1973 0:36:14\n37 Male 832 ΝΙΚΟΛΑΟΣ ΓΙΑΝΝΟΠΟΥΛΟΣ 1966 ΑΠΣ ΑΘΗΝΑΙΟΙ ΔΡΟΜΕΙΣ 0:36:15\n38 Male 1009 ΧΡΗΣΤΟΣ ΤΣΕΒΑΣ 1989 ΟΑΚ ΑΙΓΙΝΑΣ 0:36:22\n39 Male 904 ΠΑΝΑΓΙΩΤΗΣ ΚΡΕΟΥΖΗΣ 1980 0:36:42\n40 Male 840 ΙΩΑΝΝΗΣ ΓΙΑΝΝΟΥΛΗΣ 1975 0:36:43\n41 Male 1054 ΑΛΕΞΗΣ ΜΠΟΓΡΗΣ 1975 0:37:05\n42 Female 925 ΓΕΩΡΓΙΑ ΜΑΛΤΕΖΟΥ 1978 0:37:08\n43 Male 1100 ΚΩΝΣΤΑΝΤΙΝΟΣ ΝΕΣΤΟΡΙΔΗΣ 1974 0:37:19\n44 Female 970 ΓΙΩΤΑ ΠΑΠΑΔΟΠΟΥΛΟΥ 1975 ΟΑΚ ΑΙΓΙΝΑΣ 0:37:23\n45 Male 967 ΔΗΜΗΤΡΗΣ ΠΑΠΑΔΟΠΟΥΛΟΣ 1980 0:37:34\n46 Female 879 ΣΩΤΗΡΙΑ ΚΑΣΙΜΑΚΗ 1974 0:38:01\n47 Male 981 ΠΕΤΡΟΣ ΠΕΤΡΙΤΗΣ 1980 0:38:33\n48 Male 790 ΣΩΤΗΡΙΟΣ ΑΚΡΙΒΟΣ 1983 0:38:33\n49 Male 984 ΑΠΟΣΤΟΛΟΣ ΠΟΥΛΙΑΚΑΣ 1955 ΣΔΥ ΑΙΓΙΝΑΣ 0:38:39\n50 Male 805 ΓΙΩΡΓΟΣ ΑΠΟΣΠΟΡΗΣ 1978 0:38:49\n51 Female 812 ΔΕΣΠΟΙΝΑ ΒΑΤΙΚΙΩΤΗ 1975 0:38:49\n52 Female 899 ΖΕΦΗ ΛΑΒΟΥΤΑ 2001 ΟΑΚ ΑΙΓΙΝΑΣ 0:39:01\n53 Male 941 ΛΕΥΤΕΡΗΣ ΜΑΡΙΝΗΣ 1994 ΟΑΚ ΑΙΓΙΝΑΣ 0:39:01\n54 Female 873 ΜΑΙΡΑ ΚΑΛΙΝΟΓΛΟΥ 1959 ΣΔΥΑΙΓΙΝΑΣ 0:39:18\n55 Male 868 ΝΙΚΟΛΑΟΣ ΚΑΒΑΚΛΗΣ 1983 ΑΠΣ ΑΘΗΝΑΙΟΙ ΔΡΟΜΕΙΣ 0:40:04\n56 Male 1043 ΣΤΑΥΡΟΣ ΨΕΙΡΟΠΟΥΛΟΣ 1979 0:40:12\n57 Male 874 ΠΑΝΑΓΙΩΤΗΣ ΚΑΛΟΥΔΗΣ 1950 ΣΔΥ ΑΙΓΙΝΑΣ 0:40:23\n58 Female 887 ΔΗΜΗΤΡΑ ΚΟΛΟΚΟΤΡΩΝΗ 1991 ΑΠΣ ΑΘΗΝΑΙΟΙ ΔΡΟΜΕΙΣ 0:40:35\n59 Male 876 ΠΑΡΗΣ ΚΑΜΠΕΡΑΚΗΣ 1971 0:40:59\n60 Male 986 ΓΕΩΡΓΙΟΣ ΡΟΥΣΣΟΣ 1963 0:41:51\n61 Female 960 ΑΝΝΑ ΠΑΙΔΗ 1971 0:41:51\n62 Female 1034 ΟΛΓΑ ΧΙΟΝΙΔΟΥ 1987 0:42:05\n63 Male 1098 ΚΩΝΣΤΑΝΤΙΝΑ ΒΑΣΙΛΕΙΟΥ 1989 0:42:19\n64 Female 1099 ΑΝΤΡΙΑΝΝΑ ΣΠΙΝΕΛΗ 1982 0:42:19\n65 Male 955 ΠΑΝΑΓΙΩΤΗΣ ΜΠΕΣΗΣ 1986 0:42:26\n66 Female 1026 ΕΙΡΗΝΗ ΤΣΟΚΑΝΤΑ 1978 ΑΝΑΒΑΣΗ 0:43:22\n67 Male 992 ΕΥΑΓΓΕΛΟΣ ΣΚΑΛΙΔΗΣ 1960 0:43:55\n68 Female 818 ΞΑΝΘΙΠΠΗ ΒΑΤΙΚΙΩΤΗ 1962 . 0:44:11\n69 Female 938 ΜΑΡΘΑ ΜΑΡΙΝΗ 1982 0:45:25\n70 Male 860 ΙΩΣΗΦ ΕΛΧΟΝΤΑΡΙ 2003 ΟΑΚ ΑΙΓΙΝΑΣ 0:46:32\n71 Female 916 ΑΝΘΗ ΛΥΚΟΥΔΗ 1976 0:46:48\n72 Female 988 ΓΕΩΡΓΙΑ ΚΟΤΣΗ 1973 0:46:53\n73 Female 898 ΜΑΡΘΑ ΛΑΒΟΥΤΑ 2004 Ο.Α.Κ 0:46:59\n74 Male 949 ΠΑΝΑΓΙΩΤΗΣ ΖΑΡΑΒΕΛΑΣ 1963 0:48:14\n75 Male 891 ΓΕΩΡΓΙΟΣ ΚΟΝΤΟΡΟΥΔΑΣ 1953 0:48:20\n76 Male 1038 ΒΑΣΙΛΗΣ ΧΡΙΣΤΟΠΟΥΛΟΣ 1969 ΑΝΑΒΑΣΗ 0:48:52\n77 Female 987 ΒΑΣΙΛΙΚΗ ΣΑΡΡΗ 1967 0:49:28\n78 Male 810 ΜΑΡΙΑ ΑΣΗΜΑΝΤΩΝΗ 1977 0:49:33\n79 Female 1027 ΓΙΑΝΝΟΥΛΑ ΤΥΛΙΓΑΔΑ 1951 ΑΠΣ ΑΘΗΝΑΙΟΙ ΔΡΟΜΕΙΣ 0:49:39\n80 Male 872 ΠΑΝΑΓΙΩΤΗΣ ΚΑΒΑΚΛΗΣ 1986 ΑΠΣ ΑΘΗΝΑΙΟΙ ΔΡΟΜΕΙΣ 0:50:05\n81 Female 842 ΙΩΑΝΝΑ ΓΙΩΤΑ 1965 NAMA 0:54:01\n82 Female 962 ΛΙΝΑ ΠΑΠΑΓΕΩΡΓΙΟΥ 1986 0:55:10\n83 Female 920 ΣΟΦΙΑ ΛΥΚΟΥΡΗ 1970 0:55:30\n84 Male 978 ΝΙΚΟΛΑΟΣ ΠΕΚΙΑΡΗΣ 1967 0:55:33\n85 Male 951 ΧΡΥΣΟΣΤΟΜΟΣ ΜΑΥΡΟΘΑΛΑΣΣΙΤΗΣ 1958 ΝΑΜΑ 0:56:52\n86 Female 786 GAIL REES 1951 0:57:01\n87 Female 1035 ΜΑΡΟΥΛΑ ΚΟΒΑΝΙΔΟΥ 1982 0:57:13\n88 Female 880 ΡΟΖΑΛΙΖΑ ΚΑΤΕΛΑΝΟΥ 1961 ΑΠΣ ΑΘΗΝΑΙΟΙ ΔΡΟΜΕΙΣ 0:57:14\n89 Male 1076 ΔΗΜΟΣ ΠΑΝΤΑΖΗΣ 2004 1:03:18\n90 Male 918 ΜΑΡΙΑ ΛΥΚΟΥΡΗ 1992 1:03:21\n91 Male 1071 ΒΑΓΓΕΛΗΣ ΠΑΝΤΑΖΗΣ 1974 1:03:46\n92 Female 867 ΜΑΡΙΑ ΚΑΚΟΥΣΗ 1978 1:03:48\n93 Female 945 ΝΕΚΤΑΡΙΑ ΜΑΡΟΥΔΑ 1980 1:08:26\n94 Female 859 ΠΑΣΚΑΛ ΕΛ ΧΟΜΣΙ 1984 1:08:26\n95 Female 935 ΓΕΩΡΓΙΑ ΜΑΝΙΜΑΝΑΚΗ 1959 1:08:31\n96 Male 1013 ΜΑΝΩΛΗΣ ΤΣΙΚΛΟΣ 1981 1:08:43\n97 Female 866 ΞΑΝΘΗ ΖΩΓΡΑΦΟΥ 1981 1:08:44\n98 Female 857 ΔΕΣΠΟΙΝΑ ΓΟΥΝΑΡΗ 1965 1:30:58 \n  \n  \n 
URL:https://gorun.gr/race/5%ce%bf-%ce%ba%cf%85%cf%80%ce%b5%ce%bb%ce%bf-%ce%b1%cf%86%ce%b1%ce%b9%ce%b1-2016/
CATEGORIES:Αποτελέσματα,Βουνό
END:VEVENT
END:VCALENDAR