BEGIN:VCALENDAR
VERSION:2.0
PRODID:-//goRUN - ECPv5.8.1//NONSGML v1.0//EN
CALSCALE:GREGORIAN
METHOD:PUBLISH
X-WR-CALNAME:goRUN
X-ORIGINAL-URL:https://gorun.gr
X-WR-CALDESC:Events for goRUN
BEGIN:VTIMEZONE
TZID:Europe/Athens
BEGIN:DAYLIGHT
TZOFFSETFROM:+0200
TZOFFSETTO:+0300
TZNAME:EEST
DTSTART:20160327T010000
END:DAYLIGHT
BEGIN:STANDARD
TZOFFSETFROM:+0300
TZOFFSETTO:+0200
TZNAME:EET
DTSTART:20161030T010000
END:STANDARD
END:VTIMEZONE
BEGIN:VEVENT
DTSTART;TZID=Europe/Athens:20160904T080000
DTEND;TZID=Europe/Athens:20160904T170000
DTSTAMP:20260425T200640
CREATED:20160904T202124Z
LAST-MODIFIED:20160904T203037Z
UID:10178-1472976000-1473008400@gorun.gr
SUMMARY:5ο Κύπελλο Εθελοντή Δότη Μυελού των Οστών
DESCRIPTION:5 ΧΙΛΙΟΜΕΤΡΑ \nRANK GENDER AGE CAT BIB NAME SEX CLUB ΧΡΟΝΟΣ ΚΑΘ. ΧΡΟΝΟΣ\n1 1 1 148 ΝΙΚΟΣ ΠΟΝΗΡΕΑΣ Α 00:21:56 00:21:56\n2 2 1 47 ΑΡΙΣΤΟΔΗΜΟΣ ΚΕΦΑΛΑΣ Α 00:23:57 00:23:57\n3 3 2 84 ΔΗΜΗΤΡΗΣ ΡΟΥΤΣΗΣ Α 00:24:07 00:24:07\n4 4 2 176 ΦΩΤΗΣ ΠΑΝΑΓΙΩΤΟΠΟΥΛΟΣ Α 00:24:11 00:24:07\n5 5 3 111 ΔΗΜΗΤΡΗΣ ΚΑΨΑΛΟΠΟΔΑΣ Α 00:24:13 00:23:57\n6 6 3 162 ΚΩΝΣΤΑΝΤΙΝΟΣ ΓΕΩΡΓΙΟΠΟΥΛΟΣ Α 00:24:19 00:24:19\n7 7 1 66 ΧΡΗΣΤΟΣ ΜΠΕΝΟΣ Α 00:24:24 00:24:08\n8 8 2 24 ΓΕΩΡΓΙΟΣ ΓΚΟΥΝΤΟΥΜΗΣ Α 00:24:58 00:24:56\n9 9 4 23 ΛΑΜΠΡΟΣ ΓΚΟΥΝΤΟΥΜΗΣ Α 00:24:59 00:24:58\n10 10 5 137 ΚΩΣΤΑΣ ΣΠΥΡΟΠΟΥΛΟΣ Α 00:25:36 00:25:35\n11 11 3 45 ΘΑΝΟΣ ΚΑΤΑΚΟΣ Α 00:25:43 00:25:27\n12 1 1 35 ΕΛΕΝΗ ΕΞΕΡΤΖΟΓΛΟΥ Γ 00:25:51 00:25:50\n13 12 4 36 ΝΙΚΟΣ ΖΕΠΠΟΣ Α 00:26:00 00:26:00\n14 13 6 163 ΣΤΕΦΑΝΟΣ ΠΑΤΕΡΑΚΗΣ Α 00:26:04 00:25:49\n15 14 7 125 ΠΑΝΑΓΙΩΤΗΣ ΔΗΜΗΤΡΟΠΟΥΛΟΣ Α 00:26:22 00:26:21\n16 15 4 70 ΝΙΚΟΣ ΝΑΘΑΝΑΗΛ Α 00:26:33 00:26:28\n17 16 8 145 ΜΙΧΑΛΗΣ ΝΙΚΟΛΟΠΟΥΛΟΣ Α 00:26:42 00:26:27\n18 17 5 61 ΠΑΝΑΓΙΩΤΗΣ ΜΑΥΡΟΓΙΑΝΝΗΣ Α 00:27:07 00:27:03\n19 2 2 9 ΕΥΘΥΜΙΑ ΑΛΕΞΗ Γ 00:27:10 00:27:08\n20 18 9 144 ΕΥΑΓΓΕΛΟΣ ΛΑΓΟΝΙΚΕΑΣ Α 00:27:10 00:27:08\n21 19 10 166 ΒΑΣΙΛΗΣ ΣΠΥΡΟΠΟΥΛΟΣ Α 00:27:25 00:27:17\n22 20 5 63 ΚΩΝΣΤΑΝΤΙΝΟΣ ΜΙΧΑΛΟΠΟΥΛΟΣ Α 00:27:37 00:27:20\n23 21 6 54 ΚΩΝΣΤΑΝΤΙΝΟΣ ΚΡΑΝΙΩΤΗΣ Α 00:27:49 00:27:42\n24 22 7 1 ΓΙΩΡΓΟΣ ΑΓΓΟΥΡΑΣ Α 00:27:55 00:27:46\n25 23 11 143 ΑΠΟΣΤΟΛΟΣ ΛΑΜΠΡΟΠΟΥΛΟΣ Α 00:28:02 00:27:54\n26 24 6 109 ΠΑΝΑΓΙΩΤΗΣ ΚΟΚΚΟΡΑΚΗΣ Α 00:28:03 00:27:58\n27 3 1 139 ΑΛΙΚΗ ΤΑΒΟΥΛΑΡΗ Γ 00:28:04 00:28:03\n28 4 2 90 ΣΑΣΑ ΣΥΛΛΑΙΔΟΠΟΥΛΟΥ Γ 00:28:05 00:28:03\n29 25 12 11 ΑΘΑΝΑΣΙΟΣ ΑΝΤΩΝΟΠΟΥΛΟΣ Α 00:28:12 00:28:06\n30 26 13 138 ΚΩΝΣΤΑΝΤΙΝΟΣ ΦΙΛΑΝΔΡΙΑΝΟΣ Α 00:28:40 00:28:29\n31 27 8 55 ΒΑΣΙΛΕΙΟΣ ΚΥΠΑΡΙΣΣΗΣ Α 00:28:40 00:28:29\n32 28 14 124 ΓΕΩΡΓΙΟΣ ΑΓΓΟΥΡΑΣ Α 00:28:45 00:28:37\n33 29 7 18 ΓΕΩΡΓΙΟΣ ΒΟΥΔΟΥΡΗΣ Α 00:29:03 00:28:48\n34 30 15 115 ΜΙΧΑΛΗΣ ΔΕΡΕΤΟΣ Α 00:29:17 00:28:58\n35 31 16 114 ΓΙΩΡΓΟΣ ΦΕΡΤΟΣ Α 00:29:17 00:28:58\n36 32 17 116 ΔΗΜΟΣ ΣΑΜΑΡΑΣ Α 00:29:17 00:28:58\n37 33 8 88 ΝΙΚΟΣ ΣΤΕΦΑΝΟΥ Α 00:29:21 00:29:10\n38 34 18 156 ΜΑΞΙΜΟΣ ΣΚΟΝΔΡΑΣ Α 00:30:07 00:29:46\n39 35 9 85 ΝΙΚΟΣ ΣΑΚΕΛΛΑΡΟΠΟΥΛΟΣ Α 00:30:12 00:30:02\n40 5 3 64 ΕΛΕΝΑ ΜΙΧΑΛΟΠΟΥΛΟΥ Γ 00:30:14 00:30:12\n41 6 3 172 ΑΡΙΑΝΝΑ ΧΟΝΤΟΥ Γ 00:30:15 00:30:14\n42 36 19 157 ΚΩΝΣΤΑΝΤΙΝΟΣ ΣΚΟΝΔΡΑΣ Α 00:30:26 00:30:05\n43 37 10 101 ΑΝΤΩΝΗΣ ΤΣΩΝΗΣ Α 00:30:27 00:30:24\n44 38 11 56 ΣΤΑΥΡΟΣ ΛΟΝΤΟΣ Α 00:30:28 00:30:24\n45 39 12 43 ΠΑΝΑΓΙΩΤΗΣ ΚΑΡΜΙΡΗΣ Α 00:30:32 00:30:21\n46 40 20 153 ΓΕΩΡΓΙΟΣ ΣΠΥΡΟΠΟΥΛΟΣ Α 00:30:33 00:30:21\n47 41 21 150 ΗΛΙΑΣ ΛΑΓΟΣ Α 00:30:46 00:30:38\n48 42 22 158 ΛΑΜΠΡΟΣ ΓΚΡΟΛΑΟΣ Α 00:30:55 00:30:53\n49 43 23 136 ΤΑΚΗΣ ΚΡΟΜΠΑΣ Α 00:30:57 00:30:41\n50 44 13 68 ΦΙΛΙΠΠΟΣ ΜΠΟΥΝΤΑΛΑΣ Α 00:31:02 00:30:41\n51 45 24 165 ΓΕΩΡΓΙΟΣ ΠΛΑΤΑΝΙΩΤΗΣ Α 00:31:07 00:31:04\n52 46 25 126 ΔΗΜΗΤΡΗΣ ΑΝΤΩΝΟΠΟΥΛΟΣ Α 00:31:14 00:31:09\n53 47 9 103 ΝΙΚΟΣ ΦΙΣΚΙΛΗΣ Α 00:31:17 00:31:00\n54 48 10 52 ΓΙΑΝΝΗΣ ΚΟΥΚΟΥΛΙΔΗΣ Α 00:31:28 00:31:15\n55 49 14 77 ΓΙΩΡΓΟΣ ΠΕΤΡΟΠΟΥΛΟΣ Α 00:31:46 00:31:40\n56 50 26 93 ΑΝΤΩΝΗΣ ΤΑΒΟΥΛΑΡΗΣ Α 00:31:50 00:31:48\n57 7 4 62 ΕΛΕΝΗ ΜΕΝΤΖΑ Γ 00:32:02 00:31:55\n58 51 27 81 ΝΙΚΟΣ ΠΟΥΛΟΓΙΑΝΝΟΠΟΥΛΟΣ Α 00:32:04 00:31:58\n59 8 1 50 ΣΟΦΙΑ ΚΟΝΤΑΞΑΚΗ Γ 00:32:05 00:31:58\n60 52 15 53 ΧΡΗΣΤΟΣ ΚΟΥΤΙΒΑΣ Α 00:32:28 00:32:19\n61 53 11 15 ΑΘΑΝΑΣΙΟΣ ΒΑΣΙΛΟΠΟΥΛΟΣ Α 00:32:31 00:32:16\n62 54 28 173 ΟΝΟΜΑ 173 ΕΠΩΝΥΜΟ 173 Α 00:32:33 00:32:18\n63 55 12 37 ΣΤΑΥΡΟΣ ΖΟΥΖΟΥΛΑΣ Α 00:32:33 00:32:19\n64 56 16 13 ΔΗΜΗΤΡΗΣ ΑΥΓΟΥΣΤΙΔΗΣ Α 00:32:34 00:32:33\n65 57 17 42 ΝΙΚΟΛΑΟΣ ΚΑΡΑΜΠΕΛΑΣ Α 00:32:55 00:32:53\n66 58 29 113 ΑΘΑΝΑΣΙΟΣ ΣΚΟΥΛΙΚΑΣ Α 00:33:00 00:32:57\n67 59 18 29 ΣΩΤΗΡΙΟΣ ΔΗΜΗΤΡΑΚΟΠΟΥΛΟΣ Α 00:33:10 00:32:47\n68 9 5 160 ΠΑΝΑΓΙΩΤΑ ΚΩΝΣΤΑΝΤΙΝΕΑ Γ 00:33:39 00:33:34\n69 60 30 123 ΓΕΩΡΓΙΟΣ ΠΡΙΟΝΑΣ Α 00:33:39 00:33:22\n70 61 31 151 ΒΑΣΙΛΗΣ ΒΟΥΓΙΟΥΚΑΣ Α 00:33:42 00:33:40\n71 10 4 8 ΜΑΡΙΑ ΑΛΕΒΙΖΟΥ Γ 00:33:47 00:33:41\n72 62 32 149 ΠΑΝΑΓΙΩΤΗΣ ΔΟΥΣΗΣ Α 00:34:30 00:34:29\n73 63 13 39 ΓΙΩΡΓΟΣ ΘΕΟΔΟΣΑΤΟΣ Α 00:34:33 00:34:19\n74 11 5 83 ΟΛΓΑ ΡΕΙΤΖΟΠΟΥΛΟΥ Γ 00:34:36 00:34:29\n75 12 6 7 ΑΘΑΝΑΣΙΑ-ΑΙΚΑΤΕΡΙΝΗ ΑΘΑΝΑΣΟΠΟΥΛΟΥ Γ 00:34:44 00:34:36\n76 64 33 102 ΓΙΑΝΝΗΣ ΦΙΣΚΙΛΗΣ Α 00:34:44 00:34:36\n77 65 34 170 ΑΛΕΞΗΣ ΧΡΟΝΟΠΟΥΛΟΣ Α 00:34:44 00:34:23\n78 66 35 140 ΟΡΕΣΤΗΣ ΒΛΑΣΗΣ Α 00:35:10 00:35:03\n79 13 7 161 ΕΥΣΤΑΘΙΑ ΒΑΣΔΥΡΗ Γ 00:35:28 00:35:22\n80 67 19 10 ΣΤΑΥΡΟΣ ΑΝΤΩΝΟΠΟΥΛΟΣ Α 00:35:29 00:35:04\n81 68 14 46 ΓΙΑΝΝΗΣ ΚΕΡΑΜΕΚΗΣ Α 00:35:33 00:35:08\n82 14 8 133 ΙΩΑΝΝΑ ΒΑΛΙΛΑΡΙΩΤΗ Γ 00:35:53 00:35:43\n83 15 6 20 ΙΩΑΝΝΑ ΓΙΑΝΝΑΡΗ Γ 00:35:53 00:35:46\n84 69 15 31 ΚΩΝΣΤΑΝΤΙΝΟΣ ΔΙΑΜΑΝΤΟΠΟΥΛΟΣ Α 00:35:54 00:35:38\n85 70 36 132 ΔΗΜΗΤΡΗΣ ΚΑΣΚΟΥΤΗΣ Α 00:35:54 00:35:44\n86 71 37 159 ΔΗΜΗΤΡΗΣ ΚΑΜΑΟΥΤΗΣ Α 00:35:54 00:35:43\n87 16 9 164 ΧΡΙΣΤΙΝΑ ΓΕΩΡΓΙΛΟΠΟΥΛΟΥ Γ 00:35:56 00:35:43\n88 72 20 110 ΚΩΣΤΑΣ ΠΕΡΙΣΣΗΣ Α 00:36:01 00:35:39\n89 73 21 21 ΑΝΑΣΤΑΣΙΟΣ ΓΙΑΝΝΕΛΗΣ Α 00:36:07 00:35:58\n90 74 38 146 ΣΩΚΡΑΤΗΣ ΓΙΑΝΝΕΛΗΣ Α 00:36:25 00:36:03\n91 75 16 86 ΓΙΩΡΓΟΣ ΣΑΡΑΝΤΟΠΟΥΛΟΣ Α 00:36:28 00:36:04\n92 76 39 118 ΗΛΙΑΣ ΠΥΡΝΑΚΟΚΗΣ Α 00:36:42 00:36:23\n93 77 17 112 ΔΗΜΗΤΡΗΣ ΤΣΑΠΑΣ Α 00:36:59 00:36:47\n94 78 22 94 ΘΕΟΔΩΡΟΣ ΤΖΑΝΕΤΑΚΗΣ Α 00:37:07 00:37:02\n95 79 40 91 ΓΙΩΡΓΙΟΣ ΣΩΤΗΡΙΑΔΗΣ Α 00:37:19 00:36:59\n96 80 18 92 ΚΥΡΙΑΚΟΣ ΣΩΤΗΡΙΑΔΗΣ Α 00:37:19 00:37:00\n97 81 41 147 ΕΠΑΜΕΙΝΩΝΤΑΣ ΚΑΜΑΡΙΝΟΣ Α 00:37:55 00:37:47\n98 82 42 131 ΠΑΝΑΓΙΩΤΗΣ ΠΑΝΑΓΟΠΟΥΛΟΣ Α 00:38:34 00:38:25\n99 83 43 135 ΘΕΟΔΩΡΟΣ ΝΤΟΥΛΟΣ Α 00:39:08 00:38:54\n100 17 7 82 ΜΑΡΙΑ ΠΡΩΤΟΨΑΛΤΗ Γ 00:39:13 00:39:07\n101 18 2 26 ΚΑΙΤΗ ΔΑΣΚΑΛΑΚΗ Γ 00:39:15 00:38:54\n102 84 19 27 ΕΥΑΓΓΕΛΟΣ ΔΑΣΚΑΛΑΚΗΣ Α 00:39:15 00:38:55\n103 85 23 58 ΙΩΑΝΝΗΣ ΜΑΚΡΥΠΟΔΗΣ Α 00:39:26 00:39:23\n104 86 24 104 ΑΝΔΡΕΑΣ ΦΛΕΒΑΡΗΣ Α 00:39:28 00:39:25\n105 19 10 130 ΚΩΝΣΤΑΝΤΙΝΑ ΖΑΧΑΡΑΚΗ Γ 00:39:48 00:39:33\n106 87 44 152 ΑΛΕΞΑΝΔΡΟΣ ΣΠΥΡΙΔΟΝ Α 00:39:48 00:39:29\n107 88 45 121 ΘΕΟΔΩΡΟΣ ΠΑΠΑΣΑΡΑΝΤΗΣ Α 00:40:19 00:40:00\n108 89 20 79 ΓΕΩΡΓΙΟΣ ΠΙΚΗΣ Α 00:41:41 00:41:18\n109 90 21 28 ΠΑΝΑΓΙΩΤΗΣ ΔΗΜΑΣ Α 00:41:41 00:41:31\n110 91 22 97 ΖΩΗΣ ΤΟΥΦΕΞΙΑΔΗΣ Α 00:41:41 00:41:31\n111 92 23 49 ΜΙΧΑΗΛ ΚΟΜΜΑΤΑΣ Α 00:41:52 00:41:26\n112 93 24 32 ΧΡΗΣΤΟΣ ΔΙΟΝΥΣΟΠΟΥΛΟΣ Α 00:42:36 00:42:32\n113 94 46 171 ΟΝΟΜΑ 171 ΕΠΩΝΥΜΟ 171 Α 00:42:49 00:42:45\n114 95 25 89 ΝΙΚΟΛΑΣ ΣΤΕΦΑΝΟΥ Α 00:42:50 00:42:40\n115 20 11 2 ΣΤΕΦΑΝΙΑ ΑΔΑΜΟΠΟΥΛΟΥ Γ 00:43:56 00:43:51\n116 21 12 48 ΑΓΓΕΛΙΚΗ ΚΟΛΟΖΗ Γ 00:43:56 00:43:51\n117 96 47 127 ΕΥΣΤΑΘΙΟΣ ΚΟΜΜΑΤΑΣ Α 00:44:44 00:44:18\n118 22 13 16 ΜΑΡΙΑ ΒΕΒΕ Γ 00:45:27 00:45:11\n119 97 26 17 ΓΕΩΡΓΙΟΣ ΒΕΒΕΣ Α 00:45:28 00:45:12\n120 23 14 87 ΜΑΡΙΖΑ ΣΙΩΓΑ Γ 00:46:14 00:46:09\n121 24 15 167 ΒΕΝΕΤΙΑ ΓΙΑΝΝΑΚΕΑ Γ 00:46:35 00:46:17\n122 98 48 177 ΟΝΟΜΑ 177 ΕΠΩΝΥΜΟ 177 Α 00:47:04 00:46:59\n123 99 49 129 ΚΩΝΣΤΑΝΤΙΝΟΣ ΖΕΒΓΙΤΗΣ Α 00:47:07 00:46:54\n124 25 16 128 ΜΑΡΙΑ ΠΑΡΑΡΑ Γ 00:47:07 00:46:55\n125 26 17 169 ΜΑΡΙΑ ΠΑΥΛΕΑ Γ 00:52:18 00:51:52\n126 100 50 168 ΣΠΥΡΟΣ ΠΑΠΑΔΑΚΟΣ Α 00:52:19 00:51:53 \nΚΟΛΥΜΒΗΣΗ 3 ΧΙΛΙΟΜΕΤΡΑ \nRANK GENDER AGE CAT BIB NAME SEX CLUB ΧΡΟΝΟΣ ΚΑΘ. ΧΡΟΝΟΣ\n1 1 1 1003 ΛΑΜΠΡΟΣ ΓΚΟΥΝΤΟΥΜΗΣ Α 00:43:15\n2 2 2 3027 ΓΙΑΝΝΗΣ ΑΓΓΟΥΡΑΣ Α 00:43:45\n3 3 1 3001 ΗΛΙΑΣ ΑΘΑΝΑΣΟΠΟΥΛΟΣ Α 00:44:40\n4 4 3 3022 ΓΙΑΝΝΗΣ ΦΙΣΚΙΛΗΣ Α 00:44:43\n5 5 4 3005 ΑΘΑΝΑΣΙΟΣ ΑΝΤΩΝΟΠΟΥΛΟΣ Α 00:47:35\n6 1 1 3013 ΣΤΑΥΡΟΥΛΑ ΛΟΥΚΑΡΕΑ Γ 00:50:03\n7 2 2 3003 ΑΘΑΝΑΣΙΑ-ΑΙΚΑΤΕΡΙΝΗ ΑΘΑΝΑΣΟΠΟΥΛΟΥ Γ 00:50:07\n8 6 5 3004 ΑΝΑΣΤΑΣΙΟΣ ΑΘΑΝΑΣΟΥΛΑΚΗΣ Α 00:50:37\n9 3 3 3021 ΠΗΝΕΛΟΠΗ ΤΗΓΑΝΕΑ Γ 00:50:40\n10 4 1 3010 ΚΑΤΕΡΙΝΑ ΚΟΝΤΑΡΓΥΡΗ Γ 00:51:04\n11 7 1 3020 ΝΙΚΟΛΑΣ ΤΖΟΒΑΡΑΣ Α 00:52:44\n12 8 6 3007 ΟΡΕΣΤΗΣ ΒΛΑΣΣΗΣ Α 00:53:19\n13 9 1 3008 ΛΑΜΠΡΟΣ ΓΚΙΟΥΛΟΣ Α 00:55:41\n14 5 1 3019 ΣΑΣΑ ΣΥΛΛΑΙΔΟΠΟΥΛΟΥ Γ 00:58:17\n15 10 2 3012 ΚΩΝΣΤΑΝΤΙΝΟΣ ΚΡΑΝΙΩΤΗΣ Α 00:59:31\n16 11 2 3025 ΘΕΟΔΩΡΟΣ ΜΑΡΚΟΠΟΥΛΟΣ Α 00:59:52\n17 12 3 3014 ΓΙΩΡΓΟΣ ΜΑΚΡΕΑΣ Α 00:59:53\n18 6 2 3011 ΒΑΝΕΣΣΑ ΚΟΥΚΟΥΤΣ Γ 01:01:09\n19 13 2 3029 ΝΙΚΟΣ ΟΡΦΑΝΟΣ Α 01:04:56\n20 14 3 3015 ΔΗΜΗΤΡΗΣ ΜΑΚΡΗΣ Α 01:05:56\n21 7 3 3002 ΝΙΚΗ ΚΑΨΑΝΗ Γ 01:12:58\n22 8 4 3028 ΚΑΛΛΙΟΠΗ ΜΑΝΤΖΟΥΝΕΑ Γ 01:13:08\n23 9 4 3017 ΚΑΤΕΡΙΝΑ ΜΑΝΤΑ Γ 01:22:47 \nΚΟΛΥΜΒΗΣΗ 1000 ΜΕΤΡΑ \nRANK GENDER AGE CAT BIB NAME SEX CLUB ΧΡΟΝΟΣ ΚΑΘ. ΧΡΟΝΟΣ\n1 1 1 1039 ΒΑΣΙΛΗΣ ΣΑΚΑΛΗΣ Α 00:14:22\n2 2 2 1037 ΠΑΝΑΓΙΩΤΗΣ ΧΑΠΑΣ Α 00:14:41\n3 3 3 1038 ΓΕΩΡΓΙΟΣ ΤΣΑΚΑΛΗΣ Α 00:15:08\n4 1 1 1040 ΟΛΓΑ ΣΚΙΑΔΟΠΟΥΛΟΥ Γ 00:15:17\n5 4 4 1018 ΑΝΑΣΤΑΣΙΟΣ ΜΗΤΡΟΠΟΥΛΟΣ Α 00:15:18\n6 5 5 1032 ΣΠΥΡΙΔΩΝ ΓΙΑΝΝΑΚΟΠΟΥΛΟΣ Α 00:15:22\n7 2 2 1041 ΕΙΡΗΝΗ ΣΚΙΑΔΟΠΟΥΛΟΥ Γ 00:15:27\n8 6 1 1031 ΔΗΜΗΤΡΗΣ ΑΓΓΟΥΡΑΣ Α 00:15:35\n9 3 3 1028 ΑΝΑΣΤΑΣΙΑ ΧΑΠΠΑ Γ 00:16:25\n10 7 2 1025 ΒΑΣΙΛΗΣ ΣΠΥΡΟΠΟΥΛΟΣ Α 00:16:27\n11 8 6 1033 ΑΘΑΝΑΣΙΟΣ ΚΟΣΙΦΟΛΟΓΟΣ Α 00:16:33\n12 9 7 1029 ΝΙΚΟΣ ΠΟΝΗΡΕΑΣ Α 00:16:54\n13 10 1 1017 ΕΥΑΓΓΕΛΟΣ ΛΑΓΟΝΙΚΑΚΟΣ Α 00:16:59\n14 11 1 1046 ΧΡΗΣΤΟΣ ΧΑΡΑΛΑΜΠΑΚΗΣ Α 00:17:37\n15 12 3 1007 ΝΙΚΟΣ ΔΡΑΚΟΠΟΥΛΟΣ Α 00:18:18\n16 13 4 1035 ΓΕΩΡΓΙΟΣ ΝΙΚΟΛΑΚΗΣ Α 00:19:39\n17 14 8 1024 ΚΑΝΕΛΛΟΣ ΣΚΟΥΡΤΣΙΔΗΣ Α 00:19:42\n18 15 2 1026 ΝΙΚΟΛΑΣ ΣΤΕΦΑΝΟΥ Α 00:19:54\n19 16 2 1006 ΓΙΑΝΝΗΣ ΔΟΥΒΑΣ Α 00:20:45\n20 17 3 1011 ΝΙΚΟΣ ΖΕΠΠΟΣ Α 00:20:58\n21 18 4 1027 ΧΡΗΣΤΟΣ ΦΟΥΛΙΑΣ Α 00:21:03\n22 4 1 1034 ΠΑΝΑΓΙΩΤΑ ΟΡΦΑΝΟΥ Γ 00:23:15\n23 5 1 1016 ΣΟΦΙΑ ΚΟΝΤΑΞΑΚΗ Γ 00:23:45\n24 19 3 1001 ΓΕΩΡΓΙΟΣ ΒΕΒΕΣ Α 00:25:11\n25 20 4 1019 ΧΡΗΣΤΟΣ ΜΠΕΝΟΣ Α 00:25:32\n26 21 5 1036 ΔΗΜΗΤΡΗΣ ΤΣΟΥΤΣΙΑΣ Α 00:25:43\n27 22 5 1023 ΓΙΩΡΓΟΣ ΣΑΡΑΝΤΟΠΟΥΛΟΣ Α 00:26:02\n28 23 6 1014 ΘΑΝΟΣ ΚΑΤΑΚΟΣ Α 00:26:45\n29 24 7 1047 ΠΑΝΑΓΙΩΤΗΣ ΝΙΩΡΑΣ Α 00:27:10\n30 25 8 1021 ΧΡΗΣΤΟΣ ΠΑΝΑΓΙΩΤΟΠΟΥΛΟΣ Α 00:27:11\n31 26 9 1042 ΜΙΧΑΛΗΣ ΟΙΚΟΝΟΜΟΠΟΥΛΟΣ Α 00:27:12\n32 27 10 1005 ΚΩΝΣΤΑΝΤΙΝΟΣ ΔΙΑΜΑΝΤΟΠΟΥΛΟΣ Α 00:27:13\n33 6 2 1049 ΕΛΠΙΔΑ ΓΡΗΓΟΡΙΑΔΟΥ Γ 00:27:22\n34 28 11 1044 ΣΩΚΡΑΤΗΣ ΓΑΛΙΝΕΑΣ Α 00:28:31\n35 29 6 1004 ΣΩΤΗΡΙΟΣ ΔΗΜΗΤΡΑΚΟΠΟΥΛΟΣ Α 00:29:21\n36 7 2 1010 ΕΛΕΝΗ ΕΞΕΡΤΖΟΓΛΟΥ Γ 00:29:46\n37 30 12 1020 ΝΙΚΟΣ ΝΑΘΑΝΑΗΛ Α 00:29:47\n38 31 7 1048 ΓΕΩΡΓΙΟΣ ΚΑΤΣΑΟΥΝΑΣ Α 00:29:54\n39 32 13 1045 ΝΙΚΟΣ ΜΠΑΣΑΝΙΔΗΣ Α 00:30:25\n40 33 14 1050 ΑΛΕΞΑΝΔΡΟΣ ΣΠΥΡΙΔΟΝΙΔΗΣ Α 00:30:34\n41 34 15 1015 ΜΙΧΑΗΛ ΚΟΜΜΑΤΑΣ Α 00:32:43\n42 35 8 1030 ΓΕΩΡΓΙΟΣ ΠΡΙΟΝΑΣ Α 00:41:46\n43 36 16 1012 ΠΑΝΑΓΙΩΤΗΣ ΚΑΡΜΙΡΗΣ Α 00:43:15 \nΚΟΛΥΜΒΗΣΗ 500 ΜΕΤΡΑ \nRANK GENDER AGE CAT BIB NAME SEX CLUB ΧΡΟΝΟΣ ΚΑΘ. ΧΡΟΝΟΣ\n1 1 1 527 ΘΑΝΑΣΗΣ ΠΑΠΑΜΑΝΩΛΟΠΟΥΛΟΣ Α 00:07:29\n2 1 1 526 ΕΡΙΕΤΤΑ-ΜΑΡΙΑ ΠΑΠΑΜΑΝΩΛΟΠΟΥΛΟΥ Γ 00:08:06\n3 2 1 537 ΝΙΚΟΣ ΛΙΜΠΕΡΤΑΣ Α 00:08:48\n4 2 2 529 ΜΑΡΙΑ ΛΥΓΟΥΡΗ Γ 00:09:01\n5 3 1 518 ΑΠΟΣΤΟΛΙΝΑ ΠΕΤΡΕΑ Γ 00:09:17\n6 3 1 504 ΜΙΧΑΛΗΣ ΑΝΤΩΝΟΠΟΥΛΟΣ Α 00:10:13\n7 4 2 538 ΑΓΓΕΛΙΚΗ ΑΔΑΜΟΠΟΥΛΟΥ Γ 00:10:17\n8 4 2 503 ΜΙΧΑΛΗΣ ΑΝΤΩΝΟΠΟΥΛΟΣ Α 00:10:24\n9 5 3 501 ΕΛΕΝΑ ΛΙΑΝΟΥ Γ 00:10:36\n10 5 2 541 ΠΑΝΑΓΙΩΤΑ ΤΑΤΣΑΚΗ Α 00:11:00\n11 6 3 516 ΦΙΛΙΠΠΟΣ ΜΠΟΥΝΤΑΛΑΣ Α 00:11:48\n12 7 3 530 ΝΙΚΟΣ ΣΠΥΡΟΠΟΥΛΟΣ Α 00:12:13\n13 8 4 509 ΑΡΙΣΤΟΔΗΜΟΣ ΚΕΦΑΛΑΣ Α 00:12:14\n14 6 1 514 ΕΥΓΕΝΙΑ ΜΑΥΡΟΕΙΔΗ Γ 00:13:03\n15 9 4 519 ΓΙΩΡΓΟΣ ΠΕΤΡΟΠΟΥΛΟΣ Α 00:13:13\n16 10 1 535 ΦΩΤΗΣ ΔΙΚΑΙΟΣ Α 00:13:20\n17 11 5 542 ΒΑΣΙΛΗΣ ΒΟΥΓΙΟΥΚΑΣ Α 00:13:25\n18 7 2 525 ΜΑΡΙΑ ΔΗΜΗΤΡΑΚΟΠΟΥΛΟΥ Γ 00:14:27\n19 8 3 540 ΛΙΝΑ ΣΤΑΘΟΠΟΥΛΟΥ Γ 00:14:54\n20 12 6 532 ΓΕΩΡΓΙΟΣ ΛΟΥΚΑΡΗΣ Α 00:16:00\n21 13 7 528 ΠΑΝΑΓΙΩΤΗΣ ΔΗΜΗΤΡΟΠΟΥΛΟΣ Α 00:16:37\n22 9 4 508 ΙΩΑΝΝΑ ΚΑΡΑΜΗΤΡΗ Γ 00:17:00\n23 14 8 531 ΚΩΝΣΤΑΝΤΙΝΟΣ ΣΠΥΡΟΠΟΥΛΟΣ Α 00:17:56\n24 15 9 523 ΝΙΚΟΣ ΦΙΣΚΙΛΗΣ Α 00:19:03\n25 10 5 533 ΚΩΝΣΤΑΝΤΙΝΑ ΖΑΧΑΡΑΚΗ Γ 00:19:37\n26 16 10 513 ΓΙΩΡΓΟΣ ΜΑΝΙΑΤΗΣ Α 00:20:16
URL:https://gorun.gr/race/5%ce%bf-%ce%ba%cf%8d%cf%80%ce%b5%ce%bb%ce%bb%ce%bf-%ce%b5%ce%b8%ce%b5%ce%bb%ce%bf%ce%bd%cf%84%ce%ae-%ce%b4%cf%8c%cf%84%ce%b7-%ce%bc%cf%85%ce%b5%ce%bb%ce%bf%cf%8d-%cf%84%cf%89%ce%bd-%ce%bf%cf%83%cf%84/
CATEGORIES:Αποτελέσματα,Δρόμος
END:VEVENT
END:VCALENDAR