BEGIN:VCALENDAR
VERSION:2.0
PRODID:-//goRUN - ECPv5.8.1//NONSGML v1.0//EN
CALSCALE:GREGORIAN
METHOD:PUBLISH
X-WR-CALNAME:goRUN
X-ORIGINAL-URL:https://gorun.gr
X-WR-CALDESC:Events for goRUN
BEGIN:VTIMEZONE
TZID:Europe/Athens
BEGIN:DAYLIGHT
TZOFFSETFROM:+0200
TZOFFSETTO:+0300
TZNAME:EEST
DTSTART:20160327T010000
END:DAYLIGHT
BEGIN:STANDARD
TZOFFSETFROM:+0300
TZOFFSETTO:+0200
TZNAME:EET
DTSTART:20161030T010000
END:STANDARD
END:VTIMEZONE
BEGIN:VEVENT
DTSTART;VALUE=DATE:20160910
DTEND;VALUE=DATE:20160911
DTSTAMP:20260426T001455
CREATED:20160425T143359Z
LAST-MODIFIED:20160912T130120Z
UID:6105-1473465600-1473551999@gorun.gr
SUMMARY:ELLINIKON Cross Country Race 2016
DESCRIPTION:ΑΠΟΤΕΛΕΣΜΑΤΑ ELLINIKON CROSS COUNTRY 52KM\nGen-Sex-Cat Category Gender BIB Name YOB Club 52km finish\n1 \, 1 \,1 18-39 Male 609 DIMITRIS THEODORAKAKOS 1978 SALOMON HELLAS 4:56:21\n2 \, 2 \, 1 40-49 Male 575 SLAWOMIR MATRAS 1973 SALOMON HELLAS 5:30:51\n3 \, 3 \, 2 18-39 Male 581 VASILIS MICHOS 1977 ΣΔΥΜ 5:34:37\n4 \, 4 \, 3 18-39 Male 540 THANASIS KALOGEROPOULOS 1979 COMPRESSPORT GREECE/PILABOX 5:52:33\n5 \, 5 \, 4 18-39 Male 566 ADAM LESZKO 1981 3Π 6:01:33\n6 \, 6 \, 5 18-39 Male 567 THEOHARIS LEZPOURIDIS 1983 ADVENDURE.COM 6:04:25\n7 \, 7 \, 2 40-49 Male 508 EVANGELOS BAKAS 1972 EOS KALAMATAS 6:20:11\n8 \, 8 \, 6 18-39 Male 525 ALEXANDROS GEORGIOU 1981 ΑΝΕΞΆΡΤΗΤΟΣ 6:35:22\n9 \, 9 \, 3 40-49 Male 512 NIKOLAOS BIRMPILIS 1973 ΑΝΕΞΆΡΤΗΤΟΣ 6:36:51\n10 \, 10 \, 7 18-39 Male 573 IOANNIS MANIATIS 1980 ΑΝΕΞΆΡΤΗΤΟΣ 6:48:42\n11 \, 11 \, 8 18-39 Male 571 MILTOS LYMPITSOUNIS 1978 BALIOTIS.NATURE TRAIL 6:58:01\n12 \, 12 \, 9 18-39 Male 562 ATHANASIOS KRIGKAS 1978 ΑΝΕΞΆΡΤΗΤΟΣ 7:02:47\n13 \, 13 \, 4 40-49 Male 586 GEORGIOS PANAGOPOULOS 1972 ΑΝΕΞΆΡΤΗΤΟΣ 7:06:54\n14 \, 14 \, 1 50+ Male 606 ATHANASIOS SKOPAS 1963 ΑΝΕΞΆΡΤΗΤΟΣ 7:06:57\n15 \, 15 \, 5 40-49 Male 545 PANAGIOTIS KATALIAKOS 1969 ROUSSOS RUNNING TEAM+ODYSSEAS P.D.S 7:11:53\n16 \, 16 \, 6 40-49 Male 570 DIONISIOS LOUKAS 1973 ALLTERRAINRUNNERS-Σ.Δ.ΚΕΦΑΛΟΝΙΑΣ 7:17:30\n17 \, 17 \, 7 40-49 Male 592 LAMBROS PAPALAMBROS 1969 S.D.Y.KEFALONIAS 7:17:32\n18 \, 18 \, 8 40-49 Male 501 STERGIOS ANASTASIADIS 1971 ΕΦΥΡΑΙΟΙ ΩΚΥΠΟΔΕΣ 7:17:55\n19 \, 19 \, 10 18-39 Male 565 NIKOLAOS LAMPROULIS 1979 ΑΝΕΞΆΡΤΗΤΟΣ 7:23:24\n20 \, 20 \, 11 18-39 Male 530 KONSTANTINOS GOUSARIS 1985 GOJI BERRY TEAM 7:25:28\n21 \, 21 \, 12 18-39 Male 526 ANASTASIOS GIOGIAKAS 1980 ΑΝΕΞΆΡΤΗΤΟΣ 7:27:06\n22 \, 1 \,13 18-39 Female 595 NATALIE PERAKI 1979 MYATHLETE 7:28:08\n23 \, 22 \, 9 40-49 Male 531 VASILEIOS GRAMMATIKOS 1971 ΑΝΕΞΆΡΤΗΤΟΣ 7:35:27\n24 \, 23 \, 14 18-39 Male 519 NIKOLAOS CHOUCHOUMIS 1980 FREE RUNNERS 7:39:59\n25 \, 24 \, 10 40-49 Male 620 BILLY VOSNAKIS 1967 IRONKOUKOU 7:42:47\n26 \, 25 \, 11 40-49 Male 600 CHARALAMPOS RAPTIS 1974 ΑΝΕΞΆΡΤΗΤΟΣ 7:46:10\n27 \, 26 \, 12 40-49 Male 598 DIMITRIS PSYCHOGIOPOULOS 1967 ΑΝΕΞΆΡΤΗΤΟΣ 7:49:02\n28 \, 27 \, 13 40-49 Male 589 GEORGIOS PAPADOPOULOS 1974 Σ.Δ.Υ.ΑΘΗΝΩΝ 7:52:24\n29 \, 28 \, 14 40-49 Male 599 NIKOS RALIS 1969 ΑΝΕΞΆΡΤΗΤΟΣ 7:53:18\n30 \, 29 \, 15 18-39 Male 513 KONSTANTINOS BOLOSIS 1985 GOJI BERRY TEAM 7:54:22\n31 \, 30 \, 15 40-49 Male 616 ANASTASIOS VARVAROS 1967 GOJI BERRY TEAM 7:55:13\n32 \, 31 \, 16 40-49 Male 518 KONSTANTINOS CHATZITHOMAOGLOU 1973 GR RUNNERS 8:01:45\n33 \, 32 \, 17 40-49 Male 617 DIONYSIS VAVYLIS 1967 ΑΝΕΞΆΡΤΗΤΟΣ 8:08:17\n34 \, 33 \, 18 40-49 Male 621 PAVLOS XAIKALIS 1970 Π.Δ.Σ ΟΔΥΣΣΕΑΣ 8:10:17\n35 \, 34 \, 19 40-49 Male 538 SOTIRIOS KAKKAVAS 1967 ΚΥΠΑΡΙΣΣΙΑ 8:11:43\n36 \, 35 \, 2 50+ Male 504 LAMBROS ARGYRIS 1966 ΑΝΕΞΆΡΤΗΤΟΣ 8:13:36\n37 \, 36 \, 20 40-49 Male 529 SPIROS GONIOTAKIS 1971 GOJI BERRY TEAM 8:14:12\n38 \, 37 \, 21 40-49 Male 577 ARGYRIS MAVROGONATOS 1973 GOJI BERRY TEAM 8:14:15\n39 \, 2 \, 22 40-49 Female 578 VICKI MELETOPOULOU 1968 FAIRWAYS-PATH RUNNERS 8:15:26\n40 \, 38 \, 23 40-49 Male 541 ALEXANDROS KAPETANOPOYLOS 1972 ΑΝΕΞΆΡΤΗΤΟΣ 8:21:16\n41 \, 39 \, 16 18-39 Male 557 GEORGIOS KOUMPAKIS 1977 ANIMAL RIGHTS RUNNERS 8:22:25\n42 \, 40 \, 24 40-49 Male 619 GIORGOS VLOCHAITOPOULOS 1969 ΛΥΚΟΙ ΚΕΧΑΓΙΌΓΛΟΥ 8:24:56\n43 \, 41 \, 25 40-49 Male 623 DIMITRIOS ZAFEIROPOULOS 1973 ΣΎΛΛΟΓΟΣ ΑΡΚΆΔΩΝ ΟΡΕΙΒΑΤΏΝ-ΟΙΚΟΛΌΓΩΝ 8:27:11\n44 \, 42 \, 17 18-39 Male 588 PANAGIOTIS PAPADIMITRIOU 1978 ΑΝΕΞΆΡΤΗΤΟΣ 8:28:20\n45 \, 43 \, 26 40-49 Male 556 MANOLIS KOUFALIAS 1974 ΑΠΟΛΛΩΝΑΣ ΔΥΤΙΚΗΣ ΑΤΤΙΚΗΣ 8:32:48\n46 \, 44 \, 27 40-49 Male 516 ILIAS CHATZICHRISTOS 1970 BOOKRUNNERS 8:33:18\n47 \, 45 \, 28 40-49 Male 582 ALEXANDER MILILIS 1974 URBAN TRAIL RUNNERS 8:35:35\n48 \, 46 \, 18 18-39 Male 528 PANAGIOTIS GKERZELIS 1984 ΟΡΕΙΒΑΤΙΚΌΣ ΣΎΛΛΟΓΟΣ ΣΟΛΥΓΕΙΑΣ 8:45:16\n49 \, 47 \, 29 40-49 Male 554 NIKOLAOS KONTOGIANNIS 1971 ΑΝΕΞΆΡΤΗΤΟΣ 8:48:38\n50 \, 3 \, 19 18-39 Female 507 ANASTASIA ARONI 1982 ΑΝΕΞΆΡΤΗΤΟΣ 8:52:00\n51 \, 48 \, 20 18-39 Male 517 GEORGE CHATZIGEORGIOY 1981 ΑΝΕΞΆΡΤΗΤΟΣ 8:52:01\n52 \, 49 \, 30 40-49 Male 612 PANAGIOTIS TSAPEKIS 1967 ΑΝΕΞΆΡΤΗΤΟΣ 8:57:08\n53 \, 50 \, 31 40-49 Male 596 SOTIRIS PETROPOULOS 1976 ΑΝΕΞΆΡΤΗΤΟΣ 8:58:37\n54 \, 51 \, 21 18-39 Male 539 DIMITRIS KALKOUNOS 1978 ΜΑΡΑΘΩΝΟΔΡΟΜΟΙ ΔΡΟΜΕΙΣ ΑΡΓΟΛΙΔΑΣ 9:07:27\n55 \, 52 \, 32 40-49 Male 579 KOSTAS METAXAS 1971 ΠΔΣ ΟΔΥΣΣΕΑΣ 9:10:23\n56 \, 53 \, 22 18-39 Male 503 NIKOLAOS ANDROUTSOS 1979 ΑΝΕΞΆΡΤΗΤΟΣ 9:16:34\n57 \, 54 \, 23 18-39 Male 574 CHARRIS MANOUSSIS 1981 BALIOTIS.NATURE TRAIL – DYNAFIT 9:17:23\n58 \, 55 \, 33 40-49 Male 625 DIMITRIS ZONARAS 1967 Π.Δ.Σ ΟΔΥΣΣΈΑΣ 9:24:16\n59 \, 56 \, 3 50+ Male 549 DIMITRIOS KAZOURIS 1955 ΑΝΕΞΆΡΤΗΤΟΣ 9:29:18\n60 \, 57 \, 4 50+ Male 520 MIHALIS DEVERAKIS 1947 ΑΝΕΞΆΡΤΗΤΟΣ 9:29:22\n61 \, 58 \, 24 18-39 Male 544 VASILEIOS KARRAS 1984 ΑΝΕΞΆΡΤΗΤΟΣ 9:33:25\n62 \, 59 \, 34 40-49 Male 510 KOSTAS BELBAS 1974 ΑΝΕΞΆΡΤΗΤΟΣ 9:39:14\n63 \, 60 \, 35 40-49 Male 559 KONSTANTINOS KOURNOUTOS 1976 ΑΝΕΞΆΡΤΗΤΟΣ 9:46:48\n64 \, 61 \, 36 40-49 Male 564 LAZAROS LALOUSHS 1976 KROMMIDAS COUCHING 10:08:20\n65 \, 62 \, 25 18-39 Male 618 GIORGOS BENIOS 1981 DRYS 10:49:18\n66 \, 63 \, 5 50+ Male 568 IWANNHS LIARMAKOPOULOS 1966 10:49:20 \nΑΠΟΤΕΛΕΣΜΑΤΑ ELLINIKON CROSS COUNTRY 25KM\nGen-Sex-Cat Category Gender BIB Name YOB Club 25km finish\n1 \, 1 \,1 18-39 Male 261 GIORGOS DIALEKTOS 1984 SALOMON HELLAS 2:06:15\n2 \, 2 \, 2 18-39 Male 297 ATHANASIOS PAGOUNADIS 1987 ADIDAS-MYPROTEIN 2:07:26\n3 \, 3 \, 1 50+ Male 280 NIKOS KOSTOPOULOS 1965 SALOMON HELLAS 2:31:08\n4 \, 4 \, 3 18-39 Male 259 STAMATIS CHATZISTAVROU 1989 SUMMIT RUNNERS ERMIONIDAS 2:40:00\n5 \, 5 \, 4 18-39 Male 330 KONSTANTINOS VEROGKOS 1994 ΑΝΕΞΆΡΤΗΤΟΣ 2:40:13\n6 \, 6 \, 1 40-49 Male 327 VASILIOS TSOUMAS 1972 IRONKOUKOU 2:43:43\n7 \, 7 \, 2 50+ Male 317 CHRISTOS SOTIROPOULOS 1964 ΕΘΝΙΚΗ ΤΡΑΠΕΖΑ 2:50:37\n8 \, 8 \, 5 18-39 Male 298 HARIS PAPACHARALAMPOUS 1995 GLYFADA ATHLETICS CLUB – ΠΆΝΘΗΡΕΣ 2:56:28\n9 \, 9 \, 2 40-49 Male 292 DIMITRIS MENGOS 1975 ΕΛΕΥΣΙΣ ΑΡΚΑΔΙΑΣ 2:56:45\n10 \, 10 \, 6 18-39 Male 328 CHRIS VASILEIOU 1978 Χ-TREME STORES TEAM – ΣΔΥΜ 2:58:05\n11 \, 11 \, 7 18-39 Male 323 VASILHS TOTSIKAS 1986 ΜΑΡΑΘΩΝΟΔΡΌΜΟΙ ΔΡΟΜΕΊΣ ΑΡΓΟΛΊΔΑΣ 3:12:19\n12 \, 12 \, 3 40-49 Male 264 NIKOLAOS GLYTSIS 1976 MY ATHLETE 3:14:14\n13 \, 13 \, 8 18-39 Male 335 NIKOS RAPTOPOULOS 1978 PILABOX 3:17:08\n14 \, 14 \, 9 18-39 Male 268 KONSTANTINOS KALOMPIRIS 1988 ΑΝΕΞΆΡΤΗΤΟΣ 3:18:38\n15 \, 15 \, 4 40-49 Male 319 SPYROS STEFANATOS 1976 Σ.Δ.Υ.ΚΕΦΑΛΟΝΙΑΣ 3:21:19\n16 \, 16 \, 5 40-49 Male 263 ANDREAS GIANNOPOYLOS 1972 ΣΔΥ ΤΡΙΠΟΛΗΣ 3:21:41\n17 \, 1 \,10 18-39 Female 320 SOFIA STERGIOU 1983 URBAN TRAIL RUNNERS 3:22:37\n18 \, 17 \, 11 18-39 Male 307 IOANNIS PYRGELIS 1978 XANTHI RUNNERS 3:22:39\n19 \, 18 \, 3 50+ Male 279 MICHAIL KOSTARAS 1966 ΑΝΕΞΆΡΤΗΤΟΣ 3:23:00\n20 \, 19 \, 12 18-39 Male 310 MARIOS SAPOUNTZOGLOU 1980 ΑΝΕΞΆΡΤΗΤΟΣ 3:23:06\n21 \, 2 \, 6 40-49 Female 315 IOANNA SIDERI 1975 KROMMIDAS COACHING 3:26:56\n22 \, 20 \, 13 18-39 Male 295 IOANNIS MOZAS 1978 ΑΝΕΞΆΡΤΗΤΟΣ 3:30:01\n23 \, 21 \, 4 50+ Male 326 STEFANOS TSITSIMPASIS 1966 ΓΥΜΝΑΣΙΟ ΚΟΥΒΑΡΑ 3:30:33\n24 \, 22 \, 7 40-49 Male 277 GIORGOS KORITSIADIS 1974 ΑΝΕΞΆΡΤΗΤΟΣ 3:32:56\n25 \, 23 \, 8 40-49 Male 282 PETROS KYRIAZIS 1969 ΑΝΕΞΆΡΤΗΤΟΣ 3:40:33\n26 \, 3 \, 5 50+ Female 289 ΜARIA-CHRISTINA MARGELI 1962 RUNNER STORE TRAIL TEAM 3:48:26\n27 \, 4 \, 9 40-49 Female 257 DRAGANA CEJOVIC 1967 RUNNER STORE TRAIL TEAM 3:48:28\n28 \, 24 \, 10 40-49 Male 274 GIORGOS KONIARIS 1974 ΑΝΕΞΆΡΤΗΤΟΣ 3:48:32\n29 \, 25 \, 14 18-39 Male 285 ALEX MAKROPOULOS 1982 PATH RUNNERS 3:48:41\n30 \, 26 \, 11 40-49 Male 283 SPIROS LALLOS 1976 ΑΝΕΞΆΡΤΗΤΟΣ 3:49:58\n31 \, 27 \, 6 50+ Male 334 FILIPPOS ZEGKINOGLOY 1959 ΑΝΕΞΆΡΤΗΤΟΣ 3:55:07\n32 \, 28 \, 15 18-39 Male 258 THODORIS CHASOGIAS 1979 ΕΚΠΑΡΑΔΡΟΜΕΙΣ 3:55:30\n33 \, 29 \, 16 18-39 Male 318 ILIAS SPYROPOULOS 1977 ΑΝΕΞΆΡΤΗΤΟΣ 4:06:37\n34 \, 30 \, 17 18-39 Male 301 DIMITRIOS PAPANDREOU 1978 ΑΝΕΞΆΡΤΗΤΟΣ 4:16:16\n35 \, 5 \, 12 40-49 Female 300 GEORGIA PAPADOPOULOU 1967 DSA RUNNING SCHOOL 4:19:26\n36 \, 31 \, 13 40-49 Male 251 GIORGOS ANDREDAKIS 1970 ΑΝΕΞΆΡΤΗΤΟΣ 4:22:41\n37 \, 32 \, 14 40-49 Male 312 DIMITRIS SERMPIS 1974 ΑΝΕΞΆΡΤΗΤΟΣ 4:22:42\n38 \, 6 \, 18 18-39 Female 253 STELIANNA ARGYROPOULOU 1984 ΑΝΕΞΆΡΤΗΤΟΣ 4:29:24\n39 \, 33 \, 15 40-49 Male 316 MIXALIS SIDERIS 1974 SUMMIT RUNNERS ΕΡΜΙΟΝΙΔΑΣ 4:54:00\n40 \, 34 \, 7 50+ Male 288 THOMAS MANTZIARLIS 1963 ΑΝΕΞΆΡΤΗΤΟΣ 5:03:27 \nΑΠΟΤΕΛΕΣΜΑΤΑ ELLINIKON CROSS COUNTRY 6KM\nΑ/Α Gender BIB Name YOB Club 6KM finsh\n1 Male 265 NIKOS PONHREAS 2000 SALOMON HELLAS JUNIOR TEAM 0:27:54\n2 Male 111 CHRIS VASILEIOU 1978 X-TREME STORES TEAM – ΣΔΥΜ 0:31:31\n3 Male 79 CHRIS-PARIS ILIADIS 1979 X-TREME STORES TEAM 0:35:07\n4 Male 128 MARINOS PAPADOPOULOS 1979 0:36:15\n5 Male 90 GIORGOS KOZOMPOLIS 1993 X-TREME STORES TEAM -ΣΔΥΜ 0:38:13\n6 Male 113 SOTIRIS MAZARAKOS 1987 0:38:44\n7 Male 91 PANAGIOTIS KOZOMPOLIS 1991 X-TREME STORES TEAM/SDYM 0:39:00\n8 Male 272 XARALAMPOS BOSSOS 2000 0:39:34\n9 Male 99 DIMITRIS PAINESAKIS 1979 ΑΝΕΞΆΡΤΗΤΟΣ 0:41:03\n10 Female 271 AUANASIA MOYROMATH 2000 0:41:36\n11 Female 60 AGGELIKI ANDRIANOU 1995 ΑΝΕΞΆΡΤΗΤΟΣ 0:41:41\n12 Male 294 DHMHTRHS TRIANTAFYLLOU 1998 0:42:00\n13 Female 98 VERA NTASI 1993 ΑΝΕΞΆΡΤΗΤΟΣ 0:42:27\n14 Male 255 BAGGELHS SALIARHS 1988 0:42:30\n15 Male 260 XRISTOS GRIBAS 1990 0:43:00\n16 Male 267 SPYROS BOULGARHS 1999 0:44:07\n17 Male 122 XRISTOFOROS BOSSOS 1999 0:44:45\n18 Male 114 KOSTAS KALOMOIRIS 1992 0:44:58\n19 Male 324 DIONYSHS BASILOPOULOS 0:45:24\n20 Female 299 SYNODH ATHANASIOU 1979 0:45:42\n21 Male 333 PANAGIOTHS NEKTARIOS KYRIAKHS 2005 0:46:10\n22 Male 63 XRISTOS ATHANASOPOULOS 1993 INTERSPORT 0:46:40\n23 Male 69 DIMITRA DIMITROPOULOU 1990 INTERSPORT 0:46:40\n24 Male 89 PANAGIOTIS KOYROYNIOTIS 1988 ΑΝΕΞΆΡΤΗΤΟΣ 0:46:43\n25 Female 100 EFTYCHIA PAPAIOANNOU 1980 ΑΝΕΞΆΡΤΗΤΟΣ 0:46:45\n26 Female 254 ANAIS ELENH TALOUMH 1990 0:46:53\n27 Male 121 GIORGOS MPELESIWTHS 1986 0:47:29\n28 Male 306 ANASTASIOS KEXAGIAS 1980 0:47:43\n29 Female 73 ANASTASIA GEORGANTA 1980 ΑΝΕΞΆΡΤΗΤΟΣ 0:48:17\n30 Male 65 VASILIKI BITOUNI 2003 ΑΝΕΞΆΡΤΗΤΟΣ 0:49:02\n31 Female 304 EYA MPELLOY 1995 0:49:20\n32 Male 284 DHMHTRIOS NTASHS 1964 0:49:21\n33 Male 80 CHARALAMPOS KALLIANIOTIS 1998 ΑΝΕΞΆΡΤΗΤΟΣ 0:49:30\n34 Male 62 STELIANNA ARGYROPOULOU 1984 ΑΝΕΞΆΡΤΗΤΟΣ 0:50:01\n35 Female 74 STAUROULA GEORGANTA 1991 ΑΝΕΞΆΡΤΗΤΟΣ 0:50:17\n36 Female 75 XRYSANTHI GEORGANTA 1989 ΑΝΕΞΆΡΤΗΤΟΣ 0:50:17\n37 Male 305 ARHS GEWRGANTAS 1996 0:50:29\n38 Female 266 STAYROYLA GEWRGANTA 1985 0:50:53\n39 Male 67 THOMAS CHASAPIS 1983 ΑΝΕΞΆΡΤΗΤΟΣ 0:50:54\n40 Female 129 MARIA ELENH PAPOULIA 2002 0:51:02\n41 Male 302 LEYTERHS MPORMPOYDAKHS 1977 0:52:02\n42 Female 308 ANTHI SIOKOU 1997 0:52:02\n43 Male 309 GIWRGOS KARKALETSIS 1997 0:52:02\n44 Male 64 CALYPSO BARBALIA 2002 ΑΝΕΞΆΡΤΗΤΟΣ 0:52:40\n45 Male 117 AGGELOS KOUROUNIOTHS 2003 0:52:56\n46 Female 329 MARIA PAPAGGELH 2001 0:53:06\n47 Female 87 MARILENA KONIARI 1990 ΑΝΕΞΆΡΤΗΤΟΣ 0:53:41\n48 Male 273 BASILHS KOYROYNIWTHS 1968 0:54:06\n49 Male 115 PETROS AIBALHS 2004 0:54:29\n50 Male 118 PANAGIOTIS KOUROUNIOTHS 2003 0:54:32\n51 Male 123 PANAGIOTIS KALOMOITHS 1995 0:54:32\n52 Female 70 IOULIA DOUNI 1965 PATH RUNNERS 0:54:41\n53 Male 81 ILIAS KALLIANIOTIS 1962 ΑΝΕΞΆΡΤΗΤΟΣ 0:54:46\n54 Female 256 PANAGIOTA ALEXOPOULOU 1997 0:54:54\n55 Female 332 MARIA LYGOYRNIWTH 1973 0:55:16\n56 Female 352 EYAGGELIA KERAMIDA 0:55:16\n57 Female 252 DANAI KOULETOU 2000 0:55:28\n58 Female 85 PANAGIOTA KECHAGIA 1958 ΑΝΕΞΆΡΤΗΤΟΣ 0:55:30\n59 Male 331 BAIOS KYRIAKHS 1969 0:55:43\n60 Female 296 XRISTINA KONIARH 1997 0:56:20\n61 Male 290 HLIAS KARAFLOS 2008 0:57:43\n62 Male 76 ANTONIOS GEORGANTAS 1947 ΑΝΕΞΆΡΤΗΤΟΣ 0:57:45\n63 Female 354 MYRTW TSAIRELH 1971 0:58:16\n64 Male 127 PANAGIOTHS PTWXOS 1962 0:58:17\n65 Female 97 TRIADA NESOUDI 1984 INTERSPORT 1:00:04\n66 Male 353 MIXALHS KOYROYBANHS 1981 1:00:04\n67 Male 269 GIORGOS EYASTATHIADHS 2000 1:00:37\n68 Female 270 AUHNA APOSTOLELH 2000 1:00:37\n69 Female 120 GWGW GARATSIVTH 1948 1:02:30\n70 Male 92 PANAGIOTIS MAKRIS 1989 ΑΝΕΞΆΡΤΗΤΟΣ 1:02:39\n71 Female 303 SOFIA LYRITZH 1988 1:02:40\n72 Female 250 XRISTINA MIXOY 2007 1:03:22\n73 Female 314 MYRTW KARAKOULA 1:07:09\n74 Female 293 KWNSTANTINA KOKOSIOULH 2005 1:07:09\n75 Female 311 LAGODHMOU PAULINA 2005 1:07:09\n76 Female 313 BASILIKH KOTSIRILOU 1:07:09\n77 Female 321 MARILIA KARAKOULA 1:07:09\n78 Female 322 MARIANTHI DROULIA 2006 1:07:09\n79 Female 125 MARINA KOKOSIOYLH 2000 1:07:41\n80 Female 103 EVAGGELIA TALOUMI 1959 ΑΝΕΞΆΡΤΗΤΟΣ 1:07:46\n81 Female 126 DHMHTRA MPARMPALIA 2003 1:08:12\n82 Male 287 HLIAS THANOPOULOS 1947 1:08:16\n83 Female 291 GEORGIA KONIARH 2006 1:10:29\n84 Female 116 IOANNA SEMPOY 1993 1:10:33\n85 Male 275 GEORGIOS STERGIOU 1954 1:14:37\n86 Female 276 ELENH STERGIOU 1962 1:14:37\n87 Female 286 EFROSUNH KONIARH 1964 1:14:37\n88 Female 77 ZOI GIANNOPOULOU 1977 INTERSPORT 1:22:04\n89 Male 84 THODORIS KATSAREAS 1987 INTERSPORT 1:22:22\n90 Female 82 AGGELIKI KALOGEROPOULOU 1983 INTERSPORT 1:22:23 \nΑγώνας 52χλμ. \nΑΝΔΡΕΣ \nΓΕΝΙΚΗ ΚΑΤΗΓΟΡΙΑ \n1)Δημήτρης Θεοδωρακάκος: 4ωρ.56΄ 05΄΄\n2)Slawomir Matras: 5ωρ. 30΄ 50΄΄\n3)Bασίλης Μίχος: 5ωρ. 34΄37΄΄ \nΗΛΙΚΙΑΚΕΣ ΚΑΤΗΓΟΡΙΕΣ\n18 – 39 ετών\n1)Θανάσης Καλογερόπουλος: 5ωρ. 52΄ 30΄΄\n2)Leszko Adam: 6ωρ. 1΄ 30΄΄\n3)Θεοχάρης Λεζπουρίδης: 6ωρ. 4΄ 24΄΄ \n40 – 49 ετών\n1)Ευάγγελος Μπάκας: 6ωρ. 20΄ 10΄΄\n2)Νίκος Μπιρμπίλης: 6ωρ. 36΄ 50΄΄\n3)Γεώργιος Παναγόπουλος: 7ωρ. 6΄ 53΄΄ \n50+ ετών\n1)Θανάσης Σκόπας: 7ωρ. 06΄ 53΄΄\n2)Αργύρης Λάμπρος: 8ωρ. 13΄ 36΄΄\n3)Καζούρης Δημήτρης & Μιχάλης Δεβεράκης: 9ωρ. 29΄ 21΄΄ \nΓΥΝΑΙΚΕΣ\n1)Ναταλία Περράκη: 7ωρ.2΄ 08΄΄\n2)Βίκυ Μελετοπούλου: 8ωρ. 15΄26΄΄\n3)Αναστασία Αρώνη: 8ωρ. 51΄59΄΄ \nΑγώνας 25χλμ. \nΑΝΔΡΕΣ \nΓΕΝΙΚΗ ΚΑΤΗΓΟΡΙΑ\n1)Γιώργος Διαλεκτός: 2ωρ.06΄ 02΄΄\n2)Θανάσης Παγουνάδης: 2ωρ. 07΄ 25΄΄\n3)Νίκος Κωστόπουλος: 2ωρ. 31΄08΄΄ \nΗΛΙΚΙΑΚΕΣ ΚΑΤΗΓΟΡΙΕΣ \n18 – 39 ετών\n1)Σταμάτης Χατζησταύρου: 2ωρ. 40΄ 00΄΄\n2)Κων/νος Βερόγκος: 2ωρ. 40΄ 13΄΄\n3)Χάρης Παπαχαραλάμπους: 2ωρ. 56΄ 28΄΄ \n40 – 49 ετών\n1)Βασίλης Τσούμας: 2ωρ. 43΄ 43΄΄\n2)Δημήτρης Μένγκος: 2ωρ. 56΄ 44΄΄\n3)Νίκος Γκλύτσης: 3ωρ.14΄ 14΄΄ \n50+ ετών\n1)Χρήστος Σωτηρόπουλος: 2ωρ. 50΄ 37΄΄\n2)Μιχάλης Κωσταράς: 3ωρ. 23΄ 00΄΄\n3)Στέφανος Τσιτσιμπάσης: 3ωρ. 30΄ 32΄΄ \nΓΥΝΑΙΚΕΣ\n1)Σοφία Στεργίου: 3ωρ.22΄ 37΄΄\n2)Ιωάννα Σιδέρη: 3ωρ. 26΄56΄΄\n3)Μαρία Μαργέλη & Cejovic Draganana: 3ωρ.48΄ 26΄΄ \nΑγώνας 6χλμ. FUN & RUN \nΑΝΔΡΕΣ \nΓΕΝΙΚΗ ΚΑΤΗΓΟΡΙΑ\n1)Νίκος Πονηρέας: 27΄ 54΄΄\n2)Χρήστος Βασιλείου: 31΄ 31΄΄\n3)Χρήστος – Πάρης Ηλιάδης: 35΄ 07΄΄ \nΓΥΝΑΙΚΕΣ \nΓΕΝΙΚΗ ΚΑΤΗΓΟΡΙΑ\n1)Αθανασία Μαυρομάτη: 41΄ 36΄΄\n2)Αγγελική Ανδριανού: 41΄ 41΄΄\n3)Bέρα Ντάση: 42΄ 27΄΄
URL:https://gorun.gr/race/6105/
CATEGORIES:Αποτελέσματα,Βουνό
END:VEVENT
END:VCALENDAR