BEGIN:VCALENDAR
VERSION:2.0
PRODID:-//goRUN - ECPv5.8.1//NONSGML v1.0//EN
CALSCALE:GREGORIAN
METHOD:PUBLISH
X-WR-CALNAME:goRUN
X-ORIGINAL-URL:https://gorun.gr
X-WR-CALDESC:Events for goRUN
BEGIN:VTIMEZONE
TZID:Europe/Athens
BEGIN:DAYLIGHT
TZOFFSETFROM:+0200
TZOFFSETTO:+0300
TZNAME:EEST
DTSTART:20160327T010000
END:DAYLIGHT
BEGIN:STANDARD
TZOFFSETFROM:+0300
TZOFFSETTO:+0200
TZNAME:EET
DTSTART:20161030T010000
END:STANDARD
END:VTIMEZONE
BEGIN:VEVENT
DTSTART;VALUE=DATE:20160515
DTEND;VALUE=DATE:20160516
DTSTAMP:20260420T195002
CREATED:20160426T073808Z
LAST-MODIFIED:20160520T152543Z
UID:6151-1463270400-1463356799@gorun.gr
SUMMARY:7ος ΛΑΙΚΟΣ ΓΥΡΟΣ ΠΟΛΗΣ ΡΕΘΥΜΝΟΥ
DESCRIPTION:ΑΠΟΤΕΛΕΣΜΑΤΑ\n5.000 μέτρα \nRank\nGen-Sex-Cat Category Gender BIB Name YOB Club finish5\n1 \, 1 \,1\nΝομος Ρεθυμνου Male 690 ΝΙΚΟΣ ΤΖΑΓΚΑΡΑΚΗΣ 2000 ΝΑΥΤΙΚΟΣ ΟΜΙΛΟΣ ΡΕΘΥΜΝΟΥ 0:19:08.220\n2 \, 2 \, 2 Νομος Ρεθυμνου Male 7568 ΠΑΡΑΓΙΟΥΔΑΚΗΣ ΠΑΝΤΕΛΗΣ 2001 0:19:21.400\n3 \, 3 \, 1\nΝομος Ηρακλειου Male 518 ΘΩΜΑΣ ΑΘΑΝΑΣΑΚΗΣ 1973 0:20:01.263\n4 \, 4 \, 3 Νομος Ρεθυμνου Male 591 ΙΩΑΝΝΗΣ ΚΟΥΡΓΙΑΝΤΑΚΗΣ 1994 0:20:39.553\n5 \, 5 \, 4 Νομος Ρεθυμνου Male 655 ΚΩΣΤΗΣ ΠΑΝΤΕΛΙΔΑΚΗΣ 2000 0:20:46.533\n6 \, 6 \, 5 Νομος Ρεθυμνου Male 678 ΜΑΝΟΥΣΟΣ ΣΑΡΙΔΑΚΗΣ 1976 KINESIS 0:21:19.847\n7 \, 7 \, 6 Νομος Ρεθυμνου Male 660 ΓΑΒΑΛΑΣ ΠΑΥΛΟΣ 1995 Σ.Δ.Υ.Ρ. 0:21:36.367\n8 \, 8 \, 1\nMale 541 ADONIS HATZIMARKAKIS – 0:21:36.817\n9 \, 1 \,7\nΝομος Ρεθυμνου Female 7850 ΧΑΝΙΩΤΑΚΗ ΜΑΡΙΛΕΝΑ 1999 0:21:49.807\n10 \, 9 \, 2 Νομος Ηρακλειου Male 695 ΣΤΑΥΡΟΣ ΤΖΩΡΤΖΗΣ 1973 O.Y.K. 0:22:04.070\n11 \, 10 \, 8 Νομος Ρεθυμνου Male 597 ΖΑΧΑΡΙΑΣ ΛΑΓΟΥΔΑΚΗΣ 1970 ΣΔΥΡ 0:22:07.187\n12 \, 2 \, 2 Female 492 JOANNA DRING-DOULGERAKI 1974 ΣΔΥΡ 0:22:07.380\n13 \, 11 \, 1\nΝομος Χανιων Male 633 ΧΑΡΑΛΑΜΠΟΣ ΜΠΑΛΩΜΕΝΑΚΗΣ 1988 0:22:13.267\n14 \, 12 \, 9 Νομος Ρεθυμνου Male 683 ΝΙΚΟΛΑΟΣ ΣΠΥΡΟΠΟΥΛΟΣ 2004 ΟΑΡ ΤΕΝΝΙΣ 0:22:25.107\n15 \, 13 \, 2 Νομος Χανιων Male 672 ΠΑΝΑΓΙΩΤΗΣ ΠΟΛΥΔΩΡΟΣ 1979 ΣΔΥΧ 0:22:29.820\n16 \, 14 \, 3 Νομος Ηρακλειου Male 507 AUGUSTINOS PASCHALIDIS 1980 ΣΥΛΛΟΓΟΣ ΔΡΟΜΕΩΝ ΥΓΕΙΑΣ ΗΡΑΚΛΕΙΟΥ 0:22:38.687\n17 \, 15 \, 10 Νομος Ρεθυμνου Male 687 ΑΛΕΞΑΝΔΡΟΣ ΣΤΑΥΡΑΚΑΚΗΣ 1996 0:22:45.660\n18 \, 16 \, 11 Νομος Ρεθυμνου Male 561 ΧΡΗΣΤΟΣ ΔΕΣΠΟΤΟΠΟΥΛΟΣ 2004 ΑΝΕΞΑΡΤΗΤΟΣ 0:22:56.933\n19 \, 3 \, 3 Female 7670 MARIA STAGOGIANI 2000 0:23:07.887\n20 \, 17 \, 4 Νομος Ηρακλειου Male 565 ΜΑΝΩΛΗΣ ΔΩΜΑΛΑΚΗΣ 1981 0:23:39.797\n21 \, 18 \, 12 Νομος Ρεθυμνου Male 536 ΓΙΩΡΓΟΣ ΒΕΡΓΑΔΗΣ 1993 PHYSICAL ΓΥΜΝΑΣΤΗΡΙΟ 0:23:45.533\n22 \, 19 \, 13 Νομος Ρεθυμνου Male 499 KONSTANTINOS KOLIVAKIS 1984 ΑΝΕΞΑΡΤΗΤΟΣ 0:23:47.477\n23 \, 20 \, 14 Νομος Ρεθυμνου Male 675 ΜΑΝΟΣ ΣΑΪΤΗΣ 1967 ΓΥΜΝΑΣΤΗΡΙΟ PHYSICAL 0:23:51.003\n24 \, 21 \, 4 Male 632 ΜΑΝΟΣ ΜΟΧΙΑΝΑΚΗΣ 1981 0:23:54.500\n25 \, 22 \, 3 Νομος Χανιων Male 486 ANDREAS BATAKIS 1976 TALOS PROPERTIES 0:23:58.187\n26 \, 23 \, 4 Νομος Χανιων Male 599 ΧΑΡΑΛΑΜΠΟΣ ΛΕΣΓΙΔΗΣ 1986 0:24:03.673\n27 \, 24 \, 15 Νομος Ρεθυμνου Male 624 MΑΝΟΥΣΟΣ ΜΑΥΡΟΥΔΗΣ 2002 0:24:05.423\n28 \, 25 \, 5 Male 529 ΔΗΜΗΤΡΗΣ ΑΣΤΡΙΝΑΚΗΣ 2004 0:24:05.667\n29 \, 26 \, 6 Male 513 ΜΑΝΟΣ ΑΓΑΠΑΚΗΣ 1997 0:24:09.883\n30 \, 27 \, 16 Νομος Ρεθυμνου Male 552 ΓΑΛΛΙΟΣ ΓΙΩΡΓΟΣ 1994 KINESIS 0:24:14.143\n31 \, 28 \, 17 Νομος Ρεθυμνου Male 600 ΒΑΣΙΛΗΣ ΛΕΩΝΙΔΟΥ 1983 CROSSFIT RETHYMNO 0:24:18.783\n32 \, 4 \, 7 Female 495 CAMILLA ERIKSSON MANIOUDAKIS 1972 0:24:21.557\n33 \, 29 \, 18 Νομος Ρεθυμνου Male 662 ΓΙΩΡΓΟΣ ΠΕΡΑΚΑΚΗΣ 1989 PHYSICAL 0:24:38.057\n34 \, 30 \, 8 Male 586 ΜΑΝΟΣ ΚΟΥΓΙΟΥΜΟΥΤΖΑΚΗΣ 1997 PHYSICAL ΓΥΜΝΑΣΤΗΡΙΟ 0:24:38.347\n35 \, 31 \, 19 Νομος Ρεθυμνου Male 653 ΕΜΜΑΝΟΥΗΛ ΠΑΝΤΕΛΑΚΗΣ 1960 ΣΔΥ ΡΕΘΥΜΝΟΥ 0:24:45.057\n36 \, 32 \, 5 Νομος Χανιων Male 505 GRIGORIOS MANITIS 1991 ΣΔΥΧ 0:24:50.540\n37 \, 5 \, 20 Νομος Ρεθυμνου Female 551 ΜΙΡΑΝΤΑ ΓΙΟΥΛΟΥΝΤΑ 1981 KINESIS 0:24:51.910\n38 \, 33 \, 21 Νομος Ρεθυμνου Male 602 ΑΛΕΞΑΝΔΡΟΣ ΛΙΟΝΗΣ 2000 Α.Ο.Ν ΑΣΤΕΡΑΣ 0:24:53.393\n39 \, 6 \, 22 Νομος Ρεθυμνου Female 685 ΚΑΛΛΙΟΠΗ ΣΤΑΛΑ 1985 ΔΙΑΙΤΟΛΟΓΙΚΟ ΓΡΑΦΕΙΟ “SMART SLIM” 0:24:54.817\n40 \, 34 \, 23 Νομος Ρεθυμνου Male 640 ΕΛΕΥΘΕΡΙΟΣ ΜΥΣΤΡΑΚΗΣ 1980 ΑΝΕΞΑΡΤΗΤΟΣ 0:24:55.993\n41 \, 35 \, 24 Νομος Ρεθυμνου Male 575 ΔΗΜΗΤΡΗΣ ΚΑΜΑΡΙΝΟΣ 1989 KINESIS 0:25:00.300\n42 \, 36 \, 25 Νομος Ρεθυμνου Male 634 ΣΤΑΜΑΤΗΣ ΜΠΕΧΡΑΚΗΣ 1994 0:25:02.307\n43 \, 37 \, 26 Νομος Ρεθυμνου Male 611 ΔΗΜΗΤΡΗΣ ΜΑΝΟΥΡΑΣ 1994 0:25:02.717\n44 \, 38 \, 5 Νομος Ηρακλειου Male 620 ΜΑΝΟΣ ΜΑΣΤΟΡΑΚΗΣ 1983 0:25:03.157\n45 \, 39 \, 27 Νομος Ρεθυμνου Male 588 ΜΠΑΡΟΥΝ ΚΟΥΜΑΡ 2002 ΟΚΑ ΑΡΚΑΔΙ 0:25:03.350\n46 \, 40 \, 6 Νομος Ηρακλειου Male 594 ΣΠΥΡΟΣ ΚΡΥΠΩΤΟΣ 1976 0:25:06.577\n47 \, 7 \, 9 Female 488 AKVILE BUITKUTE 1981 0:25:09.300\n48 \, 41 \, 6 Νομος Χανιων Male 568 ΑΝΤΩΝΙΟΣ ΖΑΧΑΡΟΠΟΥΛΟΣ 1993 0:25:28.060\n49 \, 8 \, 28 Νομος Ρεθυμνου Female 545 ΚΥΡΙΑΚΗ ΓΕΩΡΓΙΑΔΟΥ 1970 0:25:29.177\n50 \, 42 \, 29 Νομος Ρεθυμνου Male 572 ΒΑΛΑΝΤΗΣ ΚΑΛΑΙΤΖΙΔΑΚΗΣ 1991 KINESIS 0:25:30.670\n51 \, 43 \, 10 Male 531 ΔΗΜΗΤΡΗΣ ΒΑΣΙΛΙΚΟΓΙΑΝΝΑΚΗΣ 1962 0:25:59.703\n52 \, 44 \, 30 Νομος Ρεθυμνου Male 595 ΗΛΙΑΣ ΚΥΡΙΑΚΟΠΟΥΛΟΣ 1971 KINESIS 0:26:03.303\n53 \, 45 \, 11 Male 605 ΓΕΩΡΓΙΟΣ ΜΑΘΙΟΥΛΑΚΗΣ 2000 0:26:16.413\n54 \, 46 \, 31 Νομος Ρεθυμνου Male 7572 ΣΤΕΦΑΝΟΣ ΠΑΡΑΣΧΑΚΗΣ 1974 0:26:19.933\n55 \, 47 \, 32 Νομος Ρεθυμνου Male 538 ΑΘΑΝΑΣΙΟΣ ΒΟΥΡΔΑΣ 1979 Σ.Δ.Υ.Ρ 0:26:25.810\n56 \, 48 \, 7 Νομος Ηρακλειου Male 510 GIORGOS DIONYSATOS 1969 0:26:37.053\n57 \, 9 \, 33 Νομος Ρεθυμνου Female 650 ΕΛΕΥΘΕΡΙΑ ΠΑΝΑΓΟΥ 1990 0:27:02.557\n58 \, 49 \, 34 Νομος Ρεθυμνου Male 528 ΓΙΩΡΓΟΣ ΑΣΤΡΙΝΑΚΗΣ 1966 0:27:18.473\n59 \, 50 \, 35 Νομος Ρεθυμνου Male 574 ΝΙΚΟΣ ΚΑΛΟΓΙΑΝΝΗΣ 1994 KINESIS 0:27:19.663\n60 \, 51 \, 36 Νομος Ρεθυμνου Male 562 ΕΥΘΗΜΙΟΣ ΔΗΜΑΚΗΣ 1991 ΑΝΕΞΑΡΤΗΤΟΣ 0:27:31.043\n61 \, 10 \, 37 Νομος Ρεθυμνου Female 628 ΑΝΑΣΤΑΣΙΑ ΜΙΓΚΑ 1990 0:27:37.857\n62 \, 52 \, 38 Νομος Ρεθυμνου Male 7835 ΑΣΤΡΙΝΑΚΗΣ ΚΩΣΤΑΣ 2002 0:27:44.563\n63 \, 53 \, 12 Male 688 ΔΗΜΗΤΡΗΣ ΣΥΛΛΙΓΑΡΔΟΣ 1995 0:27:55.927\n64 \, 54 \, 39 Νομος Ρεθυμνου Male 616 ΧΡΗΣΤΟΣ ΜΑΡΑΥΓΑΚΗΣ 1990 KINESIS 0:28:12.390\n65 \, 11 \, 8 Νομος Ηρακλειου Female 7865 ΧΡΙΣΤΙΝΑ ΦΡΑΓΚΟΜΙΧΕΛΑΚΗ 1994 0:28:16.410\n66 \, 55 \, 40 Νομος Ρεθυμνου Male 643 ΕΛΕΥΘΕΡΙΟΣ ΝΙΚΟΛΑΟΥ 1988 – 0:28:16.833\n67 \, 56 \, 13 Male 560 ΙΩΑΝΝΗΣ ΔΕΡΕΔΑΚΗΣ 2002 0:28:18.977\n68 \, 12 \, 9 Νομος Ηρακλειου Female 7684 ΜΑΡΙΝΑ ΦΑΝΟΥΡΑΚΗ 1987 0:28:23.650\n69 \, 13 \, 41 Νομος Ρεθυμνου Female 7808 ΠΟΘΗΤΗ ΦΩΣΤΙΕΡΗ 1992 0:28:30.890\n70 \, 57 \, 7 Νομος Χανιων Male 500 GEORGIOS KOMATSOULAKIS 1965 ΧΑΝΙΩΝ 0:28:40.100\n71 \, 58 \, 8 Νομος Χανιων Male 523 ΙΩΑΝΝΗΣ ΑΛΕΞΙΟΥ 1991 0:28:45.930\n72 \, 59 \, 42 Νομος Ρεθυμνου Male 615 ΕΛΕΥΘΕΡΙΟΣ ΜΑΡΑΓΚΟΥΔΑΚΗΣ 1990 ACTIVE YOUROPE 0:29:06.257\n73 \, 60 \, 43 Νομος Ρεθυμνου Male 680 ΗΡΑΚΛΗΣ ΣΚΟΥΛΟΥΔΗΣ 1974 ΓΥΜΝΑΣΤΗΡΙΟ PHYSICAL 0:29:13.523\n74 \, 14 \, 44 Νομος Ρεθυμνου Female 593 ΕΥΣΤΑΘΙΑ ΚΡΟΚΙΔΑ 1993 0:29:13.570\n75 \, 15 \, 14 Female 579 ΣΤΥΛΙΑΝΗ ΚΑΡΝΙΚΗ 1985 0:29:14.963\n76 \, 16 \, 9 Νομος Χανιων Female 516 ΗΒΗ ΑΔΟΝΤΑΚΗ 1983 0:29:22.010\n77 \, 61 \, 15 Male 521 ΜΑΡΚΟΣ ΑΛΕΞΑΚΗΣ 1980 0:29:58.033\n78 \, 17 \, 10 Νομος Χανιων Female 7699 ΙΩΑΝΝΑ ΦΟΥΦΟΥΛΑΚΗ 1993 0:30:04.283\n79 \, 62 \, 45 Νομος Ρεθυμνου Male 7558 ΣΗΦΑΚΑΚΗΣ ΙΩΣΗΦ 1983 0:30:20.197\n80 \, 63 \, 16 Male 487 GIORGOS BIRLIRAKIS 1996 0:30:25.717\n81 \, 18 \, 10 Νομος Ηρακλειου Female 491 Ειρηνη Μπουλμαση 1986 0:30:27.787\n82 \, 19 \, 46 Νομος Ρεθυμνου Female 694 ΒΑΛΜΠΟΝΑ ΤΖΕΡΑ 1983 0:30:32.303\n83 \, 20 \, 47 Νομος Ρεθυμνου Female 673 ΑΝΘΗ ΠΡΑΤΙΚΑΚΗ 1983 ΓΥΜΝΑΣΤΗΡΙΟ PHYSICAL 0:30:32.830\n84 \, 64 \, 17 Male 581 ΑΛΕΞΑΝΔΡΟΣ ΚΑΤΣΑΝΤΩΝΗΣ 1996 0:30:36.383\n85 \, 65 \, 11 Νομος Χανιων Male 569 ΙΩΑΝΝΗΣ ΖΙΑΣ 1982 0:30:56.997\n86 \, 21 \, 48 Νομος Ρεθυμνου Female 563 ΑΝΑΣΤΑΣΙΑ ΔΙΑΚΟΥΜΑΚΟΥ 2005 0:31:00.177\n87 \, 22 \, 11 Νομος Ηρακλειου Female 670 ΕΛΕΝΗ ΠΛΑΤΑΚΗ 1978 ΓΟΝΕΩΝ ΥΓΕΙΑΣ. ΗΡΑΚΛΕΙΟΥ 0:31:12.440\n88 \, 66 \, 49 Νομος Ρεθυμνου Male 558 ΒΑΣΙΛΕΙΟΣ ΔΑΜΙΑΝΟΣ 1970 ΑΝΕΞΑΡΤΗΤΟΣ 0:31:19.073\n89 \, 67 \, 18 Male 509 STAVROS STATHOPOULOS 1981 0:31:19.747\n90 \, 23 \, 19 Female 535 ΕΥΑΓΓΕΛΙΑ ΒΕΝΕΤΑΚΗ 1992 0:31:22.393\n91 \, 24 \, 50 Νομος Ρεθυμνου Female 697 ΜΑΡΙΑΝΝΑ ΤΡΑΓΟΥΔΑΡΑ 1994 KINESIS 0:31:31.140\n92 \, 68 \, 20 Male 549 ΑΛΙΚΗ ΓΙΑΝΝΟΥΛΗΣ 2002 ΑΝΕΞΑΡΤΗΤΟΣ 0:31:36.547\n93 \, 69 \, 21 Male 550 ΜΑΝΟΛΗΣ ΓΙΑΝΝΟΥΛΗΣ 1975 ΑΝΕΞΑΡΤΗΤΟΣ 0:31:36.937\n94 \, 25 \, 51 Νομος Ρεθυμνου Female 489 ASIMENIA CHRISTOULAKI 1992 0:31:42.450\n95 \, 70 \, 52 Νομος Ρεθυμνου Male 590 ΓΙΩΡΓΟΣ ΚΟΥΝΔΟΥΡΑΚΗΣ 1968 0:31:43.480\n96 \, 71 \, 22 Male 7554 FRANCHESKA MAGNIONE 1990 0:31:45.240\n97 \, 26 \, 53 Νομος Ρεθυμνου Female 617 ΕΥΑΓΓΕΛΙΑ ΜΑΡΙΝΟΥ 1985 0:31:57.697\n98 \, 27 \, 54 Νομος Ρεθυμνου Female 555 ΑΓΓΕΛΙΚΗ ΜΠΙΚΑΚΗ 1996 ΓΥΜΝΑΣΤΗΡΙΟ PHYSICAL 0:32:00.697\n99 \, 72 \, 12 Νομος Ηρακλειου Male 524 ΑΝΤΩΝΗΣ/ANTONIS ΑΝΤΩΝΑΚΑΝΗΣ/ANTONAKAKHS 1969 0:32:20.340\n100 \, 28 \, 55 Νομος Ρεθυμνου Female 519 KAMHLAKH ΑΙΚΑΤΕΡΙΝH – 0:32:30.900\n101 \, 73 \, 56 Νομος Ρεθυμνου Male 7813 ΜΑΝΟΥΔΑΚΗΣ ΕΜΜΑΝΟΥΗΛ 2002 0:32:31.970\n102 \, 74 \, 57 Νομος Ρεθυμνου Male 668 ΒΑΓΓΕΛΗΣ ΠΕΤΡΟΥΛΑΚΗΣ 2002 0:32:32.607\n103 \, 29 \, 13 Νομος Ηρακλειου Female 533 ΙΩΑΝΝΑ ΒΑΤΣΙΝΑ 1991 0:32:41.673\n104 \, 75 \, 58 Νομος Ρεθυμνου Male 7838 ΝΙΚΟΛΑΟΣ ΦΡΑΓΚΙΑΔΑΚΗΣ 1966 0:32:42.123\n105 \, 30 \, 59 Νομος Ρεθυμνου Female 592 ΑΙΚΑΤΕΡΙΝΗ ΚΟΥΤΑΚΗ 1967 0:32:42.210\n106 \, 31 \, 60 Νομος Ρεθυμνου Female 627 ΑΝΑΣΤΑΣΙΑ ΜΕΤΣΙΟΥ 1995 0:32:58.450\n107 \, 76 \, 23 Male 526 ΑΝΤΩΝΗΣ ΑΡΑΜΠΑΤΖΟΓΛΟΥ 1975 0:33:00.653\n108 \, 32 \, 24 Female 651 ΚΑΤΕΡΙΝΑ ΠΑΝΔΗ 1973 0:33:04.300\n109 \, 77 \, 14 Νομος Ηρακλειου Male 619 ΕΥΑΓΓΕΛΟΣ/VAGELIS ΜΑΡΚΟΥΛΗΣ/MARKULIS 1970 ΠΑΓΚΡΗΤΙΟΣ Α.Σ. 0:33:13.350\n110 \, 33 \, 25 Female 584 ΧΡΥΣΟΒΑΛΑΝΤΗ ΚΟΤΖΑΜΑΝΗ 1996 0:33:15.057\n111 \, 34 \, 61 Νομος Ρεθυμνου Female 514 ΚΑΡΑΓΙΑΝΝΗ ΑΓΓΕΛΙΚΗ 1990 ΟΚΑ ΠΡΕΒΕΛΗ 0:33:23.550\n112 \, 35 \, 12 Νομος Χανιων Female 504 PEGGY LAMBOS 1970 0:33:27.353\n113 \, 36 \, 62 Νομος Ρεθυμνου Female 556 ΚΑΤΕΡΙΝΑ ΓΥΠΑΡΑΚΗ 2001 ΟΚΑ ΑΡΚΑΔΙ 0:33:28.347\n114 \, 78 \, 63 Νομος Ρεθυμνου Male 696 ΔΗΜΗΤΡΗΣ ΤΟΚΑΣ 1994 0:33:34.467\n115 \, 79 \, 64 Νομος Ρεθυμνου Male 7580 ΑΧΙΛΛΕΑΣ ΛΙΟΝΤΟΣ 2004 0:33:37.197\n116 \, 37 \, 65 Νομος Ρεθυμνου Female 677 ANNA ΣΑΜΨΩΝ 1974 0:33:41.217\n117 \, 38 \, 15 Νομος Ηρακλειου Female 7837 ΙΩΑΝΝΑ ΦΡΑΓΚΑΚΗ 1979 0:33:44.210\n118 \, 39 \, 66 Νομος Ρεθυμνου Female 638 ΒΑΣΩ ΜΥΛΩΝΑ 1975 0:34:01.303\n119 \, 40 \, 26 Female 501 IOANNA KONSTANTOPOULOU 1981 0:34:02.067\n120 \, 80 \, 67 Νομος Ρεθυμνου Male 669 ΙΩΑΝΝΗΣ ΠΙΠΕΡΑΚΗΣ 1955 0:34:06.117\n121 \, 41 \, 16 Νομος Ηρακλειου Female 7615 ΟΥΡΑΝΙΑ ΧΑΤΖΗΜΑΝΩΛΗ 1983 0:34:06.117\n122 \, 42 \, 68 Νομος Ρεθυμνου Female 537 ELENA MARAGOUDAKI – 0:34:06.740\n123 \, 81 \, 69 Νομος Ρεθυμνου Male 542 ΚΩΣΤΗΣ ΓΑΡΕΦΑΛΑΚΗΣ 1983 0:34:08.833\n124 \, 82 \, 70 Νομος Ρεθυμνου Male 7556 ΓΑΛΕΡΟΣ ΧΑΡΑΛΑΜΠΟΣ 2006 0:34:16.687\n125 \, 83 \, 27 Male 625 ΑΛΕΞΑΝΔΡΟΣ ΜΕΘΥΜΑΚΗΣ 1995 0:34:25.297\n126 \, 43 \, 13 Νομος Χανιων Female 517 ΧΡΙΣΤΙΝΑ ΑΔΟΝΤΑΚΗ 1986 0:34:29.197\n127 \, 44 \, 71 Νομος Ρεθυμνου Female 493 CHRISTINA DROSOU 1989 CROSSFIT RETHYMNO 0:34:38.003\n128 \, 84 \, 72 Νομος Ρεθυμνου Male 7517 ΚΟΥΚΟΥΛΙΤΣΑΣ ΧΡΗΣΤΟΣ 2001 0:34:44.890\n129 \, 45 \, 28 Female 564 ΕΙΡΗΝΗ ΔΡΑΚΟΥΛΗ 1995 0:34:46.397\n130 \, 46 \, 73 Νομος Ρεθυμνου Female 484 MARIA ASTRINAKI 1964 KINESIS 0:34:52.680\n131 \, 47 \, 74 Νομος Ρεθυμνου Female 525 ΜΑΡΙΑ ΑΠΟΣΤΟΛΑΚΗ 1964 – 0:34:52.990\n132 \, 85 \, 75 Νομος Ρεθυμνου Male 7530 ΝΙΚΗΦΟΡΟΥ ΧΡΙΣΤΙΝΑ – 0:35:02.707\n133 \, 48 \, 76 Νομος Ρεθυμνου Female 657 ΑΘΗΝΑ ΠΑΠΠΑ 1974 KINESIS GYM 0:35:07.280\n134 \, 49 \, 29 Female 614 ΑΝΔΡΙΑΝΑ ΜΑΝΩΛΑΚΗ 1993 0:35:12.500\n135 \, 50 \, 77 Νομος Ρεθυμνου Female 693 ΕΥΣΤΑΘΙΑ ΤΖΕΜΟΠΟΥΛΟΥ 1969 0:35:14.377\n136 \, 51 \, 78 Νομος Ρεθυμνου Female 580 ΕΙΡΗΝΗ ΚΑΤΣΑΜΠΗ 1994 0:35:16.167\n137 \, 52 \, 30 Female 483 TANJA AEBISCHER 1977 0:35:27.773\n138 \, 53 \, 79 Νομος Ρεθυμνου Female 601 ΜΑΡΙΑ ΛΙΟΔΑΚΗ 1989 KINESIS 0:35:51.393\n139 \, 54 \, 80 Νομος Ρεθυμνου Female 659 ΓΕΩΡΓΙΑ ΠΑΤΤΑΚΟΥ 1957 KINESIS 0:35:56.003\n140 \, 55 \, 31 Female 498 IRW KOKAKI 1980 0:35:56.727\n141 \, 56 \, 32 Female 497 ELENI KOKAKI 1983 0:35:57.210\n142 \, 86 \, 14 Νομος Χανιων Male 496 EUTIXIS KATAKIS 1956 ΣΔΥΧ 0:36:11.570\n143 \, 57 \, 81 Νομος Ρεθυμνου Female 664 ΒΑΣΙΛΙΚΗ ΠΕΤΡΑΚΗ 1992 KINESIS 0:36:21.733\n144 \, 58 \, 82 Νομος Ρεθυμνου Female 7873 ΚΥΡΙΑΚΗ ΧΑΡΟΥΔΗ 1956 ΣΔΥ ΡΕΘΥΜΝΟΥ 0:36:32.153\n145 \, 87 \, 83 Νομος Ρεθυμνου Male 544 BORIS STOYANOF – ΓΥΜΝΑΣΤΗΡΙΟ PHYSICAL 0:36:34.310\n146 \, 59 \, 84 Νομος Ρεθυμνου Female 578 ΔΕΣΠΟΙΝΑ ΚΑΡΑΓΙΑΝΝΑΚΗ 1993 0:36:36.373\n147 \, 60 \, 15 Νομος Χανιων Female 502 OLGA IVANOVA 1975 ΣΔΥΧ 0:36:47.327\n148 \, 88 \, 85 Νομος Ρεθυμνου Male 608 ΓΕΩΡΓΙΟΣ ΜΑΜΑΛΑΚΗΣ 1968 0:36:56.233\n149 \, 61 \, 16 Νομος Χανιων Female 665 ΠΑΡΑΣΚΕΥΗ ΠΕΤΡΑΚΗ 1998 – 0:36:59.483\n150 \, 62 \, 33 Female 532 PELA GAGANOY – 0:37:06.550\n151 \, 89 \, 34 Male 527 ΚΥΡΙΑΚΟΣ ΑΡΜΟΥΤΙΔΗΣ 1994 0:37:17.867\n152 \, 90 \, 17 Νομος Χανιων Male 639 ΓΙΩΡΓΟΣ ΜΥΛΩΝΑΚΗΣ 2006 0:38:49.997\n153 \, 91 \, 18 Νομος Χανιων Male 623 ΓΙΩΡΓΟΣ ΜΑΥΡΟΛΕΩΝ 1965 0:38:50.000\n154 \, 63 \, 19 Νομος Χανιων Female 612 ΡΕΑ ΜΑΝΟΥΣΑΚΗ 1973 0:38:50.420\n155 \, 64 \, 35 Female 587 ΔΗΜΗΤΡΑ ΚΟΥΛΑΚΗ 1967 0:38:51.593\n156 \, 65 \, 86 Νομος Ρεθυμνου Female 512 M KAMHLAKH – 0:38:55.917\n157 \, 92 \, 87 Νομος Ρεθυμνου Male 530 GIORGOS ASTRINAKIS – 0:38:59.717\n158 \, 93 \, 17 Νομος Ηρακλειου Male 7532 ΧΡΙΣΤΙΝΑ ΦΡΑΓΚΟΜΙΧΕΛΑΚΗ – 0:39:01.787\n159 \, 66 \, 18 Νομος Ηρακλειου Female 7529 ΜΑΡΙΑ ΧΑΤΖΗΔΑΚΗ 1994 0:39:02.057\n160 \, 67 \, 19 Νομος Ηρακλειου Female 622 ΒΑΡΒΑΡΑ ΜΑΥΡΟΓΙΑΝΝΑΚΗ 1994 0:39:02.717\n161 \, 94 \, 20 Νομος Ηρακλειου Male 618 ΑΓΓΕΛΟΣ/AGGELOS ΜΑΡΚΟΥΛΗΣ/MARKULIS 1995 ΠΑΓΚΡΗΤΙΟΣ Α.Σ. 0:39:03.527\n162 \, 68 \, 20 Νομος Χανιων Female 689 VASILIKI! ΤZAGARAKI! 1964 ΣΔΥΧ 0:39:10.080\n163 \, 69 \, 88 Νομος Ρεθυμνου Female 548 ANDONIA HATZIDASKALAKI – 0:39:31.353\n164 \, 70 \, 89 Νομος Ρεθυμνου Female 585 ΠΟΠΗ ΚΟΤΣΙΦΗ 1974 0:39:41.820\n165 \, 95 \, 36 Male 692 ΠΑΥΛΟΣ ΤΖΕΛΑΣ 1976 0:40:49.507\n166 \, 71 \, 21 Νομος Ηρακλειου Female 606 ΚΑΤΕΡΙΝΑ ΜΑΚΡΑΚΗ 1993 ΣΥΛΛΟΓΟΣ ΔΡΟΜΕΩΝ ΥΓΕΙΑΣ ΗΡΑΚΛΕΙΟΥ 0:40:52.597\n167 \, 72 \, 90 Νομος Ρεθυμνου Female 566 ΚΑΛΛΙΓΙΑΝΝΗ ΕΙΡΗΝΗ 1976 0:41:07.923\n168 \, 73 \, 91 Νομος Ρεθυμνου Female 7812 ΜΑΤΘΑΙΟΥΔΑΚΗ ΝΕΚΤΑΡΙΑ 1967 0:41:41.627\n169 \, 74 \, 92 Νομος Ρεθυμνου Female 631 ΑΦΡΟΔΙΤΗ ΜΟΥΡΝΙΑΝΑΚΗ 1966 0:41:56.787\n170 \, 75 \, 37 Female 7548 ΑΛΖΒΕΤΑ IMRICHOVA 1993 0:42:00.137\n171 \, 76 \, 38 Female 7551 CHIARA RIOLO 1990 0:42:03.737\n172 \, 96 \, 39 Male 494 PANTIV VORTIA 1980 ΣΕΕΔΑ 0:42:34.467\n173 \, 77 \, 93 Νομος Ρεθυμνου Female 646 ΓΑΛΑΤΕΙΑ ΝΤΑΝΑΛΑΚΗ 1969 – 0:42:36.527\n174 \, 97 \, 21 Νομος Χανιων Male 547 ΟΔΥΣΣΕΑΣ ΓΙΑΝΝΑΚΕΛΛΗΣ 1982 Α.Ο ΑΡΙΣΒΑΙΟΣ ΚΑΛΛΟΝΗΣ 0:42:36.677\n175 \, 78 \, 94 Νομος Ρεθυμνου Female 539 ΕΛΙΝΑ ΓΑΛΕΡΟΥ 2004 0:43:09.603\n176 \, 79 \, 95 Νομος Ρεθυμνου Female 630 ΜΑΡΙΝΑ ΜΟΥΝΔΡΙΑΝΑΚΗ 1968 0:43:14.177\n177 \, 80 \, 96 Νομος Ρεθυμνου Female 676 ΑΠΟΣΤΟΛΙΑ ΣΑΛΒΑΡΑΚΗ 1972 0:43:44.727\n178 \, 81 \, 97 Νομος Ρεθυμνου Female 642 ΚΥΔΩΝΙΑ ΝΙΚΗΤΑΡΑ 1959 0:43:47.793\n179 \, 98 \, 98 Νομος Ρεθυμνου Male 582 ΤΟΝΥ ΚΑΤΣΟΥΛΗΣ 1994 0:43:49.387\n180 \, 82 \, 99 Νομος Ρεθυμνου Female 7569 ΒΑΝΤΑΡΑΚΗ ΑΝΝΑ 1962 0:43:53.943\n181 \, 83 \, 100 Νομος Ρεθυμνου Female 7690 ΜΑΡΙΑ ΦΟΥΡΝΑΡΑΚΗ 1960 0:43:56.827\n182 \, 84 \, 101 Νομος Ρεθυμνου Female 7886 ΚΩΝΣΤΑΝΤΙΝΑ ΧΑΡΑΥΓΙΑ 1994 0:44:02.757\n183 \, 99 \, 102 Νομος Ρεθυμνου Male 667 ΜΙΧΑΛΗΣ ΠΕΤΡΑΚΗΣ 1977 ΑΝΕΞΑΡΤΗΤΟΣ 0:44:09.647\n184 \, 85 \, 22 Νομος Ηρακλειου Female 7892 ΜΑΡΚΟΥΛΗ ΕΥΑΓΓΕΛΙΑ 1969 0:44:29.693\n185 \, 86 \, 103 Νομος Ρεθυμνου Female 626 ΜΑΡΙΑ ΜΕΛΙΔΟΝΗ 1961 ———- 0:44:43.160\n186 \, 87 \, 104 Νομος Ρεθυμνου Female 540 MARIA LOYRIDAKI – 0:44:45.207\n187 \, 88 \, 40 Female 485 KORINA AVRAMAKI 1989 0:45:32.577\n188 \, 89 \, 105 Νομος Ρεθυμνου Female 621 ΑΙΚΑΤΕΡΙΝΗ ΜΑΥΡΑΝΤΩΝΑΚΗ 1972 ΣΔΥΡ 0:45:41.040\n189 \, 90 \, 106 Νομος Ρεθυμνου Female 554 ΜΑΡΙΑ ΓΟΥΙΒΕΡΤ 1978 KINESIS 0:45:41.043\n190 \, 91 \, 107 Νομος Ρεθυμνου Female 583 ΝΕΚΤΑΡΙΑ ΚΑΨΑΛΑ 1994 0:46:19.727\n191 \, 92 \, 108 Νομος Ρεθυμνου Female 571 MAΡΓΑΡΙΤΑ ΚΑΚΟΓΙΑΝΝΑΚΗ 1986 0:46:24.003\n192 \, 100 \, 41 Male 511 ΙΔΟΜΕΝΕΑΣ ΑΒΡΑΜΑΚΗΣ 1951 0:46:24.027\n193 \, 93 \, 109 Νομος Ρεθυμνου Female 553 ΒΑΝΑ ΓΟΥΙΒΕΡΤ 1981 KINESIS 0:47:21.807\n194 \, 101 \, 110 Νομος Ρεθυμνου Male 546 ΚΟΤΣΥΦΑΚΗΣ ΓΕΩΡΓΙΟΣ 1955 0:48:59.390\n195 \, 94 \, 111 Νομος Ρεθυμνου Female 603 ΜΑΡΙΑ ΜΑΘΙΟΥΔΑΚΗ 1969 0:48:59.483\n196 \, 95 \, 112 Νομος Ρεθυμνου Female 7625 ΖΑΧΑΡΕΝΙΑ ΤΣΙΡΙΝΤΑΝΗ 1973 0:48:59.547\n197 \, 96 \, 113 Νομος Ρεθυμνου Female 684 ΜΑΡΙΑ ΣΤΑΓΟΓΙΑΝΝΗ 2003 ОКА ΑΡΚΑΔΙ 0:56:38.637\n198 \, 97 \, 114 Νομος Ρεθυμνου Female 567 ΛΥΡΗ ΕΛΕΝΗ 1982 0:56:39.577\n199 \, 98 \, 42 Female 508 PELAGIA PELEKOU 1976 0:56:39.590\n200 \, 99 \, 115 Νομος Ρεθυμνου Female 7596 ΧΡΥΣΟΥΛΑ ΦΡΑΓΚΙΑΔΑΚΗ 1965 0:56:40.170\n201 \, 102 \, 116 Νομος Ρεθυμνου Male 576 ΔΗΜΗΤΡΗΣ ΚΑΝΑΚΑΚΗΣ 1983 0:56:40.180\n202 \, 103 \, 117 Νομος Ρεθυμνου Male 652 ΓΙΩΡΓΟΣ-ΝΙΚΟΣ ΠΑΝΤΑΖΗΣ 1975 0:56:40.187
URL:https://gorun.gr/race/6151/
CATEGORIES:Αποτελέσματα,Δρόμος
END:VEVENT
END:VCALENDAR