BEGIN:VCALENDAR
VERSION:2.0
PRODID:-//goRUN - ECPv5.8.1//NONSGML v1.0//EN
CALSCALE:GREGORIAN
METHOD:PUBLISH
X-WR-CALNAME:goRUN
X-ORIGINAL-URL:https://gorun.gr
X-WR-CALDESC:Events for goRUN
BEGIN:VTIMEZONE
TZID:Europe/Athens
BEGIN:DAYLIGHT
TZOFFSETFROM:+0200
TZOFFSETTO:+0300
TZNAME:EEST
DTSTART:20160327T010000
END:DAYLIGHT
BEGIN:STANDARD
TZOFFSETFROM:+0300
TZOFFSETTO:+0200
TZNAME:EET
DTSTART:20161030T010000
END:STANDARD
END:VTIMEZONE
BEGIN:VEVENT
DTSTART;VALUE=DATE:20160814
DTEND;VALUE=DATE:20160815
DTSTAMP:20260424T000623
CREATED:20160609T094348Z
LAST-MODIFIED:20160819T204345Z
UID:7995-1471132800-1471219199@gorun.gr
SUMMARY:1ος ΟΡΕΙΝΟΣ ΑΓΩΝΑΣ ΚΡΥΟΒΡΥΣΗΣ ΟΛΥΜΠΟΥ
DESCRIPTION:ΑΠΟΤΕΛΕΣΜΑΤΑ\n1ου ΟΡΕΙΝΟΥ ΑΓΩΝΑ ΚΡΥΟΒΡΥΣΗΣ ΟΛΥΜΠΟΥ \nΘΕΣΗ |Νο |ΕΠΩΝΥΜΟ ΟΝΟΜΑ |Σύλλογος/Club |ΧΡΟΝΟΣ\n1 289 ΜΙΧΑΗΛΙΔΗΣ ΠΕΤΡΟΣ 1:25:44\n2 185 ΚΑΒΑΡΑΤΖΗΣ ΕΛΕΥΘΕΡΙΟΣ 1:25:45\n3 206 ΚΟΝΤΟΣ ΑΡΙΣΤΟΤΕΛΗΣ Πλατανόδασος 1:28:40\n4 269 ΓΚΑΛΗΣ ΓΡΗΓΟΡΗΣ 1:29:50\n5 259 ΠΑΠΑΘΑΝΑΣΙΟΥ ΕΛΕΥΘΕΡΙΟΣ Ε.Ο.Σ ΛΑΡΙΣΑΣ 1:34:40\n6 149 ΓΚΟΥΤΖΟΥΡΕΛΑΣ ΝΙΚΟΛΑΟΣ Σ.Μ.Ν.ΛΑΡΙΣΑΣ 1:36:37\n7 202 ΑΓΓΕΛΑΚΟΠΟΥΛΟΣ ΓΙΑΝΝΗΣ ΑΝΕΞΑΡΤΗΤΟΣ 1:39:42\n8 225 ΜΠΑΛΟΓΙΑΝΝΗΣ ΝΙΚΟΣ Σ.Μ.Ν.ΛΑΡΙΣΑΣ 1:39:44\n9 253 ΚΑΤΣΑΡΑΣ ΧΡΗΣΤΟΣ ΣΔΥ ΚΟΖΑΝΗΣ 1:40:36\n10 133 ΒΟΥΛΓΑΡΙΔΗΣ ΑΝΤΩΝΙΟΣ Ελπίς Αμπελοκήπων 1:40:37\n11 287 ΡΟΒΥΘΑΚΗΣ ΑΝΑΣΤΑΣΙΟΣ ΣΔΥ Κοζάνης 1:40:45\n12 290 ΒΡΑΝΤΖΑΣ ΑΛΕΞΑΝΔΡΟΣ 1:40:50\n13 214 ΛΑΜΑΡΗΣ ΙΩΑΝΝΗΣ Σ.Μ.Ν.ΛΑΡΙΣΑΣ 1:42:23\n14 171 ΖΑΠΟΥΝΙΔΗΣ ΛΑΖΑΡΟΣ Α. Μ. Ο. ΕΞΟΧΗΣ 1:42:30\n15 183 ΚOYMAΤΖΕΛΗΣ ΚΛΕΑΝΘΗΣ 1:42:33\n16 173 ΖΗΝΤΡΟΣ ΑΠΟΣΤΟΛΗΣ 1:44:00\n17 180 ΚANOTΙΔΗΣ ΘΕΟΔΩΡΟΣ 1:44:01\n18 331 ΠΙΜΕΝΙΔΗΣ ΔΗΜΗΤΡΗΣ Aspis Πιερίας ΖΕΥΣ 1:44:48\n19 244 ΝΑΤΣΙΟΣ ΝΙΚΟΣ Κλεισούρα Ελασσόνας 1:45:00\n20 307 ΣΤΕΡΓΙΑΔΗΣ ΣΤΑΜΑΤΗΣ ΣΔΥ ΘΕΣΣΑΛΟΝΙΚΗΣ 1:45:13\n21 296 ΣΙΚΟΣ ΚΩΝΣΤΑΝΤΙΝΟΣ 1:45:53\n22 297 ΣΙΣΚΟΣ ΤΡΥΦΩΝ ΣΔΟΕ katsikia runner 1:45:55\n23 315 ΤΡΕΜΜΑΣ ΓΕΩΡΓΙΟΣ Σ.Μ.Ν.ΛΑΡΙΣΑΣ 1:46:29\n24 210 ΚΡΙΓΚΑΣ ΑΘΑΝΑΣΙΟΣ ΑΝΕΞΑΡΤΗΤΟΣ 1:46:38\n25 329 ΤΣΙΟΥΡΒΑΣ ΝΙΚΟΛΑΟΣ Σ.Δ.Υ.Θ – BALIOTIS NATURE TRAIL 1:47:00\n26 275 ΠΛΗΣΙΩΤΗΣ ΜΙΧΑΛΗΣ Σ.Μ.Ν.ΛΑΡΙΣΑΣ 1:47:23\n27 190 ΚΑΠΟΥΛΑΣ ΙΩΑΝΝΗΣ 1:47:36\n28 218 ΛΥΜΠΙΚΗΣ ΓΕΩΡΓΙΟΣ ΜΕΓΑΛΟ ΕΛΕΥΘΕΡΟΧΩΡΙ-ΔΡΟΜΕΙΣ ΤΥΡΝΑΒΟΥ 1:48:33\n29 152 ΓΟΡΓΟΤΣΙΑΣ ΝΙΚΟΣ ΛΑΡΙΣΑ 1:48:35\n30 182 ΚAΛΑΠΑΝΙΔΑΣ ΕΥΘΗΜΙΟΣ ΛΑΡΙΣΑ 1:48:37\n31 226 ΜΠΑΜΠΑΡΑΜΟΣ ΝΤΙΝΟΣ Scania team 1:49:05\n32 286 ΡΙΖΟΣ ΜΑΤΘΑΙΟΣ Ultra turtles 1:49:27\n33 257 ΜΠΡΟΥΖΙΩΤΗΣ ΠΕΤΡΟΣ Σ.Μ.Ν.ΛΑΡΙΣΑΣ 1:50:17\n34 184 ΚΑΒΑΡΑΤΖΗΣ ΓΕΩΡΓΙΟΣ 1:50:40\n35 333 ΦΑΛΤΣΗΣ ΒΑΣΙΛΕΙΟΣ Σ.Μ.Ν.ΛΑΡΙΣΑΣ 1:51:55\n36 219 ΜΠΡΑΒΑΚΗΣ ΔΗΜΗΤΡΙΟΣ 1:51:55\n37 321 ΤΣΑΚΙΡΙΔΗΣ ΒΑΣΙΛΕΙΟΣ ΣΔΟ Εορδαίας – Ultra Turtles 1:51:55\n38 332 ΤΥΠΑΛΔΟΣ ΔΗΜΗΤΡΗΣ RUN FOREVER 1:51:56\n39 320 ΤΣΑΚΙΛΤΖΙΔΗΣ ΚΥΡΙΑΚΟΣ ΣΔΥ ΚΟΖΑΝΗΣ 1:51:56\n40 271 ΠΑΤΣΙΑΤΖΗ ΣΙΩΑΝΝΗΣ Σύλλογος Δρομέων Τρικάλων 1:52:50\n41 274 ΝΑΤΣΙΟΣ ΑΝΔΡΕΑΣ Σ.Μ.Ν.ΛΑΡΙΣΑΣ 1:53:16\n42 199 ΚΑΡΕΤΣΟΣ ΓΙΩΡΓΟΣ Chasing Zeus 1:53:17\n43 302 ΣΚΟΥΡΒΟΥΛΙΑΝΑΚΗΣ ΣΤΕΦΑΝΟΣ ΟΜΙΛΟΣ ΥΠΕΡΑΠΟΣΤΑΣΕΩΝ ΚΡΗΤΗΣ 1:53:44\n44 260 ΤΣΟΥΒΕΛΑΚΙΔΗΣ ΝΙΚΟΣ 1:54:00\n45 252 ΠΑΛΗΟΓΙΑΝΝΗΣ ΧΡΗΣΤΟΣ Σ.Μ.Ν.ΛΑΡΙΣΑΣ 1:54:10\n46 261 ΠΑΡΑΣΙΔΗΣ ΔΗΜΗΤΡΗΣ 1:54:10\n47 270 ΧΑΡΑΧΟΥΣΟΣ ΦΩΤΗΣ Σ.Μ.Ν.ΛΑΡΙΣΑΣ 1:54:38\n48 330 ΚΟΥΚΑΚΗ ΚΑΤΕΡΙΝΑ 1:54:40\n49 223 ΜΗΤΟΥΛΑΣ ΧΡΗΣΤΟΣ 1:54:53\n50 262 ΝΑΤΣΙΟΣ ΓΙΩΡΓΟΣ 1:55:38\n51 256 ΠΑΠΑΓΙΑΝΝΗΣ ΘΩΜΑΣ Χ.Ο.Σ ΜΥΤΙΚΑΣ ΟΛΥΜΠΟΥ 1:55:40\n52 208 ΚΟΤΙΝΑΣ ΑΘΑΝΑΣΙΟΣ Σύλλογος Δρομέων Τρικάλων 1:55:48\n53 264 ΠΑΡΘΕΝΗΣ ΝΙΚΟΣ Σ.Δ.Υ.Μ ΘΗΒΑΣ ΣΧΗΜΑΤΑΡΙ 1:55:55\n54 280 ΘΑΝΑΣΙΑΣ ΧΡΗΣΤΟΣ 1:55:58\n55 292 ΝΑΝΟΣ ΑΘΑΝΑΣΙΟΣ 1:56:00\n56 338 ΧΑΡΑΛΑΜΠΙΔΟΥ ΑΝΝΑ-ΜΑΡΙΑ ΣΔΥ ΘΕΣΣΑΛΟΝΙΚΗΣ ΣΤΡΕΜΠΕΝΙΩΤΕΣ 1:56:20\n57 114 ΑΜΑΞΑΣ ΘΕΟΧΑΡΗΣ ΣΔΥΘ 1:57:58\n58 242 ΤΣΟΤΣΟΣ ΒΑΣΙΛΕΙΟΣ 1:58:00\n59 121 ΑΡΓΥΡΟΥΛΗΣ ΙΩΑΝΝΗΣ Σ.Μ.Ν.ΛΑΡΙΣΑΣ 1:59:00\n60 120 ΑΡΓΥΡΟΥΛΗΣ ΒΑΣΙΛΗΣ Σ.Μ.Ν.ΛΑΡΙΣΑΣ 1:59:00\n61 117 ΑΝΔΡΟΝΙΚΟΣ ΙΩΑΝΝΗΣ ΣΔΟΕ\, ΚΑΤΣΙΚΙΑ runners ΠΤΟΛΕΜΑΪΔΑ 2:01:00\n62 230 ΜΠΕΚΟΣ ΒΑΣΙΛΕΙΟΣ ΣΥΛΛΟΓΟΣ ΔΡΟΜΕΩΝ ΤΡΙΚΑΛΩΝ 2:01:30\n63 193 ΚΑΡΑΚΩΣΤΑΣ ΒΑΣΙΛΗΣ Σ.Μ.Ν.ΛΑΡΙΣΑΣ 2:01:45\n64 119 ΑΝΤΩΝΙΟΥ ΚΩΝ/ΝΟΣ ΑΝΕΞΑΡΤΗΤΟΣ 2:02:17\n65 279 ΠΟΥΡΟΥΤΙΔΗΣ ΗΡΑΚΛΗΣ ΜΥΤΙΚΑΣ 2:02:20\n66 172 ΖΗΝΔΡΟΣ ΜΙΧΑΛΗΣ Μύτικας 2:02:22\n67 298 ΚΟΚΚΙΝΟΠΟΥΛΟΣ ΚΩΣΤΑΣ 2:03:05\n68 324 ΤΣΑΤΣΟΣ ΚΩΣΤΑΣ 2:03:08\n69 154 ΚΑΡΑΜΗΤΣΙΟΣ ΒΑΣΙΛΗΣ ΛΑΡΙΣΑ 2:03:11\n70 336 ΦΟΥΝΤΑΡΛΗΣ ΑΝΤΩΝΗΣ ΧΟΣ ΣΠΑΡΜΟΥ 2:04:00\n71 293 ΠΕΡΙΣΤΑΤΙΔΗΣ ΓΕΩΡΓΙΟΣ 2:04:04\n72 299 ΣΚΟΡΔΑΣ ΑΘΑΝΑΣΙΟΣ Σ.Δ.Υ.Κ 2:04:08\n73 155 ΓΟΥΝΑΡΑΣ ΔΗΜΗΤΡΙΟΣ Σ.Μ.Ν.ΛΑΡΙΣΑΣ 2:05:00\n74 300 ΣΚΟΡΔΑΣ ΠΑΣΧΑΛΗΣ 2:05:05\n75 116 ΑΝΑΣΤΑΣΙΟΥ ΜΑΡΙΑ Baliotis Nature Trail 2:05:10\n76 110 ΑΛΕΞΑΝΔΡΟΥ ΗΡΑΚΛΗΣ ΣΔΥΘ 2:06:02\n77 166 ΧΑΡΑΛΑΜΠΙΔΗΣ ΑΝΕΞΑΡΤΗΤΟΣ 2:06:05\n78309 ΤΑΒΑΤΑ ΚΑΥΟΚΟ Run Forever 2:06:20\n79 188 ΚΑΣΙΑΡΑΣ ΔΗΜΗΤΡΙΟΣ 2:07:10\n80 326 ΣΑΚΕΛΛΑΡΗΣ ΚΩΣΤΑΣ 2:07:13\n81 159 ΔΑΛΑΚΟΥΡΑΣ ΣΠΥΡΙΔΩΝ Σ.Μ.Ν.Λάρισας- Kourkourikis training group 2:07:20\n82 314 ΤΟΛΙΟΠΟΥΛΟΣ ΧΑΡΗΣ 2:07:20\n83 318 ΤΣΑΓΚΟΥΛΗ ΦΑΝΗ Σ.Μ.Ν.ΛΑΡΙΣΑΣ 2:08:02\n84 146 ΓΚΟΥΛΙΑΡΑΣ ΕΠΑΜΕΙΝΩΝΔΑΣ Σ.Μ.Ν.ΛΑΡΙΣΑΣ 2:08:03\n85 122 ΑΣΜΑΝΙΔΗΣ ΑΘΑΝΑΣΙΟΣ 2:08:10\n86 245 ΝΤΟΥΜΟΣ ΕΥΑΓΓΕΛΟΣ Σ.Μ.Ν.ΛΑΡΙΣΑΣ 2:08:20\n87 304 ΧΑΣΙΩΤΗΣ ΘΩΜΑΣ BMW 2:09:00\n88 150 ΓΟΡΓΟΤΣΙΑΣ ΑΓΓΕΛΟΣ ΑΕΛΑΡΑ 2:09:10\n89 306 ΚΟΚΚΙΝΟΠΟΥΛΟΥ ΑΘΑΝΑΣΙΑ 2:09:20\n90 284 ΠΩΠΟΤΟΝΑΣΙΟΣ ΚΩΝΣΤΑΝΤΙΝΟΣ Σ.Μ.Ν.ΛΑΡΙΣΑΣ 2:10:00\n91 282 ΠΡΑΤΤΗΣ ΝΙΚΟΛΑΟΣ Σ.Μ.Ν.ΛΑΡΙΣΑΣ 2:10:12\n92 311 ΤΕΛΙΟΣ ΘΕΟΔΩΡΟΣ ΔΡΟΜΕΙΣ ΤΥΡΝΑΒΟΥ 2:10:22\n93 238 ΜΠΟΥΜΠΟΥΝΑΡΑΣ ΠΑΝΑΓΙΩΤΗΣ 2:10:33\n94 136 ΓΕΩΡΓΑΝΤΑΣ ΔΗΜΗΤΡΙΟΣ Σ.Μ.Ν.ΛΑΡΙΣΑΣ 2:10:37\n95 135 ΓΕΩΡΓΑΝΤΑΣ ΑΘΑΝΑΣΙΟΣ Σ.Μ.Ν.ΛΑΡΙΣΑΣ 2:10:38\n96 272 ΠΑΥΛΙΔΗΣ ΠΑΝΑΓΙΩΤΗΣ Ellene 2:11:00\n97 113 ΑΜΑΝΑΤΙΔΗΣ ΓΕΩΡΓΙΟΣ ΑΠΣΔ ΖΕΥΣ ΠΙΕΡΙΑΣ 2:11:05\n98 126 ΒΑΡΑΓΚΑΣ ΘΕΟΔΩΡΟΣ ΟLYMPUS TEAM 2:12:04\n99 263 ΠΑΡΑΣΚΕΥΑΣ ΑΝΑΣΤΑΣΙΟΣ 2:12:07\n100 281 ΠΡΑΤΣΑΣ ΚΩΝΣΤΑΝΤΙΝΟΣ ΑΝΕΞΑΡΤΗΤΟΣ 2:12:10\n101 273 ΠΕΤΑΛΩΤΉΣ ΚΩΝΣΤΑΝΤΊΝΟΣ ΣΔΥΘ 2:13:03\n102 303 ΦΩΛΙΑΣ ΑΣΤΕΡΙΟΣ 2:13:39\n103 334 ΧΑΤΖΗΣΑΒΒΑΣ ΗΛΙΑΣ ΛΥΚΟΙ ΚΕΧΑΓΙΟΓΛΟΥ 2:16:10\n104 213 ΛΑΖΑΡΙΔΗΣ ΚΩΣΤΑΣ ΛΥΚΟΙ ΚΕΧΑΓΙΟΓΛΟΥ 2:16:10\n105 328 ΤΣΙΛΟΦΙΤΗ ΧΡΗΣΤΟΣ 2:16:13\n106 255 ΧΑΤΖΗΣ ΚΩΝΣΤΑΝΤΙΝΟΣ Σ.Μ.Ν.ΛΑΡΙΣΑΣ 2:17:03\n107 258 ΚΟΝΤΟΝΙΔΑΣ ΠΕΤΡΟΣ 2:17:10\n108 227 ΜΠΑΝΤΑΒΑΝΟΣ ΕΥΑΓΓΕΛΟΣ Crossfit beastmode 2:17:13\n109 174 ΖΗΣΟΠΟΥΛΟΣ ΒΑΣΙΛΗΣ 2:17:22\n110 187 ΚΑΛΑΜΠΑΚΑΣ ΔΗΜΗΤΡΗΣ Σ.Μ.Ν.ΛΑΡΙΣΑΣ 2:19:30\n111 104 ΑΓΓΕΛΗΣ ΚΩΣΤΑΣ Σ.Μ.Ν.ΛΑΡΙΣΑΣ 2:20:10\n112 105 ΑΓΓΕΛΗΣ ΠΑΝΑΓΙΩΤΗΣ Σ.Μ.Ν.ΛΑΡΙΣΑΣ 2:20:12\n113 251 ΤΣΙΤΣΟΛΚΟΣ ΜΙΧΑΛΗΣ Taxi Runner 2:20:20\n114 143 ΓΚΟΛΤΣΙΟΣ ΑΘΑΝΑΣΙΟΣ Κοκκινοπηλός 2:21:00\n115 144 ΓΚΟΛΤΣΙΟΣ ΚΩΝΣΤΑΝΤΙΝΟΣ Κοκκινοπηλός 2:21:10\n116 335 ΦΟΡΦΟΛΙΑΣ ΣΤΕΦΑΝΟΣ ΤΕNNIS LIFE 2:21:22\n117 232 ΜΠΕΡΓΕΛΕΣ ΧΡΗΣΤΟΣ 2:24:00\n118 138 ΓΙΑΝΝΑΚΟΣ ΔΗΜΗΤΡΙΟΣ 2:24:10\n119 176 ΚΟΥΣΟΥΜΠΑΝΑΡΗΣ ΑΓΓΕΛΟΣ 2:24:15\n120 153 ΓΟΥΛΑΣ ΑΠΟΣΤΟΛΟΣ Σ.Μ.Ν.ΛΑΡΙΣΑΣ 2:25:00\n121 312 ΤΕΡΖΟΓΛΟΥ ΓΙΑΝΝΗΣ ΠΑΣ ΖΩΓΡΑΦΟΥ 2:25:01\n122 305 ΠΑΠΠΑ ΜΕΛΙΝΑ Σ.Μ.Ν.ΛΑΡΙΣΑΣ 2:25:02\n123 268 ΠΑΤΣΑΛΙΑΣ ΚΩΣΤΗΣ Σ.Μ.Ν.ΛΑΡΙΣΑΣ 2:25:05\n124 197 ΚΑΡΑΤΕΓΟΣ ΜΙΧΑΛΗΣ Σ.Μ.Ν.ΛΑΡΙΣΑΣ 2:25:07\n125 246 ΝΤΡΟΥΔΗΣ ΝΙΚΟΛΑΟΣ ΕΦΥΡΑΙΟΙ ΟΚΥΠΟΔΕΣ 2:26:03\n126 139 ΓΙΑΝΝΟΥΛΑΣ ΧΡΥΣΟΣΤΟΜΟΣ ΔΡΟΜΕΙΣ ΤΥΡΝΑΒΟΥ 2:26:10\n127 196 ΚΑΡΑΝΑΣΙΟΣ ΔΗΜΗΤΡΙΟΣ ΔΡΟΜΕΙΣ ΤΥΡΝΑΝΟΥ 2:26:20\n128 337 ΧΑΜΑΪΔΗΣ ΒΑΓΓΕΛΗΣ ΔΡΟΜΕΙΣ ΤΥΡΝΑΒΟΥ 2:26:22\n129 295 ΣΙΔΗΡΟΠΟΥΛΟΣ ΠΑΝΑΓIΩΤΗΣ 2:26:33\n130 267 ΧΑΡΑΧΟΥΣΟΣ ΘΟΔΩΡΗΣ Σ.Μ.Ν.ΛΑΡΙΣΑΣ 2:27:00\n131 254 ΧΑΣΙΩΤΗΣ ΚΩΝΣΤΑΝΤΙΝΟΣ 2:27:10\n132 109 ΑΛΑΜΠΑΝΤΑΚΗΣ ΚΩΣΤΑΣ Σ.Μ.Ν.ΛΑΡΙΣΑΣ 2:27:11\n133 301 ΣΚΟΥΜΠΑΣ ΑΓΓΕΛΟΣ #BEERRUNNERS 2:30:01\n134 112 ΑΛΕΞΙΟΥ ΛΕΥΤΕΡΗΣ Χος\,μύτικας 2:30:03\n135 325 ΣΑΚΕΛΛΑΡΗΣ ΠΕΤΡΟΣ 2:31:04\n136 266 ΠΑΡΙΣΗΣ ΓΕΩΡΓΙΟΣ Σ.Μ.Ν.ΛΑΡΙΣΑΣ 2:31:10\n137 265 ΠΑΡΘΕΝΟΠΟΥΛΟΣ ΜΙΧΑΗΛ Σ.Δ.Υ.ΘΕΣ/ΝΙΚΗΣ(ΣΤΡΕΜΠΕΝΙΩΤΕΣ 2:32:00\n138 310 ΤΑΣΙΩΝΗ ΒΑΣΙΛΙΚΗ ΚΑΜΙΑ 2:32:22\n139 285 ΡΕΤΖΕΠΗΣ ΑΣΤΕΡΙΟΣ Σ.Δ.Υ.ΘΕΣ/ΝΙΚΗΣ(ΣΤΡΕΜΠΕΝΙΩΤΕΣ) 2:32:26\n140 183 ΚΟΥΜΑΤΖΕΛΗΣ ΚΛΕΑΝΘΗΣ 2:32:30\n141 327 ΚΑΤΣΑΝΗ ΝΙΚΟΛΕΤΑ Σ.Μ.Ν.ΛΑΡΙΣΑΣ 2:35:01\n142 145 ΓΚΟΥΘΑΣ ΚΩΝΣΤΑΝΤΙΝΟΣ 2:35:02\n143 103 ΑΓΓΕΛΑΚΟΠΟΥΛΟΥ ΙΟΥΛΙΑ Σ.Μ.Ν.ΛΑΡΙΣΑΣ 2:35:03\n144 107 ΑΓΟΡΑΣΤΟΣ ΒΑΣΙΛΕΙΟΣ 2:35:05\n145 323 ΤΣΑΝΤΖΟΣ ΣΩΚΡΑΤΗΣ 2:42:08\n146 288 ΒΑΣΙΛΕΙΟΥ ΒΑΣΙΛΕΙΟΣ 2:42:10\n147 108 ΑΓΟΡΑΣΤΟΥ ΠΟΛΥΞΕΝΗ 2:44:11\n148 234 ΓΚΟΥΛΕΤΣΑ ΑΛΕΞΑΝΔΡΑ 2:44:15\n149 313 ΒΟΛΤΑΔΩΡΟΣ ΓΙΩΡΓΟΣ 2:54:04\n150 283 ΧΑΤΖΗΒΑΣΙΛΗ ΓΕΩΡΓΙΑ 2:54:10\n151 294 ΣΕΜΕΡΤΖΙΔΗΣ ΘΕΜΗΣ 2:54:12\n152 124 ΒΑΛΙΩΤΗΣ ΚΩΣΤΑΣ Elassona green running team 2:56:00\n153 276 ΑΡΣΕΝΙΟΥ ΗΛΙΑΣ 3:17:02\n154 291 ΧΑΤΖΗΒΑΣΙΛΗ ΒΑΣΙΛΙΚΗ 3:22:08\n155 317 ΒΟΛΤΑΔΩΡΟΥ ΦΑΝΗ 3:22:32\n156 278 ΣΑΒΒΙΔΗΣ ΘΕΟΦΑΝΗΣ 3:23:20\n157 308 ΤΣΑΚΝΑΚΗ ΕΥΑΓΓΕΛΙΑ 3:35:22\n158 319 ΘΕΟΦΑΝΑΚΗ ΣΤΕΛΛΑ 3:42:22\n159 339 ΧΑΤΖΗΒΑΣΙΛΗ ΑΣΠΑΣΙΑ Elassona green running team 3:42:31\n160 340 ΠΑΛΑΓΚΑΣ ΤΗΛΕΜΑΧΟΣ ΣΚΟΥΠΑ 3:42:32
URL:https://gorun.gr/race/7995/
CATEGORIES:Αποτελέσματα,Βουνό
END:VEVENT
END:VCALENDAR