BEGIN:VCALENDAR
VERSION:2.0
PRODID:-//goRUN - ECPv5.8.1//NONSGML v1.0//EN
CALSCALE:GREGORIAN
METHOD:PUBLISH
X-WR-CALNAME:goRUN
X-ORIGINAL-URL:https://gorun.gr
X-WR-CALDESC:Events for goRUN
BEGIN:VTIMEZONE
TZID:Europe/Athens
BEGIN:DAYLIGHT
TZOFFSETFROM:+0200
TZOFFSETTO:+0300
TZNAME:EEST
DTSTART:20160327T010000
END:DAYLIGHT
BEGIN:STANDARD
TZOFFSETFROM:+0300
TZOFFSETTO:+0200
TZNAME:EET
DTSTART:20161030T010000
END:STANDARD
END:VTIMEZONE
BEGIN:VEVENT
DTSTART;VALUE=DATE:20160813
DTEND;VALUE=DATE:20160814
DTSTAMP:20260423T143935
CREATED:20160625T083859Z
LAST-MODIFIED:20160814T103549Z
UID:8478-1471046400-1471132799@gorun.gr
SUMMARY:8η Αθαμάνιος Διαδρομή
DESCRIPTION:8η ΑΘΑΜΑΝΙΟΣ ΔΙΑΔΡΟΜΗ – ΔΡΟΜΟΙ ΤΟΥ ΒΑΣΙΛΙΑ ΑΘΑΜΑ 2016 \nO Δήμος Κεντρικών Τζουμέρκων του Νομού Άρτας και η Περιφερειακή Ενότητα Άρτας με την συνδρομή της Ένωσης Συλλόγων και Αδελφοτήτων του πρώην Δήμου Αθαμανίας\, του Εκπολιτιστικού Συλλόγου Αθαμανίου «ο ΑΘΑΜΑΣ» και του Εκπολιτιστικού Συλλόγου Τετρακωμιτών Άρτας «η ΜΗΓΕΡΗ»\, διοργανώνουν  τον  8ο αγώνα δρόμου «Αθαμάνιος Διαδρομή – Δρόμοι του Βασιλιά Αθάμα»\, ο οποίος φέτος θα διεξαχθεί με αφετηρία το Αθαμάνιο και τερματισμό στο Τετράκωμο. \nΤο πρόγραμμα έχει ως εξής: \n    Σάββατο 13 Αυγούστου 2016 και ώρα 17: 30 – Περιπατητική Διαδρομή \n    Σάββατο 13 Αυγούστου 2016 και ώρα 18:00 – Αγώνας Δρόμου \n    Σάββατο 13 Αυγούστου 2016 και ώρα 17: 00 – Παιδικοί Αγώνες Δρόμου στο Τετράκωμο \nΣημειώνεται ότι: \n    Η συμμετοχή είναι ελεύθερη για όλους και η εγγραφή δωρεάν. \n    Δηλώσεις θα γίνονται την ημέρα του αγώνα στην πλατεία του Αθαμανίου 2 ώρες πριν την έναρξή του. \n    Δεν θα καλυφθούν έξοδα μετακίνησης ή διαμονής. \nΑναλυτικότερα\, \n        Αγώνας Δρόμου – Αθαμάνιος Διαδρομή \nΟ αγώνας δρόμου διεξάγεται σε μια πανέμορφη διαδρομή μέσα στην άγρια φύση των Τζουμέρκων\, προσφέροντας σε πολλά σημεία μια ανεπανάληπτη θέα. Το μεγαλύτερο μέρος της διαδρομής εκτείνεται σε δάσος από έλατα\, καρυδιές και καστανιές και πραγματοποιείται υπό άριστες κλιματικές συνθήκες για την εποχή\, διευκολύνοντας την προσπάθεια των αθλητών. Σημειώνεται ότι η διαδρομή είναι ασφαλτοστρωμένη\, σε όλο το μήκος της. \nΗ εκκίνηση του αγώνα θα δοθεί το Σάββατο 13 Αυγούστου στις 18:00\, στην πλατεία του Αθαμανίου (υψόμετρο 756 μ.). Οι δρομείς αφού καλύψουν τη διαδρομή των 12\,2 χλμ. θα τερματίσουν στην πλατεία του Τετρακώμου (υψόμετρο 890 μ.) ενώ το μέγιστο υψόμετρο κατά τη διάρκεια του αγώνα είναι 1054 μ. \nΥψομετρική απεικόνιση διαδρομής \nΓια την ενίσχυση του αγώνα των αθλητών θα υπάρχουν σταθμοί ανεφοδιασμού ανά 4 χλμ. και στο τέλος της διαδρομής. Θα παρέχονται νερά και ισοτονικά ποτά. \nΔικαίωμα συμμετοχής έχουν όσοι έχουν συμπληρώσει το 15ο έτος της ηλικίας τους και έχουν υποβληθεί σε πρόσφατες ιατρικές εξετάσεις. Οι αθλητές τρέχουν με δική τους ευθύνη. \nΚΑΤΗΓΟΡΙΕΣ \nΑΝΔΡΕΣ \nΓΥΝΑΙΚΕΣ \n1. ΓΕΝΙΚΗ ΚΑΤΗΓΟΡΙΑ \n1. ΓΕΝΙΚΗ ΚΑΤΗΓΟΡΙΑ \n2. έως 19 ετών \n2. έως 29 ετών \n3. 20 – 29 ετών \n3. 30 – 39  ετών \n4. 30 – 39 ετών \n4. 40 – 49  ετών \n5. 40 – 49 ετών \n5. 50 και άνω ετών \n6. 50 – 59 ετών \n7. 60 – 69 ετών \n8. 70 και άνω ετών \nΌσον\, αφορά την απονομή επάθλων και αναμνηστικών: \n        Κύπελλα θα δοθούν στους 3 πρώτους – ες της γενικής κατηγορίας. \n        Μετάλλια θα δοθούν χρυσό-αργυρό- χάλκινο στους 3 πρώτους-πρώτες κάθε κατηγορίας. \n        Για όλους όσους τερματίσουν προβλέπονται αναμνηστικά μετάλλια και διπλώματα. \nΗ μετακίνηση των αθλητών και των περιπατητών\, από το Αθαμάνιο προς το Τετράκωμο\, πριν την έναρξη του αγώνα\, και από το Τετράκωμο προς το Αθαμάνιο\, μετά τη λήξη του αγώνα\, θα πραγματοποιηθεί με λεωφορείο\, που προσφέρεται από τη διοργάνωση. \n        Περιπατητική Διαδρομή \nΤη διαδρομή ή μέρος της διαδρομής μπορούν όσοι θέλουν να την καλύψουν περπατώντας ξεκινώντας 30 λεπτά νωρίτερα από την κανονική εκκίνηση του αγώνα. Όλοι οι περιπατητές θα δηλωθούν ξεχωριστά πριν την εκκίνηση\, δεν θα έχουν νούμερο συμμετοχής\, δεν θα συμπεριληφθούν στην κατάταξη\, ωστόσο θα πάρουν μετά τον τερματισμό τους μετάλλιο και αναμνηστικό δίπλωμα συμμετοχής. \n        Αγώνας για παιδιά \nΣτην Τοπική Κοινότητα Τετρακώμου την ίδια ημέρα και ώρα  17:00 θα διεξαχθεί στην πλατεία του χωριού αγώνας δρόμου για μαθητές και μαθήτριες δημοτικού και γυμνασίου. Οι αποστάσεις θα είναι: 400 μ. (1 στροφή) για μαθητές  και μαθήτριες Α\, Β και Γ΄ Δημοτικού\, 800 μ. (2 στροφές) για μαθητές και μαθήτριες Δ΄\, Ε΄ και ΣΤ΄ Δημοτικού και 1200 μ. (3 στροφές) για μαθητές και μαθήτριες Α΄\, Β΄ και Γ΄ Γυμνασίου. Θα απονεμηθούν κύπελλα στους πρώτους-πρώτες κάθε κατηγορίας και μετάλλια στους τρείς πρώτους-πρώτες κάθε κατηγορίας. Επίσης θα δοθούν μετάλλια και αναμνηστικά διπλώματα σε όλους τους συμμετέχοντες. \nΟι δηλώσεις συμμετοχής θα γίνονται στην κεντρική πλατεία Τετρακώμου από τις 16:00 έως τις 16:45.   \nΠροσοχή! Όλοι οι μαθητές και οι μαθήτριες συμμετέχουν με ευθύνη των γονέων-κηδεμόνων τους και ύστερα από την υπογραφή σχετικής υπεύθυνης δήλωσης που θα συμπληρώνεται και θα υπογράφεται από τους γονείς-κηδεμόνες πριν από την έναρξη του αγώνα. \n        Λοιπές εκδηλώσεις \nΜετά το πέρας του αγώνα\, θα ακολουθήσει στην κεντρική πλατεία του Τετρακώμου φαγητό με τοπικά παραδοσιακά εδέσματα. \n        Πληροφορίες \nΓια περισσότερες πληροφορίες: \nΚιν: 6972260997\, κος  Κώστας Κοτσιάνης (Γυμναστής) \nΚιν: 6972507535\, κος Ηλίας Γεωργιάδης (Γυμναστής) \ne-mail: athamaniosdiadromi@gmail.com\nfacebook: www.facebook.com/AthamaniosDiadromi/
URL:https://gorun.gr/race/8%ce%b7-%ce%b1%ce%b8%ce%b1%ce%bc%ce%ac%ce%bd%ce%b9%ce%bf%cf%82-%ce%b4%ce%b9%ce%b1%ce%b4%cf%81%ce%bf%ce%bc%ce%ae/
CATEGORIES:Δρόμος
END:VEVENT
END:VCALENDAR