BEGIN:VCALENDAR
VERSION:2.0
PRODID:-//goRUN - ECPv5.8.1//NONSGML v1.0//EN
CALSCALE:GREGORIAN
METHOD:PUBLISH
X-WR-CALNAME:goRUN
X-ORIGINAL-URL:https://gorun.gr
X-WR-CALDESC:Events for goRUN
BEGIN:VTIMEZONE
TZID:Europe/Athens
BEGIN:DAYLIGHT
TZOFFSETFROM:+0200
TZOFFSETTO:+0300
TZNAME:EEST
DTSTART:20160327T010000
END:DAYLIGHT
BEGIN:STANDARD
TZOFFSETFROM:+0300
TZOFFSETTO:+0200
TZNAME:EET
DTSTART:20161030T010000
END:STANDARD
END:VTIMEZONE
BEGIN:VEVENT
DTSTART;VALUE=DATE:20160514
DTEND;VALUE=DATE:20160515
DTSTAMP:20260419T221813
CREATED:20160422T131723Z
LAST-MODIFIED:20160515T115535Z
UID:5871-1463184000-1463270399@gorun.gr
SUMMARY:8ος Αριστοτέλειος Δρόμος
DESCRIPTION:8ος Αριστοτέλειος Δρόμος 2016\nΑριστοτέλειο Πανεπιστήμιο Θεσσαλονίκης\n5 χιλιόμετρα \nRANK GENDER AGE CAT BIB NAME SEX CLUB ΧΡΟΝΟΣ ΚΑΘ. ΧΡΟΝΟΣ\n1 1 1 1018 ΚΩΝ/ΝΟΣ ΒΡΑΝΑΣ Α ΕΠΙΣΤΗΜΗΣ ΦΥΣΙΚΗΣ ΑΓΩΓΗΣ ΚΑΙ ΑΘΛΗΤΙΣΜΟΥ 00:14:34 00:14:34\n2 2 2 633 ΚΩΝ/ΝΟΣ ΔΕΛΗΓΕΩΡΓΑΚΗΣ Α ΕΠΙΣΤΗΜΗΣ ΦΥΣΙΚΗΣ ΑΓΩΓΗΣ ΚΑΙ ΑΘΛΗΤΙΣΜΟΥ 00:15:05 00:15:04\n3 3 3 1019 ΠΕΤΡΟΣ-ΔΗΜΗΤΡΗΣ ΚΩΝΣΤΑΝΤΙΝΙΔΗΣ A 00:16:08 00:16:08\n4 4 1 1039 ΙΩΑΝΝΗΣ ΚΟΥΡΚΟΥΡΙΚΗΣ Α 00:16:24 00:16:24\n5 5 4 255 ΗΛΙΑΣ ΠΑΠΑΔΗΜΗΤΡΙΟΥ Α 00:17:07 00:17:05\n6 6 5 294 ΖΑΧΑΡΙΑΣ ΒΟΡΔΟΣ Α ΝΟΜΙΚΗ 00:17:27 00:17:26\n7 7 2 109 ΙΩΑΝΝΗΣ ΣΗΜΑΝΤΗΡΑΣ Α 00:17:35 00:17:35\n8 8 6 360 ΓΙΩΡΓΟΣ ΠΑΤΕΡΟΠΟΥΛΟΣ Α ΠΟΛΥΤΕΧΝΙΚΗ 00:17:37 00:17:09\n9 9 7 43 ΒΑΙΟΣ ΑΝΔΡΕΑΣ ΚΟΥΣΟΥΡΝΑΣ Α ΠΟΛΥΤΕΧΝΙΚΗ 00:17:48 00:17:47\n10 10 8 178 ΓΕΡΑΣΙΜΟΣ ΚΟΥΤΣΙΟΥΚΗΣ Α ΘΕΤΙΚΩΝ ΕΠΙΣΤΗΜΩΝ 00:18:00 00:17:49\n11 11 9 112 ΒΑΣΙΛΕΙΟΣ KΙΟΥΡΤΖΙΔΗΣ Α 00:18:05 00:17:58\n12 12 3 151 ΑΘΑΝΑΣΙΟΣ ΚΥΡΙΑΚΟΥ Α 00:18:18 00:18:17\n13 13 1 249 ΝΑΣΟΣ ΑΒΔΑΡΜΑΝΗΣ Α 00:18:24 00:18:21\n14 1 1 208 ΘΕΟΔΟΣΙΑ ΜΑΡΚΟΥ Γ ΟΙΚΟΝΟΜΙΚΩΝ ΚΑΙ ΠΟΛΙΤΙΚΩΝ ΕΠΙΣΤ. 00:18:26 00:18:24\n15 14 10 104 ΔΗΜΗΤΡΙΟΣ ΚΑΤΣΑΝΙΚΟΣ Α 00:18:40 00:18:35\n16 15 1 144 ΕΥΘΥΜΙΟΣ ΖΑΧΑΡΟΠΟΥΛΟΣ Α 00:18:49 00:18:48\n17 16 11 869 ELIA RADER Α ΦΙΛΟΣΟΦΙΚΗ 00:18:50 00:18:38\n18 17 12 270 ISTVAN SZILAJ Α ΠΑΙΔΑΓΩΓΙΚΗ 00:19:01 00:18:50\n19 18 13 994 EDGAR BECCERRA Α ΠΟΛΥΤΕΧΝΙΚΗ 00:19:06 00:18:54\n20 19 4 714 ΣΑΒΒΑΣ ΣΑΒΒΙΔΗΣ Α 00:19:10 00:19:08\n21 20 2 282 ΙΩΑΝΝΗΣ ΠΑΠΑΔΟΠΟΥΛΟΣ Α 00:19:15 00:19:15\n22 2 1 325 ΑΙΚΑΤΕΡΙΝΗ ΚΟΥΚΑΚΗ Γ 00:19:16 00:19:15\n23 21 14 845 ΑΛΕΞΑΝΔΡΟΣ ΑΘΑΝΑΣΙΟΥ Α ΠΟΛΥΤΕΧΝΙΚΗ 00:19:20 00:19:08\n24 3 2 155 ΕΛΕΝΗ ΚΟΖΑΝΙΤΗ Γ ΠΑΙΔΑΓΩΓΙΚΗ 00:19:31 00:19:30\n25 22 2 303 ΠΡΑΞΙΤΕΛΗΣ ΖΑΧΑΡΙΑΔΗΣ Α 00:19:37 00:19:34\n26 4 3 18 ΚΥΡΙΑΚΗ-ΔΗΜΗΤΡΑ ΑΜΠΡΑΧΙΜ Γ 00:19:38 00:19:35\n27 23 15 1002 ΓΙΩΡΓΟΣ ΝΤΑΚΟΣ Α ΕΠΙΣΤΗΜΗΣ ΦΥΣΙΚΗΣ ΑΓΩΓΗΣ ΚΑΙ ΑΘΛΗΤΙΣΜΟΥ 00:19:40 00:19:23\n28 24 16 275 ΔΗΜΗΤΡΙΟΣ ΑΛΕΠΛΙΩΤΗΣ Α ΕΠΙΣΤΗΜΗΣ ΦΥΣΙΚΗΣ ΑΓΩΓΗΣ ΚΑΙ ΑΘΛΗΤΙΣΜΟΥ 00:19:47 00:19:35\n29 25 3 381 ΘΕΟΔΩΡΟΣ ΠΑΠΑΔΟΠΟΥΛΟΣ Α 00:20:00 00:19:47\n30 26 17 5 ΒΑΣΙΛΕΙΟΣ ΠΑΠΑΝΙΚΟΛΑΟΥ Α ΠΟΛΥΤΕΧΝΙΚΗ 00:20:09 00:19:56\n31 27 18 217 ΔΟΔΟΝΤΣΑΚΗΣ ΒΑΣΙΛΗΣ Α ΕΠΙΣΤΗΜΗΣ ΦΥΣΙΚΗΣ ΑΓΩΓΗΣ ΚΑΙ ΑΘΛΗΤΙΣΜΟΥ 00:20:10 00:19:47\n32 5 4 286 LEA MÖLTER Γ ΘΕΟΛΟΓΙΚΗ 00:20:10 00:19:58\n33 28 19 169 ΘΕΟΔΩΡΟΣ ΣΚΟΡΔΥΛΗΣ Α 00:20:10 00:20:07\n34 6 5 981 ΣΤΕΛΛΑ ΚΑΦΦΕ Γ 00:20:12 00:20:10\n35 29 20 950 RAMSAY TAYLOR Α ΠΟΛΥΤΕΧΝΙΚΗ 00:20:14 00:19:59\n36 30 21 279 ΚΩΝΣΤΑΝΤΙΝΟΣ ΛΕΚΚΑΣ Α ΟΙΚΟΝΟΜΙΚΩΝ ΚΑΙ ΠΟΛΙΤΙΚΩΝ ΕΠΙΣΤ. 00:20:18 00:20:09\n37 31 22 398 ΝΙΚΟΛΑΟΣ ΓΙΑΝΝΑΡΗΣ Α ΠΟΛΥΤΕΧΝΙΚΗ 00:20:19 00:19:52\n38 32 23 378 ΑΝΕΣΤΗΣ ΜΠΟΥΤΑΚΙΔΗΣ Α ΦΙΛΟΣΟΦΙΚΗ 00:20:22 00:20:20\n39 33 24 368 ΓΡΗΓΟΡΗΣ ΦΟΥΝΤΟΥΛΗΣ Α ΟΙΚΟΝΟΜΙΚΩΝ ΚΑΙ ΠΟΛΙΤΙΚΩΝ ΕΠΙΣΤ. 00:20:23 00:20:12\n40 34 25 31 ΙΩΑΝΝΗΣ ΒΕΡΑΝΗΣ Α ΕΠΙΣΤΗΜΗΣ ΦΥΣΙΚΗΣ ΑΓΩΓΗΣ ΚΑΙ ΑΘΛΗΤΙΣΜΟΥ 00:20:32 00:20:23\n41 35 26 234 ΝΙΚΟΛΑΟΣ ΜΙΧΑΗΛΙΔΗΣ Α ΠΟΛΥΤΕΧΝΙΚΗ 00:20:33 00:20:17\n42 7 6 29 ΒΑΣΙΛΙΚΗ ΕΥΔΟΞΙΑ ΔΙΟΥΝΥΣΙΟΥ Γ ΠΟΛΥΤΕΧΝΙΚΗ 00:20:37 00:20:30\n43 36 27 62 ΓΑΒΡΙΗΛ ΒΑΝΑΚΑΣ Α ΕΠΙΣΤΗΜΗΣ ΦΥΣΙΚΗΣ ΑΓΩΓΗΣ ΚΑΙ ΑΘΛΗΤΙΣΜΟΥ 00:20:37 00:20:14\n44 37 28 218 ΙΟΡΔΑΝΗΣ ΔΗΜΤΣΗΣ Α ΕΠΙΣΤΗΜΗΣ ΦΥΣΙΚΗΣ ΑΓΩΓΗΣ ΚΑΙ ΑΘΛΗΤΙΣΜΟΥ 00:20:37 00:20:14\n45 38 29 919 ΧΡΗΣΤΟΣ ΤΥΡΟΒΟΥΖΗΣ Α ΦΙΛΟΣΟΦΙΚΗ 00:20:42 00:20:26\n46 8 7 1048 ΚΥΡΙΑΚΗ ΜΗΤΡΟΥ Γ ΑΘΛΗΤΙΚΕΣ ΑΚΑΔΗΜΙΕΣ ΑΠΘ 00:20:49 00:20:48\n47 39 30 323 ΔΗΜΗΤΡΙΟΣ ΠΑΛΛΑΣ Α ΕΠΙΣΤΗΜΩΝ ΥΓΕΙΑΣ 00:21:04 00:20:57\n48 40 31 1043 ΔΗΜΗΤΡΙΟΣ ΙΑΚΩΒΑΚΗΣ Α ΠΟΛΥΤΕΧΝΙΚΗ 00:21:06 00:20:46\n49 9 2 148 ΔΗΜΗΤΡΑ ΝΑΝΟΥ Γ ΕΠΙΣΤΗΜΗΣ ΦΥΣΙΚΗΣ ΑΓΩΓΗΣ ΚΑΙ ΑΘΛΗΤΙΣΜΟΥ 00:21:19 00:21:11\n50 41 3 299 CHRISTOS KOSTARELAS Α 00:21:19 00:21:14\n51 42 5 262 ΚΩΝΣΤΑΝΤΙΝΟΣ ΜΑΝΩΛΗΣ Α 00:21:24 00:21:20\n52 43 32 92 ΜΙΧΑΛΗΣ ΛΟΥΦΑΚΗΣ Α ΘΕΤΙΚΩΝ ΕΠΙΣΤΗΜΩΝ 00:21:26 00:20:55\n53 44 33 357 ΕΥΣΤΡΑΤΙΟΣ ΓΙΑΝΝΕΛΗΣ Α ΘΕΤΙΚΩΝ ΕΠΙΣΤΗΜΩΝ 00:21:27 00:21:01\n54 45 34 8 ΜΑΡΙΟΣ ΠΑΠΑΔΗΜΗΤΡΙΟΥ Α ΝΟΜΙΚΗ 00:21:31 00:21:27\n55 46 35 180 ΑΠΟΣΤΟΛΟΣ ΣΜΑΡΝΑΚΗΣ Α ΘΕΤΙΚΩΝ ΕΠΙΣΤΗΜΩΝ 00:21:33 00:20:52\n56 47 36 268 ΑΧΙΛΛΕΑΣ ΧΕΡΙΔΗΣ Α ΦΙΛΟΣΟΦΙΚΗ 00:21:34 00:21:31\n57 10 8 132 ΜΕΛΙΝΑ ΓΙΑΝΝΗ Γ ΕΠΙΣΤΗΜΩΝ ΥΓΕΙΑΣ 00:21:35 00:21:32\n58 48 37 38 ΙΩΑΝΝΗΣ ΚΟΙΛΑΝΙΤΗΣ Α ΠΟΛΥΤΕΧΝΙΚΗ 00:21:37 00:21:33\n59 49 38 184 ΓΕΩΡΓΙΟΣ ΚΑΤΣΙΠΗΣ Α ΘΕΤΙΚΩΝ ΕΠΙΣΤΗΜΩΝ 00:21:38 00:21:17\n60 50 1 145 ΣΤΕΦΑΝΟΣ ΣΑΚΟΥΛΑΣ Α 00:21:47 00:21:38\n61 51 39 206 ΑΙΜΙΛΙΟΣ ΠΟΤΟΥΠΝΗΣ Α ΠΟΛΥΤΕΧΝΙΚΗ 00:21:48 00:20:07\n62 52 2 347 ΤΑΣΟΣ ΤΣΙΡΑΝΤΩΝΑΚΗΣ Α 00:21:52 00:21:42\n63 53 40 865 ΣΤΕΦΑΝΟΣ ΝΤΟΝΤΗΣ Α ΕΠΙΣΤΗΜΩΝ ΥΓΕΙΑΣ 00:22:02 00:21:34\n64 54 41 622 ΠΑΝΑΓΙΩΤΗΣ ΓΙΑΝΑΚΟΣ Α ΠΟΛΥΤΕΧΝΙΚΗ 00:22:04 00:21:23\n65 55 42 152 ΚΩΝΣΤΑΝΤΙΝΟΣ ΚΥΡΙΑΚΟΥ Α 00:22:04 00:22:04\n66 56 43 332 ΓΙΩΡΓΟΣ ΔΗΜΑΔΗΣ Α ΠΟΛΥΤΕΧΝΙΚΗ 00:22:06 00:21:25\n67 57 3 818 ΓΕΩΡΓΙΟΣ ΖΩΙΔΗΣ Α 00:22:08 00:21:52\n68 58 44 851 ΝΙΚΟΛΑΟΣ ΚΟΥΤΡΟΥΜΠΗΣ Α ΠΟΛΥΤΕΧΝΙΚΗ 00:22:13 00:21:59\n69 11 9 15 ΛΕΜΟΝΙΑ ΠΑΝΑΓΙΩΤΟΥ Γ ΕΠΙΣΤΗΜΩΝ ΥΓΕΙΑΣ 00:22:14 00:21:47\n70 59 45 939 ΝΙΚΟΛΑΟΣ ΚΟΥΣΙΑΣ Α ΠΟΛΥΤΕΧΝΙΚΗ 00:22:14 00:21:42\n71 60 46 784 ΓΙΩΡΓΟΣ ΣΤΑΜΠΟΛΗΣ Α ΟΙΚΟΝΟΜΙΚΩΝ ΚΑΙ ΠΟΛΙΤΙΚΩΝ ΕΠΙΣΤ. 00:22:18 00:22:15\n72 12 10 374 CRISTINA MOLDOVAN Γ ΚΑΛΩΝ ΤΕΧΝΩΝ 00:22:22 00:22:10\n73 61 4 903 ΑΝΑΣΤΑΣΙΟΣ ΑΜΑΡΑΝΤΙΔΗΣ Α 00:22:25 00:22:23\n74 62 5 153 ΓΕΩΡΓΙΟΣ ΚΥΡΙΑΚΟΥ Α 00:22:33 00:22:28\n75 13 11 333 ΑΝΑΣΤΑΣΙΑ ΒΟΡΡΙΑ Γ ΘΕΤΙΚΩΝ ΕΠΙΣΤΗΜΩΝ 00:22:33 00:22:06\n76 63 47 831 ΚΩΝ/ΝΟΣ ΜΑΥΡΟΔΗΣ Α ΠΟΛΥΤΕΧΝΙΚΗ 00:22:35 00:22:16\n77 14 1 302 ΑΡΓΥΡΩ ΣΤΟΥΠΑ Γ 00:22:35 00:22:32\n78 15 12 345 ΡΩΞΑΝΗ ΓΚΑΥΡΑ Γ ΠΟΛΥΤΕΧΝΙΚΗ 00:22:35 00:22:21\n79 64 48 23 ΝΙΚΟΛΑΟΣ ΤΣΑΠΟΥΤΟΓΛΟΥ Α ΟΙΚΟΝΟΜΙΚΩΝ ΚΑΙ ΠΟΛΙΤΙΚΩΝ ΕΠΙΣΤ. 00:22:36 00:22:33\n80 65 49 138 ΓΙΩΡΓΟΣ ΤΕΚΚΕΣ Α ΕΠΙΣΤΗΜΗΣ ΦΥΣΙΚΗΣ ΑΓΩΓΗΣ ΚΑΙ ΑΘΛΗΤΙΣΜΟΥ 00:22:37 00:21:57\n81 66 50 139 ΑΠΟΣΤΟΛΟΣ ΑΝΑΓΝΩΣΤΟΠΟΥΛΟΣ Α ΠΟΛΥΤΕΧΝΙΚΗ 00:22:38 00:22:23\n82 16 13 195 ΜΕΡΟΠΗ ΚΑΡΑΚΙΟΥΛΑΚΗ Γ ΘΕΤΙΚΩΝ ΕΠΙΣΤΗΜΩΝ 00:22:40 00:22:27\n83 67 51 293 ΓΕΩΡΓΙΟΣ ΑΜΠΟΥ-ΖΟΛΩΦ Α ΕΠΙΣΤΗΜΗΣ ΦΥΣΙΚΗΣ ΑΓΩΓΗΣ ΚΑΙ ΑΘΛΗΤΙΣΜΟΥ 00:22:40 00:22:00\n84 17 14 227 ΦΑΝΗ ΔΕΡΒΕΝΗ Γ ΠΟΛΥΤΕΧΝΙΚΗ 00:22:42 00:22:20\n85 68 52 181 ΑΠΟΣΤΟΛΟΣ ΚΑΡΑΓΙΑΝΝΗΣ Α 00:22:45 00:22:39\n86 69 53 993 ΠΑΝΑΓΙΩΤΗΣ ΚΕΡΑΜΙΔΑΣ Α 00:22:56 00:22:43\n87 70 6 222 ΧΡΗΣΤΟΣ ΚΑΛΑΙΤΖΙΔΗΣ Α 00:22:56 00:22:49\n88 18 15 278 ΒΑΣΙΛΙΚΗ ΜΠΑΤΣΙΚΑ Γ ΕΠΙΣΤΗΜΩΝ ΥΓΕΙΑΣ 00:22:59 00:22:39\n89 19 16 389 CLARA BREITHAUPT Γ ΕΠΙΣΤΗΜΩΝ ΥΓΕΙΑΣ 00:23:01 00:22:44\n90 71 54 335 ΜΑΡΙΟΣ ΘΩΜΟΣ Α ΠΟΛΥΤΕΧΝΙΚΗ 00:23:04 00:22:50\n91 72 55 300 ΧΡΗΣΤΟΣ ΣΠΑΝΟΥΔΗΣ Α ΓΕΩΠΟΝΙΑΣ\,ΔΑΣΟΛΟΓΙΑΣ ΚΑΙ ΦΥΣΙΚΟΥ ΠΕΡΙΒΑΛΛΟΝΤΟΣ 00:23:05 00:22:34\n92 20 3 511 ELIZABETH DUCLOS-ORSELLA Γ ΦΙΛΟΣΟΦΙΚΗ 00:23:07 00:22:33\n93 73 56 512 LUCA DUCLOS-ORSELLA Α ΦΙΛΟΣΟΦΙΚΗ 00:23:07 00:22:34\n94 74 57 379 ΔΙΟΝΥΣΗΣ ΓΙΑΝΝΑΚΗΣ Α ΕΠΙΣΤΗΜΗΣ ΦΥΣΙΚΗΣ ΑΓΩΓΗΣ ΚΑΙ ΑΘΛΗΤΙΣΜΟΥ 00:23:11 00:22:53\n95 75 58 238 ΑΠΟΣΤΟΛΟΣ ΜΙΧΑΗΛΙΔΗΣ Α ΘΕΤΙΚΩΝ ΕΠΙΣΤΗΜΩΝ 00:23:12 00:23:01\n96 21 17 369 ΛΟΥΙΖ ΓΚΟΒΙΛΑ Γ ΕΠΙΣΤΗΜΩΝ ΥΓΕΙΑΣ 00:23:15 00:22:57\n97 76 59 100 ΠΑΝΑΓΙΩΤΗΣ ΤΖΑΝΝΗΣ Α ΠΟΛΥΤΕΧΝΙΚΗ 00:23:26 00:22:56\n98 77 60 866 MARK MAURER Α ΦΙΛΟΣΟΦΙΚΗ 00:23:28 00:23:12\n99 22 18 821 ΧΑΡΑ ΝΕΟΦΥΤΟΥ Γ ΕΠΙΣΤΗΜΗΣ ΦΥΣΙΚΗΣ ΑΓΩΓΗΣ ΚΑΙ ΑΘΛΗΤΙΣΜΟΥ 00:23:32 00:23:16\n100 78 61 385 ΣΤΕΡΓΙΟΣ ΝΑΝΟΣ Α ΠΟΛΥΤΕΧΝΙΚΗ 00:23:33 00:23:26\n101 23 19 157 ΕΛΕΝΗ ΚΟΝΤΟΓΙΩΡΓΗ Γ ΦΙΛΟΣΟΦΙΚΗ 00:23:34 00:23:33\n102 79 62 382 ΓΕΩΡΓΙΟΣ ΑΓΑΘΟΣ Α ΕΠΙΣΤΗΜΗΣ ΦΥΣΙΚΗΣ ΑΓΩΓΗΣ ΚΑΙ ΑΘΛΗΤΙΣΜΟΥ 00:23:34 00:23:09\n103 80 63 330 ΓΙΩΡΓΟΣ ΤΡΙΛΛΙΔΗΣ Α ΟΙΚΟΝΟΜΙΚΩΝ ΚΑΙ ΠΟΛΙΤΙΚΩΝ ΕΠΙΣΤ. 00:23:34 00:23:07\n104 81 64 170 ΕΥΑΓΓΕΛΟΣ ΜΑΜΑΛΑΚΗΣ Α ΠΟΛΥΤΕΧΝΙΚΗ 00:23:36 00:23:18\n105 82 4 1044 ΣΩΤΗΡΗΣ ΔΑΓΚΛΗΣ Α 00:23:39 00:23:23\n106 83 65 877 ΦΩΤΙΟΣ ΘΕΟΔΩΡΑΚΗΣ Α ΠΟΛΥΤΕΧΝΙΚΗ 00:23:56 00:23:30\n107 84 5 392 ΧΡΥΣΟΣΤΟΜΟΣ ΑΝΑΣΤΑΣΙΛΑΚΗΣ Α 00:24:01 00:23:37\n108 85 66 396 ILKER TURKBEYLER Α ΓΕΩΠΟΝΙΑΣ\,ΔΑΣΟΛΟΓΙΑΣ ΚΑΙ ΦΥΣΙΚΟΥ ΠΕΡΙΒΑΛΛΟΝΤΟΣ 00:24:02 00:23:50\n109 86 67 213 ΑΘΑΝΑΣΙΟΣ ΤΣΑΛΜΠΟΥΡΗΣ Α ΘΕΤΙΚΩΝ ΕΠΙΣΤΗΜΩΝ 00:24:06 00:23:48\n110 87 68 14 CHRISTOS SOZOPOULOS Α ΦΙΛΟΣΟΦΙΚΗ 00:24:19 00:24:07\n111 88 69 257 ΓΕΩΡΓΙΟΣ ΚΑΤΣΑΡΑΣ Α ΠΟΛΥΤΕΧΝΙΚΗ 00:24:20 00:24:14\n112 24 20 915 ΒΑΣΙΛΙΚΗ ΚΟΛΙΩΝΑ Γ 00:24:24 00:24:22\n113 25 21 914 ΣΠΥΡΙΔΟΥΛΑ ΘΩΜΑ Γ 00:24:24 00:24:22\n114 26 22 171 ΜΑΡΙΑ ΙΩΑΝΝΙΔΟΥ Γ ΘΕΤΙΚΩΝ ΕΠΙΣΤΗΜΩΝ 00:24:26 00:24:16\n115 27 23 111 ΕΛΕΝΗ – ΑΝΝΑ KΙΟΡΤΣΗ Γ ΦΙΛΟΣΟΦΙΚΗ 00:24:26 00:24:19\n116 28 24 822 ΜΑΡΙΑ ΓΕΩΡΓΙΟΥ Γ ΕΠΙΣΤΗΜΗΣ ΦΥΣΙΚΗΣ ΑΓΩΓΗΣ ΚΑΙ ΑΘΛΗΤΙΣΜΟΥ 00:24:30 00:24:14\n117 29 25 393 ΣΟΦΙΑ ΛΑΜΠΙΤΣΗ Γ ΘΕΤΙΚΩΝ ΕΠΙΣΤΗΜΩΝ 00:24:33 00:24:15\n118 30 2 202 ΧΡΙΣΤΙΝΑ ΧΑΤΖΗΓΙΑΝΝΙΔΟΥ Γ ΦΙΛΟΣΟΦΙΚΗ 00:24:40 00:24:31\n119 89 70 20 ΓΙΩΡΓΟΣ ΚΑΛΙΤΣΙΟΣ Α ΠΟΛΥΤΕΧΝΙΚΗ 00:24:43 00:24:36\n120 90 71 887 ΤΗΛΕΜΑΧΟΣ ΤΑΞΙΔΗΣ Α 00:24:45 00:24:14\n121 91 72 1053 ΤΑΣΟΣ ΧΑΛΒΑΤΖΗΣ A 00:24:46 00:24:33\n122 31 26 223 ΧΡΥΣΗ ΓΙΑΝΝΙΚΑΚΗ Γ ΠΟΛΥΤΕΧΝΙΚΗ 00:24:46 00:24:27\n123 92 6 351 ΚΩΝΣΤΑΝΤΙΝΟΣ ΠΑΠΟΥΤΣΗΣ Α 00:24:48 00:24:25\n124 93 73 133 ΠΑΝΑΓΙΩΤΗΣ ΑΣΗΜΑΚΟΠΟΥΛΟΣ Α 00:24:54 00:24:50\n125 32 27 274 ΧΡΥΣΑΝΘΗ ΓΕΩΡΓΑΚΗ Γ ΠΑΙΔΑΓΩΓΙΚΗ 00:24:56 00:24:48\n126 94 1 394 ΠΑΝΑΓΙΩΤΗΣ ΚΙΤΡΙΔΗΣ Α 00:25:06 00:24:58\n127 95 74 192 ΙΩΑΝΝΗΣ ΙΑΤΡΟΥΔΗΣ Α ΝΟΜΙΚΗ 00:25:10 00:24:53\n128 96 7 961 ΝΙΚΟΛΑΟΣ ΣΑΠΟΥΝΤΖΗΣ Α 00:25:12 00:24:50\n129 97 8 962 ΓΙΩΡΓΟΣ ΞΥΠΟΛΗΤΑΣ Α 00:25:12 00:24:50\n130 98 75 830 ΓΙΩΡΓΟΣ ΣΧΙΝΑΣ Α ΠΟΛΥΤΕΧΝΙΚΗ 00:25:12 00:24:53\n131 33 28 107 ΡΑΦΑΗΛΑ ΓΡΗΓΟΡΙΟΥ Γ ΘΕΤΙΚΩΝ ΕΠΙΣΤΗΜΩΝ 00:25:13 00:25:05\n132 99 76 835 ΜΙΧΑΗΛ ΚΑΡΑΜΠΑΣΗΣ Α ΠΟΛΥΤΕΧΝΙΚΗ 00:25:16 00:24:34\n133 100 9 446 ΙΩΑΝΝΗΣ ΑΣΠΡΙΔΗΣ Α 00:25:19 00:25:04\n134 34 29 209 ΝΙΚΗ ΚΑΡΑΝΙΚΟΛΗ Γ ΕΠΙΣΤΗΜΗΣ ΦΥΣΙΚΗΣ ΑΓΩΓΗΣ ΚΑΙ ΑΘΛΗΤΙΣΜΟΥ 00:25:20 00:24:42\n135 35 30 183 ΜΑΡΚΕΛΛΑ ΗΛΙΟΠΟΥΛΟΥ Γ ΦΙΛΟΣΟΦΙΚΗ 00:25:25 00:24:58\n136 36 31 400 ΕΥΗ ΒΑΖΑΚΙΔΟΥ Γ ΕΠΙΣΤΗΜΩΝ ΥΓΕΙΑΣ 00:25:31 00:24:55\n137 37 32 783 ΘΩΜΑΗ ΣΑΡΑΛΗ Γ ΕΠΙΣΤΗΜΩΝ ΥΓΕΙΑΣ 00:25:34 00:25:24\n138 101 77 91 ΠΑΝΑΓΙΩΤΗΣ ΚΑΤΡΑΝΙΤΣΙΩΤΗΣ Α ΘΕΤΙΚΩΝ ΕΠΙΣΤΗΜΩΝ 00:25:34 00:25:04\n139 102 78 342 ΘΕΟΔΟΣΙΟΣ ΚΑΡΑΜΑΝΟΣ Α ΠΟΛΥΤΕΧΝΙΚΗ 00:25:34 00:24:53\n140 103 79 298 ΣΤΑΥΡΟΣ ΣΠΑΝΟΥΔΗΣ Α ΕΠΙΣΤΗΜΩΝ ΥΓΕΙΑΣ 00:25:35 00:25:00\n141 38 33 881 ΚΑΤΕΡΙΝΑ ΚΑΜΑΡΑΤΟΥ Γ 00:25:36 00:25:04\n142 104 80 338 ΣΤΑΜΑΤΗΣ ΑΜΑΝΑΤΙΑΔΗΣ Α ΠΟΛΥΤΕΧΝΙΚΗ 00:25:39 00:24:57\n143 39 34 1036 ΕΥΑΝΘΙΑ ΓΙΑΝΝΟΠΟΥΛΟΥ Γ ΘΕΤΙΚΩΝ ΕΠΙΣΤΗΜΩΝ 00:25:39 00:25:19\n144 40 4 349 ΔΑΜΑΣΚΗΝΗ ΝΙΚΟΛΑΙΔΟΥ Γ 00:25:42 00:25:06\n145 105 81 468 ΝΙΚΟΛΑΟΣ ΑΣΠΡΙΔΗΣ Α 00:25:47 00:25:33\n146 106 82 982 ΑΛΚΙΝΟΟΣ ΠΑΠΑΧΑΡΙΣΗΣ Α 00:25:47 00:25:33\n147 107 83 220 ΚΥΡΙΑΚΟΣ ΧΑΤΖΗΠΑΝΑΓΙΩΤΙΔΗΣ Α ΟΙΚΟΝΟΜΙΚΩΝ ΚΑΙ ΠΟΛΙΤΙΚΩΝ ΕΠΙΣΤ. 00:25:50 00:25:36\n148 41 35 58 ΔΗΜΗΤΡΑ ΠΑΠΑΧΡΗΣΤΟΥ Γ ΝΟΜΙΚΗ 00:25:52 00:25:46\n149 108 4 273 ΚΥΡΙΑΚΟΣ ΧΑΤΖΗΔΗΜΗΤΡΙΟΥ Α 00:25:53 00:25:45\n150 42 36 34 ΣΤΑΥΡΟΥΛΑ ΣΙΑΜΟΓΛΟΥ Γ ΕΠΙΣΤΗΜΗΣ ΦΥΣΙΚΗΣ ΑΓΩΓΗΣ ΚΑΙ ΑΘΛΗΤΙΣΜΟΥ 00:25:53 00:25:43\n151 43 37 264 ΚΑΛΛΙΟΠΗ ΣΑΡΑΝΤΙΑΔΟΥ Γ ΕΠΙΣΤΗΜΩΝ ΥΓΕΙΑΣ 00:25:54 00:25:47\n152 44 38 846 TAISIA LOSEVA Γ ΠΟΛΥΤΕΧΝΙΚΗ 00:26:01 00:25:38\n153 45 39 359 ΜΑΡΙΑ MΠΕΝΟΒΙΑ Γ ΦΙΛΟΣΟΦΙΚΗ 00:26:02 00:25:41\n154 46 40 27 ΒΑΣΙΛΙΚΗ ΠΑΠΠΑ Γ ΦΙΛΟΣΟΦΙΚΗ 00:26:04 00:25:49\n155 47 41 376 ΕΛΙΝΑ ΜΑΣΤΟΡΑ Γ ΝΟΜΙΚΗ 00:26:04 00:25:55\n156 48 42 253 ΝΙΚΟΛΕΤΤΑ ΜΠΟΓΔΑΜΠΕΙΔΟΥ Γ ΕΠΙΣΤΗΜΗΣ ΦΥΣΙΚΗΣ ΑΓΩΓΗΣ ΚΑΙ ΑΘΛΗΤΙΣΜΟΥ 00:26:09 00:25:47\n157 49 43 173 ΑΡΤΕΜΙΣ ΔΙΑΒΟΛΑΚΟΥ Γ ΦΙΛΟΣΟΦΙΚΗ 00:26:09 00:25:55\n158 50 44 960 ΛΙΒΙΑ ΜΠΑΚΣΙΟΒΑ Γ ΠΟΛΥΤΕΧΝΙΚΗ 00:26:16 00:25:46\n159 109 84 137 ΠΕΤΡΟΣ ΚΟΥΛΟΥΡΗΣ Α ΠΟΛΥΤΕΧΝΙΚΗ 00:26:17 00:25:50\n160 51 45 203 ΑΛΕΞΑΝΔΡΑ ΤΥΡΟΥ Γ ΠΟΛΥΤΕΧΝΙΚΗ 00:26:19 00:25:42\n161 110 85 321 ΓΕΩΡΓΙΟΣ ΤΖΙΩΛΗΣ Α 00:26:21 00:25:55\n162 111 5 258 ΑΛΕΞΑΝΔΡΟΣ ΚΑΡΑΝΤΑΗΣ Α 00:26:27 00:25:40\n163 52 46 900 ΜΑΡΙΑ ΓΙΑΝΝΟΥΛΗ Γ ΦΙΛΟΣΟΦΙΚΗ 00:26:33 00:25:59\n164 112 86 21 ΔΑΝΙΗΛ ΔΑΙΤΣΗΣ Α ΕΠΙΣΤΗΜΗΣ ΦΥΣΙΚΗΣ ΑΓΩΓΗΣ ΚΑΙ ΑΘΛΗΤΙΣΜΟΥ 00:26:48 00:26:35\n165 113 87 230 ΣΕΡΑΦΕΙΜ ΣΩΤΗΡΛΗΣ Α ΕΠΙΣΤΗΜΗΣ ΦΥΣΙΚΗΣ ΑΓΩΓΗΣ ΚΑΙ ΑΘΛΗΤΙΣΜΟΥ 00:26:51 00:26:18\n166 114 6 380 ΦΩΤΗΣ ΨΩΜΟΠΟΥΛΟΣ Α 00:26:51 00:26:08\n167 53 47 167 ΕΥΑΓΓΕΛΙΑ ΚΑΜΠΟΥΡΑΚΗ Γ ΕΠΙΣΤΗΜΗΣ ΦΥΣΙΚΗΣ ΑΓΩΓΗΣ ΚΑΙ ΑΘΛΗΤΙΣΜΟΥ 00:26:53 00:26:28\n168 54 3 204 ΚΩΝΣΤΑΝΤΙΝΑ ΜΠΡΑΤΑΝΗ Γ 00:26:53 00:26:52\n169 115 88 387 ΧΑΡΑΛΑΜΠΟΣ ΚΟΥΠΠΑΡΗΣ Α ΕΠΙΣΤΗΜΗΣ ΦΥΣΙΚΗΣ ΑΓΩΓΗΣ ΚΑΙ ΑΘΛΗΤΙΣΜΟΥ 00:26:55 00:26:23\n170 116 6 164 ΙΩΑΝΝΗΣ ΔΙΤΤΟΠΟΥΛΟΣ Α 00:26:56 00:26:36\n171 117 89 110 ΑΛΕΞΑΝΔΡΟΣ ΔΟΛΔΟΥΡΗΣ Α ΦΙΛΟΣΟΦΙΚΗ 00:27:02 00:26:56\n172 118 90 965 ΓΕΩΡΓΙΟΣ ΜΠΟΥΡΤΖΗΣ Α ΝΟΜΙΚΗ 00:27:03 00:26:35\n173 119 91 198 ΠΑΝΤΕΛΗΣ ΛΥΣΑΝΔΡΟΥ Α ΕΠΙΣΤΗΜΗΣ ΦΥΣΙΚΗΣ ΑΓΩΓΗΣ ΚΑΙ ΑΘΛΗΤΙΣΜΟΥ 00:27:09 00:26:23\n174 120 92 873 ΝΙΚΟΛΑΟΣ ΕΞΑΡΧΟΣ Α ΠΟΛΥΤΕΧΝΙΚΗ 00:27:10 00:26:44\n175 55 48 116 ΗΛΕΤΡΑ ΡΑΦΑΗΛΙΔΟΥ Γ ΠΑΙΔΑΓΩΓΙΚΗ 00:27:10 00:27:05\n176 56 49 123 ΑΓΓΕΛΙΚΗ ΖΑΧΑΡΟΥΔΗ Γ ΦΙΛΟΣΟΦΙΚΗ 00:27:11 00:27:03\n177 57 50 862 EVELIEN MOLS Γ ΟΙΚΟΝΟΜΙΚΩΝ ΚΑΙ ΠΟΛΙΤΙΚΩΝ ΕΠΙΣΤ. 00:27:12 00:26:59\n178 121 93 79 ΔΗΜΗΤΡΗΣ ΛΙΟΤΑΤΗΣ Α ΕΠΙΣΤΗΜΗΣ ΦΥΣΙΚΗΣ ΑΓΩΓΗΣ ΚΑΙ ΑΘΛΗΤΙΣΜΟΥ 00:27:13 00:26:27\n179 58 51 168 ΕΛΕΝΗ ΚΑΜΠΟΥΡΑΚΗ Γ ΕΠΙΣΤΗΜΗΣ ΦΥΣΙΚΗΣ ΑΓΩΓΗΣ ΚΑΙ ΑΘΛΗΤΙΣΜΟΥ 00:27:16 00:26:52\n180 59 52 328 ΕΡΣΗ ΜΕΣΔΑΝΙΤΗ Γ 00:27:19 00:26:42\n181 60 53 105 ANGELIKI TSIRIGOTI Γ ΦΙΛΟΣΟΦΙΚΗ 00:27:20 00:27:13\n182 61 54 265 ΔΕΣΠΟΙΝΑ ΙΟΡΔΑΝΙΔΟΥ Γ ΓΕΩΠΟΝΙΑΣ\,ΔΑΣΟΛΟΓΙΑΣ ΚΑΙ ΦΥΣΙΚΟΥ ΠΕΡΙΒΑΛΛΟΝΤΟΣ 00:27:20 00:26:58\n183 62 55 388 ΧΡΥΣΑΝΘΗ ΚΑΡΔΑΣΗ Γ ΠΑΙΔΑΓΩΓΙΚΗ 00:27:25 00:27:17\n184 63 56 782 ΣΤΕΦΑΝΙΑ ΚΛΙΝΑΚΗ Γ ΕΠΙΣΤΗΜΩΝ ΥΓΕΙΑΣ 00:27:29 00:27:20\n185 64 57 825 ΜΥΡΙΑΜ ΧΡΙΣΤΟΔΟΥΛΟΥ Γ ΕΠΙΣΤΗΜΗΣ ΦΥΣΙΚΗΣ ΑΓΩΓΗΣ ΚΑΙ ΑΘΛΗΤΙΣΜΟΥ 00:27:36 00:27:19\n186 65 58 187 ΑΝΤΡΙΑ ΙΩΑΚΕΙΜ Γ ΕΠΙΣΤΗΜΗΣ ΦΥΣΙΚΗΣ ΑΓΩΓΗΣ ΚΑΙ ΑΘΛΗΤΙΣΜΟΥ 00:27:37 00:27:12\n187 66 59 197 ΟΛΥΜΠΙΑ ΑΠΟΣΤΟΛΟΠΟΥΛΟΥ Γ ΠΟΛΥΤΕΧΝΙΚΗ 00:27:39 00:27:20\n188 122 94 693 ΡΑΦΑΗΛ ΛΟΥΙΖΟΣ Α 00:27:45 00:27:13\n189 67 60 692 ΒΙΚΤΩΡΙΑ ΣΟΦΙΑΔΗ Γ ΠΟΛΥΤΕΧΝΙΚΗ 00:27:45 00:27:13\n190 68 61 221 ΑΙΚΑΤΕΡΙΝΗ ΑΔΑΜΙΔΟΥ Γ ΝΟΜΙΚΗ 00:27:56 00:27:33\n191 69 62 805 ΠΑΝΑΓΙΩΤΑ ΙΩΑΝΝΟΥ Γ ΕΠΙΣΤΗΜΩΝ ΥΓΕΙΑΣ 00:27:59 00:27:34\n192 123 95 787 ΑΝΤΩΝΗΣ ΒΑΜΒΟΥΡΑΣ Α ΦΙΛΟΣΟΦΙΚΗ 00:28:00 00:27:25\n193 70 63 848 ΣΤΕΦΑΝΙΑ ΔΑΜΙΑΝΟΥ Γ ΕΠΙΣΤΗΜΩΝ ΥΓΕΙΑΣ 00:28:09 00:27:44\n194 124 96 66 ΓΕΩΡΓΙΟΣ ΔΟΛΙΑΣ Α ΘΕΤΙΚΩΝ ΕΠΙΣΤΗΜΩΝ 00:28:12 00:27:46\n195 71 64 194 ΕΥΣΤΑΘΙΑ ΣΤΟΥΓΚΙΩΤΗ Γ ΝΟΜΙΚΗ 00:28:21 00:28:04\n196 72 65 896 ΔΕΣΠΟΙΝΑ ΚΕΖΟΥ Γ ΘΕΤΙΚΩΝ ΕΠΙΣΤΗΜΩΝ 00:28:21 00:28:02\n197 73 5 399 ΑΓΓΕΛΙΚΗ ΚΥΠΑΡΙΣΣΗ Γ 00:28:22 00:28:15\n198 125 97 888 ΧΡΗΣΤΟΣ ΛΑΜΠΟΥ Α 00:28:26 00:27:56\n199 74 1 797 ΕΛΕΝΑ ΣΙΑΡΚΟΥ Γ 00:28:28 00:27:59\n200 75 66 309 VIMALA VAIDYAN Γ ΦΙΛΟΣΟΦΙΚΗ 00:28:32 00:28:27\n201 126 98 1007 ΓΙΩΡΓΟΣ ΓΙΑΠΛΕΣ Α ΠΟΛΥΤΕΧΝΙΚΗ 00:28:32 00:26:51\n202 76 67 621 ΕΛΕΝΗ ΠΑΠΑΙΓΝΑΤΙΟΥ Γ ΕΠΙΣΤΗΜΩΝ ΥΓΕΙΑΣ 00:28:34 00:28:01\n203 77 68 884 ΑΣΗΜΙΝΑ ΧΟΥΛΙΟΥΜΗ Γ 00:28:47 00:28:18\n204 78 69 96 ΕΙΡΗΝΗ ΖΟΥΜΠΑΝΙΩΤΗ Γ ΕΠΙΣΤΗΜΩΝ ΥΓΕΙΑΣ 00:28:49 00:28:33\n205 127 99 49 ΔΗΜΗΤΡΙΟΣ ΦΩΤΕΙΝΟΣ Α ΠΟΛΥΤΕΧΝΙΚΗ 00:28:50 00:28:19\n206 79 70 814 ΡΑΦΑΕΛΑ ΙΩΑΝΝΟΥ Γ 00:28:50 00:28:26\n207 80 71 716 ΧΡΥΣΑΝΘΗ ΤΣΙΤΑΚΗ Γ ΦΙΛΟΣΟΦΙΚΗ 00:28:53 00:28:46\n208 81 4 236 ΠΑΡΑΣΚΕΥΗ ΚΥΡΙΑΚΟΥ Γ 00:28:55 00:28:19\n209 128 1 159 ΜΙΧΑΛΗΣ ΛΙΤΣΑΡΔΑΚΗΣ Α 00:28:56 00:28:18\n210 82 72 901 ΕΛΙΣΣΑΒΕΤ ΣΙΣΜΑΝΙΔΟΥ Γ ΝΟΜΙΚΗ 00:29:06 00:28:23\n211 129 100 1020 ΓΕΩΡΓΙΟΣ ΚΟΥΡΙΑΣ Α ΦΙΛΟΣΟΦΙΚΗ 00:29:13 00:28:38\n212 83 73 983 ΙΩΑΝΝΑ ΧΑΡΙΣΗ Γ ΕΠΙΣΤΗΜΗΣ ΦΥΣΙΚΗΣ ΑΓΩΓΗΣ ΚΑΙ ΑΘΛΗΤΙΣΜΟΥ 00:29:13 00:28:35\n213 130 7 341 ΕΜΜΑΝΟΥΗΛ ΜΗΤΣΟΠΟΥΛΟΣ Α 00:29:21 00:28:56\n214 131 101 370 ΚΩΝΣΤΑΝΤΙΝΟΣ ΚΕΡΑΜΑΡΗΣ Α ΠΟΛΥΤΕΧΝΙΚΗ 00:29:31 00:29:18\n215 84 74 241 ΓΕΩΡΓΙΑ ΧΑΙΝΟΓΛΟΥ Γ ΕΠΙΣΤΗΜΩΝ ΥΓΕΙΑΣ 00:29:39 00:29:15\n216 85 75 909 KINGA WDOWIARZ Γ ΕΠΙΣΤΗΜΩΝ ΥΓΕΙΑΣ 00:29:41 00:29:23\n217 132 10 634 ΔΗΜΗΤΡΗΣ ΘΕΣΣΑΛΟΝΙΚΕΥΣ Α 00:29:42 00:29:18\n218 86 76 216 ΣΤΕΦΑΝΙΑ-ΧΡΙΣΤΙΝΑ ΓΕΛΑΔΑΡΗ Γ ΠΟΛΥΤΕΧΝΙΚΗ 00:29:44 00:29:20\n219 87 2 141 ΒΑΣΙΛΕΙΑ ΧΑΤΖΗΤΑΚΗ Γ ΕΠΙΣΤΗΜΗΣ ΦΥΣΙΚΗΣ ΑΓΩΓΗΣ ΚΑΙ ΑΘΛΗΤΙΣΜΟΥ 00:29:46 00:29:16\n220 133 1 193 ΒΑΣΙΛΕΙΟΣ ΚΑΙΜΑΚΑΜΗΣ Α 00:29:46 00:29:42\n221 134 102 90 ΓΙΑΝΝΗΣ ΔΟΥΣΚΟΣ Α ΕΠΙΣΤΗΜΗΣ ΦΥΣΙΚΗΣ ΑΓΩΓΗΣ ΚΑΙ ΑΘΛΗΤΙΣΜΟΥ 00:29:48 00:29:28\n222 88 77 201 ΕΛΙΣΣΑΒΕΤ ΜΑΝΤΗ Γ ΕΠΙΣΤΗΜΩΝ ΥΓΕΙΑΣ 00:29:51 00:29:14\n223 89 6 242 ΑΝΑΣΤΑΣΙΑ ΑΘΑΝΑΣΙΑΔΟΥ Γ 00:29:55 00:29:36\n224 90 78 364 ΚΑΤΕΡΙΝΑ ΓΑΤΣΙΟΥ Γ 00:29:56 00:29:20\n225 91 79 199 ΕΛΛΗ ΠΑΠΑΡΑΞΗ Γ ΠΟΛΥΤΕΧΝΙΚΗ 00:30:00 00:29:23\n226 92 80 356 ΝΙΚΗ ΖΑΒΟΓΙΑΝΝΗ Γ ΕΠΙΣΤΗΜΩΝ ΥΓΕΙΑΣ 00:30:00 00:29:22\n227 93 81 150 ΕΥΔΟΚΙΑ ΣΟΦΙΑΝΟΠΟΥΛΟΥ Γ ΓΕΩΠΟΝΙΑΣ\,ΔΑΣΟΛΟΓΙΑΣ ΚΑΙ ΦΥΣΙΚΟΥ ΠΕΡΙΒΑΛΛΟΝΤΟΣ 00:30:08 00:30:01\n228 94 82 318 ΕΛΕΥΘΕΡΙΑ ΜΑΡΙΑ ΠΑΥΛΙΔΗ Γ ΦΙΛΟΣΟΦΙΚΗ 00:30:08 00:29:44\n229 135 103 857 ΣΤΕΡΓΙΟΣ ΑΓΓΟΣ Α ΕΠΙΣΤΗΜΗΣ ΦΥΣΙΚΗΣ ΑΓΩΓΗΣ ΚΑΙ ΑΘΛΗΤΙΣΜΟΥ 00:30:09 00:29:41\n230 95 3 261 ΑΛΕΞΑΝΔΡΑ ΤΣΑΜΠΟΥΡΑ Γ ΓΕΩΠΟΝΙΑΣ\,ΔΑΣΟΛΟΓΙΑΣ ΚΑΙ ΦΥΣΙΚΟΥ ΠΕΡΙΒΑΛΛΟΝΤΟΣ 00:30:14 00:30:03\n231 96 83 383 ΓΕΩΡΓΙΑ ΜΑΡΙΑ ΕΛΛΗΝΑ Γ ΟΙΚΟΝΟΜΙΚΩΝ ΚΑΙ ΠΟΛΙΤΙΚΩΝ ΕΠΙΣΤ. 00:30:17 00:29:41\n232 136 104 874 ΓΙΩΡΓΟΣ ΛΥΣΣΑΣ Α ΠΟΛΥΤΕΧΝΙΚΗ 00:30:18 00:29:58\n233 137 8 365 ΟΝΟΥΦΡΙΟΣ ΧΑΡΑΛΑΜΠΟΥΣ Α 00:30:20 00:30:01\n234 138 9 367 ΠΑΝΑΓΙΩΤΗΣ ΠΑΝΑΓΙΩΤΙΔΗΣ Α 00:30:20 00:30:00\n235 97 84 115 ΑΙΚΑΤΕΡΙΝΗ ΤΖΙΒΡΑ Γ ΠΑΙΔΑΓΩΓΙΚΗ 00:30:24 00:30:17\n236 98 85 160 ΚΟΡΙΝΑ ΣΤΑΥΡΟΥΛΑ ΜΑΣΣΟΥ Γ ΦΙΛΟΣΟΦΙΚΗ 00:30:27 00:30:08\n237 139 105 1003 ΔΗΜΟΣ ΜΠΑΜΠΑΔΕΛΗΣ Α ΘΕΤΙΚΩΝ ΕΠΙΣΤΗΜΩΝ 00:30:29 00:29:30\n238 140 106 267 ΚΟΣΜΑΣ ΣΠΑΝΙΔΗΣ Α ΠΟΛΥΤΕΧΝΙΚΗ 00:30:30 00:30:11\n239 99 86 80 ΧΡΙΣΤΙΑΝΑ ΝΙΚΟΛΑΟΥ Γ ΟΙΚΟΝΟΜΙΚΩΝ ΚΑΙ ΠΟΛΙΤΙΚΩΝ ΕΠΙΣΤ. 00:30:30 00:30:18\n240 100 87 921 CHRISTIANA MICHAIL Γ ΦΙΛΟΣΟΦΙΚΗ 00:30:31 00:30:19\n241 101 88 1012 ΑΝΑΣΤΑΣΙΑ ΚΥΡΙΑΚΙΔΟΥ Γ ΠΟΛΥΤΕΧΝΙΚΗ 00:30:38 00:30:06\n242 102 89 366 ΙΩΑΝΝΑ ΔΡΥΜΠΕΤΑ Γ ΠΟΛΥΤΕΧΝΙΚΗ 00:30:42 00:30:08\n243 141 107 959 ΚΩΝ/ΝΟΣ ΡΑΝΤΖΙΟΣ Α ΘΕΤΙΚΩΝ ΕΠΙΣΤΗΜΩΝ 00:30:43 00:30:25\n244 103 90 344 ΕΥΑΓΓΕΛΙΑ ΤΣΑΜΠΑΛΗ Γ ΘΕΤΙΚΩΝ ΕΠΙΣΤΗΜΩΝ 00:30:43 00:30:01\n245 142 108 829 ΣΤΥΛΙΑΝΟΣ ΒΟΥΒΟΥΔΗΣ Α ΟΙΚΟΝΟΜΙΚΩΝ ΚΑΙ ΠΟΛΙΤΙΚΩΝ ΕΠΙΣΤ. 00:30:44 00:29:58\n246 104 91 313 ΣΤΥΛΙΑΝΗ ΠΑΝΑΓΙΩΤΟΠΟΥΛΟΥ Γ ΠΑΙΔΑΓΩΓΙΚΗ 00:30:44 00:29:58\n247 105 92 129 ΧΡΙΣΤΙΝΑ ΜΑΥΡΙΔΟΥ Γ ΕΠΙΣΤΗΜΩΝ ΥΓΕΙΑΣ 00:30:50 00:30:13\n248 106 93 910 ΔΗΜΗΤΡΑ ΣΟΥΜΠΡΙ Γ ΝΟΜΙΚΗ 00:30:53 00:30:11\n249 107 94 290 ΑΡΓΥΡΩ ΓΚΟΥΤΖΙΟΥΛΗ Γ ΕΠΙΣΤΗΜΩΝ ΥΓΕΙΑΣ 00:30:59 00:30:43\n250 143 109 53 ΣΤΑΜΑΤΗΣ ΑΝΔΡΕΟΠΟΥΛΟΣ Α ΓΕΩΠΟΝΙΑΣ\,ΔΑΣΟΛΟΓΙΑΣ ΚΑΙ ΦΥΣΙΚΟΥ ΠΕΡΙΒΑΛΛΟΝΤΟΣ 00:31:17 00:30:38\n251 108 95 130 ΙΩΑΝΝΑ ΜΑΥΡΙΔΟΥ Γ ΦΙΛΟΣΟΦΙΚΗ 00:31:20 00:30:43\n252 144 10 140 ΓΕΩΡΓΙΟΣ ΒΕΗΣ Α 00:31:21 00:31:11\n253 109 96 45 ΑΙΚΑΤΕΡΙΝΗ ΦΩΤΕΙΝΟΥ Γ ΠΟΛΥΤΕΧΝΙΚΗ 00:31:31 00:31:02\n254 110 97 219 ΖΩΗ ΜΑΥΡΑΠΟΣΤΟΛΟΥ Γ ΕΠΙΣΤΗΜΗΣ ΦΥΣΙΚΗΣ ΑΓΩΓΗΣ ΚΑΙ ΑΘΛΗΤΙΣΜΟΥ 00:31:38 00:31:16\n255 111 98 876 ΧΡΙΣΤΙΝΑ ΚΑΠΕΤΑΝΙΟΥ Γ 00:31:39 00:31:07\n256 112 99 875 ΒΑΣΩ ΚΑΡΑΓΙΑΝΝΙΔΟΥ Γ 00:31:39 00:31:07\n257 113 100 532 ΑΘΑΝΑΣΙΑ ΦΕΚΑ Γ ΦΙΛΟΣΟΦΙΚΗ 00:31:39 00:31:06\n258 114 101 269 ΕΛΕΝΗ ΒΑΣΙΛΕΙΑΔΟΥ Γ ΟΙΚΟΝΟΜΙΚΩΝ ΚΑΙ ΠΟΛΙΤΙΚΩΝ ΕΠΙΣΤ. 00:31:53 00:31:42\n259 145 11 654 ΙΩΑΝΝΗΣ ΜΗΤΡΟΥ Α 00:32:07 00:31:44\n260 115 102 291 ΚΩΝΣΤΑΝΤΙΝΑ ΝΤΟΖΗ Γ ΝΟΜΙΚΗ 00:32:19 00:32:09\n261 146 7 64 ΕΥΑΝΘΗΣ ΧΑΤΖΗΒΑΣΙΛΕΙΟΥ Α ΠΑΙΔΑΓΩΓΙΚΗ 00:32:22 00:32:06\n262 116 7 113 ΜΑΡΙΑ ΜΑΝΕΤΑΚΗ Γ 00:32:23 00:32:06\n263 117 103 65 ΑΠΟΣΤΟΛΙΑ ΓΙΟΥΨΑΝΗ Γ 00:32:23 00:32:06\n264 147 12 176 ΑΠΟΣΤΟΛΟΣ ΤΣΙΑΛΗΣ Α 00:32:23 00:32:09\n265 118 104 134 ΧΑΡΟΥΛΑ ΠΟΤΣΙΟΥ Γ ΘΕΤΙΚΩΝ ΕΠΙΣΤΗΜΩΝ 00:32:39 00:32:01\n266 119 105 117 ΕΛΕΝΗ ΠΟΤΣΙΟΥ Γ ΦΙΛΟΣΟΦΙΚΗ 00:32:39 00:32:01\n267 120 5 363 ΑΘΗΝΑ ΓΑΤΣΙΟΥ Γ 00:32:47 00:32:11\n268 121 106 126 ΘΕΟΔΩΡΑ ΤΣΑΚΙΡΙΔΗ Γ ΘΕΤΙΚΩΝ ΕΠΙΣΤΗΜΩΝ 00:32:50 00:32:12\n269 148 2 322 ΚΩΝ/ΝΟΣ ΤΖΙΩΛΗΣ Α 00:33:07 00:32:41\n270 122 107 966 ΔΕΣΠΟΙΝΑ ΔΑΓΚΩΚΑΝΗ Γ ΦΙΛΟΣΟΦΙΚΗ 00:33:12 00:32:42\n271 149 7 404 ΓΕΩΡΓΙΟΣ ΠΑΧΟΥΜΗΣ Α 00:33:52 00:33:31\n272 123 8 402 ΕΥΘΥΜΙΑ ΕΥΘΥΜΙΟΥ Γ 00:33:54 00:33:33\n273 124 108 248 ΧΡΥΣΑΝΘΗ ΓΚΙΛΗ Γ ΘΕΤΙΚΩΝ ΕΠΙΣΤΗΜΩΝ 00:34:00 00:33:22\n274 125 109 179 ΣΤΕΡΓΙΑΝΗ ΤΣΑΜΚΙΡΑΝΗ Γ ΦΙΛΟΣΟΦΙΚΗ 00:34:00 00:33:22\n275 126 110 156 ΠΕΤΡΟΥΛΑ ΜΟΣΧΟΥ Γ ΦΙΛΟΣΟΦΙΚΗ 00:34:11 00:34:01\n276 127 111 232 ΜΑΡΙΑ ΚΑΡΑΟΥΛΑΝΗ Γ ΦΙΛΟΣΟΦΙΚΗ 00:34:22 00:33:43\n277 128 112 26 ΔΕΣΠΟΙΝΑ ΡΟΥΝΗ Γ ΟΙΚΟΝΟΜΙΚΩΝ ΚΑΙ ΠΟΛΙΤΙΚΩΝ ΕΠΙΣΤ. 00:34:34 00:33:56\n278 129 113 162 ΜΑΡΘΑ ΛΙΑΚΟΥ Γ ΦΙΛΟΣΟΦΙΚΗ 00:34:39 00:34:29\n279 130 114 841 ΑΓΛΑΙΑ ΝΑΚΟΥ Γ ΦΙΛΟΣΟΦΙΚΗ 00:34:41 00:34:20\n280 131 115 834 POLINA MALINOVA Γ ΦΙΛΟΣΟΦΙΚΗ 00:34:45 00:31:56\n281 132 116 855 VERONIKA PLESKOTOVA Γ ΦΙΛΟΣΟΦΙΚΗ 00:34:46 00:31:17\n282 150 110 343 ΑΘΑΝΑΣΙΟΣ ΚΑΡΑΙΟΡΔΑΝΙΔΗΣ Α ΘΕΤΙΚΩΝ ΕΠΙΣΤΗΜΩΝ 00:34:48 00:34:14\n283 133 117 391 ΤΡΙΣΕΥΓΕΝΗ ΣΕΛΕΒΙΣΤΑ Γ 00:34:49 00:34:20\n284 134 118 190 ΕΛΕΝΗ ΓΕΩΡΓΟΥΛΑ Γ ΠΑΙΔΑΓΩΓΙΚΗ 00:34:55 00:34:46\n285 135 119 348 ΣΟΦΙΑ NIKΟΛΑΚΟΠΟΥΛΟΥ Γ ΦΙΛΟΣΟΦΙΚΗ 00:35:14 00:34:55\n286 136 120 161 ΓΕΩΡΓΙΑ ΣΑΡΑΦΙΔΟΥ Γ ΠΟΛΥΤΕΧΝΙΚΗ 00:35:22 00:34:44\n287 137 121 250 ΜΑΡΙΑ ΠΕΤΡΙΔΟΥ Γ ΕΠΙΣΤΗΜΩΝ ΥΓΕΙΑΣ 00:35:29 00:35:01\n288 138 122 251 ΠΑΝΑΓΙΩΤΑ – ΣΕΡΑΦΙΝΑ ΝΤΕΡΕΚΑ Γ ΕΠΙΣΤΗΜΩΝ ΥΓΕΙΑΣ 00:35:30 00:35:02\n289 139 123 252 ΚΥΡΙΑΚΗ ΣΤΥΛΙΑΝΑΚΗ Γ ΕΠΙΣΤΗΜΩΝ ΥΓΕΙΑΣ 00:35:36 00:35:08\n290 140 124 390 ΜΥΡΟΦΟΡΑ ΧΑΝΔΡΟΥΛΙΔΟΥ Γ ΓΕΩΠΟΝΙΑΣ\,ΔΑΣΟΛΟΓΙΑΣ ΚΑΙ ΦΥΣΙΚΟΥ ΠΕΡΙΒΑΛΛΟΝΤΟΣ 00:35:44 00:35:15\n291 141 125 225 ΜΑΡΙΑ ΔΗΜΗΤΡΙΑΔΟΥ Γ ΘΕΟΛΟΓΙΚΗ 00:35:44 00:35:19\n292 151 111 340 ΠΑΝΑΓΙΩΤΗΣ KIOYΡΟΣ Α ΘΕΤΙΚΩΝ ΕΠΙΣΤΗΜΩΝ 00:35:45 00:35:12\n293 142 126 10 ΖΩΗ ΕΙΡΗΝΗ ΤΣΙΦΟΔΗΜΟΥ Γ ΠΟΛΥΤΕΧΝΙΚΗ 00:36:00 00:35:20\n294 143 127 172 ΑΙΚΑΤΕΡΙΝΗ ΤΕΡΝΕΚΤΣΗ Γ ΦΙΛΟΣΟΦΙΚΗ 00:36:01 00:35:50\n295 144 128 41 ΜΑΡΙΑΜ ΜΠΕΚΑΟΥΡΙ Γ ΝΟΜΙΚΗ 00:36:19 00:35:46\n296 145 4 60 ΜΑΡΙΑ ΓΙΩΤΗ Γ 00:36:24 00:35:59\n297 146 9 657 ΕΛΕΝΗ ΣΑΚΕΛΛΑΡΗ Γ 00:36:41 00:36:16\n298 147 129 42 ΔΗΜΗΤΡΑ ΒΡΟΥΣΓΟΥ Γ ΦΙΛΟΣΟΦΙΚΗ 00:36:55 00:36:22\n299 148 130 237 ΑΝΑΣΤΑΣΙΑ ΣΙΔΕΡΙΔΟΥ Γ ΦΙΛΟΣΟΦΙΚΗ 00:36:59 00:36:49\n300 149 131 352 ΧΡΙΣΤΙΝΑ ΑΒΡΑΜΙΔΟΥ Γ ΠΟΛΥΤΕΧΝΙΚΗ 00:37:03 00:36:31\n301 152 8 114 ΒΑΣΙΛΕΙΟΣ ΠΡΑΣΣΑΣ Α 00:37:05 00:36:48\n302 150 132 231 ΜΑΡΙΑ ΜΠΑΜΠΙΟΛΑΚΗ Γ ΕΠΙΣΤΗΜΩΝ ΥΓΕΙΑΣ 00:37:07 00:36:47\n303 153 112 1032 ΠΑΝΑΓΙΩΤΗΣ ΜΟΣΧΟΣ Α 00:37:21 00:36:46\n304 154 113 346 ΚΟΤΖΑΜΑΝΙΔΗΣ ΟΡΕΣΤΗΣ Α ΠΟΛΥΤΕΧΝΙΚΗ 00:37:24 00:36:53\n305 151 133 397 ΔΗΜΗΤΡΑ ΑΛΙΜΠΑΚΗ Γ ΘΕΤΙΚΩΝ ΕΠΙΣΤΗΜΩΝ 00:37:37 00:36:57\n306 152 134 1033 ΜΑΡΙΑ ΠΑΠΑΔΟΠΟΥΛΟΥ Γ ΦΙΛΟΣΟΦΙΚΗ 00:39:01 00:38:26\n307 153 135 1034 ΝΙΚΟΛΕΤΑ ΓΕΡΓΩΛΑ Γ ΦΙΛΟΣΟΦΙΚΗ 00:39:01 00:38:26\n308 154 136 271 ΔΟΜΝΑ ΙΣΑΑΚΙΔΟΥ Γ ΦΙΛΟΣΟΦΙΚΗ 00:39:45 00:39:04\n309 155 137 292 ΚΟΝΔΥΛΙΑ ΒΕΛΙΚΟΥ Γ ΘΕΤΙΚΩΝ ΕΠΙΣΤΗΜΩΝ 00:39:54 00:39:39\n310 156 1 17 ΜΑΡΙΑ ΙΟΡΔΑΝΙΔΟΥ Γ 00:40:04 00:39:59\n311 157 138 312 ΕΥΑΝΘΙΑ-ΕΜΜΑΝΟΥΕΛΑ ΓΙΑΝΝΑΡΟΥ Γ ΝΟΜΙΚΗ 00:40:17 00:40:05\n312 158 139 74 ΕΛΙΣΑΒΕΤ ΠΑΧΑΔΙΡΟΓΛΟΥ Γ ΘΕΤΙΚΩΝ ΕΠΙΣΤΗΜΩΝ 00:41:01 00:40:36\n313 159 140 336 ΕΙΡΗΝΗ ΑΡΓΥΡΟΠΟΥΛΟΥ Γ ΘΕΤΙΚΩΝ ΕΠΙΣΤΗΜΩΝ 00:41:01 00:40:26
URL:https://gorun.gr/race/8%ce%bf%cf%82-%ce%b1%cf%81%ce%b9%cf%83%cf%84%ce%bf%cf%84%ce%ad%ce%bb%ce%b5%ce%b9%ce%bf%cf%82-%ce%b4%cf%81%cf%8c%ce%bc%ce%bf%cf%82/
CATEGORIES:Αποτελέσματα,Δρόμος
ATTACH;FMTTYPE=image/jpeg:https://gorun.gr/wp-content/uploads/2016/04/arist2-90-plus1-αντίγραφο.jpg
END:VEVENT
END:VCALENDAR