BEGIN:VCALENDAR
VERSION:2.0
PRODID:-//goRUN - ECPv5.8.1//NONSGML v1.0//EN
CALSCALE:GREGORIAN
METHOD:PUBLISH
X-WR-CALNAME:goRUN
X-ORIGINAL-URL:https://gorun.gr
X-WR-CALDESC:Events for goRUN
BEGIN:VTIMEZONE
TZID:Europe/Athens
BEGIN:DAYLIGHT
TZOFFSETFROM:+0200
TZOFFSETTO:+0300
TZNAME:EEST
DTSTART:20160327T010000
END:DAYLIGHT
BEGIN:STANDARD
TZOFFSETFROM:+0300
TZOFFSETTO:+0200
TZNAME:EET
DTSTART:20161030T010000
END:STANDARD
END:VTIMEZONE
BEGIN:VEVENT
DTSTART;VALUE=DATE:20160904
DTEND;VALUE=DATE:20160905
DTSTAMP:20260425T172707
CREATED:20160801T201153Z
LAST-MODIFIED:20160905T195516Z
UID:9392-1472947200-1473033599@gorun.gr
SUMMARY:8ος Παραλίμνιος Δρόμος Ρυμνίου
DESCRIPTION:Μεγάλη συμμετοχή και φέτος στον 8ο Παραλίμνιο Αγώνα Δρόμου Ρυμνίου\, αφού ενενήντα (90) δρομείς από διάφορα μέρη της Ελλάδας βρέθηκαν στην εκκίνηση της διαδρομής των 16 χλμ και περί τους πενήντα (60) στον περιπατητικό δρόμο των 5 χλμ. \nΓια πρώτη φορά φέτος διοργανώθηκε και αγώνας 1.000μ περιμετρικά του Ρυμνίου για μικρά παιδιά. Ο ενθουσιασμός των 30 μικρών αθλητών και αθλητριών\, αφού χειροκροτήθηκαν από όλους τους συμμετέχοντες αθλητές και συνοδούς\, μεταδόθηκε στους ενήλικες αθλητές όπου.. \nΗ εκκίνηση δόθηκε στις 10:15πμ το πρωί της Κυριακής 4 Σεπτεμβρίου 2016 από την πλατεία του Ρυμνίου. Η διαδρομή περιελάμβανε την ασφάλτινη περί τα 7\,5 χλμ διαδρομή προςτο φράγμα του Ιλαρίωνα\, την παραλίμνια χωμάτινη διαδρομή και μέσω του πλατανόδασους Ρυμνίου τον τερματισμό στην πλατεία του χωριού. \nΗ διαδρομή άφησε απόλυτα ικανοποιημένους τους δρομείς από την ομορφιά του τοπίου και τις παροχές υποστήριξης. Η παράλίμνια και όχι μόνο περιοχή βρίθει από μια μεγάλη βιοπικοιλότητα σε πουλιά κυρίως τα οποία αποτελούν ένα εντυπωσιακό θέμα για όλους τους επισκέπτες. Μόνο μελανό σημείο η υπερβολική -για την εποχή- ζέστη που επικρατούσε την ώρα του αγώνα και ταλαιπώρησε σε κάποιο βαθμό τους δρομείς. Ο περιπατητικός δρόμος περιελάμβανε τη διαδρομή μέχρι το πλατανόδασος Ρυμνίου και την επιστροφή στην πλατεία. \nΤέλος η καθιερωμένη πλέον δεξίωση των δρομέων αλλά και των συνοδών τους από τους κατοίκους του Ρυμνίου υπήρξε για άλλη μια φορά παρομοιώδης και πολύ πλούσια. \nΘΕΣΗ ΧΡΟΝΟΣ ΑΡΙΘΜΟΣ ΕΠΙΘΕΤΟ ΟΝΟΜΑ ΣΥΛΛΟΓΟΣ\n1 0:59:37 103 ΚΟΥΤΣΟΥΜΠΙΔΗΣ ΔΗΜΗΤΡΙΟΣ ΣΔΟ ΕΟΡΔΑΙΑΣ 1ος Άνδρας\n2 1:00:16 73 ΠΑΓΟΥΝΟΠΟΥΛΟΣ ΣΤΕΛΙΟΣ ΝΑΚΟΣ ΤΕΑΜ 2ος Άνδρας\n3 1:04:26 138 ΚΟΥΤΖΙΑΚΟΥΤΖΙΔΗΣ ΚΩΝΣΤΑΝΤΙΝΟΣ ΚΑΣΙΜΗΣ 3ος Άνδρας\n4 1:04:45 88 ΚΑΛΟΥΪΑΝ ΣΕΜΠΑΣΤΙΑΝ ΙΩΑΝΝΙΝΑ\n5 1:05:55 98 ΣΤΟΓΙΑΝΝΗΣ ΑΘΑΝΑΣΙΟΣ ΣΔΟ ΕΟΡΔΑΙΑΣ\n6 1:11:03 80 ΡΟΒΥΘΑΚΗΣ ΑΝΑΣΤΑΣΙΟΣ ΣΔΥ ΚΟΖΑΝΗΣ\n7 1:11:14 66 ΔΡΟΥΔΑΚΗΣ ΑΛΕΞΑΝΔΡΟΣ ΓΡΕΒΕΝΑ\n8 1:11:23 53 ΔΟΥΡΒΑΣ ΘΩΜΑΣ ΣΔΥ ΚΟΖΑΝΗΣ\n8 1:11:23 121 ΝΕΟΦΩΤΙΣΤΟΣ ΝΙΚΟΛΑΟΣ ΣΔΥ ΚΟΖΑΝΗΣ\n10 1:12:03 113 ΣΚΟΡΔΑΣ ΑΘΑΝΑΣΙΟΣ ΣΔΥ ΚΟΖΑΝΗΣ\n11 1:12:22 102 ΠΑΤΗΘΡΑΣ ΓΕΩΡΓΙΟΣ ΛΑΜΙΑ\n12 1:12:57 65 ΚΟΤΣΑΓΙΑΝΝΙΔΗΣ ΒΑΛΑΝΤΗΣ ΣΔΥ ΚΟΖΑΝΗΣ\n13 1:14:46 124 ΤΑΡΑΜΑΝΗΣ ΣΤΑΥΡΟΣ ΣΔΥ ΚΟΖΑΝΗΣ\n13 1:14:46 125 ΜΑΣΣΑΣ ΚΩΝΣΤΑΝΤΙΝΟΣ ΣΔΟ ΕΟΡΔΑΙΑΣ\n15 1:15:07 55 ΧΡΙΣΤΟΔΟΥΛΟΥ ΘΕΟΔΩΡΟΣ ΣΔΥ ΚΟΖΑΝΗΣ\n16 1:16:29 135 ΝΕΣΤΟΡΑΣ ΔΗΜΗΤΡΙΟΣ ΑΣ ΛΑΒΑΝΙΤΣΑΣ\n17 1:17:43 126 ΤΖΙΚΑΝΟΥΛΑΣ ΧΡΗΣΤΟΣ ΣΔΥ ΚΟΖΑΝΗΣ\n18 1:18:12 67 ΤΖΗΜΟΣ ΝΙΚΟΛΑΟΣ ΓΡΕΒΕΝΑ\n19 1:18:58 120 ΝΙΚΟΥ ΕΥΑΓΓΕΛΙΑ ΣΔΥ ΚΟΖΑΝΗΣ 1η Γυναίκα\n20 1:18:59 86 ΒΑΒΛΙΑΡΑΣ ΑΣΤΕΡΙΟΣ ΣΔΥ ΚΟΖΑΝΗΣ\n21 1:19:12 123 ΜΠΟΥΖΜΠΑΣ ΘΩΜΑΣ ΣΔΥ ΚΟΖΑΝΗΣ\n22 1:19:30 74 ΖΙΑΡΑΣ ΚΩΝΣΤΑΝΤΙΝΟΣ ΣΔΥ ΚΟΖΑΝΗΣ\n23 1:19:44 108 ΧΑΣΙΩΤΗΣ ΚΩΝΣΤΑΝΤΙΝΟΣ ΣΔΥ ΚΟΖΑΝΗΣ\n24 1:19:50 57 ΠΑΠΑΔΟΠΟΥΛΟΣ ΧΑΡΙΣΙΟΣ ΣΔΥ ΚΟΖΑΝΗΣ\n25 1:20:06 127 ΧΑΤΖΗΣ ΘΕΟΔΩΡΟΣ ΤΙΤΑΝ ΣΕΡΒΙΩΝ\n26 1:20:15 116 ΜΠΡΕΤΣΑ ΜΑΡΙΑ ΣΔΥ ΚΟΖΑΝΗΣ 2η Γυναίκα\n27 1:20:21 95 ΚΡΙΤΣΑΝΗΣ ΑΛΕΞΑΝΔΡΟΣ ΣΔΟ ΕΟΡΔΑΙΑΣ\n28 1:20:42 64 ΣΑΡΗΜΑΝΩΛΗΣ ΣΥΜΕΩΝ ΣΔΥ ΚΟΖΑΝΗΣ\n29 1:20:43 136 ΓΡΗΓΟΡΙΑΔΟΥ ΜΑΚΡΙΝΑ ΟΜΓ 3η Γυναίκα\n30 1:21:25 118 ΖΑΡΚΑΔΑΣ ΣΤΥΛΙΑΝΟΣ ΑΝΕΞΑΡΤΗΤΟΣ\n31 1:21:30 115 ΤΣΑΚΙΛΤΖΙΔΗΣ ΚΥΡΙΑΚΟΣ ΣΔΥ ΚΟΖΑΝΗΣ\n32 1:21:37 77 ΚΑΤΡΑΝΙΔΗΣ ΓΕΩΡΓΙΟΣ ΣΔΥ ΚΟΖΑΝΗΣ\n33 1:21:56 137 ΚΑΤΣΟΥΛΑΣ ΑΝΔΡΕΑΣ ΟΜΓ\n34 1:22:19 52 ΝΕΣΤΟΡΟΠΟΥΛΟΣ ΚΩΝΣΤΑΝΤΙΝΟΣ ΣΔΥ ΚΟΖΑΝΗΣ\n34 1:22:19 91 ΒΑΣΔΑΡΗ ΣΟΥΖΑΝΑ ΣΔΥ ΚΟΖΑΝΗΣ\n36 1:22:29 85 ΑΡΒΑΝΙΤΗΣ ΝΙΚΟΛΑΟΣ ΜΑΣ ΡΥΜΝΙΟΥ\n36 1:22:29 101 ΚΕΧΑΓΙΑΣ ΦΩΤΙΟΣ ΑΝΕΞΑΡΤΗΤΟΣ\n36 1:22:29 128 ΔΑΝΙΗΛΙΔΗΣ ΑΘΑΝΑΣΙΟΣ ΣΔΥ ΚΟΖΑΝΗΣ\n39 1:22:37 110 ΜΥΛΩΝΑΣ ΕΥΑΓΓΕΛΟΣ ΑΝΕΞΑΡΤΗΤΟΣ\n40 1:22:48 117 ΚΑΝΔΥΛΙΩΤΗΣ ΠΑΝΑΓΙΩΤΗΣ ΣΔΥ ΚΟΖΑΝΗΣ\n41 1:23:42 51 ΒΑΜΒΑΣ ΑΘΑΝΑΣΙΟΣ ΣΔΥ ΚΟΖΑΝΗΣ\n41 1:23:42 100 ΠΑΠΑΔΟΠΟΥΛΟΣ ΙΩΑΝΝΗΣ ΣΔΟ ΕΟΡΔΑΙΑΣ\n41 1:23:42 129 ΦΙΛΗΜΕΓΚΑΣ ΓΕΩΡΓΙΟΣ ΟΜΓ\n44 1:24:05 75 ΤΣΙΧΟΥΡΙΔΗΣ ΔΗΜΗΤΡΙΟΣ ΣΔΥ ΚΟΖΑΝΗΣ\n45 1:24:06 109 ΠΕΤΡΟΠΟΥΛΟΣ ΔΗΜΗΤΡΙΟΣ ΣΔΥ ΚΟΖΑΝΗΣ\n46 1:25:10 83 ΛΑΒΑΣΣΑΣ ΚΥΡΙΑΚΟΣ ΣΔΥ ΚΟΖΑΝΗΣ\n46 1:25:10 87 ΤΖΑΒΑΡΑ ΝΙΚΟΛΕΤΑ ΙΩΑΝΝΙΝΑ\n48 1:25:44 70 ΘΩΙΔΗΣ ΓΕΩΡΓΙΟΣ ΣΔΥ ΚΟΖΑΝΗΣ\n49 1:26:33 114 ΜΠΕΚΟΣ ΒΑΣΙΛΕΙΟΣ ΤΡΙΚΑΛΑ\n50 1:27:47 61 ΚΥΠΗΡΤΙΔΟΥ ΑΝΑΣΤΑΣΙΑ ΣΔΥ ΚΟΖΑΝΗΣ\n51 1:27:49 141 ΦΙΛΗΜΕΓΚΑΣ ΚΩΝΣΤΑΝΤΙΝΟΣ ΑΝΕΞΑΡΤΗΤΟΣ\n52 1:27:50 135 ΜΟΥΣΕΝΑΣ ΓΡΗΓΟΡΗΣ ΒΕΡΟΙΑ\n53 1:28:05 96 ΚΙΛΗΣ ΚΥΡΙΑΚΟΣ ΣΔΟ ΕΟΡΔΑΙΑΣ\n54 1:28:21 59 ΤΖΟΥΜΕΡΚΙΩΤΗΣ ΓΡΗΓΟΡΗΣ ΣΔΥ ΚΟΖΑΝΗΣ\n55 1:28:39 106 ΠΑΛΙΟΥΡΑΣ ΑΘΑΝΑΣΙΟΣ ΑΝΕΞΑΡΤΗΤΟΣ\n56 1:30:04 107 ΔΑΒΙΔΟΠΟΥΛΟΣ ΧΑΡΑΛΑΜΠΟΣ ΣΔΥ ΚΟΖΑΝΗΣ\n57 1:30:31 76 ΜΟΣΧΟΥΛΗΣ ΕΥΣΤΡΑΤΙΟΣ ΣΔΥ ΚΟΖΑΝΗΣ\n57 1:30:31 139 ΝΤΟΥΜΟΣ ΕΥΑΓΓΕΛΟΣ ΣΥΛ ΜΑΡΑΘΩΝΟΔΡΟΜΩΝ ΛΑΡΙΣΑΣ\n57 1:30:31 140 ΠΑΠΑΣΤΕΡΓΙΟΥ ΚΩΝΣΤΑΝΤΙΝΟΣ ΣΥΛ ΜΑΡΑΘΩΝΟΔΡΟΜΩΝ ΛΑΡΙΣΑΣ\n60 1:31:11 78 ΛΙΟΣΚΗΣ ΔΗΜΗΤΡΙΟΣ ΛΑΜΙΑ\n61 1:32:16 56 ΚΑΠΛΑΝΟΓΛΟΥ ΠΑΝΤΕΛΗΣ ΣΔΥ ΚΟΖΑΝΗΣ\n62 1:32:27 84 ΣΙΑΜΑΓΚΑΣ ΓΕΩΡΓΙΟΣ ΠΕΙΡΑΙΑΣ\n63 1:32:28 104 ΣΤΑΜΟΣ ΓΕΩΡΓΙΟΣ ΑΝΕΞΑΡΤΗΤΟΣ\n64 1:33:13 142 ΜΙΧΟΣ ΓΡΗΓΟΡΙΟΣ ΑΝΕΞΑΡΤΗΤΟΣ\n65 1:34:41 93 ΡΗΤΑ ΣΤΕΛΛΑ ΙΩΑΝΝΙΝΑ\n66 1:34:57 69 ΤΣΙΑΡΑΣ ΣΩΤΗΡΙΟΣ ΤΡΙΚΑΛΑ\n67 1:36:42 68 ΔΡΟΥΔΑΚΗΣ ΔΗΜΗΤΡΙΟΣ ΓΡΕΒΕΝΑ\n68 1:36:58 92 ΤΣΑΛΗΣ ΗΛΙΑΣ ΙΩΑΝΝΙΝΑ\n69 1:37:04 134 ΕΥΑΓΓΕΛΟΠΟΥΛΟΣ ΚΩΝΣΤΑΝΤΙΝΟΣ ΣΔΥ ΚΟΖΑΝΗΣ\n70 1:37:07 111 ΕΓΡΕΣ ΖΑΦΕΙΡΗΣ ΚΑΛΟΝΕΡΙ\n71 1:38:00 79 ΜΑΓΚΟΥ ΛΑΖΑΡΟΣ ΣΔΟ ΕΟΡΔΑΙΑΣ\n72 1:38:40 58 ΤΖΗΚΑΣ ΙΩΑΝΝΗΣ ΣΔΥ ΚΟΖΑΝΗΣ\n73 1:38:47 62 ΛΟΥΜΠΟΥΤΣΚΟΣ ΔΗΜΗΤΡΙΟΣ ΣΔΥ ΚΟΖΑΝΗΣ\n74 1:39:17 132 ΓΑΥΡΟΣ ΑΝΑΣΤΑΣΙΟΣ ΣΔΥ ΚΟΖΑΝΗΣ\n75 1:39:19 89 ΠΕΤΡΟΥ ΙΩΑΝΝΑ ΓΡΕΒΕΝΑ\n75 1:39:19 90 ΔΡΟΥΔΑΚΗΣ ΙΩΑΝΝΗΣ ΚΟΖΑΝΗ ή ΣΔΥ ΚΟΖΑΝΗΣ????\n77 1:39:36 71 ΧΡΥΣΟΣΤΟΜΙΔΗΣ ΘΕΟΧΑΡΗΣ ΜΑΣ ΡΥΜΝΙΟΥ\n78 1:39:37 94 ΚΟΥΙΜΤΖΙΔΗΣ ΔΗΜΗΤΡΙΟΣ ΣΔΥ ΚΟΖΑΝΗΣ\n79 1:42:04 81 ΠΑΠΑΤΟΛΙΟΣ ΑΠΟΣΤΟΛΟΣ ΣΔΥ ΚΟΖΑΝΗΣ\n79 1:42:04 82 ΚΑΡΥΠΙΔΗΣ ΜΗΝΑΣ ΑΝΕΞΑΡΤΗΤΟΣ ή ΣΔΥ ΚΟΖΑΝΗΣ????\n81 1:43:11 122 ΒΑΪΤΣΗΣ ΙΩΑΝΝΗΣ ΤΙΤΑΝ ΣΕΡΒΙΩΝ\n82 1:43:24 54 ΧΡΙΣΤΟΔΟΥΛΟΥ ΣΑΒΒΑΣ ΣΔΥ ΚΟΖΑΝΗΣ\n83 1:44:46 130 ΚΩΣΤΟΠΟΥΛΟΣ ΒΑΣΙΛΕΙΟΣ ΣΔΥ ΚΟΖΑΝΗΣ\n84 1:47:54 112 ΤΟΤΣΚΑΣ ΜΑΡΚΟΣ ΣΔΥ ΚΟΖΑΝΗΣ\n85 1:50:47 105 ΣΟΦΟΓΛΟΥ ΑΠΟΣΤΟΛΟΣ ΣΔΥ ΚΟΖΑΝΗΣ\n86 1:51:00 72 ΘΕΜΕΛΗΣ ΓΕΩΡΓΙΟΣ ΤΡΙΚΑΛΑ\n87 1:55:20 131 ΒΑΡΓΙΑΜΗΣ ΟΔΥΣΣΕΑΣ ΑΥΓΕΡΙΝΟΣ\n88 2:00:35 97 ΤΥΠΟΥ ΙΩΑΝΝΗΣ ΑΝΕΞΑΡΤΗΤΟΣ\n89 99 ΑΦΕΝΤΟΥΛΗ ΓΙΩΤΑ ΤΡΑΧΙΝΑ Τερμάτησε από τη μεριά τις εκκίνησης\, δεν έχουμε χρόνο. Εξέφρασε ΕΝΤΟΝΑ παράπονα για τη σήμανση\n90 60 ΝΤΑΝΚΑΣ ΠΑΝΑΓΙΩΤΗΣ ΣΔΥ ΚΟΖΑΝΗΣ\n91 63 ΣΠΑΝΙΔΗΣ ΤΑΣΟΣ ΣΔΥ ΚΟΖΑΝΗΣ Δεν πήρε μέρος
URL:https://gorun.gr/race/8%ce%bf%cf%82-%cf%80%ce%b1%cf%81%ce%b1%ce%bb%ce%af%ce%bc%ce%bd%ce%b9%ce%bf%cf%82-%ce%b4%cf%81%cf%8c%ce%bc%ce%bf%cf%82-%cf%81%cf%85%ce%bc%ce%bd%ce%af%ce%bf%cf%85/
CATEGORIES:Αποτελέσματα,Δρόμος
END:VEVENT
END:VCALENDAR