BEGIN:VCALENDAR
VERSION:2.0
PRODID:-//goRUN - ECPv5.8.1//NONSGML v1.0//EN
CALSCALE:GREGORIAN
METHOD:PUBLISH
X-WR-CALNAME:goRUN
X-ORIGINAL-URL:https://gorun.gr
X-WR-CALDESC:Events for goRUN
BEGIN:VTIMEZONE
TZID:Europe/Athens
BEGIN:DAYLIGHT
TZOFFSETFROM:+0200
TZOFFSETTO:+0300
TZNAME:EEST
DTSTART:20160327T010000
END:DAYLIGHT
BEGIN:STANDARD
TZOFFSETFROM:+0300
TZOFFSETTO:+0200
TZNAME:EET
DTSTART:20161030T010000
END:STANDARD
END:VTIMEZONE
BEGIN:VEVENT
DTSTART;VALUE=DATE:20160730
DTEND;VALUE=DATE:20160731
DTSTAMP:20260422T014039
CREATED:20160705T141354Z
LAST-MODIFIED:20160801T201043Z
UID:8696-1469836800-1469923199@gorun.gr
SUMMARY:9ος Αγώνας Δρόμου Δαϊκλής 2016
DESCRIPTION:9ος Αγώνας Δρόμου ΔΑΪΚΛΗΣ 2016 \nΜάνεσι Μεσσηνίας\n7\,5 χιλιόμετρα \nα/α ΧΡΟΝΟΣ ΟΝΟΜΑΤΕΠΩΝΥΜΟ ΚΑΤΗΓΟΡΙΑ ΣΥΛΛΟΓΟΣ \n1 00:27:01 KANO ΕMILIANO Άνδρες 20-29 ΣΔΥ ΜΕΣΣΗΝΙΑΣ\n2 00:27:15 ΣΚΟΥΤΑΡΗΣ ΝΙΚΟΛΑΟΣ Άνδρες 30-39 ΑΝΕΞΑΡΤΗΤΟΣ/Η\n3 00:27:27 ΝΙΚΟΛΟΠΟΥΛΟΣ ΗΛΙΑΣ Άνδρες 30-39 ΣΔΥ ΜΕΣΣΗΝΙΑΣ\n4 00:29:08 ΜΠΑΚΑΣ ΗΛΙΑΣ Άνδρες 30-39 ΚΟΥΡΟΣ ΑΙΓΙΝΑΣ\n5 00:29:13 ΚΛΑΔΗΣ ΘΑΝΑΣΗΣ Άνδρες 50-59 ΣΔΥ ΜΕΣΣΗΝΙΑΣ\n6 00:29:39 ΚΑΠΟΓΛΗΣ ΗΛΙΑΣ Άνδρες 40-49 YMITTOS RUNNERS\n7 00:29:46 ΚΑΛΑΜΠΟΚΗΣ ΠΑΝΑΓΙΩΤΗΣ Άνδρες 20-29 ΣΔΥ ΜΕΣΣΗΝΙΑΣ\n8 00:30:11 ΠΑΠΑΔΟΠΟΥΛΟΣ ΣΤΑΥΡΟΣ Άνδρες 30-39 ΣΔΥ ΜΕΣΣΗΝΙΑΣ\n9 00:30:29 ΚΑΝΕΛΟΠΟΥΛΟΣ ΣΩΤΗΡΗΣ Άνδρες 40-49 ΣΔΥ ΜΕΣΣΗΝΙΑΣ\n10 00:30:34 ΨΑΛΛΙΔΑΣ ΓΕΩΡΓΙΟΣ Άνδρες 40-49 ΣΔΥ ΜΕΣΣΗΝΙΑΣ\n11 00:30:42 ΠΑΣΣΙΑΣ ΔΗΜΗΤΡΗΣ Άνδρες 40-49 ΣΔΥ ΜΕΣΣΗΝΙΑΣ\n12 00:31:06 ΠΑΠΑΔΟΠΟΥΛΟΣ ΒΑΣΙΛΗΣ Άνδρες 30-39 ΤΥΡΝΑΒΟΣ ΛΑΡΙΣΑΣ\n13 00:31:13 ΦΩΤΑΚΗΣ ΣΠΥΡΟΣ Άνδρες 40-49 ΣΔΥ ΜΕΣΣΗΝΙΑΣ\n14 00:31:55 ΟΙΚΟΝΟΜΟΠΟΥΛΟΣ ΜΙΧΑΛΗΣ Άνδρες 50-59 ΣΔΥ ΜΕΣΣΗΝΙΑΣ\n15 00:32:10 ΑΔΑΜΟΠΟΥΛΟΣ ΑΝΤΩΝΗΣ Άνδρες 40-49 ΟΛΥΜΠΙΑΚΟΣ ΖΑΧΑΡΩΣ\n16 00:32:34 ΣΠΥΡΟΠΟΥΛΟΣ ΚΩΣΤΑΣ Άνδρες 40-49 ΣΔΥ ΜΕΣΣΗΝΙΑΣ\n17 00:32:58 ΜΠΑΡΑΣ ΒΑΣΙΛΕΙΟΣ Άνδρες 50-59 ΣΑΦΑΝΣ\n18 00:33:02 ΠΑΡΑΣΚΕΥΟΠΟΥΛΟΣ ΚΩΝΣΤΑΝΤΙΝΟΣ Άνδρες 50-59 ΣΔΥ ΜΕΣΣΗΝΙΑΣ\n19 00:33:04 ΜΑΡΚΟΥ ΝΙΝΑ Γυναίκες 30-39 ΝΑΥΠΛΙΟ\n20 00:33:06 ΧΟΥΛΙΑΡΗΣ ΜΙΧΑΛΗΣ Άνδρες 50-59 ΑΝΕΞΑΡΤΗΤΟΣ/Η\n21 00:33:11 ΣΚΡΟΠΟΛΙΘΑΣ ΠΑΝΤΕΛΗΣ Άνδρες 40-49 ΑΝΕΞΑΡΤΗΤΟΣ/Η\n22 00:33:15 ΚΑΡΚΑΣΙΝΑΣ ΑΛΕΞΑΝΔΡΟΣ Άνδρες 30-39 ΣΔΥ ΜΕΣΣΗΝΙΑΣ\n23 00:33:25 ΓΙΩΤΑ ΑΣΗΜΑΚΟΥ Γυναίκες 20-29 ΣΔΥ ΜΕΣΣΗΝΙΑΣ\n24 00:33:29 ΦΛΩΡΟΣ ΙΩΑΝΝΗΣ Άνδρες 40-49 ΣΔΥ ΜΕΣΣΗΝΙΑΣ\n25 00:33:34 ΤΖΑΝΕΤΟΣ ΔΗΜΗΤΡΙΟΣ Άνδρες 50-59 ΑΝΕΞΑΡΤΗΤΟΣ/Η\n26 00:33:45 ΑΛΕΞΗ ΕΦΗ Γυναίκες 30-39 ΣΔΥ ΜΕΣΣΗΝΙΑΣ\n27 00:33:46 ΚΑΤΣΙΡΗΣ ΓΙΩΡΓΟΣ Άνδρες 40-49 ΣΔΥ ΜΕΣΣΗΝΙΑΣ\n28 00:33:53 ΖΕΠΠΟΣ ΝΙΚΟΛΑΟΣ Άνδρες 30-39 ΣΔΥ ΜΕΣΣΗΝΙΑΣ\n29 00:33:59 ΠΑΠΑΜΙΚΡΟΥΛΗΣ ΠΕΤΡΟΣ Άνδρες 50-59 ΣΔΥ ΜΕΣΣΗΝΙΑΣ\n30 00:34:04 ΜΠΟΥΝΑΣ ΝΙΚΟΛΑΟΣ Άνδρες 30-39 ΣΔΥ ΜΕΣΣΗΝΙΑΣ\n31 00:34:08 ΤΣΙΧΛΗΣ ΑΝΤΩΝΗΣ Άνδρες κάτω των 20 ΜΑΝΕΣΙ\n32 00:34:13 ΚΑΡΑΝΤΖΙΑΣ ΑΝΑΣΤΑΣΙΟΣ Άνδρες 40-49 ΝΟΣΔΑ\n33 00:34:16 ΒΑΛΑΣΗΣ ΔΗΜΗΤΡΗΣ Άνδρες 50-59 ΣΔΥ ΜΕΣΣΗΝΙΑΣ\n34 00:34:26 ΜΠΟΥΛΟΥΤΑΣ ΔΗΜΗΤΡΙΟΣ Άνδρες 20-29 ΑΝΕΞΑΡΤΗΤΟΣ/Η\n35 00:34:29 ΜΗΤΡΟΠΟΥΛΟΣ ΓΡΗΓΟΡΗΣ Άνδρες 30-39 ΑΝΕΞΑΡΤΗΤΟΣ/Η\n36 00:34:33 ΑΝΤΩΝΟΠΟΥΛΟΣ ΚΩΝ/ΝΟΣ Άνδρες 30-39 ΣΔΥ ΜΕΣΣΗΝΙΑΣ\n37 00:34:42 ΚΟΝΤΟΛΕΤΑΣ ΔΗΜΗΤΡΗΣ Άνδρες 20-29 ΑΝΕΞΑΡΤΗΤΟΣ/Η\n38 00:34:44 ΜΙΤΟΣ ΔΙΑΜΑΝΤΗΣ Άνδρες κάτω των 20 ΤΡΙΠΟΛΗ\n39 00:34:57 ΠΑΝΑΓΙΩΤΟΠΟΥΛΟΣ ΚΥΡΙΑΚΟΣ Άνδρες 40-49 ΣΔΥ ΜΕΣΣΗΝΙΑΣ\n40 00:35:01 ΓΚΓΙΚΟΝΤΕΣ ΣΩΤΗΡΗΣ ΑΝΕΞΑΡΤΗΤΟΣ/Η\n41 00:35:30 ΔΗΜΗΤΡΟΠΟΥΛΟΣ ΠΑΝΑΓΙΩΤΗΣ Άνδρες 50-59 ΑΝΕΞΑΡΤΗΤΟΣ/Η\n42 00:35:32 ΑΛΕΞΟΠΟΥΛΟΣ ΠΑΝΑΓΙΩΤΗΣ Άνδρες 30-39 ΣΔΥ ΜΕΣΣΗΝΙΑΣ\n43 00:35:34 ΚΑΓΚΑΛΟΥ ΚΑΤΕΡΙΝΑ Γυναίκες 20-29 ΝΑΥΠΛΙΟ\n44 00:36:18 ΞΙΑΡΧΟΣ ΓΙΩΡΓΟΣ Άνδρες 30-39 ΣΔΥ ΜΕΣΣΗΝΙΑΣ\n45 00:36:21 ΣΤΕΡΓΙΟΣ ΗΛΙΑΣ Άνδρες 30-39 ΚΥΠΑΡΙΣΣΙΑ\n46 00:36:26 ΠΑΣΣΙΑΣ ΓΕΩΡΓΙΟΣ Άνδρες 40-49 ΣΔΥ ΜΕΣΣΗΝΙΑΣ\n47 00:36:32 ΠΕΤΡΟΥΛΑΣ ΔΗΜΗΤΡΗΣ Άνδρες 40-49 ΜΕΣΣΗΝΙΟΙ ΔΡΟΜΕΙΣ\n48 00:36:46 ΒΕΒΕΣ ΓΕΩΡΓΙΟΣ Άνδρες 40-49 ΣΔΥ ΜΕΣΣΗΝΙΑΣ\n49 00:36:50 ΜΙΧΑΛΟΠΟΥΛΟΣ ΚΩΝΣΤΑΝΤΙΝΟΣ Άνδρες 40-49 ΣΔΥ ΜΕΣΣΗΝΙΑΣ\n50 00:37:01 ΖΟΥΖΟΥΛΑΣ ΣΤΑΥΡΟΣ Άνδρες 50-59 ΣΔΥ ΜΕΣΣΗΝΙΑΣ\n51 00:37:05 ΚΑΡΜΙΡΗΣ ΠΑΝΑΓΙΩΤΗΣ Άνδρες 40-49 ΣΔΥ ΜΕΣΣΗΝΙΑΣ\n52 00:37:23 ΓΙΑΝΝΕΛΗΣ ΑΝΑΣΤΑΣΙΟΣ Άνδρες 30-39 ΑΝΕΞΑΡΤΗΤΟΣ/Η\n53 00:37:26 ΒΑΣΙΛΑΔΙΩΤΗ ΙΩΑΝΝΑ Γυναίκες 40-49 ΣΔΥ ΜΕΣΣΗΝΙΑΣ\n54 00:37:41 ΗΛΙΑΔΗΣ ΠΑΡΗΣ Άνδρες 30-39 Χ-TREME STORES TEAM\n55 00:37:44 ΚΟΛΑΜΠΑ ΔΗΜΗΤΡΑ Γυναίκες 50+ ΣΔΥ ΜΕΣΣΗΝΙΑΣ\n56 00:37:46 ΛΟΝΤΟΣ ΣΤΑΥΡΟΣ Άνδρες 30-39 ΣΔΥ ΜΕΣΣΗΝΙΑΣ\n57 00:37:51 ΑΓΓΟΥΡΑΣ ΓΕΩΡΓΙΟΣ Άνδρες 40-49 ΑΝΕΞΑΡΤΗΤΟΣ/Η\n58 00:38:09 ΚΟΖΟΜΠΟΛΗΣ ΠΑΝΑΓΙΩΤΗΣ Άνδρες 20-29 Xtreme stores team- ΣΔΥ ΜΕΣΣΗΝΙΑΣ\n59 00:38:21 ΚΟΖΟΜΠΟΛΗΣ ΓΙΩΡΓΟΣ Άνδρες 20-29 Xtreme stores team- ΣΔΥ ΜΕΣΣΗΝΙΑΣ\n60 00:38:37 ΡΑΧΙΩΤΗΣ ΚΩΝΣΤΑΝΤΙΝΟΣ Άνδρες 50-59 ΑΡΙΑΔΝΗ\n61 00:38:39 ΔΑΣΚΑΛΑΚΗΣ ΒΑΓΓΕΛΗΣ Άνδρες 60-69 ΣΔΥ ΜΕΣΣΗΝΙΑΣ\n62 00:38:43 ΦΙΛΙΠΠΟΠΟΥΛΟΣ ΑΝΑΣΤΑΣΙΟΣ Άνδρες 50-59 ΣΔΥ ΜΕΣΣΗΝΙΑΣ\n63 00:39:15 ΦΛΩΡΟΥ ΣΤΑΥΡΟΥΛΑ Γυναίκες 20-29 ΣΔΥ ΜΕΣΣΗΝΙΑΣ\n64 00:39:29 ΚΑΛΑΜΠΟΚΗΣ ΑΝΑΣΤΑΣΙΟΣ Άνδρες 60-69 ΣΔΥ ΜΕΣΣΗΝΙΑΣ\n65 00:39:38 ΚΑΡΟΥΤΖΟΣ ΧΡΗΣΤΟΣ Άνδρες κάτω των 20 ΠΟΛΥΛΟΦΟΣ\n66 00:39:41 ΒΑΡΒΑΤΣΟΥΛΗΣ ΘΑΝΑΣΗΣ Άνδρες 40-49 ΑΝΕΞΑΡΤΗΤΟΣ/Η\n67 00:39:45 ΚΡΟΜΠΑΣ ΠΑΝΑΓΙΩΤΗΣ Άνδρες 50-59 ΣΔΥ ΜΕΣΣΗΝΙΑΣ\n68 00:39:53 ΤΣΕΡΕΦΟΣ ΔΗΜΗΤΡΗΣ Άνδρες 30-39 ΣΔΥ ΜΕΣΣΗΝΙΑΣ\n69 00:40:15 ΡΟΙΠΑΣ ΠΑΥΛΟΣ Άνδρες 20-29 ΑΝΕΞΑΡΤΗΤΟΣ/Η\n70 00:40:18 ΣΑΚΕΛΛΑΡΟΠΟΥΛΟΣ ΝΙΚΟΣ Άνδρες 30-39 ΣΔΥ ΜΕΣΣΗΝΙΑΣ\n71 00:40:20 ΠΑΠΑΓΕΩΡΓΙΟΥ ΣΤΕΛΙΟΣ Άνδρες κάτω των 20 ΤΡΙΠΟΛΗ\n72 00:40:26 ΧΡΗΣΤΕΑΣ ΔΗΜΗΤΡΗΣ Άνδρες 30-39 ΑΝΕΞΑΡΤΗΤΟΣ/Η\n73 00:40:34 ΔΡΑΚΟΥΛΑΚΟΣ ΚΩΝΣΤΑΝΤΙΝΟΣ Άνδρες 30-39 ΣΔΥ ΜΕΣΣΗΝΙΑΣ\n74 00:40:45 ΧΟΝΤΟΥ ΑΡΙΑΝΝΑ Γυναίκες 40-49 ΣΔΥ ΜΕΣΣΗΝΙΑΣ\n75 00:40:52 ΜΙΧΑΛΟΠΟΥΛΟΥ ΕΛΕΝΑ Γυναίκες 30-39 ΣΔΥ ΜΕΣΣΗΝΙΑΣ\n76 00:40:59 ΠΑΥΛΟΠΟΥΛΟΣ ΤΑΣΟΣ Άνδρες 40-49 ΣΔΥ ΜΕΣΣΗΝΙΑΣ\n77 00:41:06 ΛΟΝΤΟΣ ΣΤΑΥΡΟΣ Άνδρες 30-39 ΣΔΥ ΜΕΣΣΗΝΙΑΣ\n78 00:41:16 ΟΙΚΟΝΟΜΟΥ ΠΑΝΑΓΙΩΤΗΣ Άνδρες 40-49 ΑΝΕΞΑΡΤΗΤΟΣ/Η\n79 00:41:20 ΑΛΕΞΟΠΟΥΛΟΣ ΕΥΘΥΜΙΟΣ Άνδρες 60-69 ΣΔΥ ΜΕΣΣΗΝΙΑΣ\n80 00:41:28 ΜΕΝΤΖΑ ΕΛΕΝΗ Γυναίκες κάτω των 20 ΑΝΕΞΑΡΤΗΤΟΣ/Η\n81 00:41:46 ΚΑΛΟΓΕΡΟΠΟΥΛΟΣ ΑΝΤΩΝΗΣ Άνδρες 50-59 ΣΔΥ ΜΕΣΣΗΝΙΑΣ\n82 00:41:49 ΜΕΝΤΖΑ ΕΛΕΝΗ Γυναίκες κάτω των 20 ΑΝΕΞΑΡΤΗΤΟΣ/Η\n83 00:41:56 ΒΑΣΙΛΑΔΙΩΤΗ ΕΥΓΕΝΙΑ Γυναίκες 40-49 ΣΔΥ ΜΕΣΣΗΝΙΑΣ\n84 00:42:22 ΡΟΓΚΑΣΚΑ ΒΕΣΕΛΑ Γυναίκες κάτω των 20 Μορή Κότα\n85 00:42:25 ΒΑΖΑΣ ΝΙΚΟΣ Άνδρες 60-69 ΣΔΥ ΑΘΗΝΑΣ\n86 00:43:00 ΣΑΦΛΑΓΙΟΥΡΑΣ ΓΕΩΡΓΙΟΣ Άνδρες 30-39 ΑΝΕΞΑΡΤΗΤΟΣ/Η\n87 00:43:11 ΒΑΣΙΛΑΔΙΩΤΗ ΙΩΑΝΝΑ Γυναίκες 40-49 ΣΔΥ ΜΕΣΣΗΝΙΑΣ\n88 00:43:15 ΠΑΝΑΓΟΠΟΥΛΟΣ ΔΗΜΗΤΡΙΟΣ Άνδρες 30-39 ΣΔΥ ΜΕΣΣΗΝΙΑΣ\n89 00:43:27 ΜΠΡΟΥΜΑΣ ΓΕΩΡΓΙΟΣ Άνδρες 20-29 ΣΔΥ ΜΕΣΣΗΝΙΑΣ\n90 00:43:30 ΒΛΑΣΣΗΣ ΟΡΕΣΤΗΣ Άνδρες κάτω των 20 ΑΝΕΞΑΡΤΗΤΟΣ/Η\n91 00:43:46 ΣΤΑΜΑΤΕΛΙΑ ΑΣΗΜΙΝΑ Γυναίκες 40-49 ΣΔΥ ΜΕΣΣΗΝΙΑΣ\n92 00:43:58 ΠΕΤΡΟΠΟΥΛΟΣ ΣΤΑΥΡΟΣ Άνδρες 40-49 ΑΝΕΞΑΡΤΗΤΟΣ/Η\n93 00:44:04 ΚΑΛΙΑΜΟΥΤΟΥ ΕΛΕΝΑ Γυναίκες 30-39 ΑΝΕΞΑΡΤΗΤΟΣ/Η\n94 00:44:08 ΑΓΓΕΛΑΚΟΣ ΠΑΝΑΓΙΩΤΗΣ “Ανδρες 70+Ανδρες 70 και ανω” ΤΡΙΠΟΛΗ\n95 00:44:20 ΑΛΕΞΑΝΔΡΟΠΟΥΛΟΣ ΕΥΑΓΓΕΛΟΣ Άνδρες 40-49 ΑΝΕΞΑΡΤΗΤΟΣ/Η\n96 00:44:24 ΑΛΕΞΑΝΔΡΟΠΟΥΛΟΣ ΑΘΑΝΑΣΙΟΣ Άνδρες 40-49 ΑΝΕΞΑΡΤΗΤΟΣ/Η\n97 00:44:29 ΚΟΥΤΙΒΑΣ ΧΡΗΣΤΟΣ Άνδρες 30-39 ΑΝΕΞΑΡΤΗΤΟΣ/Η\n98 00:44:43 ΚΩΝΣΤΑΝΤΟΠΟΥΛΟΣ ΑΝΔΡΕΑΣ Άνδρες 60-69 ΣΥΛΛΟΓΟΣ ΔΡΟΜΕΩΝ ΥΓΕΙΑΣ ΤΡΙΠΟΛΗΣ\n99 00:44:52 ΑΔΑΜΟΠΟΥΛΟΣ ΓΕΩΡΓΙΟΣ Άνδρες 20-29 ΑΝΕΞΑΡΤΗΤΟΣ/Η\n100 00:44:55 ΡΕΪΤΖΟΠΟΥΛΟΥ-ΧΟΧΟΛΗ ΟΛΓΑ Γυναίκες 30-39 ΣΔΥ ΜΕΣΣΗΝΙΑΣ\n101 00:45:00 ΑΔΑΜΟΠΟΥΛΟΣ ΔΗΜΗΤΡΗΣ Άνδρες 20-29 ΑΝΕΞΑΡΤΗΤΟΣ/Η\n102 00:45:31 ΘΕΟΧΑΡΗ ΝΙΚΟΛΕΤΤΑ-ΕΙΡΗΝΗ Γυναίκες 30-39 ΑΝΕΞΑΡΤΗΤΟΣ/Η\n103 00:45:33 ΠΑΠΑΔΕΑΣ ΓΙΩΡΓΟΣ Άνδρες 30-39 ΑΝΕΞΑΡΤΗΤΟΣ/Η\n104 00:45:36 ΘΕΟΧΑΡΗΣ ΕΥΣΤΡΑΤΙΟΣ Άνδρες 30-39 ΑΝΕΞΑΡΤΗΤΟΣ/Η\n105 00:45:51 SWAINE KΕVIN Άνδρες 60-69 ΑΝΕΞΑΡΤΗΤΟΣ/Η\n106 00:46:07 ΚΑΛΟΓΕΡΟΠΟΥΛΟΣ ΑΝΤΩΝΗΣ Άνδρες 20-29 ΜΑΝΕΣΙ\n107 00:46:12 ΛΑΜΠΡΟΠΟΥΛΟΣ ΑΝΤΩΝΗΣ Άνδρες 30-39 ΜΕΣΣΗΝΗ\n108 00:46:55 ΚΑΛΛΑΣ ΔΗΜΗΤΡΙΟΣ Άνδρες 20-29 ΑΝΕΞΑΡΤΗΤΟΣ/Η\n109 00:47:05 ΜΗΤΡΟΠΟΥΛΟΣ ΒΑΣΙΛΕΙΟΣ Άνδρες 30-39 ΑΝΕΞΑΡΤΗΤΟΣ/Η\n110 00:47:07 ΤΣΑΤΑΣ ΑΛΕΚΟΣ Άνδρες 60-69 ΣΔΥ ΜΕΣΣΗΝΙΑΣ\n111 00:47:12 ΔΡΑΚΟΠΟΥΛΟΣ ΘΑΝΑΣΗΣ Άνδρες 30-39 ΤΡΕΞΙΜΑΤΙΕΣ\n112 00:47:39 ΞΕΝΟΓΙΑΝΝΗΣ ΒΑΣΙΛΕΙΟΣ “Ανδρες 70+ Ανδρες 70 και ανω” ΣΔΥ ΜΕΣΣΗΝΙΑΣ\n113 00:47:44 ΓΙΑΝΝΑΡΗ ΙΩΑΝΝΑ Γυναίκες 30-39 ΑΝΕΞΑΡΤΗΤΟΣ/Η\n114 00:47:52 ΠΑΝΤΑΖΟΠΟΥΛΟΣ ΓΙΩΡΓΟΣ Άνδρες 60-69 ΑΠΟΛΛΩΝ ΔΥΤΙΚΗΣ ΑΤΤΙΚΗΣ\n115 00:49:11 ΠΙΤΣΙΛΗ ΜΥΡΤΩ Γυναίκες 20-29 ΣΔΥ ΜΕΣΣΗΝΙΑΣ\n116 00:49:15 ΣΩΚΑΛΗΣ ΣΤΑΥΡΟΣ Άνδρες 30-39 ΑΝΕΞΑΡΤΗΤΟΣ/Η\n117 00:49:16 ΔΗΜΟΠΟΥΛΟΥ ΓΕΩΡΓΙΑ Γυναίκες 50+ ΜΕΣΣΗΝΙΟΙ ΔΡΟΜΕΙΣ\n118 00:49:24 ΧΡΗΣΤΟΣ ΚΑΛΟΜΟΙΡΗΣ Άνδρες 60-69 ΑΠΣ ΑΠΟΛΛΩΝ\n119 00:49:31 ΜΑΡΑΓΚΟΣ ΔΗΜΗΤΡΙΟΣ “Ανδρες 70+Ανδρες 70 και ανω” ΣΕΒΑΣ\n120 00:49:48 ΖΑΧΑΡΑΚΗ ΚΩΝΣΤΑΝΤΙΝΑ Γυναίκες 50+ ΣΔΥ ΜΕΣΣΗΝΙΑΣ\n121 00:50:20 ΧΡΙΣΤΟΠΟΥΛΟΣ ΣΠΥΡΟΣ Άνδρες κάτω των 20 ΑΝΕΞΑΡΤΗΤΟΣ/Η\n122 00:51:44 ΤΣΙΧΛΗ ΑΝΝΑ-ΜΑΡΙΑ Γυναίκες κάτω των 20 ΜΑΝΕΣΙ\n123 00:51:50 ΖΟΥΡΟΠΟΥΛΟΥ ΜΑΡΙΑ Γυναίκες 40-49 ΑΝΕΞΑΡΤΗΤΟΣ/Η\n124 00:52:46 ΣΠΥΡΟΠΟΥΛΟΥ ΕΛΕΝΗ Γυναίκες 40-49 ΣΔΥ ΜΕΣΣΗΝΙΑΣ\n125 00:53:10 ΜΑΡΓΟΥΝΗΣ ΔΗΜΗΤΡΗΣ Άνδρες 50-59 ΔΡΟΜΕΙΣ ΧΙΟΥ\n126 00:53:16 ΚΟΜΜΑΤΑΣ ΜΙΧΑΗΛ Άνδρες 50-59 ΣΔΥ ΜΕΣΣΗΝΙΑΣ\n127 00:54:59 ΚΟΣΤΡΙΒΑΣ ΝΙΚΟΣ Άνδρες 20-29 ΑΝΕΞΑΡΤΗΤΟΣ/Η\n128 00:55:02 ΝΙΚΟΛΟΠΟΥΛΟΣ ΠΑΝΑΓΙΩΤΗΣ Άνδρες κάτω των 20 ΜΑΝΕΣΙ\n129 00:55:18 ΑΓΓΕΛΑΚΟΣ ΔΗΜΗΤΡΗΣ Άνδρες 60-69 ΤΡΙΠΟΛΗ\n130 00:55:29 ΜΑΥΡΟΓΙΑΝΝΗ ΧΡΙΣΤΙΝΑ Γυναίκες 40-49 ΑΝΕΞΑΡΤΗΤΟΣ/Η\n131 00:59:26 ΑΝΤΩΝΟΠΟΥΛΟΣ ΣΩΤΗΡΗΣ Άνδρες 60-69 ΤΕΡΜΙΣΟΣ\n132 01:02:12 ΚΑΛΛΑ ΓΕΩΡΓΙΑ Γυναίκες 20-29 ΑΝΕΞΑΡΤΗΤΟΣ/Η\n133 01:04:59 ΘΕΡΡΙΟΥ ΠΟΛΥΤΙΜΗ Γυναίκες 40-49 ΣΔΥ ΜΕΣΣΗΝΙΑΣ \n 
URL:https://gorun.gr/race/9%ce%bf%cf%82-%ce%b1%ce%b3%cf%8e%ce%bd%ce%b1%cf%82-%ce%b4%cf%81%cf%8c%ce%bc%ce%bf%cf%85-%ce%b4%ce%b1%cf%8a%ce%ba%ce%bb%ce%ae%cf%82-2016/
CATEGORIES:Αποτελέσματα,Δρόμος
END:VEVENT
END:VCALENDAR