BEGIN:VCALENDAR
VERSION:2.0
PRODID:-//goRUN - ECPv5.8.1//NONSGML v1.0//EN
CALSCALE:GREGORIAN
METHOD:PUBLISH
X-WR-CALNAME:goRUN
X-ORIGINAL-URL:https://gorun.gr
X-WR-CALDESC:Events for goRUN
BEGIN:VTIMEZONE
TZID:Europe/Athens
BEGIN:DAYLIGHT
TZOFFSETFROM:+0200
TZOFFSETTO:+0300
TZNAME:EEST
DTSTART:20160327T010000
END:DAYLIGHT
BEGIN:STANDARD
TZOFFSETFROM:+0300
TZOFFSETTO:+0200
TZNAME:EET
DTSTART:20161030T010000
END:STANDARD
END:VTIMEZONE
BEGIN:VEVENT
DTSTART;VALUE=DATE:20160807
DTEND;VALUE=DATE:20160808
DTSTAMP:20260422T230908
CREATED:20160430T113812Z
LAST-MODIFIED:20160808T074908Z
UID:6437-1470528000-1470614399@gorun.gr
SUMMARY:9ος Ορεινός Αγώνας Ναμάτων
DESCRIPTION:9ος Ορεινός Αγώνας Ναμάτων \nΔρασκελισμός Άσκιου-Σινιάτσικου Όρους\, 19\,050 χλμ \nΟ Δήμος Βοΐου-Δημοτική Ενότητα Ασκίου-Τοπική Κοινότητα Ναμάτων και η Φιλοπροοδευτική Ένωση Ναμάτων “Ο Άγιος Νικόλαος”\, διοργανώνουν το 9ο Ορεινό Αγώνα Ναμάτων στο Άσκιο (Σινιάτσικο)\, μήκους 19\,050 χλμ\, στα Νάματα Κοζάνης\, στις 7 Αυγούστου 2016 και ώρα εκκίνησης 09.30 π.μ. \n9ος Ορεινός Αγώνας Ναμάτων- Ταχύτερη Ανάβαση Κορυφής \nΕπίθετο Όνομα Χρόνος Κορυφής Ομάδα \nΠΛΑΚΕΤΑΣ ΚΟΣΜΑΣ 00:52:55 KASIMIS TRAINING – Inov8 \n==== \n9ος Ορεινός Αγώνας Ναμάτων- Αποτελέσματα Γυναικών \nΕπίθετο Όνομα Χρόνος Ομάδα\nΚορυφής Διαδρομής \n1 ΡΕΠΣΕΝΚΟ ΛΟΡΑ 01:06:20 02:20:08 ODLO/LASPORTIVA-HAMMER-OSTRACON\n2 ΑΠΟΣΤΟΛΟΥ ΜΑΡΙΑ 01:10:58 02:24:00 KASIMIS TRAINING\n3 ΚΑΡΠΟΥΖΑ ΒΙΚΥ 01:11:40 02:28:47 Inov-8- Smartrun\n4 ΣΙΠΠΟΠΟΥΛΟΥ ΓΕΩΡΓΙΑ 01:24:40 02:52:49 BALIOTIS.NATURE TRAIL\n5 ΠΑΠΑΚΟΣΜΑ ΒΗΘΛΕΕΜ 01:27:30 02:55:00 KASIMIS TRAINING\n6 ΚΑΤΣΙΑΠΗ ΜΑΤΙΝΑ 01:25:35 02:58:23 ΣΔΥΘ\n7 ΒΙΝΟΥ ΗΡΑ 01:32:00 03:15:29\n8 ΟΙΚΟΝΟΜΟΥ ΦΛΩΡΑ 01:58:55 04:13:50 ΑΝΑΞΑΡΤΗΤΗ \n==== \n9ος Ορεινός Αγώνας Ναμάτων- Αποτελέσματα Ανδρών \nΕπίθετο Όνομα Χρόνος Ομάδα\nΚορυφής Διαδρομής \n1 ΠΛΑΚΕΤΑΣ ΚΟΣΜΑΣ 00:52:55 01:53:55 KASIMIS TRAINING – Inov8\n2 ΜΙΧΑΗΛΙΔΗΣ ΠΕΤΡΟΣ 01:00:00 02:02:30 ΣΔΟΕΟΡΔΑΙΑΣ\n3 ΑΔΑΜΙΔΗΣ ΤΑΣΟΣ 01:00:25 02:03:16 ΣΔΟΕ ΠΤΟΛΕΜΑΙΔΑ\n4 ΣΤΗΜΟΝΙΑΡΗΣ ΑΘΑΝΑΣΙΟΣ 01:02:25 02:03:52 Ε Ο Σ ΚΑΒΑΛΑΣ\n5 ΓΚΑΤΣΙΟΣ ΓΕΩΡΓΙΟΣ 01:02:08 02:04:05 KASIMIS TRAINING\n6 ΜΥΛΩΝΙΔΗΣ ΑΝΑΣΤΑΣΙΟΣ 01:03:40 02:05:30\n7 ΒΕΝΕΤΙΚΙΔΗΣ ΔΗΜΗΤΡΗΣ 01:02:48 02:06:54 OLYMPUS MARATHON RT\n8 ΚΑΡΑΚΙΤΣΙΟΣ ΕΥΑΓΓΕΛΟΣ 01:03:38 02:06:54 KASIMIS TRAINING\n9 ΓΚΙΖΛΗΣ ΑΡΙΣΤΕΙΔΗΣ 01:01:58 02:09:28 Σ.Δ.ΤΡΙΚΑΛΩΝ\n10 ΜΠΑΜΠΟΥΝΑΣ ΠΑΝΑΓΙΩΤΗΣ 01:05:19 02:10:37 BALIOTIS NATURE TRAIL\n11 ΡΟΥΣΙΑΜΑΝΗΣ ΤΡΥΦΩΝ 01:04:56 02:15:49 ΣΥΛΛΟΓΟΣ ΔΡΟΜΕΩΝ ΤΡΙΚΑΛΩΝ\n12 ΒΟΤΣΗΣ ΣΙΔΕΡΗΣ 01:07:07 02:17:15 ΣΔΥ ΚΟΖΑΝΗΣ\n13 ΤΣΑΡΚΟΒΙΣΤΑΣ ΧΡΗΣΤΟΣ 01:04:39 02:17:27 GO RUN ΔΡΟΜΕΊΣ ΣΟΥΛΙΟΥ\n14 ΖΙΑΓΚΑΣ ΑΘΑΝΑΣΙΟΣ 01:10:22 02:19:27 ΣΥΛΛΟΓΟΣ ΔΡΟΜΕΩΝ ΥΓΕΙΑΣ\nΚΟΖΑΝΗΣ\n15 ΠΑΜΠΟΥΧΙΔΗΣ ΗΡΑΚΛΗΣ 01:05:00 02:19:40 ΟΣΠΕΓ\n16 ΝΙΑΚΑΣ ΕΥΑΓΓΕΛΟΣ 01:10:30 02:19:47 Γερμανός Κατερίνης\n17 ΤΣΙΑΡΓΑΛΗΣ ΧΡΗΣΤΟΣ 01:10:00 02:23:32 OLYMPUS MARATHON RANNING TEAM\n18 ΦΑΓΓΡΙΔΑΣ ΚΩΝΣΤΑΝΤΙΝΟΣ 01:09:15 02:23:40 ΣΥΛΛΟΓΟΣ ΔΡΟΜΕΩΝ ΤΡΙΚΑΛΩΝ\n19 ΚΩΤΣΙΔΗΣ ΓΡΗΓΟΡΗΣ 01:14:28 02:28:10 ΣΔΟΕ\n20 ΜΙΜΗΣ ΔΗΜΗΤΡΗΣ 01:10:15 02:28:10 Ανεξάρτητος\n21 ΠΑΡΙΖΑΣ ΚΩΝΣΤΑΝΤΙΝΟΣ 01:09:55 02:28:47 ΠΑΡΙΖΑΣ\n22 ΒΑΓΕΝΑΣ ΒΑΣΙΛΗΣ 01:13:18 02:32:33 ΚΟΝΙΤΣΑ\n23 ΕΥΑΓΓΕΛΟΥ ΣΤΑΥΡΟΣ 01:13:08 02:32:33 ΚΟΝΙΤΣΑ\n24 ΣΙΝΝΗΣ ΛΕΥΤΕΡΗΣ 01:13:20 02:32:33 ΚΟΝΙΤΣΑ\n25 ΔΑΛΑΚΙΟΥΡΗΣ ΓΕΩΡΓΙΟΣ 01:16:45 02:33:39 ΣΔΟΕ\n26 ΚΑΡΑΒΙΤΗΣ ΒΑΣΙΛΕΙΟΣ 01:10:02 02:34:17 ROAD RUNNERS ARNISSA\n27 ΖΙΩΓΟΣ ΕΥΘΥΜΙΟΣ 01:14:35 02:36:40 ΗΜΕΡΟΔΡΟΜΩΝ\n28 ΠΑΝΑΤΣΑΣ ΚΩΝΣΤΑΝΤΙΝΟΣ 01:08:48 02:36:40\n29 ΒΛΑΧΟΔΗΜΟΣ ΚΩΝΣΤΑΝΤΙΝΟΣ 01:15:25 02:37:45 ΒΛΑΣΤΗ\n30 ΚΩΣΤΙΚΙΔΗΣ ΟΡΕΣΤΗΣ 01:15:12 02:39:08\n31 ΜΠΙΣΚΟΣ ΘΕΟΔΩΡΟΣ 01:15:07 02:39:37\n32 ΙΣΠΟΓΛΟΥ ΚΩΝΣΤΑΝΤΙΝΟΣ 01:19:55 02:39:53 ΣΔΥ ΚΟΖΑΝΗΣ\n33 ΚΑΝΑΡΑΚΗΣ ΕΥΑΓΓΕΛΟΣ 01:15:00 02:40:16 ΣΕΒΑΣ ΝΑΟΥΣΑΣ\n34 ΓΕΩΡΓΟΥΛΗΣ ΦΙΛΙΠΠΟΣ 01:19:40 02:41:15\n35 ΤΕΜΕΛΚΟΣ ΜΙΧΑΗΛ 01:18:23 02:42:13 Ανεξάρτητος από Καστοριά\n36 ΣΙΣΚΟΣ ΤΡΥΦΩΝ 01:19:18 02:42:15 ΣΔΟΕ- Katsikia runners\n37 ΤΣΑΚΙΛΤΣΙΔΗΣ ΑΧΙΛΛΕΥΣ 01:15:47 02:43:53 Σ.Δ.Ο.Εορδαίας\n38 ΓΙΑΝΝΟΥΣΗΣ ΛΑΖΑΡΟΣ 01:20:30 02:44:05 SNOWLAND TEAM\n39 ΧΑΤΖΗΓΕΩΡΓΙΟΥ ΔΗΜΗΤΡΙΟΣ 01:15:09 02:44:11\n40 ΠΑΝΤΕΛΙΔΗΣ ΑΘΑΝΑΣΙΟΣ 01:13:10 02:44:43\n41 ΦΑΓΚΡΙΔΑΣ ΑΘΑΝΑΣΙΟΣ 01:20:26 02:44:55 ΤΡΙΚΑΛΩΝ\n42 ΠΟΥΛΑΣΙΚΙΔΗΣ ΑΝΕΣΤΗΣ 01:21:00 02:48:30\n43 ΧΡΙΣΤΟΥΛΗΣ ΝΙΚΟΛΑΟΣ 01:16:34 02:49:17 Baliotis Nature Trail.\n44 ΜΠΙΓΓΑΣ ΧΑΡΑΛΑΜΠΟΣ 01:21:30 02:49:50 ΣΔΟΕ\n45 ΤΣΙΡΙΠΙΔΗΣ ΠΑΝΤΕΛΗΣ 01:24:20 02:49:54 ΑΠΣΔ ΠΙΕΡΙΑΣ ΖΕΥΣ\n46 ΜΑΥΡΙΔΗΣ ΘΕΟΔΩΡΟΣ 01:26:20 02:49:59 Σ.Δ.Ο.Ε\n47 ΜΙΜΤΣΗΣ ΣΤΕΦΑΝΟΣ 01:25:24 02:50:19 Σ.Δ.Ο.Ε\n48 ΣΤΕΡΓΙΟΥ ΠΡΟΔΡΟΜΟΣ 01:22:09 02:51:53 Baliotis Nature Trail\n49 ΚΑΤΣΑΡΑΣ ΧΡΗΣΤΟΣ 01:18:32 02:52:10 ΣΔΥ ΚΟΖΑΝΗΣ\n50 ΔΟΥΝΑΣ ΑΝΤΩΝΗΣ 01:21:05 02:52:48 ΣΔΟ ΕΟΡΔΑΙΑΣ\n51 ΜΠΕΚΟΣ ΒΑΣΙΛΕΙΟΣ 01:23:29 02:52:57 ΣΥΛΛΟΓΟΣ ΔΡΟΜΕΩΝ ΤΡΙΚΑΛΩΝ\n52 ΠΑΓΚΑΛΙΔΗΣ ΚΩΝ/ΝΟΣ 01:18:45 02:53:10 ΛΙΒΕΡΑ ΚΟΖΑΝΗΣ\n53 ΚΑΣΙΚΤΗΣ ΚΩΝΣΤΑΝΤΙΝΟΣ 01:33:50 02:53:47 ΣΔΟΕ\n54 ΑΝΔΡΟΝΙΚΙΔΗΣ ΙΩΑΝΝΗΣ 01:19:30 02:53:48 ΣΔΟΕ ΕΟΡΔΑΙΑΣ Katsikia runners\n55 ΣΙΦΑΛΕΡΑΣ ΑΓΓΕΛΟΣ 01:21:02 02:54:08 Baliotis Nature Trail\n56 ΒΛΑΧΟΔΗΜΟΣ ΙΩΑΝΝΗΣ 01:26:37 02:54:10 ΒΛΑΣΤΗ\n57 ΜΠΕΛΛΑΣ ΚΩΝΣΤΑΝΤΙΝΟΣ 01:25:21 02:54:11 Σ.Δ.Υ. ΚΟΖΑΝΗΣ\n58 ΜΗΤΡΟΥΛΗΣ ΔΗΜΗΤΡΙΟΣ 01:29:10 02:55:55\n59 ΟΥΖΟΥΝΙΔΗΣ ΓΙΑΝΝΗΣ 01:21:50 02:56:47 ΟΜΓ\n60 ΠΑΤΜΑΝΙΔΗΣ ΚΩΝΣΤΑΝΤΙΝΟΣ 01:26:12 02:57:50\n61 ΚΟΥΤΣΟΥΜΠΙΔΗΣ ΔΗΜΗΤΡΙΟΣ 01:25:00 02:59:45 Σ.Δ.Ο.ΕΟΡΔΑΙΑΣ\n62 ΞΑΝΘΟΠΟΥΛΟΣ ΑΛΕΞΑΝΔΡΟΣ 01:25:11 02:59:45 Σ.Δ.Ο.Ε.\n63 ΡΟΥΣΑΜΑΝΗΣ ΚΩΝΣΤΑΝΤΙΝΟΣ 01:25:39 03:01:22 ΔΡΟΜΕΑΣ ΤΡΙΚΑΛΩΝ\n64 ΔΗΜΗΤΡΑΚΗΣ ΣΤΑΥΡΟΣ 01:24:10 03:02:51 ΑΛΕΞΑΝΔΡΕΙΑ\n65 ΜΕΤΣΟΒΙΤΗΣ ΙΩΑΝΝΗΣ 01:27:26 03:02:51\n66 ΤΣΙΡΙΓΩΤΗΣ ΒΑΣΙΛΗΣ 01:27:11 03:03:41 ΣΔΟΕ\n67 ΙΩΑΝΝΟΠΟΥΛΟΣ ΙΩΑΝΝΗΣ 01:31:20 03:05:35 KASIMIS TRAINING\n68 ΤΣΙΛΙΜΠΟΝΗΣ ΘΕΟΧΑΡΗΣ 01:26:32 03:05:55\n69 ΖΑΜΠΕΤΟΓΛΟΥ ΓΕΩΡΓΙΟΣ 01:27:34 03:06:10 ΟΙΚΟΓΕΝΕΙΑΚΟΣ ΟΡΕΙΒΑΤΙΚΟΣ\nΣΥΛΛΟΓΟΣ\n70 ΑΛΕΞΙΟΥ ΣΩΤΗΡΗΣ 01:28:05 03:07:26\n71 ΕΘΥΜΙΟΥ ΣΠΥΡΟΣ 01:28:35 03:07:50 Ε\,Ο\,Σ ΚΑΒΑΛΑΣ\n72 ΠΡΑΠΑΣ ΦΩΤΗΣ 01:27:16 03:08:45 Σ.Δ.Ο. ΕΟΡΔΑΙΑΣ\n73 ΦΙΛΙΠΠΟΥ ΠΑΝΑΓΙΩΤΗΣ 01:32:30 03:08:45 ΣΥΛΛ.ΔΡΟΜΕΩΝ ΕΟΡΔΑΙΑΣ-\nΟΡΕΙΒ.ΟΜΙΛΟΣ ΠΥΡΓΩΝ\n74 ΓΕΩΡΓΑΚΑΚΗΣ ΓΕΩΡΓΙΟΣ 01:26:00 03:09:47\n75 ΛΙΑΜΟΣ ΓΙΑΝΝΗΣ 01:34:00 03:11:45 ΣΔΥΘ\n76 ΚΟΥΓΙΟΥΜΤΖΙΔΗΣ ΑΝΑΣΤΑΣΙΟΣ 01:32:15 03:11:59 ΣΔΟΕ\n77 ΒΑΡΔΑΡΗΣ ΧΡΗΣΤΟΣ 01:22:35 03:13:25 ΑΝΕΞΑΡΤΗΤΟΣ\n78 ΠΟΛΥΧΡΟΝΙΔΗΣ ΒΑΣΙΛΕΙΟΣ 01:28:27 03:13:35\n79 ΣΕΒΑΣΤΙΑΔΗΣ ΗΛΙΑΣ 01:27:45 03:13:51\n80 ΔΗΜΑΔΗΣ ΣΤΕΦΑΝΟΣ 01:31:40 03:20:05 ΔΡΟΜΕΩΝ ΒΕΡΟΙΑΣ\n81 ΔΗΜΗΤΡΙΑΔΗΣ ΚΩΝ/ΝΟΣ 01:44:40 03:20:05 Σ.Δ.Ο.Ε ΠΤΟΛΕΜΑΙΔΑΣ KATSIKIA\nRUN\n82 ΡΕΜΜΑΣ ΝΙΚΟΛΑΟΣ 02:01:50 03:20:10 ΑΝΕΞΑΡΤΗΤΟΣ\n83 ΣΙΚΑΛΟΠΟΥΛΟΣ ΓΕΩΡΓΙΟΣ 01:21:40 03:20:10 586 Μηχανοποιημένο Τάγμα Πεζικού\n84 ΤΣΙΑΡΑΣ ΣΩΤΗΡΙΟΣ 01:37:20 03:20:10 ΤΡΙΚΑΛΩΝ\n85 ΖΑΦΕΙΡΙΔΗΣ ΔΗΜΗΤΡΗΣ 01:42:00 03:29:45 ΣΔΟ ΕΟΡΔΑΙΑΣ\n86 ΜΑΝΩΛΗΣ ΜΑΝΩΛΗΣ 01:35:15 03:32:49\n87 ΔΗΜΟΥ ΓΕΩΡΓΙΟΣ 01:36:25 03:35:30 GO RUN ΔΡΟΜΕΙΣ ΣΟΥΛΙΟΥ\n88 ΜΟΥΚΑΣ ΦΩΤΙΟΣ 01:36:28 03:35:30 GO RUN ΔΡΟΜΕΙΣ ΣΟΥΛΙΟΥ\n89 ΚΟΥΣΑΛΙΔΗΣ ΚΩΝ/ΝΟΣ 01:35:01 03:39:18 ΣΔΥ ΚΟΖΑΝΗΣ\n90 ΒΑΣΒΑΤΕΚΗΣ ΣΩΤΗΡΙΟΣ 01:44:29 03:43:10 ΣΔΟΕ\n91 ΚΑΛΑΜΠΟΥΚΑΣ ΣΤΑΥΡΟΣ 01:39:45 03:44:40\n92 ΛΑΖΑΡΙΔΗΣ ΚΩΝΣΤΑΝΤΙΝΟΣ 01:52:40 03:52:25 Ε.Ο.Σ ΚΑΒΑΛΑΣ\n93 ΤΣΙΩΡΑΣ ΝΙΚΟΛΑΟΣ 01:50:02 03:59:47\n94 ΠΑΠΑΪΩΑΝΝΟΥ ΠΑΝΑΓΙΩΤΗΣ 01:44:27 04:07:03\n95 ΜΑΓΓΟΥ ΛΑΖΑΡΟΣ 01:57:45 04:10:14 ΣΔΟΕ\n96 ΠΟΥΡΛΙΑΚΑΣ ΠΛΟΥΤΑΡΧΟΣ 01:59:25 04:13:25\n97 ΜΠΕΛΛΗΣ ΑΣΤΕΡΙΟΣ 02:00:50 04:14:10 ΣΔΥ ΚΟΖΑΝΗΣ\n98 ΝΤΑΓΚΑΣ ΠΑΝΑΓΙΩΤΗΣ 02:02:10 04:14:10 ΣΔΥ ΚΟΖΑΝΗΣ \n====\n9ος Ορεινός Αγώνας Ναμάτων- Εγκαταλείψαντες \nΕπίθετο Όνομα Χρόνος Ομάδα\nΚορυφής Διαδρομής \n1 ΠΟΥΡΛΙΑΚΑΣ ΑΘΑΝΑΣΙΟΣ 02:01:20\n2 ΧΑΡΑΛΑΜΠΙΔΗΣ ΠΑΝΤΕΛΗΣ Χαραλαμπίδης Spor – Καστοριά
URL:https://gorun.gr/race/9%ce%bf%cf%82-%ce%bf%cf%81%ce%b5%ce%b9%ce%bd%cf%8c%cf%82-%ce%b1%ce%b3%cf%8e%ce%bd%ce%b1%cf%82-%ce%bd%ce%b1%ce%bc%ce%ac%cf%84%cf%89%ce%bd/
CATEGORIES:Αποτελέσματα,Βουνό
END:VEVENT
END:VCALENDAR