BEGIN:VCALENDAR
VERSION:2.0
PRODID:-//goRUN - ECPv5.8.1//NONSGML v1.0//EN
CALSCALE:GREGORIAN
METHOD:PUBLISH
X-WR-CALNAME:goRUN
X-ORIGINAL-URL:https://gorun.gr
X-WR-CALDESC:Events for goRUN
BEGIN:VTIMEZONE
TZID:Europe/Athens
BEGIN:DAYLIGHT
TZOFFSETFROM:+0200
TZOFFSETTO:+0300
TZNAME:EEST
DTSTART:20160327T010000
END:DAYLIGHT
BEGIN:STANDARD
TZOFFSETFROM:+0300
TZOFFSETTO:+0200
TZNAME:EET
DTSTART:20161030T010000
END:STANDARD
END:VTIMEZONE
BEGIN:VEVENT
DTSTART;VALUE=DATE:20160710
DTEND;VALUE=DATE:20160711
DTSTAMP:20260421T065858
CREATED:20160614T075751Z
LAST-MODIFIED:20160712T063923Z
UID:8177-1468108800-1468195199@gorun.gr
SUMMARY:Armenistis Summer Trail
DESCRIPTION:ΓΕΝΙΚΗ ΚΑΤΆΤΑΞΗ 10 ΧΛΜ\n1 ΓΙΑΚΑΜΟΖΗΣ ΦΩΤΗΣ 46:34:00\n2 ΤΡΑΥΛΟΣ ΘΕΟΔΟΣΙΟΣ 49:42:00\n3 ΚΟΥΓΙΩΝΗΣ ΒΑΣΙΛΕΙΟΣ 52:18:00\n4 ΚΑΚΟΥΛΙΔΗΣ ΝΙΚΟΣ 53:47:00\n5 ΑΘΑΝΑΣΙΑΔΗΣ ΒΑΣΙΛΕΙΟΣ 53:52:00\n6 ΔΟΥΛΓΕΡΗΣ ΛΑΖΑΡΟΣ 54:02:00\n7 ΠΑΠΑΔΟΠΟΥΛΟΥ ΒΑΣΩ 55:13:00\n8 ΚΑΜΑΡΗΣ ΧΡΗΣΤΟΣ 56:50:00\n9 ΒΑΡΒΕΡΗ ΕΛΕΝΑ 57:53:00\n10 ΛΟΡΕΝΤΖΑΤΟΣ ΙΩΑΝΝΗΣ 57:53:00\n11 ΠΕΡΔΙΚΙΔΗΣ ΓΙΩΡΓΟΣ 58:48:00\n12 ΜΠΑΞΕΒΑΝΙΔΗΣ ΧΡΗΣΤΟΣ 58:55:00\n13 ΜΑΡΚΟΓΙΑΝΝΟΠΟΥΛΟΣ ΘΡΑΣΥΒΟΥΛΟΣ 59:11:00\n14 ΠΑΠΑΓΙΑΝΑΚΕΛΗΣ ΝΙΚΟΣ 59:42:00\n15 ΓΟΥΜΠΕΡΗΣ ΠΑΝΑΓΙΩΤΗΣ 59:52:00\n16 ΣΙΜΙΤΟΠΟΥΛΟΣ ΚΩΝ/ΝΟΣ 1:00:00\n17 ΖΗΣΗ ΑΝΝΑ 1:00:08\n20 ΔΗΜΠΑΡΗ ΒΕΝΗ 1:02:37\n22 ΜΑΤΣΟΥΚΗΣ ΑΘΑΝΑΣΙΟΣ 1:03:12\n18 ΧΑΛΑΤΣΗΣ ΑΝΤΩΝΙΟΣ 1:01:00\n19 ΖΕΚΟΣ 1:01:50\n21 ΜΠΑΚΝΗΣ ΙΩΑΝΝΗΣ 1:03:03\n23 ΜΑΥΡΙΔΗΣ ΙΩΑΝΝΗΣ 1:04:05\n24 ΤΑΡΑΣΙΔΗΣ ΑΛΕΞΑΝΔΡΟΣ 1:05:05\n25 ΚΑΝΕΛΗΣ ΣΤΕΛΙΟΣ 1:06:36\n26 ΧΡΥΣΑΝΘΟΥ ΕΙΡΗΝΗ 1:08:30\n27 ΑΡΓΥΡΙΑΔΗΣ ΙΩΑΝΝΗΣ 1:09:03\n28 ΚΑΛΙΓΚΟΣ ΑΘΑΝΑΣΙΟΣ 1:10:24\n29 ΡΑΜΝΟΛΗΣ ΑΡΓΥΡΙΟΣ 1:11:02\n30 ΣΑΚΗΣ ΣΙΜΟΣ 1:12:18\n31 ΧΟΥΧΟΣ ΣΤΑΜΑΤΙΟΣ 1:13:23\n32 ΜΠΑΚΝΗΣ ΧΡΙΣΤΟΦΟΡΟΣ 1:15:30\n33 ΚΑΪΜΑΚΤΖΗΣ ΣΤΕΦΑΝΟΣ 1:16:13\n34 ΑΝΘΟΥΛΙΔΗΣ ΙΩΑΝΝΗΣ 1:14:24\n35 ΠΑΣΣΑ ΑΝΝΑ 1:17:46\n36 ΤΡΙΑΝΤΑΦΥΛΛΟΥ ΑΝΤΩΝΙΟΣ 1:19:28\n37 ΠΑΠΑΔΟΠΟΥΛΟΣ ΣΤΡΑΤΟΣ 1:19:41\n38 ΣΑΡΙΔΟΥ ΝΙΚΗ 1:19:42\n39 ΡΕΠΤΑΣ ΛΑΖΑΡΟΣ 1:26:44\n40 ΑΚΡΙΤΙΔΗΣ ΙΩΑΝΝΗΣ 1:27:00\n41 ΧΑΤΖΗΕΛΑΝΙΔΟΥ ΡΑΝΙΑ 1:27:04 \nDNF Name List\nΡΑΠΤΟΠΟΥΛΟΥ ΑΙΚΑΤΕΡΙΝΗ DNF\nΤΣΑΚΙΛΙΩΤΗΣ ΝΙΚΟΣ DNF\nΤΑΣΚΑΣ ΙΩΑΝΝΗΣ DNF\nΔΗΣΕΡΗΣ ΓΕΩΡΓΙΟΣ DNF\nΚΟΤΣΥΦΑΚΗΣ ΑΓΑΜΕΜΝΩΝ-ΔΗΜΗΤΡΗΣ DNF\nΤΣΑΒΔΑΡΙΔΟΥ ΑΓΛΑΪΑ DNF\nΓΙΑΖΙΤΖΙΔΟΥ ΣΟΦΙΑ DNF\nΙΩΑΝΝΙΔΗΣ ΙΩΑΝΝΗΣ DNF \nΓΕΝΙΚΗ ΚΑΤΆΤΑΞΗ 5 ΧΛΜ\n1 ΜΠΟΥΡΤΖΗΣ ΠΡΟΔΡΟΜΟΣ 27:22:00\n2 ΧΑΡΑΛΑΜΠΙΔΗΣ ΧΑΡΑΛΑΜΠΟΣ 29:51:00\n3 ΤΑΞΑΡΗΣ ΙΩΑΝΝΗΣ 30:29:00\n4 ΣΑΒΒΟΠΟΥΛΟΣ 32:17:00\n5 ΜΠΕΖΑΡΗΣ ΚΩΝ/ΝΟΣ 32:53:00\n6 ΣΟΥΜΑΛΑΣ ΑΝΑΣΤΑΣΙΟΣ 33:12:00\n7 JAHRERS MARTIN 34:45:00\n8 ΜΙΧΟΥ ΚΩΝ/ΝΑ 37:20:00\n9 ΠΑΤΕΛΗ ΕΥΑΓΓΕΛΙΑ 39:13:00\n10 ΚΑΜΠΑΚΗ ΘΕΟΔΩΡΑ 40:20:00\n11 ΜΟΡΙΣ ΣΕΡΑΦΕΙΜ 40:49:00\n12 DEPAUN VIRGIN 41:06:00\n13 ΓΕΩΡΓΟΠΟΥΛΟΣ ΙΩΑΝΝΗΣ 44:04:00\n14 ΙΤΡΙ ΣΟΝΥ 46:45:00\n15 LEVENT AYHAN 46:50:00\n16 ΣΜΥΛΙΑΝΗ ΜΑΡΙΑ 47:47:00\n17 ΠΑΡΔΑΛΗ ΟΛΓΑ 51:56:00\n18 ΚΕΤΙΚΟΓΛΟΥ ΝΤΟΡΑ 52:40:00\n19 ΠΑΣΧΟΥ ΓΕΩΡΓΙΑ 52:40:00\n20 ΣΩΚΡΑΤΟΥΣ ΑΝΤΙΓΟΝΗ 52:53:00\n21 ΤΖΑΡΤΖΑ ΜΑΡΑ 52:53:00\n22 ΔΟΥΜΠΡΟΥ ΑΙΚΑΤΕΡΙΝΗ 1:17:06 \n5ΧΛΜ ΑΝΔΡΕΣ\n1 ΜΠΟΥΡΤΖΗΣ ΠΡΟΔΡΟΜΟΣ\n2 ΧΑΡΑΛΑΜΠΙΔΗΣ ΧΑΡΑΛΑΜΠΟΣ\n3 ΤΑΞΑΡΗΣ ΙΩΑΝΝΗΣ\n5ΧΛΜ ΓΥΝΑΙΚΕΣ\n1 ΜΙΧΟΥ ΚΩΝ/ΝΑ\n2 ΠΑΤΕΛΗ ΑΝΑΣΤΑΣΙΑ\n3 ΚΑΜΠΑΚΗ ΘΕΟΔΩΡΑ\n10ΧΛΜ ΑΝΔΡΕΣ\n1 ΓΙΑΚΑΜΟΖΗΣ ΦΩΤΗΣ\n2 ΤΡΑΥΛΟΣ ΘΕΟΔΟΣΙΟΣ\n3 ΚΟΥΓΙΩΝΗΣ ΒΑΣΙΛΕΙΟΣ \n10ΧΛΜ ΓΥΝΑΙΚΕΣ\n1 ΠΑΠΑΔΟΠΟΥΛΟΥ ΒΑΣΩ\n2 ΒΑΡΒΕΡΗ ΕΛΕΝΑ\n3 ΖΗΣΗ ΑΝΝΑ \n10ΧΛΜ ΟΜΑΔΙΚΟ\nKourkourikis Training Group (www.ktgroup.gr)\n1 ΚΑΚΟΥΛΙΔΗΣ ΝΙΚΟΣ\n2 ΚΑΜΑΡΗΣ ΧΡΗΣΤΟΣ\n3 ΠΑΠΑΔΟΠΟΥΛΟΥ ΒΑΣΩ\n4 ΣΑΚΗΣ ΣΙΜΟΣ \n5ΧΛΜ ΟΜΑΔΙΚΟ\nKourkourikis Training Group (www.ktgroup.gr)\n1 ΤΑΞΑΡΗΣ ΙΩΑΝΝΗΣ\n2 ΧΑΡΑΛΑΜΠΙΔΗΣ ΧΑΡΑΛΑΜΠΟΣ\n3 ΜΙΧΟΥ ΚΩΝ/ΝΑ\n4 ΠΑΤΕΛΗ ΕΥΑΓΓΕΛΙΑ
URL:https://gorun.gr/race/armenistis-summer-trail/
CATEGORIES:Αποτελέσματα,Δρόμος
END:VEVENT
END:VCALENDAR