BEGIN:VCALENDAR
VERSION:2.0
PRODID:-//goRUN - ECPv5.8.1//NONSGML v1.0//EN
CALSCALE:GREGORIAN
METHOD:PUBLISH
X-WR-CALNAME:goRUN
X-ORIGINAL-URL:https://gorun.gr
X-WR-CALDESC:Events for goRUN
BEGIN:VTIMEZONE
TZID:Europe/Athens
BEGIN:DAYLIGHT
TZOFFSETFROM:+0200
TZOFFSETTO:+0300
TZNAME:EEST
DTSTART:20160327T010000
END:DAYLIGHT
BEGIN:STANDARD
TZOFFSETFROM:+0300
TZOFFSETTO:+0200
TZNAME:EET
DTSTART:20161030T010000
END:STANDARD
END:VTIMEZONE
BEGIN:VEVENT
DTSTART;VALUE=DATE:20160731
DTEND;VALUE=DATE:20160801
DTSTAMP:20260422T104047
CREATED:20160803T080044Z
LAST-MODIFIED:20160803T080604Z
UID:9405-1469923200-1470009599@gorun.gr
SUMMARY:Energy Duathlon Karpenissi 2016
DESCRIPTION:Energy Duathlon Karpenissi \nJuly 31\, 2016\nResults by TRIATHLON HELLAS \nOVERALL \nDUATHLON LONG DISTANCE\nPlace Name Bib Number Team Age RUN1 Time T1 Time BIKE Time T2 Time RUN2 Time Gun Time\n1 ΓΡΗΓΟΡΗΣ ΣΚΟΥΛΑΡΙΚΗΣ 1 trinews.gr 35 38:23.1 1:02.8 1:28:10.7 1:08.1 33:53.8 2:42:38.6\n2 ΓΙΩΡΓΟΣ ΚΥΡΙΑΖΙΔΗΣ 25 MYATHLETE 35 44:42.5 1:40.0 1:31:47.6 1:48.5 37:11.1 2:57:10.0\n3 DENIZ DIMAKI 2 ΓΑΣ ΙΛΙΣΟΣ 39 44:42.1 0:56.2 1:42:32.0 1:06.1 35:48.1 3:05:04.8\n4 Peter (Panos) Rotas 15 Red Star Triathlon club 45 47:37.0 1:19.7 1:37:05.9 1:43.2 44:13.3 3:11:59.3\n5 ΑΘΑΝΑΣΙΟΣ ΧΑΤΝΑΚΗΣ 40 NSCOACING 32 51:47.9 1:27.3 1:35:59.9 1:15.3 42:02.6 3:12:33.2\n6 ΑΛΕΞΙΟΣ ΓΚΕΛΗΣ 21 Red Star 46 49:11.3 1:24.3 1:41:05.3 1:35.8 43:01.0 3:16:17.9\n7 ΠΑΝΑΓΙΩΤΗΣ ΚΟΛΥΜΠΙΡΗΣ 23 ΑΟ ΘΗΣΕΑΣ 43 50:44.2 2:55.2 1:41:56.3 2:17.3 42:58.0 3:20:51.2\n8 Γιαννης Καραλης 22 Ερμης Μαρκοπουλου 32 48:06.7 1:05.2 1:44:21.5 1:11.5 48:03.2 3:22:48.3\n9 NIKOLAOS DEDOUSIS 11 ΣΥΛΛΟΓΟΣ ΜΑΡΑΘΩΝΟΔΡΟΜΩΝ ΛΑΡΙΣΑΣ 44 48:05.2 2:24.4 1:48:59.0 2:14.3 43:02.6 3:24:45.8\n10 THANASIS ZARKADOULAS 17 σύλλογος δρομέων υγείας αγρίνιο 46 48:00.8 1:48.1 1:48:09.3 1:56.4 45:24.5 3:25:19.3\n11 ΕΛΕΥΘΕΡΙΑ ΛΑΒΑΡΗ 26 34 52:16.5 1:50.5 1:48:17.1 1:52.3 43:58.4 3:28:14.9\n12 ΓΙΑΝΝΗΣ ΛΙΑΤΣΟΣ 27 ΠΑΝΑΙΤΩΛΙΚΟΣ Γ.Φ.Σ. 53 51:30.9 1:30.6 1:46:58.7 1:41.8 47:30.5 3:29:12.6\n13 ΝΙΚΗΦΟΡΟΣ ΑΝΔΡΙΟΠΟΥΛΟΣ 19 RED STAR TRIATHLON 35 53:30.1 1:15.0 1:46:55.4 1:24.6 46:10.0 3:29:15.4\n14 ΙΩΑΝΝΗΣ ΚΟΥΣΤΕΝΗΣ 24 39 59:31.5 2:06.5 1:45:09.1 1:55.4 42:47.9 3:31:30.7\n15 THANOS STOUBAS 16 Greece 39 49:59.8 1:57.1 1:55:13.0 1:41.5 46:18.2 3:35:09.8\n16 ΑΡΗΣ ΣΟΥΦΛΗΣ 36 Escape Bikes Mesologgi 38 51:31.2 1:39.8 1:49:46.8 1:31.4 51:28.5 3:35:57.9\n17 ΝΙΚΟΣ ΠΑΠΑΔΟΠΟΥΛΟΣ 30 0 54 53:01.0 1:14.1 1:59:57.8 1:35.0 51:00.1 3:46:48.2\n18 Πέτρος Μπουρνελης 29 27 52:23.2 1:13.4 1:57:57.0 1:07.1 59:09.2 3:51:50.2\n19 ΝΙΚΟΛΑΟΣ ΑΡΩΝΙΑΔΑΣ 42 26 1:01:15.2 2:01.7 2:07:18.5 3:16.4 50:58.1 4:04:50.1\n20 Mixalis Kypriotis 13 N.A.O.Kerkyras 57 58:20.0 4:18.0 2:13:39.9 2:32.1 51:58.7 4:10:48.7\n21 Γιώργος Τσίρτσης 39 Χιλιομόδι Κορινθίας 53 58:31.1 2:36.2 2:17:48.2 2:09.3 59:22.8 4:20:27.9\n22 ΧΡΗΣΤΟΣ ΠΟΛΑΤΣΙΔΗΣ 33 A.K.O.ΛΙΒΑΔΕΙΑΣ 56 1:03:29.4 1:50.7 2:12:06.5 1:28.8 1:04:17.4 4:23:13.1\n23 ΗΛΙΑΣ ΑΠΟΣΤΟΛΟΥ 20 ΕΟΣ ΚΑΡΠΕΝΗΣΙΟΥ 31 1:00:12.9 2:06.1 2:08:35.5 2:59.2 1:10:18.9 4:24:12.7\nDNF Γιωργος Τσεκουρας 37 38 57:13.0 2:13.3 1:54:33.3 7:10.7\nDQ ( -1 LAP RUN2) ΑΘΑΝΑΣΙΟΣ ΠΑΦΟΣ 31 Myathlete 46 48:18.5 1:47.1 1:58:11.0 2:06.3 33:34.0 3:23:57.1\nDQ ( -1 LAP RUN2) ΓΙΩΡΓΟΣ ΤΣΙΛΟΓΙΑΝΝΗΣ 38 Α.Ο ΘΗΣΕΑΣ 48 1:06:07.8 2:48.1 2:03:04.5 2:50.8 39:34.3 3:54:25.7\nDQ ( -1 LAP RUN2) Γιώργος Σχοινάς 218 41 1:00:04.3 1:57.3 2:15:29.2 1:52.8 36:50.2 3:56:14.0 \nDNS NESTORAS KATSIOS 12 ΤΡΙΩΔΙΟ 36\nDNS MICHALIS MOISIADIS 14 4M Triathlon Team 40\nDNS Χρηστος Αλεξιου 18 ns coaching 39\nDNS ΚΑΤΕΡΙΝΑ ΜΕΤΑΞΑ 28 Red Star 39\nDNS ΒΑΣΙΛΗΣ ΠΙΠΕΡΗΣ 32 ΤΕΛΜΗΣΟΣ ΜΑΡΑΘΩΝΑ 48\nDNS ΜΑΡΙΑ ΣΑΜΠΑΝΙΔΟΥ 34 RED STAR TRIATHLON CLUB 45\nDNS Γιώργος Σιαξαμπανης 35 Roussos Running Team/Αυτονομοι Δρομ 40 \nDUATHLON SPRINT\nPlace Name Bib Number Team Age RUN1 Time T1 Time BIKE Time T2 Time RUN2 Time Gun Time\n1 ΑΓΓΕΛΟΣ ΜΑΥΡΟΓΙΑΝΝΗΣ 201 Γ.Α.Σ. ΙΛΙΣΟΣ 18 10:15.8 0:47.7 44:33.9 0:56.9 11:37.2 1:08:11.6\n2 ΔΗΜΗΤΡΗΣ ΕΛΕYΘΕΡIΟΥ 283 30 10:28.1 0:43.2 45:37.8 0:44.0 11:56.9 1:09:30.3\n3 ΠΕΡΙΚΛΗΣ ΑΣΠΡΟΥΔΗΣ 259 ΔΡΟΜΕΙΣ ΑΡΤΑΣ DIELLAS 47 11:12.9 1:29.9 47:34.0 1:06.6 13:14.4 1:14:38.0\n4 ΚΩΝΣΤΑΝΤΙΝΟΣ ΜΠΑΡΜΠΟΥΤΗΣ 203 ΔΡΟΜΕΙΣ ΑΡΤΑΣ DIELLAS 26 11:14.0 1:24.9 47:37.1 1:01.0 13:25.8 1:14:43.0\n5 ΓΕΡΑΣΙΜΟΣ ΑΝΤΩΝΟΠΟΥΛΟΣ 257 ΥΓΕΙΑ Κ ΔΙΑΠΛΑΣΗ GYM 50 12:32.9 1:35.2 48:12.0 1:28.5 14:23.9 1:18:12.8\n6 Nikos Nikoviotis 252 Greece 35 13:04.2 1:43.9 48:05.0 1:15.8 14:33.1 1:18:42.3\n7 ΔΗΜΗΤΡΑ ΜΠΙΚΑ 282 24 11:42.7 1:35.3 52:01.1 14:09.3 1:19:28.5\n8 DIMITRIOS SOIS 253 cb team 37 13:01.8 1:01.2 50:50.9 0:50.2 14:18.9 1:20:03.1\n9 ΗΛΙΑΣ ΤΡΕΝΤΟΥ 219 ΜΓΣ ΠΑΝΣΕΡΡΑΙΚΟΣ 39 12:50.5 1:42.3 49:41.7 1:32.3 14:50.7 1:20:37.8\n10 ΔΙΟΝΥΣΙΟΣ ΔΗΜΟΠΟΥΛΟΣ 264 Α.Σ ΠΑΛΜΟΣ 43 14:01.7 1:08.8 50:18.7 1:04.4 14:42.2 1:21:16.0\n11 Ιωαννης Αγγελης 256 Συλ.Αθλ.Λοκριδας Νικεας 38 13:09.3 1:28.0 51:46.7 1:05.0 15:23.7 1:22:52.8\n12 DIMITRIS STAMATIOU 254 DHL EXPRESS 41 13:02.9 1:16.1 54:04.7 1:17.2 15:13.5 1:24:54.7\n13 Δημητρης Ρουτσης 216 Η τσέπη μου 31 12:17.9 1:20.8 55:01.9 1:10.8 15:26.1 1:25:17.7\n14 Παγώνα Δανάη Σακελλάρη 217 HOLMES PLACE 39 12:10.0 1:21.8 56:33.1 1:31.3 14:01.0 1:25:37.4\n15 ΑΝΑΣΤΑΣΙΟΣ ΚΟΥΡΚΟΥΤΕΛΗΣ 276 47 14:45.8 1:50.8 52:41.9 1:34.4 15:45.9 1:26:38.9\n16 Νίκος Μοσχής 202 40 13:41.2 1:51.8 52:58.6 1:49.2 16:22.4 1:26:43.4\n17 Λάμπρος Παπαδιας 211 Bike team Karpenissi 35 13:08.5 1:11.2 54:59.9 1:07.4 17:06.6 1:27:33.7\n18 Αλέξης Γεωργακόπουλος 260 Escape Bikes Mesologgi 21 14:53.1 1:46.4 53:03.5 2:01.6 17:22.3 1:29:07.1\n19 GEORGIOS TIMOU 255 30 13:35.2 2:01.0 56:56.3 1:43.0 15:18.3 1:29:34.0\n20 Πέτρος Χαρπαλής 220 Ymittos runners 54 14:05.7 1:42.1 54:48.5 1:40.0 17:36.0 1:29:52.4\n21 Σταματης Μπογιατζης 205 37 12:55.0 2:35.1 58:29.9 1:04.0 14:54.5 1:29:58.6\n22 ΙΩΑΝΝΗΣ ΠΑΠΑΝΙΚΟΛΑΣ 212 49 14:12.1 1:44.3 55:48.0 1:28.3 16:48.5 1:30:01.3\n23 ΝΙΚΟΣ ΚΟΡΑΚΑΣ 274 17 12:52.4 1:12.4 59:49.5 1:15.9 14:57.4 1:30:07.6\n24 ΕΙΡΗΝΗ ΚΑΡΠΑΘΙΟΥ 271 26 12:57.4 1:36.7 57:40.2 1:44.2 17:02.3 1:31:01.0\n25 ΟΔΥΣΣΕΑΣ ΓΕΩΡΓΙΟΥ 261 ΕΥΡΥΤΑΝΙΑ RUNNING TEAM 20 13:12.6 1:26.2 58:32.2 1:20.0 17:07.3 1:31:38.5\n26 ΓΕΩΡΓΙΟΣ ΜΠΛΕΤΣΑΣ 204 ΤΡΙΑΘΛΟΝ ΧΑΛΚΙΔΑ 50 14:59.4 1:18.1 1:01:32.0 1:33.3 16:55.7 1:36:18.7\n27 Παντελής Ρέλλας 215 Ανεξάρτητος 19 13:14.5 1:48.6 1:02:12.2 1:14.1 17:53.9 1:36:23.5\n28 ΝΙΚΟΣ ΒΕΝΤΟΥΡΑΣ 206 ΑΠΣ ΜΙΛΤΙΑΔΗΣ 44 15:21.7 2:04.7 1:00:54.4 1:22.9 18:02.0 1:37:46.0\n29 ΝΙΚΟΣ ΚΑΜΑΡΕΤΣΟΣ 270 26 16:12.4 1:26.7 59:28.0 1:31.9 19:10.4 1:37:49.7\n30 Δημήτρης Κοκοτίνης 273 39 15:35.9 2:04.3 57:36.8 1:59.9 21:20.5 1:38:37.5\n31 ΓΙΩΡΓΟΣ ΓΚΟΛΦΗΣ 263 37 15:57.8 1:39.5 1:01:38.7 1:29.3 17:55.6 1:38:41.1\n32 ΔΗΜΗΤΡΗΣ ΚΟΡΑΚΑΣ 275 RED STAR TRIATHLON 50 15:11.0 1:15.7 1:05:41.8 1:07.4 17:37.4 1:40:53.6\n33 ΓΕΩΡΓΙΟΣ ΖΑΡΚΑΔΑΣ 269 ΕΟΣ ΚΑΡΠΕΝΗΣΙΟΥ 20 14:53.0 1:42.4 1:03:53.1 1:09.0 19:16.7 1:40:54.4\n34 Σπυρος Ντιλης 208 44 15:31.3 1:30.2 1:02:50.2 1:41.3 22:27.5 1:44:00.7\n35 MARILENE MIKHAEL 251 Red star Triathlon Club 45 15:22.4 8:47.6 1:00:26.9 2:12.6 17:57.1 1:44:46.8\n36 ΧΡΗΣΤΟΣ ΝΤΟΥΜΑΝΗΣ 209 ΝΤΟΥΜΑΝΗΣ 52 19:28.2 2:11.1 59:48.1 2:38.1 21:25.8 1:45:31.5\n37 ΜΑΓΔΑΛΗΝΗ ΑΡΩΝΙΑΔΑ 258 23 16:07.0 1:31.3 1:10:27.2 1:24.3 17:54.7 1:47:24.6\n38 ΗΛΙΑΣ ΕΛΕΥΘΕΡΙΟΥ 266 19 16:14.3 1:32.3 1:10:18.8 1:24.3 17:54.9 1:47:24.7\n39 ΜΑΤΙΝΑ ΝΟΥΛΑ 207 18 15:13.9 1:26.4 1:16:03.2 1:32.7 16:51.6 1:51:07.9\n40 ΙΑΚΩΒΟΣ ΤΑΚΗΣ 280 17 14:18.5 1:02.9 1:14:21.5 1:10.6 20:15.2 1:51:08.8\n41 ΧΡΗΣΤΟΣ ΖΑΒΟΣ 268 Ε.Ο.Σ. Αλμυρού 47 17:47.4 2:42.3 1:09:07.0 2:32.6 19:06.6 1:51:16.0\n42 ΚΩΝΣΤΑΝΤΙΝΟΣ ΕΥΘΥΜΊΟΥ 267 ΣΔΥΑ 64 17:54.0 2:25.0 1:08:03.4 2:28.6 20:55.1 1:51:46.3\n43 ΓΕΩΡΓΙΟΣ ΚΥΡΙΑΖΗΣ 277 35 16:32.3 1:48.0 1:16:57.3 1:20.0 19:54.6 1:56:32.4\n44 Κατερινα Πετρακη 214 25 18:12.0 2:10.9 1:16:16.6 1:31.0 22:49.3 2:01:00.0\n45 Λουκάς Δρέλλας 265 28 16:47.9 1:14.8 1:20:35.9 1:25.3 22:23.5 2:02:27.6 \nDNF ΒΑΣΙΛΗΣ ΓΚΑΒΕΡΑΣ 262 31 13:25.7 1:12.1 \nDNS NIKOLAOS LEODITSIS 250 42\nDNS ΚΩΝΣΤΑΝΤΙΝΟΣ ΚΕΦΑΛΑΣ 272 bike team karpenisi 31\nDNS ΔΗΜΗΤΡΙΟΣ ΜΑΝΑΝΑΣ 278 40\nDNS ΚΑΛΛΙΟΠΗ ΜΑΝΤΖΟΥΝΕΑ 279 Sdym maniacs 44\nDNS ΑΝΔΡΕΑΣ ΝΙΝΗΣ 249 Α.Π.Σ ΜΙΛΤΙΑΔΗΣ 39\nDNS Δημήτρης Πανόπουλος 210 ΙΔΙΩΤΗΣ 35\nDNS ΗΡΑΚΛΗΣ ΠΑΤΣΟΥΡΑΣ 213 bike team karpenisi 31\nDNS ΑΘΑΝΑΣΙΟΣ ΤΡΙΑΝΤΑΦΥΛΛΟΠΟΥΛΟΣ 281 13 \nDUATHLON RELAY LONG DISTANCE\nPlace Name Bib Number Team Age RUN1 Time T1 Time BIKE Time T2 Time RUN2 Time Gun Time\n1 ΔΙΑΛΕΚΤΟΣ ΠΑΡΡΑΣ 56 Salomon Hellas- Ghost Bikes 40 36:53.1 0:53.2 1:26:58.6 0:50.3 30:56.3 2:36:31.6\n2 ΤΖΙΟΒΑΡΑΣ ΤΙΜΠΛΑΛΕΞΗΣ 55 Power Rangers 40 45:29.7 1:05.2 1:39:25.9 0:59.3 37:21.0 3:04:21.3\n3 ΚΑΡΑΒΑΣΙΛΗΣ ΠΑΡΙΣΗΣ ΠΑΝΑΓΙΩΤΟΥ 54 ΓΥΜΝΑΣΙΟΝ FITNESS CLUB ΜΕΣΟΛΟΓΓΙ 40 57:03.1 1:06.8 1:44:03.8 1:00.8 51:25.3 3:34:40.0\n4 PSAROGIANNIS DIMOPOULOS KOSTOUKIS 53 Spercheiada Running Team 40 1:04:21.0 1:05.2 1:44:38.7 1:00.7 54:24.0 3:45:29.9\n5 PAPADAKIS MIGLIACCIO 51 40 58:51.3 1:26.5 2:04:31.6 1:18.2 49:38.8 3:55:46.6\nDNS KATRAKIS DRAKOP KOSTOPOULOS 52 40 \nDUATHLON RELAY SPRINT\nPlace Name Bib Number Team Age RUN1 Time T1 Time BIKE Time T2 Time RUN2 Time Gun Time\n1 ΚΑΡΑΓΙΩΡΓΟΣ ADIDAS RUNNERS 180 40 9:37.3 45:49.3 0:58.5 11:05.0 1:07:30.2\n2 ΑΝΤΩΝΟΠΟΥΛΟΣ ΤΡΙΑΝΤΑΦΥΛΛΟΥ 168 ΥΓΕΙΑ Κ ΔΙΑΠΛΑΣΗ GYM 40 12:07.0 1:07.8 43:34.1 1:02.3 13:17.5 1:11:08.9 \n10k Run \nFemale Finishers\nPlace Name Bib No Age Age Group Place Gun Time Address Line 1\n1 Ελένη Νικολοπούλου 1633 31 1 F 1-99 49:41.8 Γ.Ε.Α (Γυμναστική Εταιρεία Αγρινίου\n2 ΦΩΤΕΙΝΗ ΚΟΛΟΚΑ 1661 20 2 F 1-99 52:07.2\n3 OLGA GERODHMOY 1603 47 3 F 1-99 1:04:01.2 FARSALA\n4 ΒΑΣΙΛΙΚΗ ΠΑΠΑΡΟΥΠΑ 1639 40 4 F 1-99 1:04:25.7 ΤΡΑΧΙΝΑ\n5 Μαρια Καραλη 1622 25 5 F 1-99 1:06:11.4\n6 Olga Alexandropoulou 1601 41 6 F 1-99 1:12:38.2 PAN-OL\n7 ΘΕΟΔΩΡΑ ΧΑΤΖΗ 1655 47 7 F 1-99 1:12:50.0\n8 Άρτεμις Αποστόλου 1612 32 8 F 1-99 1:23:53.4 Red star triathlon club\nDNF ΑΛΕΞΑΝΔΡΑ ΣΠΑΝΟΥ 1662 31 F 1-99\nDNF ΛΙΝΑ ΣΤΑΘΟΠΟΥΛΟΥ 1644 49 F 1-99 ΣΔΥΜ \nMale Finishers\nPlace Name Bib No Age Age Group Place Gun Time Address Line 1\n1 Χρήστος Παπαδογεώργος 1637 22 1 M 1-99 43:08.5 myathlete\n2 ΝΙΚΟΣ ΔΗΜΗΤΡΙΑΔΗΣ 1660 46 2 M 1-99 43:08.6\n3 ΙΩΑΝΝΗΣ ΚΑΡΕΤΣΟΣ 1623 34 3 M 1-99 44:43.2 ΔΡΟΜΕΙΣ ΙΕΡΗΣ ΠΟΛΗΣ ΜΕΣΟΛΟΓΓΙΟΥ\n4 ΠΑΝΑΓΙΩΤΗΣ ΣΠΑΝΟΣ 1643 27 4 M 1-99 48:50.8 Spercheiada Running Team\n5 ΑΘΑΝΑΣΙΟΣ ΤΖΑΒΑΛΗΣ 1646 36 5 M 1-99 50:02.9 ΤΡΑΧΙΝΑ ΦΘΙΩΤΙΔΑΣ\n6 ΓΕΩΡΓΙΟΣ ΓΙΩΤΟΠΟΥΛΟΣ 1615 44 6 M 1-99 50:48.1 ΤΡΑΧΙΝΑ\n7 ΝΙΚΟΛΑΟΣ ΚΟΝΤΟΠΑΝΟΣ 1628 40 7 M 1-99 52:28.8 ΑΤΛΑΝΤΑΣ\n8 ΝΙΚΟΣ ΛΙΑΠΗΣ 1629 40 8 M 1-99 53:27.9 EYRYTANIA RUNNING TEAM\n9 Βαγγέλης Καζεπιδης 1619 32 9 M 1-99 53:42.9 Ανεξάρτητος\n10 georgios gianniotis 1604 44 10 M 1-99 54:37.6\n11 ΧΡΗΣΤΟΣ ΛΙΑΝΓΚΟΣ 1658 28 11 M 1-99 54:42.8\n12 ΚΩΝΣΤΑΝΤΙΝΟΣ ΚΕΝΤΡΟΣ 1624 48 12 M 1-99 55:07.5 Σ.Δ.ΣΜΟΚΟΒΟΥ\n13 ΧΡΙΣΤΟΣ ΤΡΑΠΕΖΙΩΤΗΣ 1647 35 13 M 1-99 56:19.4 ΤΡΕΧΑΝΤΗΡΙΑ RS\n14 ΣΠΥΡΟΣ ΚΟΛΟΚΩΤΣΙΟΣ 1663 60 14 M 1-99 56:32.0\n15 stergios kouskouridas 1606 43 15 M 1-99 56:52.3 crossfit volos\n16 ΒΟΥΡΑΖΑΝΗΣ ΕΥΑΓΓΕΛΟΣ 1618 39 16 M 1-99 57:23.8\n17 ΓΕΩΡΓΙΟΣ ΧΑΒΕΛΟΣ 1653 32 17 M 1-99 57:56.4\n18 Ioannis Sakellaris 1610 29 18 M 1-99 58:13.8 Τραχίνα\n19 ΣΠΥΡΙΔΩΝ ΒΑΜΒΑΤΣΙΚΟΣ 1613 43 19 M 1-99 58:14.3 ΤΡΑΧΙΝΑ\n20 ΑΛΕΞΑΝΔΡΟΣ ΟΙΚΟΝΟΜΟΥ 1634 33 20 M 1-99 58:31.1\n21 Χριστόφορος Τσιάκαλος 1650 36 21 M 1-99 1:00:17.8 Ευρυτανία running team\n22 ΣΑΚΗΣ ΚΟΚΚΙΝΟΣ 1626 39 22 M 1-99 1:00:43.8 ΣΥΛΛΟΓΟΣ ΔΡΟΜΕΩΝ ΤΡΙΚΑΛΩΝ\n23 ΠΑΝΑΓΙΩΤΗΣ ΠΑΝΔΡΕΜΕΝΟΣ 1635 32 23 M 1-99 1:01:01.6 ΣΔΥ ΑΓΡΙΝΙΟΥ\n24 ΘΕΟΔΩΡΟΣ ΓΟΥΡΓΟΥΛΗΣ 1616 49 24 M 1-99 1:01:01.6 ΑΤΑΛΑΝΤΗΣ\n25 ΘΕΟΔΩΡΟΣ ΦΑΣΟΗΣ 1652 26 25 M 1-99 1:01:10.6 ΣΥΛΛΟΓΟΣ ΔΡΟΜΕΩΝ Ι.Π ΜΕΣΟΛΟΓΓΙΟΥ\n26 ΑΠΟΣΟΤΟΛΟΣ ΚΟΜΠΟΓΙΑΝΝΗΣ 1664 60 26 M 1-99 1:01:38.3\n27 Νικόλαος Τσιπάς 1651 41 27 M 1-99 1:02:09.3\n28 ΧΡΗΣΤΟΣ ΤΣΑΤΣΑΣ 1649 52 28 M 1-99 1:02:44.2\n29 ΝΙΚΟΛΑΟΣ ΧΑΝΤΣΟΥΛΗΣ 1654 61 29 M 1-99 1:03:14.2 Σ.Δ.ΣΜΟΚΟΒΟΥ\n30 Panagiotis Robolas 1608 42 30 M 1-99 1:03:57.7 PAN-OL\n31 ΚΩΝΣΤΑΝΤΙΝΟΣ ΠΕΡΒΑΝΑΣ 1640 47 31 M 1-99 1:04:06.5 ΑΝΕΞΑΡΤΗΤΟΣ\n32 ΔΗΜΗΤΡΗΣ ΛΙΑΣΚΑΚΗΣ 1630 20 32 M 1-99 1:04:24.3 ΤΕΙ ΚΟΖΑΝΗΣ\n33 ΧΡΗΣΤΟΣ ΜΠΑΚΑΣ 1631 41 33 M 1-99 1:04:29.6 ΣΥΛΛΟΓΟΣ ΔΡΟΜΕΩΝ Ι.Π ΜΕΣΟΛΟΓΓΙΟΥ\n34 Θανάσης Χατζής 1656 26 34 M 1-99 1:05:28.0\n35 STEFANOS BEIS 1602 41 35 M 1-99 1:05:43.0 GORGOGYRI\n36 Panagiotis Sakellaris 1609 31 36 M 1-99 1:06:11.4 Τραχινα\n37 AIMAN KALALOUE 1605 46 37 M 1-99 1:06:57.9\n38 ΓΙΩΡΓΟΣ ΤΡΙΚΑΛΙΤΗΣ 1648 47 38 M 1-99 1:08:20.4 ΣΔΥΜ ΘΗΒΑΣ\n39 ΛΆΜΠΡΟΣ ΠΙΛΑΤΟΣ 1641 31 39 M 1-99 1:09:07.0\n40 Φανης Καραγιαννης 1621 24 40 M 1-99 1:09:24.2\n41 ΓΚΙΚΑΣ ΡΑΠΤΗΣ 1642 46 41 M 1-99 1:09:27.5\n42 ΔΗΜΗΤΡΙΟΣ ΠΑΠΑΔΗΜΗΤΡΙΟΥ 1657 40 42 M 1-99 1:09:45.0\n43 Σπύρος Κεσίσογλου 1625 48 43 M 1-99 1:10:18.5\n44 Πέτρος Πάνιας 1636 50 44 M 1-99 1:10:20.8\n45 Νικόλαος Παπαροϊδάμης 1638 32 45 M 1-99 1:10:23.2\n46 ΑΝΔΡΕΑΣ ΒΡΟΝΤΑΚΗΣ 1614 40 46 M 1-99 1:12:35.0 0\n47 ΚΩΣΤΑΣ ΚΑΝΕΛΛΟΣ 1620 30 47 M 1-99 1:14:33.1\n48 ΙΩΣΗΦ ΚΑΛΑΛΟΥΣ 1659 21 48 M 1-99 1:15:25.1\n49 ΓΙΩΡΓΟΣ ΑΘΑΝΑΣΙΟΥ 1665 66 49 M 1-99 1:21:40.2\nDNS akis margianos 1607 42 M 1-99 ΤΡΑΧΙΝΑ\nDNS ΓΡΗΓΟΡΙΟΣ ΑΝΔΡΙΝΟΠΟΥΛΟΣ 1611 45 M 1-99\nDNS ΣΤΡΑΤΟΣ ΔΗΜΟΥ 1617 55 M 1-99 lepantorunners\nDNS MAKHΣ ΚΟΛΕΘΡΑΣ 1627 52 M 1-99 ΥΓΕΙΑ ΚΑΙ ΣΠΟΡ ΕΡΑ ΣΠΟΡ\nDNS Αγγελος ΜΠΕΛΑΛΗΣ 1632 18 M 1-99 Spercheiada running team\nDNS ΒΑΣΙΛΗΣ ΣΤΥΛΙΑΡΑΣ 1645 40 M 1-99 Α.Π.Σ. ΑΠΟΛΛΩΝ ΔΥΤ.ΑΤΤΙΚΗΣ \nFun Run \nFemale Finishers\nPlace Name Bib No Age Age Group Place Gun Time Address Line 1\n1 ΔΕΣΠΟΙΝΑ ΓΙΩΤΟΠΟΥΛΟΥ 1707 12 1 F 1-99 20:40.9 ΤΡΑΧΙΝΑ\n2 ΕΛΕΝΗ ΡΕΚΚΑ 1755 45 2 F 1-99 21:18.6\n3 ΕΙΡΗΝΗ ΠΑΠΑΔΟΠΟΥΛΟΥ 1768 20 3 F 1-99 22:12.3\n4 ΓΙΟΥΛΗ ΦΥΤΙΛΗ 1726 47 4 F 1-99 23:46.5 YIOULIS RUNNING TEAM\n5 ΣΟΦΙΑ ΦΛΕΓΚΑ 1725 40 5 F 1-99 25:22.7\n6 ΕΜΜΑΝΟΥΕΛΑ ΠΟΝΤΙΔΑ 1764 57 6 F 1-99 25:41.3\n7 ΒΑΣΙΛΙΚΗ ΜΠΟΥΡΑ 1770 33 7 F 1-99 26:15.8\n8 GEORGIA PANAGOU 1702 37 8 F 1-99 29:25.3 GORGOGYRI\n9 ΣΩΤΗΡΙΑ ΓΙΑΝΝΕΛΟΥ 1705 37 9 F 1-99 29:27.3\n10 ΡΟΥΘ ΛΙΓΓΟΥ 1711 41 10 F 1-99 29:49.7\n11 Γεωργία Καρβούνη 1708 28 11 F 1-99 31:04.0\n12 ΕΛΕΝΗ ΑΝΑΣΤΑΣΙΑΔΟΥ 1769 38 12 F 1-99 31:42.5\n13 ΕΛΕΝΗ ΒΑΓΙΑ 1754 41 13 F 1-99 55:01.9 Α.Π.Σ ΜΙΛΤΙΑΔΗΣ\n14 ΠΑΝΑΓΙΩΤΑ ΚΟΚΚΟΤΟΥ 1709 26 14 F 1-99 56:33.1\n15 Γεωργία Σουλιώτη 1721 49 15 F 1-99 2:19:04.9\nDNS MARIA PASTRA 1703 21 F 1-99\nDNS ΧΡΙΣΤΙΝΑ ΝΟΥΛΑ 1714 27 F 1-99\nDNS ΑΝΝΑ ΠΑΣΤΡΑ 1717 23 F 1-99\nDNS ΜΑΙΡΗ ΠΙΤΣΑΚΗ 1720 43 F 1-99\nDNS ΒΙΚΥ ΣΠΥΡΟΥ 1722 49 F 1-99 ΥΓΕΙΑ ΚΑΙ ΣΠΟΡ ΕΡΑ ΣΠΟΡ \nMale Finishers \nPlace Name Bib No Age Age Group Place Gun Time Address Line 1\n1 ΜΑΚΗΣ ΚΟΛΕΘΡΑΣ 1767 52 1 M 1-99 15:23.4 ΥΓΕΙΑ ΚΑΙ ΣΠΟΡ ΕΡΑ ΣΠΟΡ\n2 ΔΗΜΗΤΡΙΟΣ ΜΠΛΕΤΣΑΣ 1756 16 2 M 1-99 17:54.2\n3 ΙΩΑΝΝΗΣ ΓΙΩΤΟΠΟΥΛΟΣ 1706 14 3 M 1-99 20:15.9 ΤΡΑΧΙΝΑ\n4 ΕΥΣΤΑΘΙΟΣ ΡΑΠΤΗΣ 1761 16 4 M 1-99 23:44.3\n5 ΛΑΜΠΡΟΣ ΚΑΤΣΑΡΟΣ 1760 20 5 M 1-99 23:45.7\n6 ΝΙΚΟΛΑΟΣ ΡΑΠΤΗΣ 1762 13 6 M 1-99 24:11.6\n7 ΜΑΡΚΟΣ ΠΑΦΟΣ 1718 10 7 M 1-99 29:49.8\n8 ΔΗΜΗΤΡΗΣ ΚΟΛΛΗΜΕΝΟΣ 1710 25 8 M 1-99 30:08.3 Evrytanja Sport\n9 ΓΙΩΡΓΟΣ ΓΕΡΟΛΥΜΠΟΣ 1765 58 9 M 1-99 32:49.6\n10 Φίλιππος Πάφος 1719 13 10 M 1-99 37:44.3\n11 ΙΩΑΝΝΗΣ ΣΤΑΥΡΟΠΟΥΛΟΣ 1723 27 11 M 1-99 1:06:03.4 yioulis running team\n12 ΧΡΗΣΤΟΣ ΒΑΞΕΒΑΝΗΣ 1704 52 12 M 1-99 2:04:38.1\n13 Επαμεινώντας Πάνιας 1716 16 13 M 1-99 2:19:03.2\n14 Δημήτρης Πάνιας 1715 14 14 M 1-99 2:19:03.7\nDNS Nikolaos Kentros 1701 19 M 1-99\nDNS ΘΕΜΗΣ ΜΑΛΤΕΖΟΣ 1712 35 M 1-99\nDNS Παναγιώτης Μπαντουνας 1713 32 M 1-99\nDNS ΓΙΑΝΝΗΣ ΣΤΑΥΡΟΠΟΥΛΟΣ 1724 27 M 1-99 ΤΡΑΧΙΝΑ/ΓΙΟΥΛΗ ΡΑΝ \nKids Run \nFemale Finishers\nPlace Name Bib No Age Age Group Place Gun Time Address Line 1\n1 ΒΑΣΙΛΙΚΗ ΔΗΜΟΠΟΥΛΟΥ 1759 11 1 F 8-11 3:33.9\n2 ΣΕΒΑΣΤΗ ΠΑΠΑΔΗΜΗΤΡΙΟΥ 1749 11 2 F 8-11 3:46.3\n3 ΕΙΡΗΝΗ ΛΑΜΠΑΔΑΡΗ 1745 9 3 F 8-11 3:48.0\n4 Εύα Κεσίσογλου 1744 13 1 F 12-16 3:56.7\n5 ΝΑΤΑΛΙΑ ΣΤΕΡΟΠΟΥΛΟΥ 1772 13 2 F 12-16 4:05.2 13\n6 ΕΥΤΥΧΙΑ ΖΑΡΚΑΔΟΥΛΑ 1798 9 4 F 8-11 4:09.7\n7 ΓΕΩΡΓΙΑ ΚΩΝΣΤΑΝΤΟΠΟΥΛΟΥ 1771 13 3 F 12-16 4:10.0\n8 ΜΑΡΙΑ ΣΤΑΜΟΥΛΗ 1786 11 5 F 8-11 4:12.7\n9 ΔΕΣΠΟΙΝΑ ΣΤΕΡΟΠΟΥΛΟΥ 1774 15 4 F 12-16 4:26.4\n10 ΕΥΑΓΓΕΛΙΑ ΑΓΓΕ ΓΟΥΡΓΟΥΛΗ 1738 8 6 F 8-11 4:28.5 ΑΤΑΛΑΝΤΗΣ\n11 ΦΩΤΕΙΝΗ ΣΤΕΡΟΠΟΥΛΟΥ 1773 13 5 F 12-16 4:35.2\n12 ΒΑΣΙΛΙΚΗ ΠΑΠΑΔΗΜΗΤΡΙΟΥ 1750 10 7 F 8-11 4:45.2\n13 ΕΥΣΤΑΘΙΑ ΤΣΙΝΟΓΙΑΝΝΗ 1752 9 8 F 8-11 4:49.6\n14 Δανάη-Αγγελική Βουλγαροπούλου 1735 11 9 F 8-11 4:56.0\n15 ΑΛΕΞΑΝΔΡΑ ΦΛΩΡΑΚΗ 1783 8 10 F 8-11 5:04.6\n16 ΧΑΡΑ ΣΤΑΜΟΥΛΗ 1787 9 11 F 8-11 5:06.6\n17 ΛΥΔΙΑ ΒΑΞΕΒΑΝΗ 1731 7 1 F 1- 7 5:16.0\n18 ΕΒΙΝΑ ΠΛΑΚΑ 1781 9 12 F 8-11 5:27.0\n19 ΔΕΣΠΟΙΝΑ ΔΗΜΗΤΡΙΑΔΟΥ 1796 7 2 F 1- 7 5:31.1\n20 ΣΟΦΙΑ ΤΣΙΝΟΓΙΑΝΝΗ 1751 5 3 F 1- 7 5:35.0\n21 ΜΑΡΙΝΑ ΤΣΙΝΟΓΙΑΝΝΗ 1753 9 13 F 8-11 6:58.2\n22 ΒΑΞΙΑ ΦΑΚΙΤΣΑ 1791 6 4 F 1- 7 7:01.8\n23 ΙΦΙΓΕΝΕΙΑ ΕΥΘΥΜΙΟΥ 1741 4 5 F 1- 7 7:16.5\nDNS GIOTA BALAFOUTIS 1728 12 F 12-16\nDNS GEORGIA BALAFOUTIS 1729 12 F 12-16\nDNS ΕΛΕΝΑ ΤΡΙΚΑΛΙΤΗ 1763 7 F 1- 7 \nMale Finishers \nPlace Name Bib No Age Age Group Place Gun Time Address Line 1\n1 Νικόλαος Βουλγαρόπουλος 1733 15 1 M 12-16 2:37.8\n2 ΜΑΝΟΣ ΑΝΤΩΝΟΠΟΥΛΟΣ 1730 14 2 M 12-16 2:41.9 ΥΓΕΙΑ Κ ΔΙΑΠΛΑΣΗ GYM\n3 ΓΙΩΡΓΟΣ ΤΣΩΝΗΣ 1789 10 1 M 8-11 3:15.0\n4 ΓΕΩΡΓΙΟΣ ΓΟΥΡΓΟΥΛΗΣ 1739 12 3 M 12-16 3:25.2 ΑΤΑΛΑΝΤΗΣ\n5 ΒΑΣΙΛΗΣ ΑΝΤΩΝΙΟΥ 1794 10 2 M 8-11 3:27.2\n6 ΧΑΡΑΛΑΜΠΟΣ ΖΑΧΑΡΑΚΗΣ 1778 10 3 M 8-11 3:45.0\n7 ΟΔΥΣΣΕΑΣ ΒΑΞΕΒΑΝΗΣ 1732 11 4 M 8-11 3:48.7 ΓΑΣ ΙΛΙΣΟΣ\n8 ΝΙΚΟΣ ΓΟΥΡΓΟΥΛΗΣ 1740 11 5 M 8-11 3:50.4 ΑΤΑΛΑΝΤΗ\n9 ΘΩΜΑΣ ΣΤΑΜΟΥΛΗΣ 1775 10 6 M 8-11 3:50.4\n10 ΜΑΝΩΛΗΣ ΜΠΑΛΙΑΚΑΣ 1780 9 7 M 8-11 3:52.9\n11 Χριστόφορος Ζηκίδης 1742 11 8 M 8-11 4:00.3\n12 ΣΤΕΦΑΝΟΣ ΛΙΑΡΟΣ 1792 8 9 M 8-11 4:13.9\n13 ΚΩΝ/ΝΟΣ ΦΛΩΡΑΚΗΣ 1784 12 4 M 12-16 4:14.4\n14 ΚΩΝ/ΝΟΣ ΜΠΛΕΤΣΑΣ 1757 9 10 M 8-11 4:15.5\n15 ΗΛΙΑΣ ΤΡΙΑΝΤΑΦΥΛΛΑΚΗΣ 1779 10 11 M 8-11 4:17.9\n16 Γρηγόρης Γεμενής 1737 10 12 M 8-11 4:20.7\n17 Αλέξανδρος Γεμενής 1736 8 13 M 8-11 4:21.8\n18 ΣΠΥΡΟΣ ΔΗΜΟΠΟΥΛΟΣ 1758 9 14 M 8-11 4:28.6\n19 ΘΑΝΟΣ ΦΑΚΙΤΣΑΣ 1790 10 15 M 8-11 4:29.0\n20 ΑΛΚΗΣ ΚΑΡΑΒΑΣΙΛΗΣ 1766 8 16 M 8-11 4:40.1 ΓΥΜΝΑΣΙΟΝ FITNESS\n21 ΒΑΓΓΕΛΗΣ ΖΑΧΑΡΑΚΗΣ 1777 8 17 M 8-11 4:46.6\n22 ΒΑΓΓΕΛΗΣ ΖΑΛΟΚΩΣΤΑΣ 1785 10 18 M 8-11 4:50.7\n23 ΣΩΤΗΡΗΣ ΤΣΩΝΗΣ 1788 7 1 M 1- 7 5:02.0\n24 Κωνσταντίνος Λαμπαδαρης 1746 11 19 M 8-11 5:26.2\n25 ΠΑΥΛΟΣ ΠΑΠΑΔΙΑΣ 1793 5 2 M 1- 7 5:26.9\n26 ΙΩΑΝΝΗΣ ΔΗΜΗΤΡΙΑΔΗΣ 1797 9 20 M 8-11 5:30.8\n27 ΚΩΝ/ΝΟΣ ΧΟΥΖΙΑΔΑΣ 1795 6 3 M 1- 7 5:42.3\n28 ΚΩΝ/ΝΟΣ ΑΛΕΞΟΠΟΥΛΟΣ 1776 7 4 M 1- 7 7:00.6\n29 ΣΤΑΥΡΟΣ ΠΛΑΚΑΣ 1782 6 5 M 1- 7 8:29.9\nDNF Αγγελος Κατσαιτης 1743 9 M 8-11\nDNF Φίλιππος Πάφος 1747 13 M 12-16 \nEnergy Duathlon Karpenissi\nAGE GROUP Results \nDUATHLON LONG DISTANCE \nFemale 30 to 39\nPlace Overall Plc Name bib Team Age RUN1 Time T1 Time BIKE Time T2 Time RUN2 Time Chip Time\n1 3 DENIZ DIMAKI 2 ΓΑΣ ΙΛΙΣΟΣ 39 44:42.1 0:56.2 1:42:32.0 1:06.1 35:48.1 3:05:04.8\n2 11 ΕΛΕΥΘΕΡΙΑ ΛΑΒΑΡΗ 26 34 52:16.5 1:50.5 1:48:17.1 1:52.3 43:58.4 3:28:14.9\nDNS DNS ΚΑΤΕΡΙΝΑ ΜΕΤΑΞΑ 28 Red Star 39 \nFemale 40 to 49\nPlace Overall Plc Name Age RUN1 Time T1 Time BIKE Time T2 Time RUN2 Time Chip Time\nDNS DNS ΜΑΡΙΑ ΣΑΜΠΑΝΙΔΟΥ 34 RED STAR TRIATHLON CLUB 45 \nMale 29 and Under\nPlace Overall Plc Name Age RUN1 Time T1 Time BIKE Time T2 Time RUN2 Time Chip Time\n1 18 Πέτρος Μπουρνελης 29 27 52:23.2 1:13.4 1:57:57.0 1:07.1 59:09.2 3:51:50.2\n2 19 ΝΙΚΟΛΑΟΣ ΑΡΩΝΙΑΔΑΣ 42 26 1:01:15.2 2:01.7 2:07:18.5 3:16.4 50:58.1 4:04:50.1\nDNS DNS NIKOLAOS ARONIADAS 41 27 \nMale 30 to 39\nPlace Overall Plc Name Age RUN1 Time T1 Time BIKE Time T2 Time RUN2 Time Chip Time\n1 1 ΓΡΗΓΟΡΗΣ ΣΚΟΥΛΑΡΙΚΗΣ 1 trinews.gr 35 38:23.1 1:02.8 1:28:10.7 1:08.1 33:53.8 2:42:38.6\n2 2 ΓΙΩΡΓΟΣ ΚΥΡΙΑΖΙΔΗΣ 25 MYATHLETE 35 44:42.5 1:40.0 1:31:47.6 1:48.5 37:11.1 2:57:10.0\n3 5 ΑΘΑΝΑΣΙΟΣ ΧΑΤΝΑΚΗΣ 40 NSCOACING 32 51:47.9 1:27.3 1:35:59.9 1:15.3 42:02.6 3:12:33.2\n4 8 Γιαννης Καραλης 22 Ερμης Μαρκοπουλου 32 48:06.7 1:05.2 1:44:21.5 1:11.5 48:03.2 3:22:48.3\n5 13 ΝΙΚΗΦΟΡΟΣ ΑΝΔΡΙΟΠΟΥΛΟΣ 19 RED STAR TRIATHLON 35 53:30.1 1:15.0 1:46:55.4 1:24.6 46:10.0 3:29:15.4\n6 14 ΙΩΑΝΝΗΣ ΚΟΥΣΤΕΝΗΣ 24 39 59:31.5 2:06.5 1:45:09.1 1:55.4 42:47.9 3:31:30.7\n7 15 THANOS STOUBAS 16 Greece 39 49:59.8 1:57.1 1:55:13.0 1:41.5 46:18.2 3:35:09.8\n8 16 ΑΡΗΣ ΣΟΥΦΛΗΣ 36 Escape Bikes Mesologgi 38 51:31.2 1:39.8 1:49:46.8 1:31.4 51:28.5 3:35:57.9\n9 23 ΗΛΙΑΣ ΑΠΟΣΤΟΛΟΥ 20 ΕΟΣ ΚΑΡΠΕΝΗΣΙΟΥ 31 1:00:12.9 2:06.1 2:08:35.5 2:59.2 1:10:18.9 4:24:12.7\nDNF DNF Γιωργος Τσεκουρας 37 38 57:13.0 2:13.3 1:54:33.3 7:10.7\nDNS DNS NESTORAS KATSIOS 12 ΤΡΙΩΔΙΟ 36\nDNS DNS Χρηστος Αλεξιου 18 ns coaching 39 \nMale 40 to 49\nPlace Overall Plc Name Age RUN1 Time T1 Time BIKE Time T2 Time RUN2 Time Chip Time\n1 4 Peter (Panos) Rotas 15 Red Star Triathlon club 45 47:37.0 1:19.7 1:37:05.9 1:43.2 44:13.3 3:11:59.3\n2 6 ΑΛΕΞΙΟΣ ΓΚΕΛΗΣ 21 Red Star 46 49:11.3 1:24.3 1:41:05.3 1:35.8 43:01.0 3:16:17.9\n3 7 ΠΑΝΑΓΙΩΤΗΣ ΚΟΛΥΜΠΙΡΗΣ 23 ΑΟ ΘΗΣΕΑΣ 43 50:44.2 2:55.2 1:41:56.3 2:17.3 42:58.0 3:20:51.2\n4 9 NIKOLAOS DEDOUSIS 11 ΣΥΛΛΟΓΟΣ ΜΑΡΑΘΩΝΟΔΡΟΜΩΝ ΛΑΡΙΣΑΣ 44 48:05.2 2:24.4 1:48:59.0 2:14.3 43:02.6 3:24:45.8\n5 10 THANASIS ZARKADOULAS 17 σύλλογος δρομέων υγείας αγρίνιο 46 48:00.8 1:48.1 1:48:09.3 1:56.4 45:24.5 3:25:19.3\nDNS DNS MICHALIS MOISIADIS 14 4M Triathlon Team 40\nDNS DNS ΒΑΣΙΛΗΣ ΠΙΠΕΡΗΣ 32 ΤΕΛΜΗΣΟΣ ΜΑΡΑΘΩΝΑ 48\nDNS DNS Γιώργος Σιαξαμπανης 35 Roussos Running Team/Αυτονομοι Δρομ 40\nDQ DQ ΑΘΑΝΑΣΙΟΣ ΠΑΦΟΣ 31 Myathlete 46 48:18.5 1:47.1 1:58:11.0 2:06.3 33:34.0 3:23:57.1\nDQ DQ ΓΙΩΡΓΟΣ ΤΣΙΛΟΓΙΑΝΝΗΣ 38 Α.Ο ΘΗΣΕΑΣ 48 1:06:07.8 2:48.1 2:03:04.5 2:50.8 39:34.3 3:54:25.7\nDQ DQ Γιώργος Σχοινάς 218 41 1:00:04.3 1:57.3 2:15:29.2 1:52.8 36:50.2 3:56:14.0 \nMale 50 to 59\nPlace Overall Plc Name Age RUN1 Time T1 Time BIKE Time T2 Time RUN2 Time Chip Time\n1 12 ΓΙΑΝΝΗΣ ΛΙΑΤΣΟΣ 27 ΠΑΝΑΙΤΩΛΙΚΟΣ Γ.Φ.Σ. 53 51:30.9 1:30.6 1:46:58.7 1:41.8 47:30.5 3:29:12.6\n2 17 ΝΙΚΟΣ ΠΑΠΑΔΟΠΟΥΛΟΣ 30 0 54 53:01.0 1:14.1 1:59:57.8 1:35.0 51:00.1 3:46:48.2\n3 20 Mixalis Kypriotis 13 N.A.O.Kerkyras 57 58:20.0 4:18.0 2:13:39.9 2:32.1 51:58.7 4:10:48.7\n4 21 Γιώργος Τσίρτσης 39 Χιλιομόδι Κορινθίας 53 58:31.1 2:36.2 2:17:48.2 2:09.3 59:22.8 4:20:27.9\n5 22 ΧΡΗΣΤΟΣ ΠΟΛΑΤΣΙΔΗΣ 33 A.K.O.ΛΙΒΑΔΕΙΑΣ 56 1:03:29.4 1:50.7 2:12:06.5 1:28.8 1:04:17.4 4:23:13.1 \nDUATHLON SPRINT \nFemale 19 and Under\nPlace Overall Plc Name Age RUN1 Time T1 Time BIKE Time T2 Time RUN2 Time Chip Time\n1 39 ΜΑΤΙΝΑ ΝΟΥΛΑ 207 18 15:13.9 1:26.4 1:16:03.2 1:32.7 16:51.6 1:51:07.9 \nFemale 20 to 29\nPlace Overall Plc Name Age RUN1 Time T1 Time BIKE Time T2 Time RUN2 Time Chip Time\n1 7 ΔΗΜΗΤΡΑ ΜΠΙΚΑ 282 24 11:42.7 1:35.3 52:01.1 14:09.3 1:19:28.5\n2 24 ΕΙΡΗΝΗ ΚΑΡΠΑΘΙΟΥ 271 26 12:57.4 1:36.7 57:40.2 1:44.2 17:02.3 1:31:01.0\n3 37 ΜΑΓΔΑΛΗΝΗ ΑΡΩΝΙΑΔΑ 258 23 16:07.0 1:31.3 1:10:27.2 1:24.3 17:54.7 1:47:24.6\n4 44 Κατερινα Πετρακη 214 25 18:12.0 2:10.9 1:16:16.6 1:31.0 22:49.3 2:01:00.0 \nFemale 30 to 39\nPlace Overall Plc Name Age RUN1 Time T1 Time BIKE Time T2 Time RUN2 Time Chip Time\n1 14 Παγώνα Δανάη Σακελλάρη 217 HOLMES PLACE 39 12:10.0 1:21.8 56:33.1 1:31.3 14:01.0 1:25:37.4 \nFemale 40 to 49\nPlace Overall Plc Name Age RUN1 Time T1 Time BIKE Time T2 Time RUN2 Time Chip Time\n1 35 MARILENE MIKHAEL 251 Red star Triathlon Club 45 15:22.4 8:47.6 1:00:26.9 2:12.6 17:57.1 1:44:46.8\nDNS DNS ΚΑΛΛΙΟΠΗ ΜΑΝΤΖΟΥΝΕΑ 279 Sdym maniacs 44 \nMale 19 and Under\nPlace Overall Plc Name Age RUN1 Time T1 Time BIKE Time T2 Time RUN2 Time Chip Time\n1 1 ΑΓΓΕΛΟΣ ΜΑΥΡΟΓΙΑΝΝΗΣ 201 Γ.Α.Σ. ΙΛΙΣΟΣ 18 10:15.8 0:47.7 44:33.9 0:56.9 11:37.2 1:08:11.6\n2 23 ΝΙΚΟΣ ΚΟΡΑΚΑΣ 274 17 12:52.4 1:12.4 59:49.5 1:15.9 14:57.4 1:30:07.6\n3 27 Παντελής Ρέλλας 215 Ανεξάρτητος 19 13:14.5 1:48.6 1:02:12.2 1:14.1 17:53.9 1:36:23.5\n4 38 ΗΛΙΑΣ ΕΛΕΥΘΕΡΙΟΥ 266 19 16:14.3 1:32.3 1:10:18.8 1:24.3 17:54.9 1:47:24.7\n5 40 ΙΑΚΩΒΟΣ ΤΑΚΗΣ 280 17 14:18.5 1:02.9 1:14:21.5 1:10.6 20:15.2 1:51:08.8\nDNS DNS ΑΘΑΝΑΣΙΟΣ ΤΡΙΑΝΤΑΦΥΛΛΟΠΟΥΛΟΣ 281 13 \nMale 20 to 29\nPlace Overall Plc Name Age RUN1 Time T1 Time BIKE Time T2 Time RUN2 Time Chip Time\n1 4 ΚΩΝΣΤΑΝΤΙΝΟΣ ΜΠΑΡΜΠΟΥΤΗΣ 203 ΔΡΟΜΕΙΣ ΑΡΤΑΣ DIELLAS 26 11:14.0 1:24.9 47:37.1 1:01.0 13:25.8 1:14:43.0\n2 18 Αλέξης Γεωργακόπουλος 260 Escape Bikes Mesologgi 21 14:53.1 1:46.4 53:03.5 2:01.6 17:22.3 1:29:07.1\n3 25 ΟΔΥΣΣΕΑΣ ΓΕΩΡΓΙΟΥ 261 ΕΥΡΥΤΑΝΙΑ RUNNING TEAM 20 13:12.6 1:26.2 58:32.2 1:20.0 17:07.3 1:31:38.5\n4 29 ΝΙΚΟΣ ΚΑΜΑΡΕΤΣΟΣ 270 26 16:12.4 1:26.7 59:28.0 1:31.9 19:10.4 1:37:49.7\n5 33 ΓΕΩΡΓΙΟΣ ΖΑΡΚΑΔΑΣ 269 ΕΟΣ ΚΑΡΠΕΝΗΣΙΟΥ 20 14:53.0 1:42.4 1:03:53.1 1:09.0 19:16.7 1:40:54.4\n6 45 Λουκάς Δρέλλας 265 / 28 16:47.9 1:14.8 1:20:35.9 1:25.3 22:23.5 2:02:27.6 \nMale 30 to 39\nPlace Overall Plc Name Age RUN1 Time T1 Time BIKE Time T2 Time RUN2 Time Chip Time\n1 2 ΔΗΜΗΤΡΗΣ ΕΛΕΘΕΡΟΥ 283 30 10:28.1 0:43.2 45:37.8 0:44.0 11:56.9 1:09:30.3\n2 6 Nikos Nikoviotis 252 Greece 35 13:04.2 1:43.9 48:05.0 1:15.8 14:33.1 1:18:42.3\n3 8 DIMITRIOS SOIS 253 cb team 37 13:01.8 1:01.2 50:50.9 0:50.2 14:18.9 1:20:03.1\n4 9 ΗΛΙΑΣ ΤΡΕΝΤΟΥ 219 ΜΓΣ ΠΑΝΣΕΡΡΑΙΚΟΣ 39 12:50.5 1:42.3 49:41.7 1:32.3 14:50.7 1:20:37.8\n5 11 Ιωαννης Αγγελης 256 Συλ.Αθλ.Λοκριδας Νικεας 38 13:09.3 1:28.0 51:46.7 1:05.0 15:23.7 1:22:52.8\n6 13 Δημητρης Ρουτσης 216 Η τσέπη μου 31 12:17.9 1:20.8 55:01.9 1:10.8 15:26.1 1:25:17.7\n7 17 Λάμπρος Παπαδιας 211 Bike team Karpenissi 35 13:08.5 1:11.2 54:59.9 1:07.4 17:06.6 1:27:33.7\n8 19 GEORGIOS TIMOU 255 30 13:35.2 2:01.0 56:56.3 1:43.0 15:18.3 1:29:34.0\n9 21 Σταματης Μπογιατζης 205 37 12:55.0 2:35.1 58:29.9 1:04.0 14:54.5 1:29:58.6\n10 30 Δημήτρης Κοκοτίνης 273 39 15:35.9 2:04.3 57:36.8 1:59.9 21:20.5 1:38:37.5\n11 31 ΓΙΩΡΓΟΣ ΓΚΟΛΦΗΣ 263 37 15:57.8 1:39.5 1:01:38.7 1:29.3 17:55.6 1:38:41.1\n12 43 ΓΕΩΡΓΙΟΣ ΚΥΡΙΑΖΗΣ 277 35 16:32.3 1:48.0 1:16:57.3 1:20.0 19:54.6 1:56:32.4\nDNF DNF ΒΑΣΙΛΗΣ ΓΚΑΒΕΡΑΣ 262 31 13:25.7 1:12.1\nDNS DNS ΚΩΝΣΤΑΝΤΙΝΟΣ ΚΕΦΑΛΑΣ 272 bike team karpenisi 31\nDNS DNS ΑΝΔΡΕΑΣ ΝΙΝΗΣ 249 Α.Π.Σ ΜΙΛΤΙΑΔΗΣ 39\nDNS DNS Δημήτρης Πανόπουλος 210 ΙΔΙΩΤΗΣ 35\nDNS DNS ΗΡΑΚΛΗΣ ΠΑΤΣΟΥΡΑΣ 213 bike team karpenisi 31 \nMale 40 to 49\nPlace Overall Plc Name Age RUN1 Time T1 Time BIKE Time T2 Time RUN2 Time Chip Time\n1 3 ΠΕΡΙΚΛΗΣ ΑΣΠΡΟΥΔΗΣ 259 ΔΡΟΜΕΙΣ ΑΡΤΑΣ DIELLAS 47 11:12.9 1:29.9 47:34.0 1:06.6 13:14.4 1:14:38.0\n2 10 ΔΙΟΝΥΣΙΟΣ ΔΗΜΟΠΟΥΛΟΣ 264 Α.Σ ΠΑΛΜΟΣ 43 14:01.7 1:08.8 50:18.7 1:04.4 14:42.2 1:21:16.0\n3 12 DIMITRIS STAMATIOU 254 DHL EXPRESS 41 13:02.9 1:16.1 54:04.7 1:17.2 15:13.5 1:24:54.7\n4 15 ΑΝΑΣΤΑΣΙΟΣ ΚΟΥΡΚΟΥΤΕΛΗΣ 276 47 14:45.8 1:50.8 52:41.9 1:34.4 15:45.9 1:26:38.9\n5 16 Νίκος Μοσχής 202 40 13:41.2 1:51.8 52:58.6 1:49.2 16:22.4 1:26:43.4\n6 22 ΙΩΑΝΝΗΣ ΠΑΠΑΝΙΚΟΛΑΣ 212 49 14:12.1 1:44.3 55:48.0 1:28.3 16:48.5 1:30:01.3\n7 28 ΝΙΚΟΣ ΒΕΝΤΟΥΡΑΣ 206 ΑΠΣ ΜΙΛΤΙΑΔΗΣ 44 15:21.7 2:04.7 1:00:54.4 1:22.9 18:02.0 1:37:46.0\n8 34 Σπυρος Ντιλης 208 44 15:31.3 1:30.2 1:02:50.2 1:41.3 22:27.5 1:44:00.7\n9 41 ΧΡΗΣΤΟΣ ΖΑΒΟΣ 268 Ε.Ο.Σ. Αλμυρού 47 17:47.4 2:42.3 1:09:07.0 2:32.6 19:06.6 1:51:16.0\nDNS DNS NIKOLAOS LEODITSIS 250 42\nDNS DNS ΔΗΜΗΤΡΙΟΣ ΜΑΝΑΝΑΣ 278 40 \nMale 50 to 59\nPlace Overall Plc Name Age RUN1 Time T1 Time BIKE Time T2 Time RUN2 Time Chip Time\n1 5 ΓΕΡΑΣΙΜΟΣ ΑΝΤΩΝΟΠΟΥΛΟΣ 257 ΥΓΕΙΑ Κ ΔΙΑΠΛΑΣΗ GYM 50 12:32.9 1:35.2 48:12.0 1:28.5 14:23.9 1:18:12.8\n2 20 Πέτρος Χαρπαλής 220 Ymittos runners 54 14:05.7 1:42.1 54:48.5 1:40.0 17:36.0 1:29:52.4\n3 26 ΓΕΩΡΓΙΟΣ ΜΠΛΕΤΣΑΣ 204 ΤΡΙΑΘΛΟΝ ΧΑΛΚΙΔΑ 50 14:59.4 1:18.1 1:01:32.0 1:33.3 16:55.7 1:36:18.7\n4 32 ΔΗΜΗΤΡΗΣ ΚΟΡΑΚΑΣ 275 RED STAR TRIATHLON 50 15:11.0 1:15.7 1:05:41.8 1:07.4 17:37.4 1:40:53.6\n5 36 ΧΡΗΣΤΟΣ ΝΤΟΥΜΑΝΗΣ 209 ΝΤΟΥΜΑΝΗΣ 52 19:28.2 2:11.1 59:48.1 2:38.1 21:25.8 1:45:31.5 \nMale 60 and Over\nPlace Overall Plc Name Age RUN1 Time T1 Time BIKE Time T2 Time RUN2 Time Chip Time\n1 42 ΚΩΝΣΤΑΝΤΙΝΟΣ ΕΥΘΥΜΊΟΥ 267 ΣΔΥΑ 64 17:54.0 2:25.0 1:08:03.4 2:28.6 20:55.1 1:51:46.3 \nKids Run \nFemale 7 and Under \nPlace Name Age Overall Gun Time Bib Number Address Line 1\n1 ΛΥΔΙΑ ΒΑΞΕΒΑΝΗ 7 40 5:16.0 1731\n2 ΔΕΣΠΟΙΝΑ ΔΗΜΗΤΡΙΑΔΟΥ 7 45 5:31.1 1796\n3 ΣΟΦΙΑ ΤΣΙΝΟΓΙΑΝΝΗ 5 46 5:35.0 1751\n4 ΒΑΞΙΑ ΦΑΚΙΤΣΑ 6 50 7:01.8 1791\n5 ΙΦΙΓΕΝΕΙΑ ΕΥΘΥΜΙΟΥ 4 51 7:16.5 1741\nDNF ΕΛΕΝΑ ΤΡΙΚΑΛΙΤΗ 7 1763 \nFemale 8 to 11 \nPlace Name Age Overall Gun Time Bib Number Address Line 1\n1 ΒΑΣΙΛΙΚΗ ΔΗΜΟΠΟΥΛΟΥ 11 6 3:33.9 1759\n2 ΣΕΒΑΣΤΗ ΠΑΠΑΔΗΜΗΤΡΙΟΥ 11 8 3:46.3 1749\n3 ΕΙΡΗΝΗ ΛΑΜΠΑΔΑΡΗ 9 9 3:48.0 1745\n4 ΕΥΤΥΧΙΑ ΖΑΡΚΑΔΟΥΛΑ 9 17 4:09.7 1798\n5 ΜΑΡΙΑ ΣΤΑΜΟΥΛΗ 11 19 4:12.7 1786\n6 ΕΥΑΓΓΕΛΙΑ ΑΓΓΕ ΓΟΥΡΓΟΥΛΗ 8 27 4:28.5 1738 ΑΤΑΛΑΝΤΗΣ\n7 ΒΑΣΙΛΙΚΗ ΠΑΠΑΔΗΜΗΤΡΙΟΥ 10 32 4:45.2 1750\n8 ΕΥΣΤΑΘΙΑ ΤΣΙΝΟΓΙΑΝΝΗ 9 34 4:49.6 1752\n9 Δανάη-Αγγελική Βουλγαροπούλου 11 36 4:56.0 1735\n10 ΑΛΕΞΑΝΔΡΑ ΦΛΩΡΑΚΗ 8 38 5:04.6 1783\n11 ΧΑΡΑ ΣΤΑΜΟΥΛΗ 9 39 5:06.6 1787\n12 ΕΒΙΝΑ ΠΛΑΚΑ 9 43 5:27.0 1781\n13 ΜΑΡΙΝΑ ΤΣΙΝΟΓΙΑΝΝΗ 9 48 6:58.2 1753 \nFemale 12 to 16 \nPlace Name Age Overall Gun Time Bib Number Address Line 1\n1 Εύα Κεσίσογλου 13 14 3:56.7 1744\n2 ΝΑΤΑΛΙΑ ΣΤΕΡΟΠΟΥΛΟΥ 13 16 4:05.2 1772 13\n3 ΓΕΩΡΓΙΑ ΚΩΝΣΤΑΝΤΟΠΟΥΛΟΥ 13 18 4:10.0 1771\n4 ΔΕΣΠΟΙΝΑ ΣΤΕΡΟΠΟΥΛΟΥ 15 26 4:26.4 1774\n5 ΦΩΤΕΙΝΗ ΣΤΕΡΟΠΟΥΛΟΥ 13 30 4:35.2 1773\nDNF GIOTA BALAFOUTIS 12 1728\nDNF GEORGIA BALAFOUTIS 12 1729 \nMale 7 and Under \nPlace Name Age Overall Gun Time Bib Number Address Line 1\n1 ΣΩΤΗΡΗΣ ΤΣΩΝΗΣ 7 37 5:02.0 1788\n2 ΠΑΥΛΟΣ ΠΑΠΑΔΙΑΣ 5 42 5:26.9 1793\n3 ΚΩΝ/ΝΟΣ ΧΟΥΖΙΑΔΑΣ 6 47 5:42.3 1795\n4 ΚΩΝ/ΝΟΣ ΑΛΕΞΟΠΟΥΛΟΣ 7 49 7:00.6 1776\n5 ΣΤΑΥΡΟΣ ΠΛΑΚΑΣ 6 52 8:29.9 1782 \nMale 8 to 11 \nPlace Name Age Overall Gun Time Bib Number Address Line 1\n1 ΓΙΩΡΓΟΣ ΤΣΩΝΗΣ 10 3 3:15.0 1789\n2 ΒΑΣΙΛΗΣ ΑΝΤΩΝΙΟΥ 10 5 3:27.2 1794\n3 ΧΑΡΑΛΑΜΠΟΣ ΖΑΧΑΡΑΚΗΣ 10 7 3:45.0 1778\n4 ΟΔΥΣΣΕΑΣ ΒΑΞΕΒΑΝΗΣ 11 10 3:48.7 1732 ΓΑΣ ΙΛΙΣΟΣ\n5 ΝΙΚΟΣ ΓΟΥΡΓΟΥΛΗΣ 11 11 3:50.4 1740 ΑΤΑΛΑΝΤΗ\n6 ΘΩΜΑΣ ΣΤΑΜΟΥΛΗΣ 10 12 3:50.4 1775\n7 ΜΑΝΩΛΗΣ ΜΠΑΛΙΑΚΑΣ 9 13 3:52.9 1780\n8 Χριστόφορος Ζηκίδης 11 15 4:00.3 1742\n9 ΣΤΕΦΑΝΟΣ ΛΙΑΡΟΣ 8 20 4:13.9 1792\n10 ΚΩΝ/ΝΟΣ ΜΠΛΕΤΣΑΣ 9 22 4:15.5 1757\n11 ΗΛΙΑΣ ΤΡΙΑΝΤΑΦΥΛΛΑΚΗΣ 10 23 4:17.9 1779\n12 Γρηγόρης Γεμενής 10 24 4:20.7 1737\n13 Αλέξανδρος Γεμενής 8 25 4:21.8 1736\n14 ΣΠΥΡΟΣ ΔΗΜΟΠΟΥΛΟΣ 9 28 4:28.6 1758\n15 ΘΑΝΟΣ ΦΑΚΙΤΣΑΣ 10 29 4:29.0 1790\n16 ΑΛΚΗΣ ΚΑΡΑΒΑΣΙΛΗΣ 8 31 4:40.1 1766 ΓΥΜΝΑΣΙΟΝ FITNESS\n17 ΒΑΓΓΕΛΗΣ ΖΑΧΑΡΑΚΗΣ 8 33 4:46.6 1777\n18 ΒΑΓΓΕΛΗΣ ΖΑΛΟΚΩΣΤΑΣ 10 35 4:50.7 1785\n19 Κωνσταντίνος Λαμπαδαρης 11 41 5:26.2 1746\n20 ΙΩΑΝΝΗΣ ΔΗΜΗΤΡΙΑΔΗΣ 9 44 5:30.8 1797\nDNF Αγγελος Κατσαιτης 9 1743 \nMale 12 to 16 \nPlace Name Age Overall Gun Time Bib Number Address Line 1\n1 Νικόλαος Βουλγαρόπουλος 15 1 2:37.8 1733\n2 ΜΑΝΟΣ ΑΝΤΩΝΟΠΟΥΛΟΣ 14 2 2:41.9 1730 ΥΓΕΙΑ Κ ΔΙΑΠΛΑΣΗ GYM\n3 ΓΕΩΡΓΙΟΣ ΓΟΥΡΓΟΥΛΗΣ 12 4 3:25.2 1739 ΑΤΑΛΑΝΤΗΣ\n4 ΚΩΝ/ΝΟΣ ΦΛΩΡΑΚΗΣ 12 21 4:14.4 1784\nDNF Νικόλαος Βουλγαρόπουλος 15 1734\nDNF Φίλιππος Πάφος 13 1747
URL:https://gorun.gr/race/energy-duathlon-karpenissi-2016/
CATEGORIES:Αποτελέσματα,Τρίαθλο
END:VEVENT
END:VCALENDAR