BEGIN:VCALENDAR
VERSION:2.0
PRODID:-//goRUN - ECPv5.8.1//NONSGML v1.0//EN
CALSCALE:GREGORIAN
METHOD:PUBLISH
X-WR-CALNAME:goRUN
X-ORIGINAL-URL:https://gorun.gr
X-WR-CALDESC:Events for goRUN
BEGIN:VTIMEZONE
TZID:Europe/Athens
BEGIN:DAYLIGHT
TZOFFSETFROM:+0200
TZOFFSETTO:+0300
TZNAME:EEST
DTSTART:20160327T010000
END:DAYLIGHT
BEGIN:STANDARD
TZOFFSETFROM:+0300
TZOFFSETTO:+0200
TZNAME:EET
DTSTART:20161030T010000
END:STANDARD
END:VTIMEZONE
BEGIN:VEVENT
DTSTART;VALUE=DATE:20160515
DTEND;VALUE=DATE:20160516
DTSTAMP:20260420T233153
CREATED:20160426T114354Z
LAST-MODIFIED:20160515T145648Z
UID:6179-1463270400-1463356799@gorun.gr
SUMMARY:KOZIAKAS MOUNTAIN RACE
DESCRIPTION:Koziakas Mountain Race \n20 ΧΙΛΙΟΜΕΤΡΑ \nRANK GENDER AGE CAT BIB NAME SEX CLUB Χρόνος Καθ. Χρόνος\n1 1 1 352 ΝΙΚΟΛΑΟΣ ΚΑΛΟΦΥΡΗΣ Α THE NORTH FACE 01:56:10 01:56:09\n2 2 1 463 ΑΡΗΣ ΤΣΙΠΗΣ Α INOV8 02:00:24 02:00:24\n3 1 1 451 ΓΛΥΚΕΡΙΑ ΤΖΙΑΤΖΙΑ Γ SALOMON HELLAS 02:04:02 02:04:02\n4 3 2 495 ΑΠΟΣΤΟΛΟΣ ΜΕΜΟΣ Α ALL TERAIN RUNNERS 02:04:03 02:04:03\n5 4 2 343 ΚΩΝΣΤΑΝΤΙΝΟΣ ΖΗΝΔΡΟΣ Α Σ.Κ.Α.ΜΕΤΕΩΡΩΝ 02:04:43 02:04:43\n6 5 3 302 SLAWOMIR MATRAS Α SALOMON HELLAS 02:05:42 02:05:37\n7 6 3 414 ΔΗΜΗΤΡΙΟΣ ΝΤΑΟΥΛΑΣ Α Σ.Δ.ΤΡΙΚΑΛΩΝ 02:07:35 02:07:35\n8 7 4 334 ΒΑΣΙΛΕΙΟΣ ΔΕΛΗΓΙΑΝΝΗΣ Α ΣΥΛΛΟΓΟΣ ΜΑΡΑΘΩΝΟΔΡΟΜΩΝ ΛΑΡΙΣΑΣ 02:07:41 02:07:39\n9 8 5 330 ΑΡΙΣΤΕΙΔΗΣ ΓΚΙΖΛΗΣ Α Σ.Δ.ΤΡΙΚΑΛΩΝ 02:08:03 02:08:01\n10 9 6 415 ΓΕΩΡΓΙΟΣ ΝΤΑΣΚΑΣ Α Σ.Δ.ΤΡΙΚΑΛΩΝ 02:08:26 02:08:25\n11 10 4 325 ΗΛΙΑΣ ΓΙΑΚΙΜΗΣ Α Σ.Δ.ΤΡΙΚΑΛΩΝ 02:10:04 02:10:03\n12 11 7 467 ΣΩΤΗΡΙΟΣ ΦΙΛΙΠΠΟΥ Α Σ.Δ.ΚΑΡΔΙΤΣΑΣ 02:12:14 02:12:12\n13 12 5 309 ΜΙΧΑΗΛ ΑΝΑΣΤΑΣΟΠΟΥΛΟΣ Α GO RUN ΔΡΟΜΕΙΣ ΣΟΥΛΙΟΥ 02:13:19 02:13:17\n14 13 6 315 ΠΕΡΙΚΛΗΣ ΑΣΠΡΟΥΔΗΣ Α ΔΡΟΜΕΙΣ ΑΡΤΑΣ – DIELLAS 02:13:33 02:13:32\n15 14 8 386 ΓΕΩΡΓΙΟΣ ΜΑΝΙΩΤΗΣ Α ΑΚΟΛ 02:13:56 02:13:56\n16 15 7 445 ΒΑΣΙΛΕΙΟΣ ΣΙΩΧΟΣ Α GO RUN ΔΡΟΜΕΙΣ ΣΟΥΛΙΟΥ 02:16:47 02:16:45\n17 16 9 469 ΓΕΩΡΓΙΟΣ ΦΡΑΝΤΖΟΓΛΟΥ Α KARDITSA RUNNING CLUB 02:16:55 02:16:54\n18 17 8 450 ΝΙΚΟΛΑΟΣ ΤΑΛΙΑΜΠΕΣ Α LEPADO ΝΑΥΠΑΚΤΟΥ 02:17:44 02:17:41\n19 18 9 312 ΔΗΜΗΤΡΙΟΣ ΑΝΔΡΟΥΤΣΟΣ Α ΣΥΛΛΟΓΟΣ ΔΡΟΜΕΩΝ ΙΩΑΝΝΙΝΩΝ 02:17:54 02:17:52\n20 19 10 407 ΔΗΜΗΤΡΙΟΣ ΜΠΙΤΟΣ Α METSOVO URSA TEAM 02:19:42 02:19:40\n21 20 10 488 ΓΙΩΡΓΟΣ ΠΑΠΑΔΟΠΟΥΛΟΣ Α FIFTH ELEMENT 02:19:42 02:19:39\n22 21 11 335 ΝΙΚΟΛΑΟΣ ΔΕΛΦΑΣ Α METSOVO URSA TEAM 02:19:43 02:19:43\n23 22 11 340 ΓΕΩΡΓΙΟΣ ΖΑΛΑΒΡΑΣ Α Σ.Κ.Α.ΜΕΤΕΩΡΩΝ 02:19:43 02:19:33\n24 23 12 453 ΑΝΑΣΤΑΣΙΟΣ ΤΟΜΑΡΑΣ Α ΣΥΛΛΟΓΟΣ ΔΡΟΜΕΩΝ ΙΩΑΝΝΙΝΩΝ 02:19:57 02:19:53\n25 24 12 354 ΤΑΣΟΣ ΚΑΡΑΓΙΑΝΝΗΣ Α Α.Κ.Ο.Λ. 02:20:50 02:20:49\n26 25 13 356 ΑΝΑΣΤΑΣΙΟΣ ΚΑΡΑΚΩΣΤΑΣ Α inov-8 / Baliotis.Nature Trail 02:21:09 02:21:05\n27 26 14 399 ΚΩΝΣΤΑΝΤΙΝΟΣ ΜΠΑΡΜΠΟΥΤΗΣ Α ΔΡΟΜΕΙΣ ΑΡΤΑΣ – DIELLAS 02:21:21 02:21:19\n28 27 15 459 ΝΙΚΟΛΑΟΣ ΤΣΙΔΩΝΗΣ Α STOIKOS 02:22:01 02:21:59\n29 28 13 417 ΑΘΑΝΑΣΙΟΣ ΟΙΚΟΝΟΜΟΥ Α ΑΝΕΞΑΡΤΗΤΟΣ 02:25:29 02:25:27\n30 29 16 344 ΝΤΙΝΟΣ ΖΙΑΝΟΣ Α OLYMPUS TRT 02:26:08 02:25:53\n31 30 14 468 ΘΑΝΟΣ ΦΛΩΡΑΣ Α ΣΥΛΛΟΓΟΣ ΜΑΡΑΘΩΝΟΔΡΟΜΩΝ ΛΑΡΙΣΑΣ 02:26:08 02:26:05\n32 31 15 457 ΧΡΗΣΤΟΣ ΤΣΑΡΚΟΒΙΣΤΑΣ Α GO RUN ΔΡΟΜΕΙΣ ΣΟΥΛΙΟΥ 02:26:26 02:26:20\n33 32 17 339 ΝΙΚΟΛΑΟΣ ΖΑΚΥΝΘΙΝΑΚΗΣ Α METSOVO URSA TEAM 02:26:36 02:26:34\n34 33 16 400 ΛΑΚΗΣ ΜΠΑΡΤΖΙΩΚΑΣ Α Σ.Δ.ΤΡΙΚΑΛΩΝ 02:26:57 02:26:56\n35 34 17 427 ΣΠΥΡΙΔΩΝ ΠΑΠΠΑΣ Α REAL MADRID 02:27:31 02:27:29\n36 35 18 502 ΚΩΝΣΤΑΝΤΙΝΟΣ ΚΟΤΑΝΙΤΣΗΣ Α ΑΝΕΞΑΡΤΗΤΟΣ 02:28:20 02:28:20\n37 36 19 373 ΜΑΝΟΣ ΚΥΡΙΑΚΑΚΗΣ Α GOJIBERRYTEAM/ESCAPE/OUTRUN 02:28:22 02:28:16\n38 37 18 431 ΑΘΑΝΑΣΙΟΣ ΠΙΤΕΝΗΣ Α F.O.M.-BALIOTIS N.T. 02:29:11 02:28:59\n39 38 20 470 ΝΙΚΟΛΑΟΣ ΧΑΜΑΛΟΓΛΟΥ Α ΝΑΥΤΙΚΟΣ ΟΜΙΛΟΣ ΠΑΡΓΑΣ 02:30:05 02:30:00\n40 39 21 501 ΧΡΗΣΤΟΣ ΑΛΕΞΙΟΥ Α ΕΛΛΑΣ 02:31:47 02:31:42\n41 40 19 477 ΝΙΚΟΛΑΟΣ ΧΡΙΣΤΟΥΛΗΣ Α ΔΡΟΜΕΙΣ ΥΓΕΙΑΣ ΓΡΕΒΕΝΩΝ 02:31:53 02:31:48\n42 41 20 420 ΙΩΑΝΝΗΣ ΠΑΝΑΓΙΟΣ Α METSOVO URSA TEAM 02:33:46 02:33:44\n43 42 21 439 ΕΡΡΙΚΟΣ ΣΕΓΓΗΣ Α Σ.Δ.ΤΡΙΚΑΛΩΝ 02:34:03 02:33:56\n44 43 22 318 ΚΩΝ/ΝΟΣ ΒΑΛΙΩΤΗΣ Α ELASSONA GREEN RUNNING TEAM 02:34:12 02:33:58\n45 44 22 376 ΓΕΩΡΓΙΟΣ ΚΩΣΤΑΡΑΣ Α METSOVO URSA TEAM 02:34:26 02:34:22\n46 45 23 349 ΙΩΑΝΝΗΣ ΚΑΛΙΚΑΣ Α LAMIA RUN FESTIVAL 02:34:26 02:34:18\n47 46 23 324 ΘΕΟΔΩΡΟΣ ΓΕΩΡΓΑΚΗΣ Α ΠΑΣ ΣΦΑΚΙΩΤΩΝ ΛΕΥΚΑΔΑΣ 02:36:36 02:36:33\n48 47 24 364 ΔΗΜΗΤΡΙΟΣ ΚΟΡΑΚΑΣ Α Ο.Π.Ο.Π.-ΛΥΚΟΙ ΚΕΧΑΓΙΟΓΛΟΥ 02:36:47 02:36:38\n49 48 24 443 ΤΡΥΦΩΝ ΣΙΣΚΟΣ Α ΣΔΟΕ-Katsikia runners 02:37:03 02:37:03\n50 49 25 498 ΘΕΟΔΩΡΟΣ ΜΠΡΙΚΑΣ Α ULTRA TRAIL PILIO 02:37:20 02:37:20\n51 50 26 379 ΔΗΜΗΤΡΙΟΣ ΚΩΦΙΔΗΣ Α ΑΝΕΞΑΡΤΗΤΟΣ 02:37:27 02:37:22\n52 51 25 411 ΝΙΚΟΛΑΟΣ ΝΑΤΣΙΟΣ Α ΑΝΕΞΑΡΤΗΤΟΣ 02:37:39 02:37:36\n53 2 2 351 ΣΟΦΙΑ ΚΑΛΟΓΗΡΟΥ Γ FIFTH ELEMENT 02:38:02 02:37:59\n54 52 26 491 ΒΑΣΙΛΕΙΟΣ ΖΗΝΤΖΟΒΑΣ Α Σ.Δ.ΤΡΙΚΑΛΩΝ 02:38:03 02:37:58\n55 53 27 332 ΙΩΑΝΝΗΣ ΔΑΣΚΑΛΑΣ Α Σ.Κ.Α.ΜΕΤΕΩΡΩΝ 02:38:19 02:38:15\n56 54 28 483 ΒΑΣΙΛΗΣ ΓΑΛΑΝΗΣ Α CROSSFITCORE 02:38:55 02:38:48\n57 55 29 479 ΕΛΕΥΘΕΡΙΟΣ ΠΑΠΑΘΑΝΑΣΙΟΥ Α ΑΝΕΞΑΡΤΗΤΟΣ 02:39:20 02:39:18\n58 56 30 313 ΓΕΩΡΓΙΟΣ ΑΝΤΩΝΙΟΥ Α KALD’S RUNNING TEAM 02:39:23 02:39:14\n59 3 3 338 ΑΝΑΣΤΑΣΙΑ ΕΛΕΥΘΕΡΙΑΔΟΥ Γ OLYMPUS T.R.T.-Δ.Υ.ΓΡΕΒΕΝΩΝ 02:39:44 02:39:41\n60 57 27 465 ΑΘΑΝΑΣΙΟΣ ΦΑΓΚΡΙΔΑΣ Α Σ.Δ.ΤΡΙΚΑΛΩΝ 02:40:59 02:40:52\n61 58 31 363 ΑΘΑΝΑΣΙΟΣ ΚΟΚΟΡΑΣ Α Σ.Δ.ΤΡΙΚΑΛΩΝ 02:41:12 02:41:10\n62 59 32 493 ΚΩΝΣΤΑΝΤΙΝΟΣ ΠΑΠΑΖΗΣΗΣ Α Σ.Δ.ΤΡΙΚΑΛΩΝ 02:41:12 02:41:10\n63 60 33 348 ΙΩΑΝΝΗΣ ΚΑΛΑΝΤΖΗΣ Α Σ.Δ.ΤΡΙΚΑΛΩΝ 02:41:57 02:41:52\n64 61 28 388 ΑΚΗΣ ΜΑΡΓΙΑΝΟΣ Α ΤΡΑΧΗΝΑ 02:42:12 02:42:07\n65 62 29 366 ΚΩΝ/ΝΟΣ ΚΟΥΡΕΛΗΣ Α ΑΝΕΞΑΡΤΗΤΟΣ 02:42:24 02:42:18\n66 63 30 482 ΦΩΤΗΣ ΚΟΥΤΣΙΟΥΜΠΑΣ Α ΑΝΕΞΑΡΤΗΤΟΣ 02:42:31 02:42:27\n67 64 34 448 ΣΤΑΥΡΟΣ ΣΤΡΑΓΑΛΗΣ Α ΑΝΕΞΑΡΤΗΤΟΣ 02:43:08 02:42:55\n68 65 31 486 ΓΕΩΡΓΙΟΣ ΛΥΜΠΙΚΗΣ Α ΜΕΓΑΛΟ ΕΛΕΥΘΕΡΟΧΩΡΙ 02:43:12 02:42:59\n69 66 35 419 ΤΡΙΑΝΤΑΦΥΛΛΟΣ ΟΙΚΟΝΟΜΟΥ Α OPTIMIZE PERFORMANCE 02:43:44 02:43:39\n70 67 36 358 ΑΝΑΣΤΑΣΙΟΣ ΚΑΡΑΠΑΣ Α Ο.Π.Ο.ΠΥΛΗΣ 02:44:00 02:43:55\n71 68 37 385 ΣΩΤΗΡΙΟΣ ΜΑΝΙΑΤΗΣ Α Σ.Δ.ΤΡΙΚΑΛΩΝ 02:45:05 02:45:00\n72 69 32 421 ΓΙΑΝΝΗΣ ΠΑΝΟΥΡΓΙΑΣ Α ΔΙΟΝΥΣΟΣ ΑΜΦΙΚΛΕΙΑΣ 02:46:17 02:46:10\n73 70 38 447 ΑΝΤΩΝΗΣ ΣΤΑΥΡΟΠΟΥΛΟΣ Α ΑΝΕΞΑΡΤΗΤΟΣ 02:46:21 02:46:15\n74 71 39 371 ΑΘΑΝΑΣΙΟΣ ΚΟΥΤΣΟΓΙΑΝΝΗΣ Α Ο.Π.Ο.ΠΥΛΗΣ 02:46:22 02:46:18\n75 4 4 481 ΙΩΑΝΝΑ ΣΤΑΗ Γ ΑΝΕΞΑΡΤΗΤΟΣ 02:46:25 02:46:21\n76 72 33 432 ΜΑΥΡΙΚΙΟΣ ΠΟΛΙΤΗΣ Α OLYMPUS TRAILS 02:46:38 02:46:22\n77 73 34 478 ΕΛΕΥΘΕΡΙΟΣ ΧΡΥΣΟΣΤΟΜΟΥ Α ΑΝΕΞΑΡΤΗΤΟΣ 02:46:40 02:46:31\n78 5 5 389 ΑΝΑΣΤΑΣΙΑ ΜΑΡΚΑΤΟΥ Γ ODLO/LA SPORTIVA/GOJI BERRY TEAM 02:47:03 02:46:57\n79 74 35 442 ΑΠΟΣΤΟΛΗΣ ΣΙΔΕΡΗΣ Α FREE RUNNERS 02:47:50 02:47:46\n80 75 40 377 ΓΙΑΝΝΗΣ ΚΩΣΤΗΣ Α FIFTH ELEMENT 02:48:03 02:47:56\n81 76 41 369 ΝΙΚΟΛΑΟΣ ΚΟΥΡΤΗΣ Α ΣΥΛ. ΜΑΡ.ΝΟΜΟΥ ΛΑΡΙΣΑΣ 02:48:19 02:48:11\n82 77 36 471 ΝΙΚΟΛΑΟΣ ΧΑΡΙΣΗΣ Α ΣΥΛΛΟΓΟΣ ΔΡΟΜΕΩΝ ΙΩΑΝΝΙΝΩΝ 02:48:21 02:48:18\n83 78 37 311 ΑΛΕΞΙΟΣ ΑΝΔΡΟΥΤΣΟΣ Α ΣΥΛΛΟΓΟΣ ΔΡΟΜΕΩΝ ΙΩΑΝΝΙΝΩΝ 02:48:22 02:48:18\n84 79 42 444 ΑΓΓΕΛΟΣ ΣΙΦΑΛΕΡΑΣ Α BALIOTIS NATURE TRAIL 02:49:17 02:49:13\n85 80 43 327 ΚΩΝ/ΝΟΣ ΓΙΑΝΝΟΠΟΥΛΟΣ Α TECNICA HELLAS 02:49:39 02:49:38\n86 81 44 462 ΔΗΜΗΤΡΙΟΣ ΤΣΙΟΝΑΡΑΣ Α Ο.Π.Ο.ΠΥΛΗΣ 02:49:59 02:49:47\n87 82 38 485 ΛΑΖΑΡΟΣ ΜΠΟΤΕΛΗΣ Α Σ.Κ.Α.ΜΕΤΕΩΡΩΝ 02:51:11 02:51:02\n88 83 45 472 ΓΕΩΡΓΙΟΣ ΧΑΣΤΑΣ Α Σ.Δ.ΤΡΙΚΑΛΩΝ 02:51:20 02:51:16\n89 84 39 308 ΑΛΕΞΗΣ ΑΝΑΣΤΑΣΙΟΥ Α FIFTH ELEMENT 02:51:30 02:51:24\n90 85 40 403 ΙΩΑΝΝΗΣ ΜΠΑΤΖΑΚΑΣ Α ΣΔΥ ΒΟΛΟΥ 02:52:03 02:51:54\n91 86 46 398 ΚΩΝΣΤΑΝΤΙΝΟΣ ΜΠΑΜΠΑΡΑΜΟΣ Α SCANIA 02:52:31 02:52:18\n92 87 41 401 ΒΑΙΟΣ ΜΠΑΡΤΖΙΩΚΑΣ Α Σ.Δ.ΤΡΙΚΑΛΩΝ 02:54:45 02:54:45\n93 6 6 500 ΑΔΑΜΑΝΤΙΑ ΑΝΑΣΤΑΣΑΤΟΥ Γ RUNNER STORE 02:54:49 02:54:47\n94 88 42 365 ΑΘΑΝΑΣΙΟΣ ΚΟΥΛΕΤΣΑΣ Α 330Μ 02:54:55 02:54:46\n95 89 43 412 ΑΝΔΡΕΑΣ ΝΑΤΣΙΟΣ Α ΚΛΕΙΣΟΥΡΑ ΕΛΑΣΣΟΝΑΣ 02:55:01 02:55:01\n96 7 7 387 ΒΑΣΙΛΙΚΗ ΜΑΡΓΑΡΙΤΟΠΟΥΛΟΥ Γ ΑΝΕΞΑΡΤΗΤΟΣ 02:55:04 02:54:55\n97 90 44 392 ΓΙΩΡΓΟΣ ΜΕΛΑΝΟΦΡΥΔΗΣ Α ΣΔΟ ΕΟΡΔΑΙΑΣ 02:55:29 02:55:25\n98 91 45 429 ΙΩΑΝΝΗΣ ΠΑΤΣΙΑΤΖΗΣ Α Σ.Δ.ΤΡΙΚΑΛΩΝ 02:55:49 02:55:45\n99 8 1 328 ΕΛΠΙΔΑ ΓΙΩΤΗ Γ ARTA DANCE STUDIO 02:56:07 02:56:04\n100 92 46 321 ΚΩΝ/ΝΟΣ ΒΕΝΕΤΗΣ Α Σ.Δ.ΤΡΙΚΑΛΩΝ 02:56:15 02:56:15\n101 93 47 317 ΓΕΩΡΓΙΟΣ ΒΑΔΕΒΟΥΛΗΣ Α TECNICA TEAM 02:56:44 02:56:29\n102 94 48 438 ΙΩΑΝΝΗΣ ΣΑΚΚΕΛΑΡΗΣ Α ΤΡΑΧΙΝΑ 02:56:54 02:56:49\n103 9 8 347 ΑΓΓΕΛΙΚΗ ΚΑΓΚΑΡΑ Γ ΤΡΑΧΙΝΑ 02:56:54 02:56:50\n104 95 47 336 ΓΕΩΡΓΙΟΣ ΔΙΓΕΝΗΣ Α TYROLOGOS MULTISPORT TEAM 02:57:23 02:57:20\n105 96 48 361 ΘΕΟΦΥΛΑΚΤΟΣ ΚΑΤΩΠΟΔΗΣ Α ΑΣ ΦΙΛΑΝΔΡΟΣ ΛΕΥΚΑΔΑΣ 02:57:23 02:57:20\n106 97 49 484 ΚΩΝΣΤΑΝΤΙΝΟΣ ΛΙΟΛΙΟΣ Α ΑΝΕΞΑΡΤΗΤΟΣ 02:57:49 02:57:38\n107 10 9 426 ΝΕΚΤΑΡΙΑ ΠΑΠΟΥΤΣΑΚΗ Γ OROPOS SPORT TEAM 02:58:13 02:58:07\n108 98 49 326 ΚΩΝΣΤΑΝΤΙΝΟΣ ΓΙΑΝΝΑΚΟΠΟΥΛΟΣ Α ΑΝΕΞΑΡΤΗΤΟΣ 03:00:00 02:59:45\n109 99 50 374 ΝΙΚΟΛΑΟΣ ΚΥΡΠΙΤΖΗΣ Α ΑΝΕΞΑΡΤΗΤΟΣ 03:00:00 02:59:45\n110 100 50 310 ΝΕΚΤΑΡΙΟΣ ΑΝΔΡΕΑΝΙΔΗΣ Α ΑΝΕΞΑΡΤΗΤΟΣ 03:00:34 03:00:21\n111 101 51 410 ΓΕΩΡΓΙΟΣ ΝΑΤΣΙΟΣ Α ΑΝΕΞΑΡΤΗΤΟΣ 03:01:00 03:00:57\n112 102 52 409 ΚΩΝ/ΝΟΣ ΜΩΚΟΣ Α GO-RUN ΔΡΟΜΕΙΣ ΣΟΥΛΙΟΥ 03:02:18 03:02:10\n113 103 53 337 ΕΥΑΓΓΕΛΟΣ ΔΡΟΣΟΣ Α ΚΕΡΑΥΝΟΣ ΑΓΙΟΥ ΓΕΩΡΓΙΟΥ 03:03:08 03:02:55\n114 104 54 303 VOITEK SMOLIK Α ODLO/LA SPORTIVA/GOJI BERRY TEAM 03:04:00 03:03:54\n115 105 55 452 ΙΩΑΝΝΗΣ ΤΖΟΥΤΖΟΜΗΤΡΟΣ Α Σ.Δ.ΤΡΙΚΑΛΩΝ 03:04:26 03:04:15\n116 106 56 408 ΕΛΕΥΘΕΡΙΑ ΜΠΟΥΚΟΥΒΑΛΑ Α ΔΡΟΜΕΙΣ ΤΥΡΝΑΒΟΥ 03:04:33 03:04:21\n117 107 57 456 ΕΥΑΓΓΕΛΟΣ ΤΣΑΜΗΣ Α ΤΡΑΧΗΝΑ 03:04:57 03:04:52\n118 11 10 446 ΜΑΙΡΗ ΣΚΑΝΔΑΛΗ Γ ΣΥΛΛΟΓΟΣ ΔΡΟΜΕΩΝ ΙΩΑΝΝΙΝΩΝ 03:06:27 03:06:18\n119 108 58 370 ΙΩΑΝΝΗΣ ΚΟΥΤΣΙΚΟΣ Α TΡAXINA 03:06:28 03:06:23\n120 109 59 307 ΒΑΣΙΛΕΙΟΣ ΑΝΑΓΝΩΣΤΟΠΟΥΛΟΣ Α FIFTH ELEMENT – KASTANIANI 03:06:28 03:06:20\n121 110 51 402 ΧΡΗΣΤΟΣ ΜΠΑΤΑΤΟΛΗΣ Α Σ.Δ.ΤΡΙΚΑΛΩΝ 03:06:55 03:06:41\n122 111 60 460 ΝΙΚΟΛΑΟΣ ΤΣΙΛΙΜΕΝΗΣ Α Σ.Δ.ΤΡΙΚΑΛΩΝ 03:06:58 03:06:50\n123 112 52 424 ΝΙΚΟΛΑΟΣ ΠΑΠΑΕΥΑΓΓΕΛΟΥ Α ΑΝΕΞΑΡΤΗΤΟΣ 03:07:03 03:06:57\n124 12 2 441 ΙΩΑΝΝΑ ΣΙΔΕΡΗ Γ KROMMIDAS COACHING 03:09:15 03:09:05\n125 113 53 490 ΓΕΩΡΓΙΟΣ ΑΠΟΣΤΟΛΟΣ ΡΑΙΟΣ Α TRUE ADVENTURE 03:09:36 03:09:23\n126 114 54 496 ΑΡΗΣ ΚΑΡΑΜΠΕΡΗΣ Α Ο.Π.Ο.ΠΥΛΗΣ 03:09:36 03:09:24\n127 115 61 395 ΑΛΕΞΑΝΔΡΟΣ ΜΙΛΙΛΗΣ Α URBAN TRAIL RUNNERS 03:11:22 03:11:13\n128 116 55 464 ΑΛΕΞΑΝΔΡΟΣ ΤΣΟΥΡΑΚΗΣ Α OLYMPUS TRAIL 03:12:57 03:12:46\n129 117 56 341 ΙΩΑΝΝΗΣ ΖΑΧΟΣ Α OLYMPUS TRT 03:12:57 03:12:45\n130 118 57 353 ΑΝΔΡΕΑΣ ΠΑΠΑΛΟΠΟΥΛΟΣ Α ΑΝΕΞΑΡΤΗΤΟΣ 03:13:42 03:13:26\n131 119 62 499 ΠΑΥΛΟΣ ΣΤΑΥΡΑΚΗΣ Α ΑΝΕΞΑΡΤΗΤΟΣ 03:13:42 03:13:38\n132 120 63 474 ΙΩΑΝΝΗΣ ΧΑΤΖΗΝΙΚΟΣ Α Σ.Δ.ΤΡΙΚΑΛΩΝ 03:15:38 03:15:30\n133 13 11 305 ΚΑΤΕΡΙΝΑ ΑΛΕΞΙΟΥ Γ Σ.Δ.ΤΡΙΚΑΛΩΝ 03:15:46 03:15:41\n134 121 58 355 ΧΡΗΣΤΟΣ ΚΑΡΑΚΙΤΣΙΟΣ Α Σ.Δ.ΤΡΙΚΑΛΩΝ 03:16:24 03:16:19\n135 122 64 333 ΑΛΕΞΑΝΔΡΟΣ ΔΑΣΚΑΣ Α OROPOS SPORT TEAM 03:17:23 03:17:16\n136 123 65 423 ΒΑΣΙΛΕΙΟΣ ΠΑΠΑΔΗΜΗΤΡΙΟΥ Α ΟΡΕΙΒΑΤΙΚΟΣ ΣΥΛΛΟΓΟΣ ΑΡΤΑΣ 03:19:45 03:19:34\n137 124 59 397 ΓΕΩΡΓΙΟΣ ΜΟΥΡΚΑΣ Α M.ARCHITECTS RUNNING TEAM 03:20:31 03:20:13\n138 125 60 396 ΔΗΜΗΤΡΙΟΣ ΜΟΥΡΚΑΣ Α M.ARCHITECTS RUNNING TEAM 03:20:31 03:20:15\n139 14 3 473 ΑΣΠΑΣΙΑ ΧΑΤΖΗΒΑΣΙΛΗ Γ ELASSONA GREEN RUNNING TEAM 03:20:45 03:20:32\n140 126 61 367 ΛΟΥΚΑΣ ΚΟΥΡΕΝΤΗΣ Α ΑΝΕΞΑΡΤΗΤΟΣ 03:23:14 03:23:02\n141 127 66 466 ΒΑΣΙΛΕΙΟΣ ΦΑΛΤΣΗΣ Α ΣΥΛΛΟΓΟΣ ΜΑΡΑΘΩΝΟΔΡΟΜΩΝ ΛΑΡΙΣΑΣ 03:23:22 03:23:10\n142 128 62 329 ΕΥΑΓΓΕΛΟΣ ΓΚΑΜΠΛΙΩΝΗΣ Α ΔΕΝΔΡΟΧΩΡΙ CLUB 03:23:33 03:23:26\n143 129 67 359 ΦΩΤΙΟΣ ΚΑΡΑΧΑΤΖΗΣ Α OLYMPUS T.R.T.-Δ.Υ.ΓΡΕΒΕΝΩΝ 03:24:08 03:24:00\n144 130 68 362 ΛΑΜΠΡΟΣ ΚΙΣΣΑΣ Α ΚΑΡΑΙΣΚΑΚΗΣ ΜΑΥΡΟΜΜΑΤΙΟΥ 03:24:36 03:24:28\n145 131 63 360 ΓΙΑΝΝΗΣ ΚΑΡΒΕΛΟΣ Α ΣΥΛΛΟΓΟΣ ΜΑΡΑΘΩΝΟΔΡΟΜΩΝ ΛΑΡΙΣΑΣ 03:24:52 03:24:42\n146 132 69 475 ΜΙΧΑΛΗΣ ΧΛΟΥΒΕΡΑΚΗΣ Α KALD’S RUNNING TEAM 03:24:52 03:24:40\n147 133 70 306 ΝΙΚΟΛΑΟΣ ΑΜΒΡΑΖΗΣ Α Σ.Δ.Υ.Θ. 03:25:33 03:25:18\n148 134 71 461 ΤΑΣΟΣ ΤΣΙΟΛΑΚΗΣ Α Law Ramblas Larissa Running Team 03:26:26 03:26:15\n149 15 4 425 ΓΙΩΤΑ ΠΑΠΑΡΓΥΡΗ Γ ΕΟΣ ΛΑΡΙΣΑΣ 03:30:11 03:30:03\n150 135 72 458 ΣΩΤΗΡΙΟΣ ΤΣΙΑΡΑΣ Α Σ.Δ.ΤΡΙΚΑΛΩΝ 03:30:51 03:30:40\n151 136 73 487 ΦΩΤΗΣ ΝΤΟΤΣΙΑΣ Α ΑΝΕΞΑΡΤΗΤΟΣ 03:31:19 03:31:11\n152 137 74 455 ΙΩΑΝΝΗΣ ΤΣΑΚΝΑΚΗΣ Α Σ.Δ.ΤΡΙΚΑΛΩΝ 03:33:30 03:33:22\n153 138 64 346 ΣΑΚΗΣ ΘΕΟΧΑΡΗΣ Α ΑΝΕΞΑΡΤΗΤΟΣ 03:35:40 03:35:26\n154 139 65 480 ΑΛΕΞΑΝΔΡΟΣ ΜΗΤΡΑΚΟΥΛΗΣ Α Las Ramblas Larissa Running Team 03:40:07 03:39:55\n155 140 75 342 ΦΙΛΙΠΠΟΣ ΖΕΓΚΙΝΟΓΛΟΥ Α ΑΝΕΞΑΡΤΗΤΟΣ 03:42:54 03:42:46\n156 141 66 449 ΓΕΩΡΓΙΟΣ ΣΥΚΑΣ Α ΑΝΕΞΑΡΤΗΤΟΣ 03:44:41 03:44:34\n157 142 67 301 DAVID ALTMANN Α ilovegreecebecause.com 03:44:45 03:44:25\n158 143 76 404 ΝΙΚΟΛΑΟΣ ΜΠΕΚΕΡ Α ΔΡΟΜΕΙΣ ΤΥΡΝΑΒΟΥ 03:45:05 03:44:51\n159 144 68 413 ΚΩΝ/ΝΟΣ ΝΤΑΛΛΑΣ Α ΑΝΕΞΑΡΤΗΤΟΣ 03:49:39 03:49:23\n160 145 69 316 ΣΤΕΦΑΝΟΣ ΒΑΓΕΝΑΣ Α ΑΝΕΞΑΡΤΗΤΟΣ 03:55:06 03:54:57\n161 146 70 393 ΣΤΕΡΓΙΟΣ ΜΗΣΙΟΣ Α GIKA TEAM 03:55:06 03:54:58\n162 147 71 357 ΟΡΕΣΤΗΣ ΚΑΡΑΜΑΓΚΙΟΛΑΣ Α ΑΝΕΞΑΡΤΗΤΟΣ 03:57:41 03:57:24\n163 148 77 489 ΓΕΩΡΓΙΟΣ ΔΟΞΑΡΑΣ Α ΣΥΛΛΟΓΟΣ ΜΑΡΑΘΩΝΟΔΡΟΜΩΝ ΛΑΡΙΣΑΣ 04:00:16 04:00:00\n164 149 78 454 ΓΕΩΡΓΙΟΣ ΤΡΙΨΑΣ Α ΚΑΡΑΙΣΚΑΚΗΣ ΜΑΥΡΟΜΜΑΤΙΟΥ 04:05:25 04:05:17\n165 150 79 428 ΓΕΩΡΓΙΟΣ ΠΑΤΟΥΛΙΑΣ Α ΚΑΡΑΙΣΚΑΚΗΣ ΜΑΥΡΟΜΜΑΤΙΟΥ 04:05:26 04:05:17\n166 151 72 372 ΚΩΝ/ΝΟΣ ΚΡΑΒΑΡΙΤΗΣ Α ΑΝΕΞΑΡΤΗΤΟΣ 04:09:00 04:08:47\n167 152 80 381 ΕΥΑΓΓΕΛΟΣ ΛΙΑΚΟΥΜΗΣ Α ΠΑΣ ΑΣΚΛΗΠΙΟΣ 04:09:48 04:09:32\n168 153 73 380 ΔΗΜΗΤΡΙΟΣ ΛΑΠΠΑΣ Α ΑΝΕΞΑΡΤΗΤΟΣ 04:14:51 04:14:39\n169 154 81 345 ΓΕΩΡΓΙΟΣ ΘΕΜΕΛΗΣ Α Σ.Δ.ΤΡΙΚΑΛΩΝ 04:15:12 04:15:09\n170 16 5 416 ΧΡΥΣΑ ΞΥΓΓΗ Γ URBAN TRAIL RUNNERS 04:19:05 04:18:57\n171 17 12 433 ΒΑΓΙΑ ΠΡΕΚΑ Γ SKY RUNNING WOMEN 04:21:49 04:21:39\n172 155 82 304 ΔΗΜΗΤΡΙΟΣ ΑΔΑΜΟΣ Α Σ.Ο.Χ.Τ. 04:23:13 04:22:57\n173 156 83 319 ΒΑΣΙΛΕΙΟΣ ΒΑΣΙΛΕΙΑΔΗΣ Α ATHLETIC PARK 04:23:13 04:23:00\n174 18 6 418 ΦΛΩΡΑ ΟΙΚΟΝΟΜΟΥ Γ ΑΝΕΞΑΡΤΗΤΟΣ 04:28:40 04:28:33\n175 157 84 434 ΝΙΚΟΛΑΟΣ ΡΕΜΜΑΣ Α ΑΝΕΞΑΡΤΗΤΟΣ 04:28:40 04:28:34\n176 158 85 422 ΒΑΣΙΛΕΙΟΣ ΠΑΠΑΓΕΩΡΓΙΟΥ Α Σ.Δ.ΤΡΙΚΑΛΩΝ 04:36:53 04:36:42\n177 159 86 368 ΚΩΝ/ΝΟΣ ΚΟΥΡΙΤΑΣ Α Σ.Δ.ΤΡΙΚΑΛΩΝ 04:36:53 04:36:42\n178 160 87 492 ΔΗΜΗΤΡΙΟΣ ΖΥΓΟΓΙΑΝΝΗΣ Α Σ.Ο.Χ.Τ. 04:36:57 04:36:40\n179 161 88 430 ΝΙΚΟΛΑΟΣ ΠΕΤΣΑΣ Α ΑΝΕΞΑΡΤΗΤΟΣ 04:36:58 04:36:39 \n8 ΧΙΛΙΟΜΕΤΡΑ \nRANK GENDER AGE CAT BIB NAME SEX CLUB Χρόνος Καθ. Χρόνος\n1 1 1 152 ΑΘΑΝΑΣΙΟΣ ΜΠΑΡΜΠΑΓΙΑΝΝΗΣ Α TECNICA HELLAS 00:47:43 00:47:43\n2 2 1 137 ΑΘΑΝΑΣΙΟΣ ΚΟΥΡΗΣ Α INOV8-FIFTH ELEMENT 00:48:20 00:48:20\n3 3 2 110 ΑΛΕΞΑΝΔΡΟΣ ΓΕΛΑΔΑΡΗΣ Α Α.Π.Σ.ΖΕΥΣ ΠΙΕΡΙΑΣ 00:48:55 00:48:55\n4 4 3 180 ΝΙΚΟΛΑΟΣ ΡΟΥΣΣΑΣ Α Σ.Δ.ΤΡΙΚΑΛΩΝ 00:52:07 00:52:07\n5 5 4 214 ΗΛΙΑΣ ΓΕΩΡΓΙΟΥ Α GO RUN ΔΡΟΜΕΙΣ ΣΟΥΛΙΟΥ 00:54:08 00:54:08\n6 6 5 221 ΣΤΑΘΗΣ ΠΑΝΟΥΡΓΙΑΣ Α ΔΙΟΝΥΣΟΣ ΑΜΦΙΚΛΕΙΑΣ 00:56:24 00:56:24\n7 7 6 151 ΔΗΜΗΤΡΙΟΣ ΜΟΥΧΑΚΗΣ Α Σ.Δ.ΤΡΙΚΑΛΩΝ 00:57:41 00:57:41\n8 8 7 184 ΒΑΓΓΕΛΗΣ ΓΕΩΡΓΙΟΥ Α ΑΝΕΞΑΡΤΗΤΟΣ 00:57:42 00:57:36\n9 9 2 436 ΤΡΥΦΩΝ ΡΟΥΣΙΑΜΑΝΗΣ Α Σ.Δ.ΤΡΙΚΑΛΩΝ 00:58:15 00:58:05\n10 10 8 143 ΔΗΜΗΤΡΙΟΣ ΜΑΝΙΚΑΣ Α WE RUN TEAM – Σ.Δ.ΤΡΙΚΑΛΩΝ 00:58:25 00:58:24\n11 11 9 118 ΠΑΥΛΟΣ ΔΙΠΛΑΣ Α Σ.Δ.ΤΡΙΚΑΛΩΝ 00:58:47 00:58:47\n12 12 10 139 ΧΡΙΣΤΟΦΟΡΟΣ ΚΩΣΤΑΓΙΑΝΝΗΣ Α ΑΝΕΞΑΡΤΗΤΟΣ 00:59:52 00:59:52\n13 13 11 131 ΚΩΝΣΤΑΝΤΙΝΟΣ ΚΑΡΑΤΖΟΥΝΗΣ Α ΑΝΕΞΑΡΤΗΤΟΣ 01:00:06 01:00:04\n14 14 12 505 ΔΗΜΗΤΡΗΣ ΜΠΟΥΜΠΑΣ Α ΑΝΕΞΑΡΤΗΤΟΣ 01:00:18 01:00:17\n15 1 1 133 ΕΛΕΝΑ ΚΛΑΠΑΝΑΡΑ Γ WE RUN 01:00:36 01:00:34\n16 15 13 127 ΠΑΝΑΓΙΩΤΗΣ ΚΑΝΔΥΛΗΣ Α STADIUM FITNESS CLUB 01:00:40 01:00:36\n17 16 14 178 ΚΩΝΣΤΑΝΤΙΝΟΣ ΠΡΩΤΟΓΕΡΟΣ Α ΑΝΕΞΑΡΤΗΤΟΣ 01:00:54 01:00:51\n18 17 15 138 ΑΠΟΣΤΟΛΟΣ ΚΟΥΦΟΓΑΖΟΣ Α Ο.Π.Ο.ΠΥΛΗΣ 01:02:23 01:02:21\n19 18 3 121 ΓΕΩΡΓΙΟΣ ΕΥΣΤΑΘΙΟΥ Α WE RUN TEAM 01:02:27 01:02:27\n20 19 16 186 ΒΑΣΙΛΗΣ ΣΤΕΡΓΙΟΠΟΥΛΟΣ Α ΑΝΕΞΑΡΤΗΤΟΣ 01:03:25 01:03:19\n21 20 17 153 ΓΕΩΡΓΙΟΣ ΠΕΤΡΗΣ Α ΑΝΕΞΑΡΤΗΤΟΣ 01:03:36 01:03:33\n22 21 18 158 ΚΩΝΣΤΑΝΤΙΝΟΣ ΜΠΡΟΥΣΙΛΑΣ Α ΑΝΕΞΑΡΤΗΤΟΣ 01:03:58 01:03:55\n23 22 19 106 ΣΩΤΗΡΙΟΣ ΒΑΒΡΙΤΣΑΣ Α Σ.Δ.ΤΡΙΚΑΛΩΝ 01:04:09 01:04:06\n24 23 20 134 ΧΡΗΣΤΟΣ ΚΟΝΤΟΓΟΥΛΑΣ Α Σ.Κ.Α.ΜΕΤΕΩΡΩΝ 01:04:09 01:04:06\n25 24 4 167 ΠΑΝΑΓΙΩΤΗΣ ΠΑΠΑΛΕΞΗΣ Α ΑΝΕΞΑΡΤΗΤΟΣ 01:05:30 01:05:30\n26 25 21 164 ΦΩΤΗΣ ΠΑΝΑΓΟΣ Α ΑΝΕΞΑΡΤΗΤΟΣ 01:05:50 01:05:47\n27 2 1 190 ΧΡΥΣΑ ΤΖΙΜΑ Γ ΑΝΕΞΑΡΤΗΤΟΣ 01:06:31 01:06:31\n28 3 2 159 ΚΩΝΣΤΑΝΤΙΝΙΑ ΝΑΣΤΟΥ Γ Σ.Κ.Α.ΜΕΤΕΩΡΩΝ 01:06:39 01:06:37\n29 26 22 105 ΑΠΟΣΤΟΛΟΣ ΑΣΜΑΝΙΔΗΣ Α ΑΝΕΞΑΡΤΗΤΟΣ 01:07:14 01:07:12\n30 27 23 145 ΠΑΝΑΓΙΩΤΗΣ ΜΕΛΕΤΗΣ Α Σ.Κ.Α.ΜΕΤΕΩΡΩΝ 01:07:25 01:07:18\n31 28 24 200 ΓΕΩΡΓΙΟΣ ΦΩΤΗΣ Α Σ.Κ.Α.ΜΕΤΕΩΡΩΝ 01:07:29 01:07:25\n32 4 2 154 ΜΑΡΙΑ ΜΠΕΛΕΦΑ Γ ΑΝΕΞΑΡΤΗΤΟΣ 01:07:34 01:07:31\n33 29 25 202 ΙΩΑΝΝΗΣ ΧΑΣΙΩΤΗΣ Α ΑΝΕΞΑΡΤΗΤΟΣ 01:07:34 01:07:31\n34 30 26 174 ΓΙΑΝΝΗΣ ΠΑΧΟΥΛΑΣ Α ΔΡΟΜΕΙΣ ΑΡΤΑΣ 01:07:40 01:07:40\n35 5 3 215 ΑΣΗΜΙΝΑ ΙΓΓΛΕΖΟΥ Γ ΑΝΕΞΑΡΤΗΤΟΣ 01:08:06 01:08:06\n36 31 27 125 ΓΕΩΡΓΙΟΣ ΚΑΚΑΙΤΣΑΣ Α ATHLETICO 01:08:56 01:08:53\n37 32 28 149 ΠΑΡΗΣ ΜΟΥΡΟΓΙΑΝΝΗΣ Α Σ.Δ.Υ.ΘΕΣΣΑΛΟΝΙΚΗΣ 01:09:36 01:09:30\n38 33 5 136 ΧΡΙΣΤΟΦΟΡΟΣ ΚΟΥΝΙΑΚΗΣ Α ΑΝΕΞΑΡΤΗΤΟΣ 01:10:59 01:10:56\n39 34 29 187 ΑΘΑΝΑΣΙΟΣ ΤΖΑΒΑΛΗΣ Α ΤΡΑΧΙΝΑ 01:11:33 01:11:26\n40 35 6 107 ΓΕΩΡΓΙΟΣ ΒΛΑΧΟΥΛΗΣ Α Σ.Μ.ΛΑΡΙΣΑΣ 01:11:35 01:11:33\n41 36 7 101 ΓΕΩΡΓΙΟΣ ΑΚΡΙΒΟΣ Α Σ.Δ.ΤΡΙΚΑΛΩΝ 01:11:47 01:11:43\n42 37 8 148 ΦΩΤΙΟΣ ΜΟΥΚΑΣ Α GO RUN ΔΡΟΜΕΙΣ ΣΟΥΛΙΟΥ 01:12:04 01:12:02\n43 6 3 108 ΦΕΝΙΑ ΒΟΤΣΙΟΥ Γ Σ.Δ.ΤΡΙΚΑΛΩΝ 01:12:05 01:12:04\n44 38 30 132 ΧΑΡΙΛΑΟΣ ΚΑΤΡΑΝΑΣ Α ATHLETICO 01:12:33 01:12:29\n45 39 31 198 ΑΠΟΣΤΟΛΟΣ ΤΣΟΓΙΑΣ Α ΑΝΕΞΑΡΤΗΤΟΣ 01:13:09 01:13:06\n46 40 32 126 ΑΛΕΞΑΝΔΡΟΣ ΚΑΛΑΜΑΡΑΣ Α ΑΝΕΞΑΡΤΗΤΟΣ 01:13:11 01:13:07\n47 41 33 104 ΔΗΜΗΤΡΙΟΣ ΑΡΙΣΤΕΙΔΗΣ Α Σ.Δ.ΤΡΙΚΑΛΩΝ 01:13:19 01:13:15\n48 42 9 119 ΑΝΔΡΕΑΣ ΔΡΑΚΟΣ Α ΝΑΥΤΙΚΟΣ ΟΜΙΛΟΣ ΠΑΡΓΑΣ 01:15:23 01:15:20\n49 43 34 210 FRITSCH JULIAN Α Σ.Δ.ΤΡΙΚΑΛΩΝ 01:15:24 01:15:20\n50 44 10 117 ΓΕΩΡΓΙΟΣ ΔΗΜΟΥ Α GO RUN ΔΡΟΜΕΙΣ ΣΟΥΛΙΟΥ 01:17:05 01:16:59\n51 45 11 204 ΔΗΜΗΤΡΙΟΣ ΛΑΖΟΣ Α Σ.Δ.ΤΡΙΚΑΛΩΝ 01:17:06 01:17:01\n52 46 12 189 ΕΥΘΥΜΙΟΣ ΤΖΙΛΗΝΑΣ Α Σ.Κ.Α.ΜΕΤΕΩΡΩΝ 01:17:57 01:17:52\n53 47 35 161 ΝΙΚΟΛΑΣ ΟΙΚΟΝΟΜΙΔΗΣ Α Σ.Δ.ΤΡΙΚΑΛΩΝ 01:18:10 01:18:08\n54 48 36 223 ΙΩΑΝΝΗΣ ΦΛΑΜΟΣ Α TRUE ADVENTURE 01:18:23 01:18:15\n55 49 37 213 ΛΑΜΠΡΟΣ ΔΗΜΟΥ Α GO RUN ΔΡΟΜΕΙΣ ΣΟΥΛΙΟΥ 01:18:34 01:18:33\n56 7 4 173 ΚΩΝΣΤΑΝΤΙΝΑ ΠΑΤΣΙΑ Γ ATHLETICO 01:18:35 01:18:31\n57 8 5 129 ΕΥΓΕΝΙΑ ΚΑΡΑΛΗ Γ ΤΟ.ΣΥ.Ν.ΑΜΦΙΚΛΕΙΑΣ 01:18:50 01:18:48\n58 9 6 216 ΜΑΡΙΑ ΤΣΑΠΟΥ Γ TECNICA 01:18:55 01:18:55\n59 10 7 183 ΛΑΜΠΡΙΝΗ ΣΟΥΛΙΩΤΗ Γ ΔΡΟΜΕΙΣ ΑΡΤΑΣ – DIELLAS 01:19:09 01:19:01\n60 50 13 188 ΚΩΝ/ΝΟΣ ΤΖΙΚΑΣ Α Σ.Δ.ΤΡΙΚΑΛΩΝ 01:19:21 01:19:17\n61 51 14 112 ΒΥΡΩΝ ΓΙΟΝΤΖΗΣ Α Σ.Δ.ΤΡΙΚΑΛΩΝ 01:19:21 01:19:17\n62 52 15 224 ΑΘΑΝΑΣΙΟΣ ΚΑΡΑΜΠΕΡΗΣ Α Ο.Π.Ο.ΠΥΛΗΣ 01:19:28 01:19:22\n63 11 4 122 ΚΩΝΣΤΑΝΤΙΝΑ ΚΟΤΡΩΤΣΟΥ Γ ΑΝΕΞΑΡΤΗΤΟΣ 01:19:28 01:19:23\n64 53 38 181 ΠΑΝΑΓΙΩΤΗΣ ΣΑΚΕΛΛΑΡΗΣ Α ΤΡΑΧΙΝΑ 01:20:30 01:20:24\n65 54 39 171 ΑΘΑΝΑΣΙΟΣ ΠΑΠΠΑΣ Α ΑΝΕΞΑΡΤΗΤΟΣ 01:20:53 01:20:44\n66 55 40 208 ΣΤΕΡΓΙΟΣ ΤΑΜΠΕΚΗΣ Α RUN FOREST RUN TRAIL 01:21:05 01:21:05\n67 56 41 196 ΔΗΜΗΤΡΙΟΣ ΜΠΑΤΖΙΟΣ Α ΑΝΕΞΑΡΤΗΤΟΣ 01:21:08 01:21:04\n68 12 8 182 ΓΕΩΡΓΙΑ ΣΕΡΡΑ Γ Σ.Δ.ΤΡΙΚΑΛΩΝ 01:22:14 01:22:03\n69 57 16 147 ΙΩΑΝΝΗΣ ΜΟΚΚΑΣ Α Σ.Δ.ΤΡΙΚΑΛΩΝ 01:22:15 01:22:13\n70 58 42 203 ΠΑΝΑΓΙΩΤΗΣ ΧΟΥΝΟΣ Α Σ.Δ.ΤΡΙΚΑΛΩΝ 01:23:32 01:23:21\n71 59 43 175 ΓΕΩΡΓΙΟΣ ΠΕΤΣΑΣ Α CROSSFITCORE TRIKALA BOX 01:23:33 01:23:23\n72 60 17 176 ΒΑΣΙΛΕΙΟΣ ΝΝΤΑΜΠΑΛΗΣ Α ΣΚΑ ΜΕΤΕΩΡΩΝ 01:23:58 01:23:54\n73 61 44 201 ΚΩΝΣΤΑΝΤΙΝΟΣ ΧΑΣΙΩΤΗΣ Α Σ.Κ.Α.ΜΕΤΕΩΡΩΝ 01:24:06 01:23:59\n74 62 18 212 ΝΑΣΟΣ ΣΥΡΓΚΑΝΗΣ Α Σ.Δ.ΤΡΙΚΑΛΩΝ 01:24:45 01:24:41\n75 63 45 165 ΕΥΑΓΓΕΛΟΣ ΠΑΠΑΔΑΚΟΣ Α Σ.Δ.ΤΡΙΚΑΛΩΝ 01:25:08 01:24:59\n76 64 46 155 ΣΩΚΡΑΤΗΣ ΜΠΛΟΥΓΟΥΡΑΣ Α ΑΝΕΞΑΡΤΗΤΟΣ 01:25:08 01:24:59\n77 65 47 109 ΞΕΝΟΦΩΝ ΓΑΛΑΝΗΣ Α ΑΝΕΞΑΡΤΗΤΟΣ 01:25:40 01:25:33\n78 66 48 220 ΙΩΑΝΝΗΣ ΣΤΕΡΠΗΣ Α ΑΝΕΞΑΡΤΗΤΟΣ 01:25:45 01:25:41\n79 67 49 391 ΝΙΚΟΛΑΟΣ ΜΕΖΙΛΗΣ Α ELASSONA GREEN RUNNING TEAM 01:25:45 01:25:41\n80 13 9 103 ΜΑΡΙΑ ΑΝΤΩΝΙΟΥ Γ ΣΥΛΛΟΓΟΣ ΜΑΡΑΘΩΝΟΔΡΟΜΩΝ ΛΑΡΙΣΑΣ 01:25:45 01:25:41\n81 68 50 116 ΙΩΑΝΝΗΣ ΓΟΥΛΟΠΟΥΛΟΣ Α Σ.Δ.ΤΡΙΚΑΛΩΝ 01:26:42 01:26:39\n82 69 19 130 ΚΩΝ/ΝΟΣ ΚΑΡΑΜΠΕΡΗΣ Α ΑΝΕΞΑΡΤΗΤΟΣ 01:26:42 01:26:36\n83 70 20 504 ΟΡΦΕΑΣ ΤΡΙΑΝΤΑΦΥΛΛΗΣ Α ΑΝΕΞΑΡΤΗΤΟΣ 01:28:27 01:28:21\n84 71 21 140 ΧΡΗΣΤΟΣ ΛΑΓΟΠΟΥΛΟΣ Α Σ.Δ.ΤΡΙΚΑΛΩΝ 01:28:57 01:28:52\n85 72 51 163 ΚΩΝ/ΝΟΣ ΠΑΝΑΓΟΣ Α Ο.Π.Ο.ΠΥΛΗΣ 01:29:03 01:28:53\n86 73 52 193 ΤΡΙΑΝΤΑΦΥΛΛΟΣ ΤΡΙΑΝΤΑΦΥΛΛΟΥ Α Ο.Π.Ο.ΠΥΛΗΣ 01:29:28 01:29:19\n87 14 10 120 ΚΩΝ/ΝΑ ΕΥΘΥΜΙΟΥ Γ Σ.Δ.ΤΡΙΚΑΛΩΝ 01:29:29 01:29:18\n88 15 11 124 ΗΡΩ Γ Σ.Δ.ΤΡΙΚΑΛΩΝ 01:29:46 01:29:40\n89 74 22 206 ΧΡΗΣΤΟΣ ΕΥΘΥΜΙΟΥ Α GRIZZLY 01:30:06 01:30:00\n90 16 5 194 ΝΑΤΑΣΣΑ ΤΡΙΜΙΝΤΖΙΟΥ Γ Σ.Δ.ΤΡΙΚΑΛΩΝ 01:30:06 01:30:01\n91 75 23 205 ΑΝΔΡΕΑΣ ΠΗΛΟΣ Α GRIZZLY 01:30:06 01:30:01\n92 76 24 150 ΣΤΕΦΑΝΟΣ ΜΟΥΤΟΓΙΩΡΓΟΣ Α Σ.Δ.ΤΡΙΚΑΛΩΝ 01:32:41 01:32:31\n93 77 25 113 ΘΕΟΔΩΡΟΣ ΓΙΟΥΒΡΗΣ Α Σ.Δ.ΤΡΙΚΑΛΩΝ 01:32:49 01:32:37\n94 78 26 191 ΧΑΡΑΛΑΜΠΟΣ ΤΟΥΛΚΕΡΙΔΗΣ Α FYTILI TRAINING 01:33:20 01:33:17\n95 79 53 123 ΙΩΑΝΝΗΣ ΖΗΝΤΖΟΒΑΣ Α Σ.Δ.ΤΡΙΚΑΛΩΝ 01:33:28 01:33:16\n96 80 27 157 ΧΑΡΑΛΑΜΠΟΣ ΜΠΟΥΛΟΒΑΝΑΣ Α Σ.Δ.ΤΡΙΚΑΛΩΝ 01:33:54 01:33:42\n97 17 12 102 ΒΑΙΑ ΑΛΕΞΟΠΟΥΛΟΥ Γ ΑΝΕΞΑΡΤΗΤΟΣ 01:34:10 01:34:04\n98 81 28 209 ΑΚΗΣ ΜΙΜΗΚΟΠΟΥΛΟΣ Α ΔΡΟΜΕΙΣ ΑΡΤΑΣ – DIELLAS 01:34:13 01:34:04\n99 18 6 382 ΙΩΑΝΝΑ ΖΑΝΙΑ Γ ΑΣ ΔΙΟΝΥΣΟΣ ΑΜΦΙΚΛΕΙΑΣ 01:34:13 01:34:11\n100 19 13 497 ΜΑΡΙΑ ΓΕΩΡΓΑΚΗ Γ ΑΝΕΞΑΡΤΗΤΟΣ 01:34:52 01:34:44\n101 82 29 115 ΒΑΣΙΛΕΙΟΣ ΓΚΙΖΛΗΣ Α ΑΝΕΞΑΡΤΗΤΟΣ 01:34:55 01:34:49\n102 20 7 199 ΠΕΛΑΓΙΑ ΦΥΤΙΛΗ Γ FYTILI TRAINING 01:34:58 01:34:55\n103 21 14 503 ΒΑΣΙΛΙΚΗ ΖΑΜΠΟΥΚΑ Γ ΑΝΕΞΑΡΤΗΤΟΣ 01:35:04 01:34:58\n104 22 15 142 ΒΑΣΙΛΙΚΗ ΜΑΝΙΚΑ Γ ΑΝΕΞΑΡΤΗΤΟΣ 01:35:35 01:35:23\n105 83 54 222 ΜΑΝΩΛΗΣ ΧΡΙΣΤΟΔΟΥΛΟΥ Α TRUE ADVENTURE 01:36:54 01:36:46\n106 84 30 170 ΜΙΛΤΙΑΔΗΣ ΠΑΠΠΑΣ Α ΑΝΕΞΑΡΤΗΤΟΣ 01:37:26 01:37:17\n107 85 55 141 ΘΕΟΔΩΡΟΣ ΛΑΖΟΣ Α ΑΝΕΞΑΡΤΗΤΟΣ 01:37:27 01:37:19\n108 86 56 219 ΒΑΣΙΛΕΙΟΣ ΨΥΧΟΣ Α WE RUN TEAM 01:37:35 01:37:25\n109 23 16 162 ΛΙΤΣΑ ΚΑΡΕΤΣΟΥ Γ ΣΥΛΛΟΓΟΣ ΔΡΟΜΕΩΝ ΤΡΙΚΑΛΩΝ 01:39:20 01:39:11\n110 87 57 166 ΘΩΜΑΣ ΠΑΠΑΙΩΑΝΝΟΥ Α Σ.Δ.ΤΡΙΚΑΛΩΝ 01:40:13 01:40:02\n111 88 31 156 ΧΑΡΗΣ ΜΠΟΥΖΟΥΡΑΣ Α ΑΝΕΞΑΡΤΗΤΟΣ 01:42:19 01:42:14\n112 89 58 207 ΕΥΣΤΑΘΙΟΣ ΚΑΒΑΛΙΔΗΣ Α ΑΝΕΞΑΡΤΗΤΟΣ 01:49:20 01:49:10\n113 24 8 218 ΑΝΝΑ ΜΑΡΙΑ ΝΤΑΙΛΑΚΗ Γ NEVER QUIT 01:49:21 01:49:18\n114 25 17 197 ΕΙΡΗΝΗ ΤΣΙΑΟΥΣΗ Γ ATHLETICO 01:52:04 01:51:57\n115 90 59 146 ΕΥΘΥΜΙΟΣ ΜΕΛΙΔΗΣ Α ΑΝΕΞΑΡΤΗΤΟΣ 01:52:04 01:51:54\n116 91 32 114 ΒΑΣΙΛΕΙΟΣ ΓΙΩΡΑΣ Α Σ.Δ.ΤΡΙΚΑΛΩΝ 01:54:44 01:54:44\n117 92 60 168 ΚΩΝΣΤΑΝΤΙΝΟΣ ΚΑΛΥΒΑΣ Α ΑΝΕΞΑΡΤΗΤΟΣ 01:58:48 01:58:43\n118 26 18 384 ΚΑΤΕΡΙΝΑ ΜΟΥΤΖΟΥΡΗ Γ ΑΕΛΗΜΝΟΥ 01:58:48 01:58:43\n119 93 61 172 ΘΩΜΑΣ ΠΑΡΑΣΚΕΥΑΣ Α ΑΝΕΞΑΡΤΗΤΟΣ 01:59:01 01:58:54\n120 94 62 177 ΑΛΕΞΑΝΔΡΟΣ ΠΛΕΞΙΔΑΣ Α ΑΝΕΞΑΡΤΗΤΟΣ 02:02:40 02:02:32\n121 95 33 225 ΓΕΩΡΓΙΟΣ ΡΙΖΟΥΛΗΣ Α ΑΝΕΞΑΡΤΗΤΟΣ 02:08:43 02:08:36\n122 27 19 185 ΑΘΗΝΑ ΣΤΑΥΡΟΘΕΟΔΩΡΟΥ Γ ΑΝΕΞΑΡΤΗΤΟΣ 02:16:02 02:15:56
URL:https://gorun.gr/race/koziakas-mountain-race/
CATEGORIES:Αποτελέσματα,Βουνό
END:VEVENT
END:VCALENDAR