BEGIN:VCALENDAR
VERSION:2.0
PRODID:-//goRUN - ECPv5.8.1//NONSGML v1.0//EN
CALSCALE:GREGORIAN
METHOD:PUBLISH
X-WR-CALNAME:goRUN
X-ORIGINAL-URL:https://gorun.gr
X-WR-CALDESC:Events for goRUN
BEGIN:VTIMEZONE
TZID:Europe/Athens
BEGIN:DAYLIGHT
TZOFFSETFROM:+0200
TZOFFSETTO:+0300
TZNAME:EEST
DTSTART:20160327T010000
END:DAYLIGHT
BEGIN:STANDARD
TZOFFSETFROM:+0300
TZOFFSETTO:+0200
TZNAME:EET
DTSTART:20161030T010000
END:STANDARD
END:VTIMEZONE
BEGIN:VEVENT
DTSTART;VALUE=DATE:20160909
DTEND;VALUE=DATE:20160912
DTSTAMP:20260425T224516
CREATED:20160425T141551Z
LAST-MODIFIED:20160911T191355Z
UID:6103-1473379200-1473638399@gorun.gr
SUMMARY:Navarino Challenge
DESCRIPTION:RANK GENDER AGE CAT BIB NAME SEX CLUB Χρόνος\n1 1 0 0 ΓΙΩΡΓΟΣ ΚΥΡΙΑΖΙΔΗΣ Α 01:33:38\n2 2 0 0 ΝΙΚΟΛΑΟΣ ΟΙΚΟΝΟΜΟΠΟΥΛΟΣ Α 01:37:05\n3 3 0 0 ΣΠΥΡΟΣ ΠΑΤΣΙΑΛΟΣ Α 01:37:34\n4 4 0 0 ΓΕΩΡΓΙΟΣ ΝΟΤΑΡΙΔΗΣ Α 01:41:26\n5 5 0 0 ARISTIDIS RODITIS Α 01:43:31\n6 6 0 0 GIANNIS MANASAKIS Α 01:44:58\n7 7 0 0 NASSOS CALLITSIS Α 01:46:09\n8 8 0 0 ΑΓΓΕΛΟΣ ΟΙΚΟΝΟΜΟΠΟΥΛΟΣ Α 01:47:25\n9 9 0 0 PETROS MORFOPOULOS Α 01:47:39\n10 10 0 0 ΔΗΜΗΤΡΗΣ ΜΠΟΥΛΟΥΤΑΣ Α 01:48:45\n11 11 0 0 ΔΗΜΗΤΡΙΟΣ ΣΤΑΥΡΟΠΟΥΛΟΣ Α 01:50:55\n12 12 0 0 ΑΧΙΛΛΕΑΣ ΧΑΤΖΗΚΩΣΤΑΣ Α 01:51:37\n13 13 0 0 STEFANOS MARES Α 01:51:51\n14 14 0 0 ANDREW GRAHAM Α 01:51:56\n15 15 0 0 ΕΛΕΥΘΕΡΙΟΣ ΣΥΡΡΑΚΟΣ Α 01:52:20\n16 16 0 0 EVANGELOS PAPANIKOS Α 01:52:24\n17 17 0 0 ΠΑΝΑΓΙΩΤΗΣ ΣΤΑΥΡΟΠΟΥΛΟΣ Α 01:52:45\n18 18 0 0 CHRIS GIOVANIS Α 01:52:50\n19 19 0 0 ΜΙΧΑΗΛ ΚΑΡΑΜΠΕΤΣΟΣ Α 01:56:23\n20 20 0 0 ΚΩΝΣΤΑΝΤΙΝΟΣ ΜΠΟΒΙΑΤΣΗΣ Α 01:56:31\n21 21 0 0 MICHAIL FERETOS Α 01:56:41\n22 22 0 0 ΓΙΑΝΝΗΣ ΚΕΡΑΜΕΚΗΣ Α 01:56:48\n23 23 0 0 APOSTOLOS ANGELIS Α 01:57:33\n24 24 0 0 ΚΩΣΤΑΣ ΚΑΡΑΚΑΤΣΟΥΛΑΣ Α 01:58:19\n25 25 0 0 ΣΩΤΗΡΙΟΣ ΚΑΚΚΑΒΑΣ Α 01:58:47\n26 26 0 0 MARK TODD Α 01:59:10\n27 27 0 0 CHRISTOS GEORGIOPOULOS Α 01:59:47\n28 28 0 0 DIMITRIOS KARAMPATSOS Α 01:59:58\n29 29 0 0 STAVROS DRAKOULARAKOS Α 02:00:10\n30 30 0 0 ΑΛΕΞΑΝΔΡΟΣ ΝΙΚΟΛΑΙΔΗΣ Α 02:01:20\n31 31 0 0 EMMANOUIL ARSENIS Α 02:02:35\n32 32 0 0 GEORGE TODIS Α 02:02:50\n33 33 0 0 ΗΛΙΑΣ ΡΑΦΤΗΣ Α 02:02:59\n34 34 0 0 IOANNIS PANAGIOTOPOULOS Α 02:03:11\n35 35 0 0 ΣΟΦΟΚΛΗΣ ΜΠΑΛΤΑΤΖΗΣ Α 02:03:29\n36 36 0 0 GEORGIOS ANASTASIADIS Α 02:04:56\n37 1 0 0 ΚΑΤΕΡΙΝΑ ΠΕΤΣΑ Γ 02:06:12\n38 2 0 0 ΜΑΙΡΗ ΑΣΛΑΝΙΔΗ Γ 02:10:38\n39 37 0 0 ΦΙΛΑΡΕΤΟΣ ΣΙΛΙΩΝΗΣ Α 02:11:08\n40 38 0 0 SPYROS ARMYROS Α 02:11:12\n41 39 0 0 ΞΕΝΟΦΩΝ ΜΥΛΩΝΑΣ Α 02:11:18\n42 40 0 0 ΝΙΚΟΣ ΚΟΥΤΡΟΥΛΗΣ Α 02:11:54\n43 3 0 0 MARIA BASKINI Γ 02:12:23\n44 4 0 0 YIOULIKA SKAFIDA Γ 02:14:19\n45 41 0 0 AINA DAMILOLA Α 02:15:15\n46 42 0 0 DIMITRIOS SERVIS Α 02:15:20\n47 5 0 0 ΕΛΕΝΗ ΕΞΑΡΧΟΥ Γ 02:18:09\n48 43 0 0 GEORGE STRIDER Α 02:19:26\n49 44 0 0 ΚΩΝΣΤΑΝΤΙΝΟΣ ΚΑΡΝΑΖΗΣ Α 02:20:38\n50 6 0 0 ΔΕΣΠΟΙΝΑ ΡΗΝΙΟΥ Γ 02:23:48\n51 45 0 0 ΑΡΙΣΤΟΦΑΝΗΣ ΠΑΠΑΔΗΜΗΤΡΙΟΥ Α 02:24:28\n52 46 0 0 MICHAEL REPPAS Α 02:28:28\n53 47 0 0 ΓΕΩΡΓΙΟΣ ΧΟΝΤΖΟΠΟΥΛΟΣ Α 02:39:05\n54 7 0 0 CHRISTIE CHONTZOPOULOU Γ 02:39:05\n55 8 0 0 ELENI FALIAGKA Γ 02:41:48\n56 48 0 0 ΑΛΕΞΑΝΔΡΟΣ ΓΡΑΜΜΑΤΙΚΑΚΗΣ Α 02:50:20\n57 49 0 0 ΠΑΝΑΓΙΩΤΗΣ ΣΥΝΟΔΗΣ Α 02:50:34\n58 9 0 0 ALINA KOTSAKI Γ 03:14:36\n59 10 0 0 ΦΡΑΓΚΙΣΚΗ ΒΑΣΤΑΡΔΗ Γ 03:14:37 \nNavarino Challenge 10χλμ \nRANK GENDER AGE CAT BIB NAME SEX CLUB Χρόνος\n1 1 0 0 ΑΝΕΣΤΗΣ ΗΛΙΑΔΗΣ Α 00:45:05\n2 2 0 0 ΠΑΝΑΓΙΩΤΗΣ ΓΙΑΝΝΟΠΟΥΛΟΣ Α 00:48:01\n3 3 0 0 ΓΙΩΡΓΟΣ ΖΑΛΟΚΩΣΤΑΣ Α 00:49:17\n4 4 0 0 ΧΡΗΣΤΟΣ ΣΑΚΕΤΟΣ Α 00:51:23\n5 5 0 0 ΠΑΝΑΓΙΩΤΗΣ ΔΗΜΗΤΡΟΠΟΥΛΟΣ Α 00:51:46\n6 6 0 0 ΠΑΝΑΓΙΩΤΗΣ ΔΗΜΗΤΡΟΠΟΥΛΟΣ Α 00:52:17\n7 7 0 0 YANNIS KOROVESIS Α 00:54:26\n8 8 0 0 ALEXIOS TZAKOS Α 00:55:18\n9 1 0 0 ΕΜΜΑΝΟΥΕΛΑ ΑΡΙΦΑΚΗ Γ 00:55:29\n10 9 0 0 PAVLOS ALEVRAS Α 00:57:12\n11 10 0 0 ΕΜΜΑΝΟΥΗΛ ΔΗΜΗΤΡΑΚΑΚΗΣ Α 00:57:17\n12 11 0 0 ΚΩΝΣΤΑΝΤΙΝΟΣ ΤΣΟΥΡΙΝΑΚΗΣ Α 00:58:26\n13 12 0 0 ΣΤΑΘΗΣ ΚΟΥΒΕΛΑΣ Α 01:00:03\n14 13 0 0 ΑΝΤΩΝΗΣ ΚΟΥΡΚΟΡ Α 01:00:57\n15 14 0 0 FOTIS TSIOLIS Α 01:01:05\n16 15 0 0 ΚΩΝΣΤΑΝΤΙΝΟΣ ΜΠΟΤΟΥΛΑΣ Α 01:01:19\n17 16 0 0 DOXIS DOXIADIS Α 01:03:49\n18 17 0 0 ARIS NOTIS Α 01:03:56\n19 18 0 0 NIKITAS DEFINGOS Α 01:03:58\n20 19 0 0 VANGELIS GEORGIADES Α 01:04:26\n21 2 0 0 ΕΥΑΓΓΕΛΙΑ ΜΑΤΕΝΟΓΛΟΥ Γ 01:05:18\n22 3 0 0 ΕΛΠΙΝΙΚΗ ΣΤΥΛΟΓΙΑΝΝΗ Γ 01:05:24\n23 20 0 0 ΠΑΥΛΟΣ ΚΑΨΙΜΑΛΗΣ Α 01:06:01\n24 21 0 0 ΠΑΝΑΓΙΩΤΗΣ ΜΑΓΓΑΝΑΣ Α 01:06:56\n25 22 0 0 ΣΩΤΗΡΙΟΣ ΔΗΜΗΤΡΑΚΟΠΟΥΛΟΣ Α 01:07:32\n26 4 0 0 ΧΑΡΑ ΡΟΥΜΑΝΟΥ Γ 01:10:54\n27 5 0 0 ΒΑΣΙΛΙΚΗ ΚΑΣΣΗ Γ 01:11:27\n28 23 0 0 ΝΙΚΟΣ ΣΚΟΠΕΤΕΑΣ Α 01:12:48\n29 24 0 0 ΑΧΙΛΛΕΑΣ ΔΩΡΟΘΕΟΥ Α 01:12:50\n30 6 0 0 GARY MACDONALD Γ 01:12:50 \nNavarino Challenge 5χλμ \nRANK GENDER AGE CAT BIB NAME SEX CLUB Χρόνος\n1 1 0 5016 KYRIAKOS GLENTZAKIS Α 00:20:29\n2 2 0 5026 DIMITRIOS LASKARATOS Α 00:22:36\n3 3 0 5019 STAVROS IOANNIDIS Α 00:24:11\n4 4 0 5024 PANOS KOURIS Α 00:24:54\n5 5 0 5066 ΙΩΑΝΝΗΣ ΝΟΥΤΣΙΟΣ Α 00:24:55\n6 6 0 5052 ΝΙΚΟΛΑΟΣ ΠΑΓΚΑΛΟΣ Α 00:26:50\n7 7 0 5049 ΓΙΩΡΓΙΟΣ ΑΔΡΑΚΤΑΣ Α 00:27:05\n8 1 0 5065 ΧΑΡΑ ΝΟΥΤΣΙΟΥ Γ 00:27:06\n9 2 0 5017 ALICIA GUTHRIE Γ 00:27:48\n10 3 0 5062 ΓΙΟΒΑΝΝΑ ΛΥΚΟΥ Γ 00:28:47\n11 4 0 5043 ΝΙΚΟΛ ΜΥΛΩΝΑ Γ 00:29:10\n12 8 0 5221 ΔΙΟΝΥΣΙΟΣ ΜΩΡΑΙΤΗΣ Α 00:29:41\n13 9 0 5077 ANDINOOS ALBANIS Α 00:29:53\n14 5 0 5018 ELENA HARBILA Γ 00:30:33\n15 10 0 5028 KIMON MITZIVIRIS Α 00:31:29\n16 6 0 5063 ΦΙΛΙΩ ΜΕΤΣΗ Γ 00:31:36\n17 11 0 5020 VASILEIOS KARAMPATSOS Α 00:31:49\n18 7 0 5021 KONSTANTINA KARAMPATSOU Γ 00:31:49\n19 8 0 5030 ZOI ORFANIDOU Γ 00:32:07\n20 9 0 5006 OLGA ALEVRA Γ 00:32:10\n21 12 0 5064 ΓΕΩΡΓΙΟΣ ΠΑΠΑΓΕΩΡΓΙΟΥ Α 00:32:22\n22 10 0 5071 ΠΑΓΩΝΑ ΚΑΡΕΛΟΥ Γ 00:32:29\n23 13 0 5059 ΕΥΑΓΓΕΛΟΣ ΣΕΦΕΡΤΖΗΣ A 00:32:34\n24 14 0 5061 ΚΩΝΣΤΑΝΤΙΝΟΣ ΤΣΑΓΚΟΣ Α 00:32:39\n25 11 0 5039 ΕΛΕΝΗ ΔΕΛΗ Γ 00:32:55\n26 12 0 5254 ΑΓΓΕΛΙΚΗ ΤΑΣΟΥΛΑ Γ 00:32:57\n27 15 0 5015 ATHANASIOS GKOUTSIOUKOSTAS Α 00:33:32\n28 13 0 5076 ANNA NIKOLAIDOU Γ 00:33:57\n29 14 0 5255 ΛΟΥΚΙΑ ΚΑΣΟΛΑ Γ 00:34:52\n30 16 0 5060 ΑΙΜΙΛΙΑ ΤΣΑΚΙΡΗ Α 00:36:38\n31 17 0 5010 CHRISTOS CHOMORITIS Α 00:36:55\n32 15 0 5048 ΑΙΚΑΤΕΡΙΝΗ ΑΝΑΣΤΑΣΙΑΔΗ Γ 00:37:40\n33 16 0 5056 ΠΑΝΑΓΙΩΤΑ ΚΑΝΕΛΟΠΟΥΛΟΥ Γ 00:37:51\n34 18 0 5057 ΓΙΩΡΓΟΣ ΓΚΟΝΗΣ Α 00:37:52\n35 19 0 5037 ΑΧΙΛΛΕΑΣ ΒΛΑΧΟΝΑΤΣΙΟΣ Α 00:38:13\n36 17 0 5054 ΠΟΠΗ ΤΕΡΣΙΠΑΖΟΓΛΟΥ Γ 00:38:18\n37 18 0 5055 ΜΑΡΙΑ ΛΑΙΝΑ Γ 00:38:19\n38 19 0 5223 ΕΦΗ ΝΙΚΟΥ Γ 00:38:37\n39 20 0 5011 ANGELIKI CHRYSAFOPOULOU Γ 00:40:06\n40 21 0 5045 ΕΥΣΤΑΘΙΑ ΤΟΜΠΟΥΛΙΔΗ Γ 00:41:30\n41 22 0 5069 ΕΥΗ ΠΑΠΠΑ Γ 00:41:35\n42 23 0 5007 ELENA ANDRIANAKI Γ 00:41:43\n43 24 0 5029 MARIA NIKOLAKAKI Γ 00:41:44\n44 20 0 5074 ΞΕΝΟΦΩΝ ΠΙΠΙΤΟΣ Α 00:42:01\n45 25 0 1135 ΒΑΡΒΑΡΑ ΚΑΛΑΜΑΡΑ Γ 00:42:16\n46 26 0 5053 ΜΗΝΑ ΜΠΙΡΑΚΟΥ Γ 00:42:32\n47 27 0 5047 ΜΕΛΙΝΑ ΑΝΑΣΤΑΣΙΑΔΗ Γ 00:42:58\n48 28 0 5058 ΣΟΦΙΑ ΚΑΛΛΕΡΓΗ Γ 00:43:14\n49 29 0 5009 AIKATERINI CHATZIDAKI Γ 00:44:26\n50 30 0 5040 ΑΙΚΑΤΕΡΙΝΗ ΔΗΜΗΤΡΑΚΟΠΟΥΛΟΥ Γ 00:45:05\n51 31 0 5070 ΝΑΤΑΣΑ ΚΡΕΝΤΖ Γ 00:46:49\n52 21 0 5068 ΓΙΑΝΝΗΣ ΚΑΓΙΟΥΛΗΣ Α 00:46:49\n53 32 0 5044 ΑΛΙΣΟΝ ΣΙΕ Γ 00:47:04\n54 22 0 5050 ΝΙΚΟΣ ΚΑΡΝΑΖΗΣ Α 00:50:00\n55 33 0 5051 ΦΩΤΕΙΝΗ ΚΑΡΝΑΖΗ Γ 00:50:02\n56 34 0 5075 ΝΟΡΑ ΣΤΑΘΟΠΟΥΛΟΥ Γ 00:56:31
URL:https://gorun.gr/race/navarino-challenge/
CATEGORIES:Αποτελέσματα,Δρόμος
ATTACH;FMTTYPE=image/jpeg:https://gorun.gr/wp-content/uploads/2016/04/index-21.jpg
END:VEVENT
END:VCALENDAR