BEGIN:VCALENDAR
VERSION:2.0
PRODID:-//goRUN - ECPv5.8.1//NONSGML v1.0//EN
CALSCALE:GREGORIAN
METHOD:PUBLISH
X-WR-CALNAME:goRUN
X-ORIGINAL-URL:https://gorun.gr
X-WR-CALDESC:Events for goRUN
BEGIN:VTIMEZONE
TZID:Europe/Athens
BEGIN:DAYLIGHT
TZOFFSETFROM:+0200
TZOFFSETTO:+0300
TZNAME:EEST
DTSTART:20160327T010000
END:DAYLIGHT
BEGIN:STANDARD
TZOFFSETFROM:+0300
TZOFFSETTO:+0200
TZNAME:EET
DTSTART:20161030T010000
END:STANDARD
END:VTIMEZONE
BEGIN:VEVENT
DTSTART;VALUE=DATE:20161009
DTEND;VALUE=DATE:20161010
DTSTAMP:20260421T144320
CREATED:20160511T114157Z
LAST-MODIFIED:20161010T203255Z
UID:6935-1475971200-1476057599@gorun.gr
SUMMARY:Off trail Παρνασσός 2016
DESCRIPTION:Για τα αποτελέσματα πατήστε εδώ.
URL:https://gorun.gr/race/off-trial-%cf%80%ce%b1%cf%81%ce%bd%ce%b1%cf%83%cf%83%cf%8c%cf%82-2016/
CATEGORIES:Αποτελέσματα,Βουνό
END:VEVENT
END:VCALENDAR