BEGIN:VCALENDAR
VERSION:2.0
PRODID:-//goRUN - ECPv5.8.1//NONSGML v1.0//EN
CALSCALE:GREGORIAN
METHOD:PUBLISH
X-WR-CALNAME:goRUN
X-ORIGINAL-URL:https://gorun.gr
X-WR-CALDESC:Events for goRUN
BEGIN:VTIMEZONE
TZID:Europe/Athens
BEGIN:DAYLIGHT
TZOFFSETFROM:+0200
TZOFFSETTO:+0300
TZNAME:EEST
DTSTART:20160327T010000
END:DAYLIGHT
BEGIN:STANDARD
TZOFFSETFROM:+0300
TZOFFSETTO:+0200
TZNAME:EET
DTSTART:20161030T010000
END:STANDARD
END:VTIMEZONE
BEGIN:VEVENT
DTSTART;VALUE=DATE:20160521
DTEND;VALUE=DATE:20160522
DTSTAMP:20260421T224822
CREATED:20160511T192252Z
LAST-MODIFIED:20160524T121205Z
UID:6972-1463788800-1463875199@gorun.gr
SUMMARY:Run Deskati - Κωνσταντίνεια 2016
DESCRIPTION:Οι αθλητικές εκδηλώσεις προς τιμήν των πολιούχων της Δεσκάτης με την επωνυμία «Κωνσταντίνεια 2016 Run Deskati» ολοκληρώθηκαν με εξαιρετική επιτυχία.\n\n\n\nΟι εκδηλώσεις άνοιξαν με την ομιλία του καθηγητή αθλητικής ψυχολογίας του Πανεπιστημίου Θεσσαλίας Γιάννη Θεοδωράκη με θέμα «Αθλητισμός\, υγεία και ποιότητα ζωής». Ο κ Θεοδωράκης ήταν ο πρώτος νικητής πριν 40 χρόνια στην πρώτη διοργάνωση των αγώνων ο οποίος συμμετέχει ρα στα 10.000μ.\n\nΟ Αλέξανδρος Παπαλεξίου αναδείχτηκε νικητής στα 10χλμ ανδρών με επίδοση 41:15 και στις γυναίκες η Αναστασία Ελευθεριάδου με 49:25.\n\nΣτα 5χλμ ανδρών ο Νίκος Ντάβαρος τερμάτισε πρώτος σε 19:19 και η Γεωργία Πλέντζα στις γυναίκες με 21:29.\n\nΟι τρεις πρώτοι-ες στον αγώνα της Δεσκάτης\n\n1000 Μ ΑΓΟΡΙΑ\n\n1ος Πιτιλάκος Ιωάννης 3\,42 min 1ο Δημοτικό Σχολείο Δεσκάτης\n2ος Καραστέργιος Θωμάς3\,47 min 1ο Δημοτικό Σχολείο Δεσκάτης\n3ος Πετσούλας Ιωάννης3\,48 min 1ο Δημοτικό Σχολείο Δεσκάτης\n\n1000 Μ ΚΟΡΙΤΣΙΑ\n\n1ος Πετσούλα Λυδία 3\,52 min 1ο Δημοτικό Σχολείο Δεσκάτης\n2ος Αναστασίου Χαρά 4\,00 min Δημοτικό Σχολείο Καρπερού\n3ος Κόγιου Δήμητρα4\,05 min 1ο Δημοτικό Σχολείο Δεσκάτης\n\n5000 Μ ΑΝΔΡΕΣ\n\n1ος Ντάβαρος Νίκος 19\,19 min Γυμναστικός Σύλλογος Δεσκάτης\n2ος Κουκούλας Θεόδωρος 19\,23 min Αθλητική Ένωση Γρεβενών\n3ος Κολτσίδας Γρηγόρης 20\,27 min Ιωάννινα\n\n5000 Μ ΓΥΝΑΙΚΕΣ\n\n1ος Πλέντζα Γεωργία  21\,29 min Γυμναστικός Σύλλογος Τρικάλων\n2ος Σικινιώτη Καλλιόπη 22\,55 min Γυμναστικός Σύλλογος Τρικάλων\n3ος Καραστέργιου Ελένη 25\,50 min Γυμνάσιο Δεσκάτης\n\n10000 Μ ΑΝΔΡΕΣ\n\n1ος Παπαλεξίου Αλέξανδρος 41\,15 min Λάρισα\n2ος Τραπέζας Δημήτριος  44\,30 min Δρομείς Υγείας Γρεβενών\n3ος Ζιανός Κωνσταντίνος 46\,47 min Δεσκάτη\n\n10000 Μ ΓΥΝΑΙΚΕΣ\n\n1ος Ελευθεριάδου Αναστασία 49\,25 min Δρομείς Υγείας Γρεβενών\n2ος Γατζίδου Χριστίνα   56\,28 min Όλυμπος TRT\n3ος Κατσάνη Νικολέτα  1h 13 min Ανεξάρτητη
URL:https://gorun.gr/race/run-deskati-%ce%ba%cf%89%ce%bd%cf%83%cf%84%ce%b1%ce%bd%cf%84%ce%af%ce%bd%ce%b5%ce%b9%ce%b1-2016/
CATEGORIES:Αποτελέσματα,Δρόμος
END:VEVENT
END:VCALENDAR