BEGIN:VCALENDAR
VERSION:2.0
PRODID:-//goRUN - ECPv5.8.1//NONSGML v1.0//EN
CALSCALE:GREGORIAN
METHOD:PUBLISH
X-WR-CALNAME:goRUN
X-ORIGINAL-URL:https://gorun.gr
X-WR-CALDESC:Events for goRUN
BEGIN:VTIMEZONE
TZID:Europe/Athens
BEGIN:DAYLIGHT
TZOFFSETFROM:+0200
TZOFFSETTO:+0300
TZNAME:EEST
DTSTART:20160327T010000
END:DAYLIGHT
BEGIN:STANDARD
TZOFFSETFROM:+0300
TZOFFSETTO:+0200
TZNAME:EET
DTSTART:20161030T010000
END:STANDARD
END:VTIMEZONE
BEGIN:VEVENT
DTSTART;TZID=Europe/Athens:20161007T080000
DTEND;TZID=Europe/Athens:20161009T230000
DTSTAMP:20260421T012046
CREATED:20160511T113417Z
LAST-MODIFIED:20161009T171809Z
UID:6931-1475827200-1476054000@gorun.gr
SUMMARY:Spetses mini Marathon 2016
DESCRIPTION:  \nΓια τα αποτελέσματα όλων των αγώνων πατήστετε εδώ.
URL:https://gorun.gr/race/spetses-mini-marathon-2016/
CATEGORIES:Αποτελέσματα,Δρόμος
END:VEVENT
END:VCALENDAR